{"text_format":"1","workbook":"xlsx","n_sheets":14,"sheets":["Directions","DATA_INPUT","CALC_VALS","SIGN_LOOKUP","Dev_Directions","CHANGELOG","TOWN_CODES","NUMERIC_SIGNS","MULTISIGN_DRAW","SID_TOTALS","ST_NAMES","BILLING_GROUPS","QUANT (0)","TSS (0)"],"not_rendered":{"charts":0,"images":956,"macros":1,"external_links":0,"defined_names":14,"comments":2,"pivot_tables":0},"unopened":[],"bounds":{"document_bytes":16777216,"sheet_cells":100000,"rows_first":2000,"rows_last":500,"rows_between":2000,"halvings":0,"cell_chars":16384,"cell_head_chars":4096},"cells_cut":0,"cells_raw":0,"read":"whole","date_system":"1900"}

{"sheet":"Directions","index":0,"n_rows":81,"n_cols":4,"rows_kept":81,"cut":false,"hidden":false,"merged":[[0,1,0,4],[1,1,1,4],[6,1,6,4],[8,1,8,4],[12,1,12,4],[9,1,9,4],[10,1,10,4],[11,1,11,4],[2,1,2,4],[7,1,7,4],[3,1,3,4],[4,1,4,4],[5,1,5,4],[20,1,20,4],[27,1,27,4],[28,1,28,4],[81,3,81,4],[68,1,68,4],[69,1,69,4],[66,1,66,4],[67,1,67,4],[70,1,70,4],[71,1,71,4],[72,1,72,4],[74,1,74,4],[73,1,73,4],[76,1,76,4],[80,1,80,4],[79,1,79,4],[45,1,45,4],[36,1,36,4],[29,1,29,4],[30,1,30,4],[40,1,40,4],[32,1,32,4],[58,2,58,4],[59,2,59,4],[31,1,31,4],[35,1,35,4],[47,1,47,4],[48,1,48,4],[49,1,49,4],[33,1,33,4],[38,1,38,4],[34,1,34,4],[37,1,37,4],[39,1,39,4],[41,1,41,4],[42,1,42,4],[43,1,43,4],[44,1,44,4],[78,1,78,4],[46,1,46,4],[53,1,53,4],[54,1,54,4],[55,2,55,4],[56,2,56,4],[57,2,57,4],[51,1,51,4],[50,1,50,4],[65,1,65,4],[52,1,52,4],[60,2,60,4],[61,2,61,4],[62,2,62,4],[63,2,63,4],[64,2,64,4]]}
[]
[null,"Welcome to the English Traffic Sign Summary Sheet !"]
[]
[null,"Disclaimer: "]
[]
[null,"The purpose of this workbook is expedite the process of creating Traffic Sign Summary plan sheets. It is not intended to replace engineering judgement. The information within this workbook, including but not limited to the sign lookup tables, does not supercede any Vtrans best practices or standards and may contain errors. In the event that any information within this workbook contradicts any state or national guidance or standards, use the state or national guidance, and contact the most recent name listed in the hidden \"CHANGELOG\" sheet of this workbook with a description of the contradiction."]
[null,"Important: "]
[]
[null,"Save the spread sheet as M:/Projects/PMS#/PROJ#tss.xls (Ex. M:/Projets/78f200/t78f200tss.xls) before adding information."]
[null,"Font Sizes and Styles are set the way they need to be, do not change the format or the data will not appear correctly when Printed! This sheet is setup to print on 11x17 paper (100%) 200% will fit on 22x34 paper."]
[]
[null,"Project Information:  (You must fill in the data below in order for your corner cards to be filled in.)"]
[]
[null,null,"Project Name:","COLCHESTER"]
[null,null,"Project Number:","STPG 5600(17)"]
[null,null,"File Name:","13d436tss.xls"]
[null,null,"Project Manager:","P. COBURN"]
[null,null,"Designed By:","C. LAURENCE"]
[null,null,"Drawn By:","C. LAURENCE"]
[null,null,"Checked By:","B. TIETZE"]
[]
[]
[null,null,"Page Number of First Sign Summary Sheet",1]
[null,null,"Page Number of First Sign Detail Sheet",1]
[null,null,"Total Number of Pages in Project Plans",998]
[null,null,"Include Title Card in TSS Sheets",false]
[]
[]
[null,"Step #1:     Select \"DATA_INPUT\" and fill in the data as needed. "]
[null,"Various cells within the column headers will have a red corner; hover over these cells to see notes containing additional usage instructions."]
[null,"Do not cut and paste data within the \"DATA_INPUT\" sheet. This will break cell references. "]
[null,"Instead, copy and paste data, then delete the original data. Dragging cells to a new location counts as cutting and pasting."]
[null,"LOOKUP SIGN Tool Usage "]
[null,"The LOOKUP SIGN button for each row can be used to find images and dimensions dimensions for many common sign designations."]
[null,"Enter a sign designation code in the \"Sign Designation\" , then click the green LOOKUP SIGN cell within that row."]
[null,"If this sign exists within the internal lookup table, a prompt will appear with customization options for size, color, and text for some signs."]
[null,"Note that many standard signs are not included in the lookup table, such as signs with highly complex customization options, as well as many"]
[null,"less commonly used signs."]
[null,"CREATE MULTSIGN IMAGE FROM SELECTION Tool Usage "]
[null,"In instances where multiple signs will be mounted on the same post assembly, this tool can be used to create an image depicting their layout"]
[null,"Fill out the rows for each indivual signs with the post assembly. Ensure the \"SIGN IMAGE\", \"NUMBER OF SIGNS\", \"WIDTH\" and \"HEIGHT\""]
[null," rows are completed for each sign. Highlight the images for all of these rows, then click CREATE MULTISIGN IMAGE FROM SELCTION."]
[null,"A new sheet will appear, with all of the highlighted signs copied over and scaled according to their dimensions and duplicated as needed."]
[null,"Drag these images into the configuration in which they will appear on the post assembly, then click SAVE SIGN IMAGE."]
[null,"The configureation you created will be converted into a single image, which will be copied back to the \"DATA_INPUT\" sheet."]
[null," This image will be used in the final print sheets."]
[null,"SV Tool Usage "]
[null," This tool can be used to aid in calculating the selection value that will be used to determine the post type/number for a given sign or multisign."]
[null," Before using on a row, fill out the \"NUMBER OF SIGNS\", \"WIDTH\" and \"HEIGHT\" columns For multisigns, the CREATE MULTISIGN IMAGE"]
[null," FROM SELCTION tool must also be used first. Next, enter the approximate height in feet of the centroid of the sign or sign assembly in the"]
[null,"\"SIGN CENTROID HEIGHT\" column. The SV (selection value) for the sign or multisign will then be calculated based on the dimensions and"]
[null,"quantities already entered, which will appear in the \"SIGN POST SV\" column. For convenience, the maximum SVs for various post types"]
[null,"from Vtrans Standards T-45 and T-163 are included the relevant \"NEW SIGN POSTS\" column headers."]
[null,"Column Type Explanations "]
[null,"Within the header, there is a row labeled \"Column Type\" which describes in which circumstances each column should be filled out for each row. Each code in this row denotes the following:"]
[null,"R","This column SHALL be filled out IF AND ONLY IF this row is the start of a new road or street. If filled out, the row is not a sign row, and all other columns SHALL NOT be filled."]
[null,"L","This column SHALL be filled out IF AND ONLY IF this is the first sign row at a distinct location or milepost."]
[null,"SA","ALL columns of this type SHALL be filled out for EVERY sign row."]
[null,"S1","EXACTLY ONE column of this type SHALL be filled out for EVERY sign row."]
[null,"SO","This column MAY be filled out for ANY sign row."]
[null,"P1","EXACTLY ONE column of this type SHALL be filled out IF AND ONLY IF this is the first sign row on a distinct NEW OR EXISTING sign post or post assembly."]
[null,"PN1","EXACTLY ONE column of this type SHALL be filled out IF AND ONLY IF this is the first sign row on a distinct NEW sign post or post assembly."]
[null,"PNO","This column MAY be filled out IF AND ONLY IF this is the first sign row on a distinct NEW sign post or post assembly."]
[null,"D","AT LEAST ONE column of this type SHALL be filled out for EVERY sign row with a NEW sign. These columns are OPTIONAL for sign rows with an EXISTING sign."]
[null,"M","This column is automatically filled out by the Create Multisign Image From Selection tool if this row is included in a multisign, and is not manually edited."]
[]
[null,"Step #2:    When all the data has been entered on \"DATA_INPUT \", select the UPDATE TSS SHEETS button at the top of"]
[null,"                  WorkSheet. The Update Button will take the data from \"DATA_INPUT \" and transfer it over to \"TSS (1)\" - \"TSS(*)\"."]
[null,"                  The number of sheets will depend on the number of rows used in the data area."]
[null,"                   "]
[null,"Step #3:    To include the TSS sheets in a set of OpenRoads Designer plans, ensure \"Include Title Card in TSS Sheets\" was not checked on this page."]
[null,"                  Open the ORD .dgn file, and create frames for each TSS sheet. Navigate back to the \"TSS (1)\" sheet in this work book. Highlight and copy"]
[null,"                  the entire printable area. Switch back to the .dgn, enter \"Paste Special\" in the search bar, and select \"Linked Microsoft Excel Worksheet.\""]
[null,"                  Click the top right corner of the frame, then click the right edge to define the insertion area. Repeat this process for all TSS sheets."]
[null,"                  After making changes to the print sheets in excel, search \"Update Links\" in ORD to update the print sheets in the .dgn."]
[]
[null,"                  Alternatively, check \"Include Title Card in TSS Sheets\" to create TSS sheets that can be included in plans as a standalone."]
[]
[null,"Version 2-10"]
[null,"See \"CHANGELOG\" hidden sheet for version history and changes"]
[null,"See \"Dev_Directions\" hidden sheet for information on how to add or modify the signs in the lookup table as well as making improvements to this worksheet."]

{"sheet":"DATA_INPUT","index":1,"n_rows":193,"n_cols":52,"rows_kept":193,"cut":false,"hidden":false,"merged":[[1,51,6,51],[0,24,0,25],[3,31,3,33],[1,48,2,50],[2,41,2,44],[1,29,1,45],[3,37,3,40],[1,25,1,28],[2,26,2,27],[2,25,6,25],[3,43,6,43],[3,44,6,44],[2,28,6,28],[3,26,6,26],[3,27,6,27],[2,29,6,29],[2,30,6,30],[2,21,2,22],[1,18,1,19],[1,20,1,24],[2,19,6,19],[2,20,6,20],[3,21,6,21],[3,22,6,22],[3,23,6,23],[3,24,6,24],[2,23,2,24],[1,6,1,8],[1,3,1,4],[1,1,6,1],[1,2,6,2],[2,3,6,3],[2,4,6,4],[2,6,6,6],[2,7,6,7],[2,8,6,8],[1,5,6,5],[1,15,2,17],[3,15,6,15],[3,16,6,16],[3,17,6,17],[2,18,6,18],[1,9,6,9],[1,10,1,13],[1,14,6,14],[2,10,6,10],[2,11,6,11],[2,12,6,12],[2,13,6,13],[3,41,3,42],[2,36,2,40],[2,31,2,35],[3,34,6,34],[3,35,6,35],[3,36,6,36],[4,41,6,41],[4,42,6,42],[1,46,6,46],[3,48,6,48],[3,49,6,49],[3,50,6,50],[2,45,6,45],[1,47,6,47]]}
[null,null,null,null,null,null,null,null,null,null,null,null,null,null,null,null,null,null,null,null,null,null,null,null,"Current Max # Signs:",null,182]
[null,"LOOKUP SIGN INFO TOOL","UPLOAD SIGN IMAGE","SV TOOL",null,"BILLING GROUP","LOCATION",null,null,"SIGN DESIGNATION","SIGN LEGEND",null,null,null,"DOUBLE SIDED","  SIGN DIMENSIONS",null,null,"NEW SIGNS",null,"EXISTING SIGNS",null,null,null,null,"EXIST POST",null,null,null,"NEW SIGN POSTS",null,null,null,null,null,null,null,null,null,null,null,null,null,null,null,null,"REMARKS","SHEETING REMARKS","SIGN DETAIL",null,null,"SIGN AREA "]
[null,null,null,"SIGN POST SV","SIGN CENTROID HEIGHT",null,"ROAD NAME (and direction if desired)","MILEMARKER OR STATION","LOCATION CODE",null,"INDIVIDUAL SIGN IMAGE","MULTI-SIGN IMAGE","MULTI-SIGN AREA","MULTISIGN ROWS",null,null,null,null,"FLAT SHEET ALUMINUM ","EXTRUDED ALUMINUM SHEET","RETAIN","RESET",null,"REMOVE",null,"RETAIN","RESET ",null,"REMOVE","NO OF NEW SIGN POSTS","SOIL BEARING SLIP BASE ","SQUARE STEEL",null,null,null,null,"TUBULAR STEEL ",null,null,null,null,"W-SHAPE STEEL",null,null,null,"SIGN FRAME REQUIRED"]
[null,null,null,null,null,null,null,null,null,null,null,null,null,null,null,"NUMBER OF SIGNS","WIDTH ","HEIGHT ",null,null,null,"ORIGIN","DESTINATION","FLAT SHEET ALUMINUM","EXTRUDED ALUMINUM SHEET",null,"ORIGIN","DESTINATION",null,null,null,"POST SIZE / SV",null,null,"ANCHOR","SLEEVE","FOUNDATION","POST DIAMETER φ / SV",null,null,null,"FTG. SIZE",null,"WEIGHT","POST SIZE",null,null,null," SHSM (X)","SHEET NUMBER (int)","STD. SHEET NUMBER (text)"]
[null,null,null,null,null,null,null,null,null,null,null,null,null,null,null,null,null,null,null,null,null,null,null,null,null,null,null,null,null,null,null,"1.75\"","2\"","2.5\"",null,null,null,"3\"","3.5\"","4\"","5\"","24\"","30\""]
["Max. SV 1 Post",null,null,null,null,null,null,null,null,null,null,null,null,null,null,null,null,null,null,null,null,null,null,null,null,null,null,null,null,null,null,"45",80,137,null,null,null,"N/A","N/A","N/A","N/A"]
["\" \" 2 Posts",null,null,null,null,null,null,null,null,null,null,null,null,null,null,null,null,null,null,null,null,null,null,null,null,null,null,null,null,null,null,90,160,274,null,null,null,318,442,593,1007]
["Column Type",null,null,null,"SO","SO","R","L","SO","SA","SA","M","M","M","SO","SA","SA","SA","S1","S1","S1","SO","S1","S1","S1","P1","P1","P1","P1","P1","PNO","PN1","PN1","PN1","PNO","PNO","PNO","PN1","PN1","PN1","PN1","PNO","PNO","PN1","PNO","PNO","SO","SO","D","D","D","SO"]
["Associated Pay Item (675.+) ",null,null,null,null,null,null,null,null,null,null,null,null,null,null,null,null,null,2000,2100,null,null,6000,5000,5100,null,null,6100,null,null,3500,3410,3410,3410,null,null,4300,3300,3300,3300,3300,4100,4200,3100]
["Pay Item Units",null,null,null,null,null,null,null,null,null,null,null,null,null,null,null,null,null,"SF","SF",null,null,"EA","EA","EA",null,null,"EA",null,null,"EA","LF","LF","LF",null,null,"EA","LBS","LBS","LBS","LBS","EA","EA","LBS"]
["Entry Units","(double click)","(double click)","(auto calculated)","Feet","Text","Text","Text","Text","MUTCD or VTRANS Sign Code","(use \"Lookup Sign\",  \"Upload\", or enter text)","(use \"Create Multi-Sign Image\")","SF",null,"X","Quantity","Inches","Inches","X","X","X","X","X","X","X","Quantity","Quantity","Quantity","Quantity","Quantity","X","X","X","X","X","X","X","Feet","Feet","Feet","Feet","X","X","LBS","Text","X","Text","Text","X","Integer","VTRANS sheet number","SF"]
[null,{"$f":"IF(NOT(ISBLANK(G12)),\"(road name row)\",IF(ISBLANK(J12), \"(no sign id entered)\",\"Lookup Sign\"))","v":"(road name row)"},{"$f":"IF(ISBLANK(G12), \"Upload\", \"\")","v":""},{"$f":"IF(L12=\"(multisign image continues)\",\"(multi- sign row)\",IF(ISBLANK(E12),\"\",IF(ISBLANK(M12),IF(ISBLANK(AZ12),Q12*R12/144,AZ12),M12)*E12))","v":""},null,null,"SIGNAL MAST ARM MOUNTED; BRACKETS REQUIRED"]
[null,{"$f":"IF(NOT(ISBLANK(G13)),\"(road name row)\",IF(ISBLANK(J13), \"(no sign id entered)\",\"Lookup Sign\"))","v":"Lookup Sign"},{"$f":"IF(ISBLANK(G13), \"Upload\", \"\")","v":"Upload"},{"$f":"IF(L13=\"(multisign image continues)\",\"(multi- sign row)\",IF(ISBLANK(E13),\"\",IF(ISBLANK(M13),IF(ISBLANK(AZ13),Q13*R13/144,AZ13),M13)*E13))","v":""},null,null,null,"MAST ARM 1",null,"D3-1","BLAKELY RD",null,null,null,null,2,96,24,"X",null,null,null,null,null,null,null,null,null,null,null,null,null,null,null,null,null,null,null,null,null,null,null,null,null,null,null,"SEE MAST ARM PROFILES FOR PLACEMENT",null,"X",1]
[null,"Lookup Sign","Upload","",null,null,null,null,null,"R10-101",{"$error":"#VALUE!"},null,null,null,null,1,30,36,"X",null,null,null,null,null,null,null,null,null,null,null,null,null,null,null,null,null,null,null,null,null,null,null,null,null,null,null,"SEE MAST ARM PROFILES FOR PLACEMENT",null,null,1]
[null,"Lookup Sign","Upload","",null,null,null,"MAST ARM 2",null,"D3-1A","US-7 / ROOSEVELT HWY",null,null,null,null,1,126,24,"X",null,null,null,null,null,null,null,null,null,null,null,null,null,null,null,null,null,null,null,null,null,null,null,null,null,null,null,"SEE MAST ARM PROFILES FOR PLACEMENT",null,"X",1]
[null,"Lookup Sign","Upload","",null,null,null,null,null,"R10-101",{"$error":"#VALUE!"},null,null,null,null,1,30,36,"X",null,null,null,null,null,null,null,null,null,null,null,null,null,null,null,null,null,null,null,null,null,null,null,null,null,null,null,"SEE MAST ARM PROFILES FOR PLACEMENT",null,null,1]
[null,"Lookup Sign","Upload","",null,null,null,null,null,"R10-10R",{"$error":"#VALUE!"},null,null,null,null,1,24,30,"X",null,null,null,null,null,null,null,null,null,null,null,null,null,null,null,null,null,null,null,null,null,null,null,null,null,null,null,"SEE MAST ARM PROFILES FOR PLACEMENT",null,"X"]
[null,"Lookup Sign","Upload","",null,null,null,"MAST ARM 3",null,"D3-1","SEVERANCE RD",null,null,null,null,2,114,24,"X",null,null,null,null,null,null,null,null,null,null,null,null,null,null,null,null,null,null,null,null,null,null,null,null,null,null,null,"SEE MAST ARM PROFILES FOR PLACEMENT",null,"X",1]
[null,"Lookup Sign","Upload","",null,null,null,null,null,"R10-10R",{"$error":"#VALUE!"},null,null,null,null,1,24,30,"X",null,null,null,null,null,null,null,null,null,null,null,null,null,null,null,null,null,null,null,null,null,null,null,null,null,null,null,"SEE MAST ARM PROFILES FOR PLACEMENT",null,"X"]
[null,"Lookup Sign","Upload","",null,null,null,"MAST ARM 4",null,"D3-1A","US-7 / ROOSEVELT HWY",null,null,null,null,1,126,24,"X",null,null,null,null,null,null,null,null,null,null,null,null,null,null,null,null,null,null,null,null,null,null,null,null,null,null,null,"SEE MAST ARM PROFILES FOR PLACEMENT",null,"X",1]
[null,"Lookup Sign","Upload","",null,null,null,null,null,"R10-10R",{"$error":"#VALUE!"},null,null,null,null,1,24,30,"X",null,null,null,null,null,null,null,null,null,null,null,null,null,null,null,null,null,null,null,null,null,null,null,null,null,null,null,"SEE MAST ARM PROFILES FOR PLACEMENT",null,"X"]
[null,"(road name row)","","",null,null,"PED/BIKE SIGNAL POLES"]
[null,"Lookup Sign","Upload","",null,null,null,"PED/BIKE SIGNAL POLES",null,"R10-3E",{"$error":"#VALUE!"},null,null,null,null,8,9,15,"X",null,null,null,null,null,null,null,null,null,null,null,null,null,null,null,null,null,null,null,null,null,null,null,null,null,null,null,"ON POLES ABOVE PEDESTRIAN SIGNAL ACTUATION BUTTONS",null,"X"]
[null,"Lookup Sign","Upload","",null,null,null,null,null,"R10-26",{"$error":"#VALUE!"},null,null,null,null,8,9,15,"X",null,null,null,null,null,null,null,null,null,null,null,null,null,null,null,null,null,null,null,null,null,null,null,null,null,null,null,"ON POLES ABOVE BICYCLE SIGNAL ACTUATION BUTTONS",null,"X"]
[null,"(road name row)","","",null,null,"US-7 / ROOSEVELT HWY"]
[null,"Lookup Sign","Upload","",null,null,null,"STA. 88 +60.00","A","VR-922",{"$error":"#VALUE!"},null,null,null,null,1,30,36,null,null,null,null,null,"X",null,null,null,null,2,null,null,null,null,null,null,null,null,null,null,null,null,null,null,null,null,null,null,null,"X"]
[null,"Lookup Sign","Upload","",null,null,null,null,"A","R3-7L",{"$error":"#VALUE!"},null,null,null,null,1,36,36,"X",null,null,null,null,null,null,null,null,null,null,2,null,null,"X",null,"X",null,null,null,null,null,null,null,null,null,null,null,null,null,"X"]
[null,"Lookup Sign","Upload","",null,null,null,"STA, 90 +21.00","A","W2-1",{"$error":"#VALUE!"},null,null,null,null,1,36,36,null,null,null,null,null,"X",null,null,null,null,2,null,null,null,null,null,null,null,null,null,null,null,null,null,null,null,null,null,null,null,"X"]
[null,"Lookup Sign","Upload","",null,null,null,null,"A","W16-8P","BLAKELY ROAD",null,null,null,null,1,null,null,null,null,null,null,null,"X"]
[null,"Lookup Sign","Upload","",null,null,null,null,"A","W16-8P","SEVERANCE ROAD",null,null,null,null,1,null,null,null,null,null,null,null,"X"]
[null,"Lookup Sign","Upload","",null,null,null,null,"A","W2-1",{"$error":"#VALUE!"},null,null,null,null,1,36,36,"X",null,null,null,null,null,null,null,null,null,null,2,null,null,"X",null,"X",null,null,null,null,null,null,null,null,null,null,null,null,null,"X"]
[null,"Lookup Sign","Upload","",null,null,null,null,"A","W16-8AP","BLAKELY RD LEFT/ SEVERANCE ROAD RIGHT",null,null,null,null,1,54,15,"X",null,null,null,null,null,null,null,null,null,null,null,null,null,null,null,null,null,null,null,null,null,null,null,null,null,null,null,"MOUNT ON SAME POST AS W2-1",null,"X",1]
[null,"Lookup Sign","Upload","",null,null,null,"STA. 92 +41.00","A","TIS","TRAVEL INFORMATION SIGNS",null,null,null,null,3,null,null,null,null,"X",null,null,null,null,2]
[null,"Lookup Sign","Upload","",null,null,null,"STA. 93 +97.00","A","VR-922",{"$error":"#VALUE!"},null,null,null,null,1,30,36,null,null,null,null,null,"X",null,null,null,null,2,null,null,null,null,null,null,null,null,null,null,null,null,null,null,null,null,null,null,null,null,null,"T-145"]
[null,"Lookup Sign","Upload","",null,null,null,null,"A","VR-922","(LT,Thru/RT) LANE ASSIGNMENT",null,null,null,null,1,30,36,"X",null,null,null,null,null,null,null,null,null,null,2,null,null,"X",null,"X",null,null,null,null,null,null,null,null,null,null,null,"LEFT LANE LEFT TURN ONLY, RIGHT LANE THRU/RIGHT TURN COMBINED",null,null,1,"T-145"]
[null,"Lookup Sign","Upload","",null,null,null,"STA. 96 +92.00","A","W3-3",{"$error":"#VALUE!"},null,null,null,null,1,30,30,null,null,null,null,null,"X",null,null,null,null,2,null,null,null,null,null,null,null,null,null,null,null,null,null,null,null,null,null,null,null,"X"]
[null,"Lookup Sign","Upload","",null,null,null,null,"A","W3-3",{"$error":"#VALUE!"},null,null,null,null,1,30,30,"X",null,null,null,null,null,null,null,null,null,null,1,null,null,"X",null,"X",null,null,null,null,null,null,null,null,null,null,null,null," YELLOW","X"]
[null,"Lookup Sign","Upload","",null,null,null,"STA. 97 +75.00","F","R2-1",{"$error":"#VALUE!"},null,null,null,null,1,24,30,"X",null,null,null,null,null,null,null,null,null,null,1,null,null,"X",null,"X",null,null,null,null,null,null,null,null,null,null,null,null,null,"X"]
[null,"Lookup Sign","Upload","",null,null,null,"STA. 98 +40.00","A","M3-3P",{"$error":"#VALUE!"},{"$error":"#VALUE!"},27.5625,8,null,1,24,12,null,null,null,null,null,"X",null,null,null,null,2,null,null,null,null,null,null,null,null,null,null,null,null,null,null,null,null,null,null,null,"X"]
[null,"Lookup Sign","Upload","(multi- sign row)",null,null,null,null,null,"M3-4P",{"$error":"#VALUE!"},"(multisign image continues)",null,8,null,1,24,12,null,null,null,null,null,"X",null,null,null,null,null,null,null,null,null,null,null,null,null,null,null,null,null,null,null,null,null,null,null,null,"X"]
[null,"Lookup Sign","Upload","(multi- sign row)",null,null,null,null,null,"M3-1P",{"$error":"#VALUE!"},"(multisign image continues)",null,8,null,1,24,12,null,null,null,null,null,"X",null,null,null,null,null,null,null,null,null,null,null,null,null,null,null,null,null,null,null,null,null,null,null,null,"X"]
[null,"Lookup Sign","Upload","(multi- sign row)",null,null,null,null,null,"M1-5",{"$error":"#VALUE!"},"(multisign image continues)",null,8,null,1,30,24,null,null,null,null,null,"X",null,null,null,null,null,null,null,null,null,null,null,null,null,null,null,null,null,null,null,null,null,null,null,null,"X"]
[null,"Lookup Sign","Upload","(multi- sign row)",null,null,null,null,null,"M1-4",{"$error":"#VALUE!"},"(multisign image continues)",null,8,null,1,30,24,null,null,null,null,null,"X",null,null,null,null,null,null,null,null,null,null,null,null,null,null,null,null,null,null,null,null,null,null,null,null,"X"]
[null,"Lookup Sign","Upload","(multi- sign row)",null,null,null,null,null,"M1-4",{"$error":"#VALUE!"},"(multisign image continues)",null,8,null,1,30,24,null,null,null,null,null,"X",null,null,null,null,null,null,null,null,null,null,null,null,null,null,null,null,null,null,null,null,null,null,null,null,"X"]
[null,"Lookup Sign","Upload","(multi- sign row)",null,null,null,null,null,"M6-1PL",{"$error":"#VALUE!"},"(multisign image continues)",null,8,null,1,21,15,null,null,null,null,null,"X",null,null,null,null,null,null,null,null,null,null,null,null,null,null,null,null,null,null,null,null,null,null,null,null,"X"]
[null,"Lookup Sign","Upload","(multi- sign row)",null,null,null,null,null,"M6-3P",{"$error":"#VALUE!"},"(multisign image continues)",null,8,null,2,21,15,null,null,null,null,null,"X",null,null,null,null,null,null,null,null,null,null,null,null,null,null,null,null,null,null,null,null,null,null,null,null,"X"]
[null,"Lookup Sign","Upload",192.9375,7,null,null,"STA. 98 +40.00","A","M3-3P",{"$error":"#VALUE!"},{"$error":"#VALUE!"},27.5625,8,null,1,24,12,"X",null,null,null,null,null,null,null,null,null,null,2,null,null,null,"X","X",null,null,null,null,null,null,null,null,null,null,"X",null,"BLACK ON WHITE","X"]
[null,"Lookup Sign","Upload","(multi- sign row)",null,null,null,null,null,"M3-4P",{"$error":"#VALUE!"},"(multisign image continues)",null,8,null,1,24,12,"X",null,null,null,null,null,null,null,null,null,null,null,null,null,null,null,null,null,null,null,null,null,null,null,null,null,null,null,null,"BLACK ON WHITE","X"]
[null,"Lookup Sign","Upload","(multi- sign row)",null,null,null,null,null,"M3-1P",{"$error":"#VALUE!"},"(multisign image continues)",null,8,null,1,24,12,"X",null,null,null,null,null,null,null,null,null,null,null,null,null,null,null,null,null,null,null,null,null,null,null,null,null,null,null,null,"BLACK ON WHITE","X"]
[null,"Lookup Sign","Upload","(multi- sign row)",null,null,null,null,null,"M1-5",{"$error":"#VALUE!"},"(multisign image continues)",null,8,null,1,30,24,"X",null,null,null,null,null,null,null,null,null,null,null,null,null,null,null,null,null,null,null,null,null,null,null,null,null,null,null,null,null,"X"]
[null,"Lookup Sign","Upload","(multi- sign row)",null,null,null,null,null,"M1-4",{"$error":"#VALUE!"},"(multisign image continues)",null,8,null,1,30,24,"X",null,null,null,null,null,null,null,null,null,null,null,null,null,null,null,null,null,null,null,null,null,null,null,null,null,null,null,null,null,"X"]
[null,"Lookup Sign","Upload","(multi- sign row)",null,null,null,null,null,"M1-4",{"$error":"#VALUE!"},"(multisign image continues)",null,8,null,1,30,24,"X",null,null,null,null,null,null,null,null,null,null,null,null,null,null,null,null,null,null,null,null,null,null,null,null,null,null,null,null,null,"X"]
[null,"Lookup Sign","Upload","(multi- sign row)",null,null,null,null,null,"M6-1PL",{"$error":"#VALUE!"},"(multisign image continues)",null,8,null,1,21,15,"X",null,null,null,null,null,null,null,null,null,null,null,null,null,null,null,null,null,null,null,null,null,null,null,null,null,null,null,null,"BLACK ON WHITE","X"]
[null,"Lookup Sign","Upload","(multi- sign row)",null,null,null,null,null,"M6-3P",{"$error":"#VALUE!"},"(multisign image continues)",null,8,null,2,21,15,"X",null,null,null,null,null,null,null,null,null,null,null,null,null,null,null,null,null,null,null,null,null,null,null,null,null,null,null,null,"BLACK ON WHITE","X"]
[null,"Lookup Sign","Upload","",null,null,null,"STA. 99 +61.00","F","R3-17",{"$error":"#VALUE!"},{"$error":"#VALUE!"},4.5,2,null,1,24,18,"X",null,null,null,null,null,null,null,null,null,null,1,null,null,"X",null,"X",null,null,null,null,null,null,null,null,null,null,null,null,null,"X"]
[null,"Lookup Sign","Upload","(multi- sign row)",null,null,null,null,"F","R3-17BP",{"$error":"#VALUE!"},"(multisign image continues)",null,2,null,1,24,9,"X",null,null,null,null,null,null,null,null,null,null,null,null,null,null,null,null,null,null,null,null,null,null,null,null,null,null,null,null,"BLACK ON WHITE","X"]
[null,"Lookup Sign","Upload","",null,null,null,"STA. 99 +75.00","F","W4-2R",{"$error":"#VALUE!"},null,null,null,null,1,36,36,"X",null,null,null,null,null,null,null,null,null,null,1,null,null,"X",null,"X",null,null,null,null,null,null,null,null,null,null,null,null,"BLACK ON YELLOW","X"]
[null,"Lookup Sign","Upload","",null,null,null,"STA. 99 +37.65","F","R2-1",{"$error":"#VALUE!"},null,null,null,null,1,24,30,null,null,null,null,null,"X",null,null,null,null,1,null,null,null,null,null,null,null,null,null,null,null,null,null,null,null,null,null,null,null,"X"]
[null,"Lookup Sign","Upload","",null,null,null,"STA. 100 +20.00","A","CUSTOM","(LT,LT,Thru,RT) LANE ASSIGNMENT",null,null,null,null,1,60,30,"X",null,null,null,null,null,null,null,null,null,null,2,null,null,"X",null,"X",null,null,null,null,null,null,null,null,null,null,null,null,null,null,1]
[null,"Lookup Sign","Upload","",null,null,null,"STA. 100 +84.00","A","VR-932",{"$error":"#VALUE!"},null,null,null,null,1,30,48,null,null,null,null,null,"X",null,null,null,null,2,null,null,null,null,null,null,null,null,null,null,null,null,null,null,null,null,null,null,null,null,null,"T-145"]
[null,"Lookup Sign","Upload","",null,null,null,"STA. 102 +83.00","F","M3-2P",{"$error":"#VALUE!"},{"$error":"#VALUE!"},12,4,null,1,24,12,null,null,null,null,null,"X",null,null,null,null,2,null,null,null,null,null,null,null,null,null,null,null,null,null,null,null,null,null,null,null,"X"]
[null,"Lookup Sign","Upload","(multi- sign row)",null,null,null,null,null,"M3-3P",{"$error":"#VALUE!"},"(multisign image continues)",null,4,null,1,24,12,null,null,null,null,null,"X",null,null,null,null,null,null,null,null,null,null,null,null,null,null,null,null,null,null,null,null,null,null,null,null,"X"]
[null,"Lookup Sign","Upload","(multi- sign row)",null,null,null,null,null,"M1-4",{"$error":"#VALUE!"},"(multisign image continues)",null,4,null,1,24,24,null,null,null,null,null,"X",null,null,null,null,null,null,null,null,null,null,null,null,null,null,null,null,null,null,null,null,null,null,null,null,"X"]
[null,"Lookup Sign","Upload","(multi- sign row)",null,null,null,null,null,"M1-4",{"$error":"#VALUE!"},"(multisign image continues)",null,4,null,1,24,24,null,null,null,null,null,"X",null,null,null,null,null,null,null,null,null,null,null,null,null,null,null,null,null,null,null,null,null,null,null,null,"X"]
[null,"Lookup Sign","Upload",90,7.5,null,null,"STA. 103 +60.00","F","M3-2P",{"$error":"#VALUE!"},{"$error":"#VALUE!"},12,4,null,1,24,12,"X",null,null,null,null,null,null,null,null,null,null,2,null,null,"X",null,"X",null,null,null,null,null,null,null,null,null,null,"X",null,"BLACK ON WHITE","X"]
[null,"Lookup Sign","Upload","(multi- sign row)",null,null,null,null,null,"M3-3P",{"$error":"#VALUE!"},"(multisign image continues)",null,4,null,1,24,12,"X",null,null,null,null,null,null,null,null,null,null,null,null,null,null,null,null,null,null,null,null,null,null,null,null,null,null,null,null,"BLACK ON WHITE","X"]
[null,"Lookup Sign","Upload","(multi- sign row)",8,null,null,null,null,"M1-4",{"$error":"#VALUE!"},"(multisign image continues)",null,4,null,1,24,24,"X",null,null,null,null,null,null,null,null,null,null,null,null,null,null,null,null,null,null,null,null,null,null,null,null,null,null,null,null,null,"X"]
[null,"Lookup Sign","Upload","(multi- sign row)",null,null,null,null,null,"M1-4",{"$error":"#VALUE!"},"(multisign image continues)",null,4,null,1,24,24,"X",null,null,null,null,null,null,null,null,null,null,null,null,null,null,null,null,null,null,null,null,null,null,null,null,null,null,null,null,null,"X"]
[null,"Lookup Sign","Upload","",null,null,null,"STA. 104 +23.00","E/F","D3-1","SEVERANCE RD",null,null,null,null,1,36,12,null,null,null,null,null,"X",null,null,null,null,1]
[null,"Lookup Sign","Upload","",null,null,null,null,"H/G","D3-2","ROOSEVELT HWY",null,null,null,null,1,36,12,null,null,null,null,null,"X"]
[null,"Lookup Sign","Upload","",null,null,null,"STA. 105 +45.00","A/B","D3-1","BLAKELY RD",null,null,null,null,1,36,12,null,null,null,null,null,"X",null,null,null,null,1]
[null,"Lookup Sign","Upload","",null,null,null,null,null,"VD-700","(MILAGE MARKER)",null,null,null,null,1,6,10,null,null,null,null,null,"X"]
[null,"Lookup Sign","Upload","",null,null,null,"STA. 106 +20.00","F","VR-922","(LT,Thru/RT) LANE ASSIGNMENT",null,null,null,null,1,30,36,null,null,null,null,null,"X",null,null,null,null,1]
[null,"Lookup Sign","Upload","",null,null,null,"STA. 106 +0.00","A","M3-4P",{"$error":"#VALUE!"},{"$error":"#VALUE!"},12,4,null,1,24,12,"X",null,null,null,null,null,null,null,null,null,null,2,null,null,"X",null,"X",null,null,null,null,null,null,null,null,null,null,"X",null,"BLACK ON WHITE","X"]
[null,"Lookup Sign","Upload","(multi- sign row)",null,null,null,null,null,"M3-1P",{"$error":"#VALUE!"},"(multisign image continues)",null,4,null,1,24,12,"X",null,null,null,null,null,null,null,null,null,null,null,null,null,null,null,null,null,null,null,null,null,null,null,null,null,null,null,null,"BLACK ON WHITE","X"]
[null,"Lookup Sign","Upload","(multi- sign row)",null,null,null,null,null,"M1-4",{"$error":"#VALUE!"},"(multisign image continues)",null,4,null,1,24,24,"X",null,null,null,null,null,null,null,null,null,null,null,null,null,null,null,null,null,null,null,null,null,null,null,null,null,null,null,null,null,"X"]
[null,{"$f":"IF(NOT(ISBLANK(G77)),\"(road name row)\",IF(ISBLANK(J77), \"(no sign id entered)\",\"Lookup Sign\"))","v":"Lookup Sign"},{"$f":"IF(ISBLANK(G77), \"Upload\", \"\")","v":"Upload"},{"$f":"IF(L77=\"(multisign image continues)\",\"(multi- sign row)\",IF(ISBLANK(E77),\"\",IF(ISBLANK(M77),IF(ISBLANK(AZ77),Q77*R77/144,AZ77),M77)*E77))","v":"(multi- sign row)"},null,null,null,null,null,"M1-4",{"$error":"#VALUE!"},"(multisign image continues)",null,4,null,1,24,24,"X",null,null,null,null,null,null,null,null,null,null,null,null,null,null,null,null,null,null,null,null,null,null,null,null,null,null,null,null,null,"X"]
[null,"Lookup Sign","Upload","",null,null,null,"STA. 106 +80.00","A","M3-4P",{"$error":"#VALUE!"},{"$error":"#VALUE!"},12,4,null,1,24,12,null,null,null,null,null,"X",null,null,null,null,2,null,null,null,null,null,null,null,null,null,null,null,null,null,null,null,null,null,null,null,"X"]
[null,"Lookup Sign","Upload","(multi- sign row)",8,null,null,null,null,"M3-1P",{"$error":"#VALUE!"},"(multisign image continues)",null,4,null,1,24,12,null,null,null,null,null,"X",null,null,null,null,null,null,null,null,null,null,null,null,null,null,null,null,null,null,null,null,null,null,null,null,"X"]
[null,"Lookup Sign","Upload","(multi- sign row)",null,null,null,null,null,"M1-4",{"$error":"#VALUE!"},"(multisign image continues)",null,4,null,1,24,24,null,null,null,null,null,"X",null,null,null,null,null,null,null,null,null,null,null,null,null,null,null,null,null,null,null,null,null,null,null,null,"X"]
[null,"Lookup Sign","Upload","(multi- sign row)",null,null,null,null,null,"M1-4",{"$error":"#VALUE!"},"(multisign image continues)",null,4,null,1,24,24,null,null,null,null,null,"X",null,null,null,null,null,null,null,null,null,null,null,null,null,null,null,null,null,null,null,null,null,null,null,null,"X"]
[null,"Lookup Sign","Upload","",null,null,null,"STA. 107 +78.00","F","M3-2P",{"$error":"#VALUE!"},{"$error":"#VALUE!"},25.5625,7,null,1,24,12,null,null,null,null,null,"X",null,null,null,null,2,null,null,null,null,null,null,null,null,null,null,null,null,null,null,null,null,null,null,null,"X"]
[null,"Lookup Sign","Upload","(multi- sign row)",null,null,null,null,null,"M3-3P",{"$error":"#VALUE!"},"(multisign image continues)",null,7,null,2,24,12,null,null,null,null,null,"X",null,null,null,null,null,null,null,null,null,null,null,null,null,null,null,null,null,null,null,null,null,null,null,null,"X"]
[null,"Lookup Sign","Upload","(multi- sign row)",null,null,null,null,null,"M1-4",{"$error":"#VALUE!"},"(multisign image continues)",null,7,null,1,24,24,null,null,null,null,null,"X",null,null,null,null,null,null,null,null,null,null,null,null,null,null,null,null,null,null,null,null,null,null,null,null,"X"]
[null,"Lookup Sign","Upload","(multi- sign row)",8,null,null,null,null,"M1-4",{"$error":"#VALUE!"},"(multisign image continues)",null,7,null,1,24,24,null,null,null,null,null,"X",null,null,null,null,null,null,null,null,null,null,null,null,null,null,null,null,null,null,null,null,null,null,null,null,"X"]
[null,"Lookup Sign","Upload","(multi- sign row)",null,null,null,null,null,"M1-5",{"$error":"#VALUE!"},"(multisign image continues)",null,7,null,1,30,24,null,null,null,null,null,"X",null,null,null,null,null,null,null,null,null,null,null,null,null,null,null,null,null,null,null,null,null,null,null,null,"X"]
[null,"Lookup Sign","Upload","(multi- sign row)",null,null,null,null,null,"M6-3P",{"$error":"#VALUE!"},"(multisign image continues)",null,7,null,2,21,15,null,null,null,null,null,"X",null,null,null,null,null,null,null,null,null,null,null,null,null,null,null,null,null,null,null,null,null,null,null,null,"X"]
[null,"Lookup Sign","Upload","(multi- sign row)",null,null,null,null,null,"M6-1PR",{"$error":"#VALUE!"},"(multisign image continues)",null,7,null,1,21,15,null,null,null,null,null,"X",null,null,null,null,null,null,null,null,null,null,null,null,null,null,null,null,null,null,null,null,null,null,null,null,"X"]
[null,"Lookup Sign","Upload","",null,null,null,"STA. 107 +64.00","F","VR-934",{"$error":"#VALUE!"},null,null,null,null,1,30,48,"X",null,null,null,null,null,null,null,null,null,null,2,null,null,"X",null,"X",null,null,null,null,null,null,null,null,null,null,null,null,null,null,null,"T-145"]
[null,"Lookup Sign","Upload","",null,null,null,"STA. 108 +50.00","A","R2-1",{"$error":"#VALUE!"},null,null,null,null,1,24,30,null,null,null,null,null,"X",null,null,null,null,1]
[null,"Lookup Sign","Upload","",null,null,null,"STA. 108 +50.00","A","R2-1",{"$error":"#VALUE!"},null,null,null,null,1,24,30,"X",null,null,null,null,null,null,null,null,null,null,1,null,null,"X",null,"X",null,null,null,null,null,null,null,null,null,null,null,null,null,"X"]
[null,"Lookup Sign","Upload","",null,null,null,"STA. 110 +0.00","F","M3-2P",{"$error":"#VALUE!"},{"$error":"#VALUE!"},25.5625,7,null,1,24,12,"X",null,null,null,null,null,null,null,null,null,null,2,null,null,null,"X","X",null,null,null,null,null,null,null,null,null,null,"X",null,"BLACK ON WHITE","X"]
[null,"Lookup Sign","Upload","(multi- sign row)",null,null,null,null,null,"M3-3P",{"$error":"#VALUE!"},"(multisign image continues)",null,7,null,2,24,12,"X",null,null,null,null,null,null,null,null,null,null,null,null,null,null,null,null,null,null,null,null,null,null,null,null,null,null,null,null,"BLACK ON WHITE","X"]
[null,"Lookup Sign","Upload","(multi- sign row)",null,null,null,null,null,"M1-4",{"$error":"#VALUE!"},"(multisign image continues)",null,7,null,1,24,24,"X",null,null,null,null,null,null,null,null,null,null,null,null,null,null,null,null,null,null,null,null,null,null,null,null,null,null,null,null,null,"X"]
[null,"Lookup Sign","Upload","(multi- sign row)",null,null,null,null,null,"M1-4",{"$error":"#VALUE!"},"(multisign image continues)",null,7,null,1,24,24,"X",null,null,null,null,null,null,null,null,null,null,null,null,null,null,null,null,null,null,null,null,null,null,null,null,null,null,null,null,null,"X"]
[null,"Lookup Sign","Upload","(multi- sign row)",null,null,null,null,null,"M1-5",{"$error":"#VALUE!"},"(multisign image continues)",null,7,null,1,30,24,"X",null,null,null,null,null,null,null,null,null,null,null,null,null,null,null,null,null,null,null,null,null,null,null,null,null,null,null,null,null,"X"]
[null,"Lookup Sign","Upload","(multi- sign row)",8,null,null,null,null,"M6-3P",{"$error":"#VALUE!"},"(multisign image continues)",null,7,null,2,21,15,"X",null,null,null,null,null,null,null,null,null,null,null,null,null,null,null,null,null,null,null,null,null,null,null,null,null,null,null,null,"BLACK ON WHITE","X"]
[null,"Lookup Sign","Upload","(multi- sign row)",null,null,null,null,null,"M6-1PR",{"$error":"#VALUE!"},"(multisign image continues)",null,7,null,1,21,15,"X",null,null,null,null,null,null,null,null,null,null,null,null,null,null,null,null,null,null,null,null,null,null,null,null,null,null,null,null,"BLACK ON WHITE","X"]
[null,"Lookup Sign","Upload","",null,null,null,"STA. 112 +24.00","F","W3-3",{"$error":"#VALUE!"},null,null,null,null,1,30,30,null,null,null,null,null,"X",null,null,null,null,2]
[null,"Lookup Sign","Upload",46.875,7.5,null,null,"STA. 112 +24.00","F","W3-3",{"$error":"#VALUE!"},null,null,null,null,1,30,30,"X",null,null,null,null,null,null,null,null,null,null,1,null,null,"X",null,"X",null,null,null,null,null,null,null,null,null,null,null,null," YELLOW","X"]
[null,"Lookup Sign","Upload","",null,null,null,"STA. 114 +06.00","A","W11-3",{"$error":"#VALUE!"},{"$error":"#VALUE!"},9.25,2,null,1,30,30,null,null,null,null,null,"X",null,null,null,null,1]
[null,"Lookup Sign","Upload","(multi- sign row)",null,null,null,null,"A","W7-3AP",{"$error":"#VALUE!"},"(multisign image continues)",null,2,null,1,24,18,null,null,null,null,null,"X"]
[null,"Lookup Sign","Upload","",null,null,null,"STA. 114 +06.00","A","W11-3",{"$error":"#VALUE!"},{"$error":"#VALUE!"},9.25,2,null,1,30,30,"X",null,null,null,null,null,null,null,null,null,null,1,null,null,"X",null,"X",null,null,null,null,null,null,null,null,null,null,null,null,null,"X"]
[null,"Lookup Sign","Upload","(multi- sign row)",null,null,null,null,"A","W7-3AP",{"$error":"#VALUE!"},"(multisign image continues)",null,2,null,1,24,18,"X",null,null,null,null,null,null,null,null,null,null,null,null,null,null,null,null,null,null,null,null,null,null,null,null,null,null,null,null,null,"X"]
[null,"Lookup Sign","Upload","",null,null,null,"STA. 115 +90.00","F","M2-1P",{"$error":"#VALUE!"},{"$error":"#VALUE!"},7.1875,2,null,1,21,15,null,null,null,null,null,"X",null,null,null,null,1]
[null,"Lookup Sign","Upload","(multi- sign row)",null,null,null,null,"F","M1-5",{"$error":"#VALUE!"},"(multisign image continues)",null,2,null,1,30,24,null,null,null,null,null,"X"]
[null,"Lookup Sign","Upload","",null,null,null,"STA. 115 +90.00","F","M2-1P",{"$error":"#VALUE!"},{"$error":"#VALUE!"},7.1875,2,null,1,21,15,"X",null,null,null,null,null,null,null,null,null,null,1,null,null,"X",null,"X",null,null,null,null,null,null,null,null,null,null,null,null,"BLACK ON WHITE","X"]
[null,"Lookup Sign","Upload","(multi- sign row)",null,null,null,null,"F","M1-5",{"$error":"#VALUE!"},"(multisign image continues)",null,2,null,1,30,24,"X",null,null,null,null,null,null,null,null,null,null,null,null,null,null,null,null,null,null,null,null,null,null,null,null,null,null,null,null,null,"X"]
[null,"Lookup Sign","Upload","",null,null,null,"STA.120 +30.00","F","W3-3",{"$error":"#VALUE!"},{"$error":"#VALUE!"},9.25,2,null,1,30,30,null,null,null,null,null,"X",null,null,null,null,2]
[null,"Lookup Sign","Upload","(multi- sign row)",null,null,null,null,"F","W16-2P",{"$error":"#VALUE!"},"(multisign image continues)",null,2,null,1,24,18,null,null,null,null,null,"X"]
[null,"Lookup Sign","Upload","",null,null,null,"STA.120 +30.00","F","W3-3",{"$error":"#VALUE!"},{"$error":"#VALUE!"},9.25,2,null,1,30,30,"X",null,null,null,null,null,null,null,null,null,null,1,null,null,"X",null,"X",null,null,null,null,null,null,null,null,null,null,null,null," YELLOW","X"]
[null,"Lookup Sign","Upload","(multi- sign row)",null,null,null,null,"F","W16-2P",{"$error":"#VALUE!"},"(multisign image continues)",null,2,null,1,24,18,"X",null,null,null,null,null,null,null,null,null,null,null,null,null,null,null,null,null,null,null,null,null,null,null,null,null,null,null,null,"BLACK ON YELLOW","X"]
[null,"(road name row)","","",null,null,"SEVERANCE RD"]
[null,"Lookup Sign","Upload","",null,null,null,"STA. 200 +79.00","A","VR-017",{"$error":"#VALUE!"},null,null,null,null,1,24,30,"X",null,null,null,null,null,null,null,null,null,null,1,null,null,"X",null,"X",null,null,null,null,null,null,null,null,null,null,null,null,null,null,null,"T-70"]
[null,"Lookup Sign","Upload","",null,null,null,null,"A","VR-017",{"$error":"#VALUE!"},null,null,null,null,1,24,30,null,null,null,null,null,"X",null,null,null,null,1,null,null,null,null,null,null,null,null,null,null,null,null,null,null,null,null,null,null,null,null,null,"T-70"]
[null,"Lookup Sign","Upload","",null,null,null,"STA. 201+05.00","F","VR-922","(LT,Thru/RT) LANE ASSIGNMENT",null,null,null,null,1,30,36,null,null,null,null,null,"X",null,null,null,null,1]
[null,"Lookup Sign","Upload","",null,null,null,"STA. 203 +85.00","F","CUSTOM","(LT,LT,Thru,RT) LANE ASSIGNMENT",null,null,null,null,1,60,30,"X",null,null,null,null,null,null,null,null,null,null,2,null,null,"X",null,"X",null,null,null,null,null,null,null,null,null,null,null,null,null,null,1]
[null,"(road name row)","","",null,null,"VT-127/ BLAKELY RD"]
[null,"Lookup Sign","Upload","",null,null,null,"STA. 296 +20.00","A","W3-3",{"$error":"#VALUE!"},null,null,null,null,1,30,30,null,null,null,null,null,"X",null,null,null,null,1,null,null,null,null,null,null,null,null,null,null,null,null,null,null,null,null,null,null,null,"X"]
[null,"Lookup Sign","Upload","",null,null,null,null,"A","W3-3",{"$error":"#VALUE!"},null,null,null,null,1,30,30,"X",null,null,null,null,null,null,null,null,null,null,1,null,null,"X",null,"X",null,null,null,null,null,null,null,null,null,null,null,null,"YELLOW","X"]
[null,"Lookup Sign","Upload","",null,null,null,"STA. 299+47.00","F","R3-7L",{"$error":"#VALUE!"},null,null,null,null,1,36,36,null,null,null,null,null,"X",null,null,null,null,1,null,null,null,null,null,null,null,null,null,null,null,null,null,null,null,null,null,null,null,"X"]
[null,"Lookup Sign","Upload","",null,null,null,null,"F","R3-7L",{"$error":"#VALUE!"},null,null,null,null,1,36,36,"X",null,null,null,null,null,null,null,null,null,null,1,null,null,"X",null,"X",null,null,null,null,null,null,null,null,null,null,null,null,null,"X"]
[null,"Lookup Sign","Upload","",null,null,null,"STA. 300 +20.00","F","TIS","(Travel Information Signs)",null,null,null,null,1,null,null,null,null,"X",null,null,null,null,2]
[null,"Lookup Sign","Upload","",null,null,null,"STA. 301 +34.00","F","VR-921","(LT, THRU) LANE ASSIGNMENT",null,null,null,null,1,30,30,null,null,null,null,null,null,null,1,null,null,null,null,null,null,null,null,null,null,null,null,null,null,null,null,null,null,null,null,null,null,null,1,"T-145"]
[null,"Lookup Sign","Upload","",null,null,null,"STA. 304 +16.00","F","R3-17",{"$error":"#VALUE!"},{"$error":"#VALUE!"},4.5,2,null,1,24,18,"X",null,null,null,null,null,null,null,null,null,null,1,null,null,"X",null,"X",null,null,null,null,null,null,null,null,null,null,null,null,null,"X"]
[null,"Lookup Sign","Upload","(multi- sign row)",null,null,null,null,null,"R3-17BP",{"$error":"#VALUE!"},"(multisign image continues)",null,2,null,1,24,9,"X",null,null,null,null,null,null,null,null,null,null,null,null,null,null,null,null,null,null,null,null,null,null,null,null,null,null,null,null,null,"X"]
[null,"Lookup Sign","Upload","",null,null,null,"STA. 304 +37.00","G","VD-700",{"$error":"#VALUE!"},null,null,null,null,1,6,10,null,null,null,null,null,"X",null,null,null,null,"X",null,null,null,null,null,null,null,null,null,null,null,null,null,null,null,null,null,null,null,null,null,"T-44"]
[null,"Lookup Sign","Upload","",null,null,null,null,"G","VD-700",{"$error":"#VALUE!"},null,null,null,null,1,6,10,"X",null,null,null,null,null,null,null,null,null,null,1,null,null,"X",null,"X",null,null,null,null,null,null,null,null,null,null,null,null,null,null,null,"T-44"]
[null,"Lookup Sign","Upload","",null,null,null,"STA. 304 +59.00","A","VR-932",{"$error":"#VALUE!"},null,null,null,null,1,30,48,null,null,null,null,null,"X",null,null,null,null,2,null,null,null,null,null,null,null,null,null,null,null,null,null,null,null,null,null,null,null,null,null,"T-145"]
[null,"Lookup Sign","Upload","",null,null,null,"STA. 305 +00.00","F","R2-1",{"$error":"#VALUE!"},null,null,null,null,1,24,30,"X",null,null,null,null,null,null,null,null,null,null,1,null,null,"X",null,"X",null,null,null,null,null,null,null,null,null,null,null,null,null,"X"]
[null,"Lookup Sign","Upload",241.1875,8.5,null,null,"STA. 305 +63.00","A","M3-1P",{"$error":"#VALUE!"},{"$error":"#VALUE!"},28.375,8,null,1,24,12,null,null,null,null,null,"X",null,null,null,null,2,null,null,null,null,null,null,null,null,null,null,null,null,null,null,null,null,null,null,null,"X"]
[null,"Lookup Sign","Upload","(multi- sign row)",null,null,null,null,null,"M3-2P",{"$error":"#VALUE!"},"(multisign image continues)",null,8,null,1,24,12,null,null,null,null,null,"X",null,null,null,null,null,null,null,null,null,null,null,null,null,null,null,null,null,null,null,null,null,null,null,null,"X"]
[null,"Lookup Sign","Upload","(multi- sign row)",null,null,null,null,null,"M3-3P",{"$error":"#VALUE!"},"(multisign image continues)",null,8,null,1,24,12,null,null,null,null,null,"X",null,null,null,null,null,null,null,null,null,null,null,null,null,null,null,null,null,null,null,null,null,null,null,null,"X"]
[null,"Lookup Sign","Upload","(multi- sign row)",null,null,null,null,null,"M3-4P",{"$error":"#VALUE!"},"(multisign image continues)",null,8,null,1,24,12,null,null,null,null,null,"X",null,null,null,null,null,null,null,null,null,null,null,null,null,null,null,null,null,null,null,null,null,null,null,null,"X"]
[null,"Lookup Sign","Upload","(multi- sign row)",null,null,null,null,null,"M1-4",{"$error":"#VALUE!"},"(multisign image continues)",null,8,null,2,24,24,null,null,null,null,null,"X",null,null,null,null,null,null,null,null,null,null,null,null,null,null,null,null,null,null,null,null,null,null,null,null,"X"]
[null,"Lookup Sign","Upload","(multi- sign row)",null,null,null,null,null,"M1-4",{"$error":"#VALUE!"},"(multisign image continues)",null,8,null,2,24,24,null,null,null,null,null,"X",null,null,null,null,null,null,null,null,null,null,null,null,null,null,null,null,null,null,null,null,null,null,null,null,"X"]
[null,"Lookup Sign","Upload","(multi- sign row)",null,null,null,null,null,"M6-1PR",{"$error":"#VALUE!"},"(multisign image continues)",null,8,null,1,21,15,null,null,null,null,null,"X",null,null,null,null,null,null,null,null,null,null,null,null,null,null,null,null,null,null,null,null,null,null,null,null,"X"]
[null,"Lookup Sign","Upload","(multi- sign row)",null,null,null,null,null,"M6-1PL",{"$error":"#VALUE!"},"(multisign image continues)",null,8,null,1,21,15,null,null,null,null,null,"X",null,null,null,null,null,null,null,null,null,null,null,null,null,null,null,null,null,null,null,null,null,null,null,null,"X"]
[null,"Lookup Sign","Upload",241.1875,8.5,null,null,"STA. 305 +63.00","A","M3-1P",{"$error":"#VALUE!"},{"$error":"#VALUE!"},28.375,8,null,1,24,12,"X",null,null,null,null,null,null,null,null,null,null,2,null,null,null,"X","X",null,null,null,null,null,null,null,null,null,null,"X",null,"BLACK ON WHITE","X"]
[null,"Lookup Sign","Upload","(multi- sign row)",null,null,null,null,null,"M3-2P",{"$error":"#VALUE!"},"(multisign image continues)",null,8,null,1,24,12,"X",null,null,null,null,null,null,null,null,null,null,null,null,null,null,null,null,null,null,null,null,null,null,null,null,null,null,null,null,"BLACK ON WHITE","X"]
[null,{"$f":"IF(NOT(ISBLANK(G141)),\"(road name row)\",IF(ISBLANK(J141), \"(no sign id entered)\",\"Lookup Sign\"))","v":"Lookup Sign"},{"$f":"IF(ISBLANK(G141), \"Upload\", \"\")","v":"Upload"},{"$f":"IF(L141=\"(multisign image continues)\",\"(multi- sign row)\",IF(ISBLANK(E141),\"\",IF(ISBLANK(M141),IF(ISBLANK(AZ141),Q141*R141/144,AZ141),M141)*E141))","v":"(multi- sign row)"},null,null,null,null,null,"M3-3P",{"$error":"#VALUE!"},"(multisign image continues)",null,8,null,1,24,12,"X",null,null,null,null,null,null,null,null,null,null,null,null,null,null,null,null,null,null,null,null,null,null,null,null,null,null,null,null,"BLACK ON WHITE","X"]
[null,"Lookup Sign","Upload","(multi- sign row)",null,null,null,null,null,"M3-4P",{"$error":"#VALUE!"},"(multisign image continues)",null,8,null,1,24,12,"X",null,null,null,null,null,null,null,null,null,null,null,null,null,null,null,null,null,null,null,null,null,null,null,null,null,null,null,null,"BLACK ON WHITE","X"]
[null,"Lookup Sign","Upload","(multi- sign row)",null,null,null,null,null,"M1-4",{"$error":"#VALUE!"},"(multisign image continues)",null,8,null,2,24,24,"X",null,null,null,null,null,null,null,null,null,null,null,null,null,null,null,null,null,null,null,null,null,null,null,null,null,null,null,null,null,"X"]
[null,"Lookup Sign","Upload","(multi- sign row)",null,null,null,null,null,"M1-4",{"$error":"#VALUE!"},"(multisign image continues)",null,8,null,2,24,24,"X",null,null,null,null,null,null,null,null,null,null,null,null,null,null,null,null,null,null,null,null,null,null,null,null,null,null,null,null,null,"X"]
[null,"Lookup Sign","Upload","(multi- sign row)",null,null,null,null,null,"M6-1PR",{"$error":"#VALUE!"},"(multisign image continues)",null,8,null,1,21,15,"X",null,null,null,null,null,null,null,null,null,null,null,null,null,null,null,null,null,null,null,null,null,null,null,null,null,null,null,null,"BLACK ON WHITE","X"]
[null,"Lookup Sign","Upload","(multi- sign row)",null,null,null,null,null,"M6-1PL",{"$error":"#VALUE!"},"(multisign image continues)",null,8,null,1,21,15,"X",null,null,null,null,null,null,null,null,null,null,null,null,null,null,null,null,null,null,null,null,null,null,null,null,null,null,null,null,"BLACK ON WHITE","X"]
[null,"Lookup Sign","Upload","",null,null,null,"STA. 305 +90.00","F","W4-2R",{"$error":"#VALUE!"},null,null,null,null,1,36,36,"X",null,null,null,null,null,null,null,null,null,null,1,null,null,"X",null,"X",null,null,null,null,null,null,null,null,null,null,null,null,"BLACK ON YELLOW","X"]
[null,"Lookup Sign","Upload","",null,null,null,"STA. 306 +59.00","A","VR-932",{"$error":"#VALUE!"},null,null,null,null,1,30,48,"X",null,null,null,null,null,null,null,null,null,null,2,null,null,"X",null,"X",null,null,null,null,null,null,null,null,null,null,null,null,null,null,null,"T-145"]
[null,"Lookup Sign","Upload","",null,null,null,"STA. 307 +07.00","F","R2-1",{"$error":"#VALUE!"},null,null,null,null,1,24,30,null,null,null,null,null,"X",null,null,null,null,1,null,null,null,null,null,null,null,null,null,null,null,null,null,null,null,null,null,null,null,"X"]
[null,"Lookup Sign","Upload","",null,null,null,"STA. 308 +22.00","A","VR-932",{"$error":"#VALUE!"},null,null,null,null,1,30,48,null,null,null,null,null,"X",null,null,null,null,1,null,null,null,null,null,null,null,null,null,null,null,null,null,null,null,null,null,null,null,null,null,"T-145"]
[null,"Lookup Sign","Upload","",null,null,null,"STA. 308 +35.00","F","M3-3P",{"$error":"#VALUE!"},{"$error":"#VALUE!"},6,2,null,1,24,12,null,null,null,null,null,"X",null,null,null,null,1,null,null,null,null,null,null,null,null,null,null,null,null,null,null,null,null,null,null,null,"X"]
[null,"Lookup Sign","Upload","(multi- sign row)",null,null,null,null,null,"M1-5",{"$error":"#VALUE!"},"(multisign image continues)",null,2,null,1,24,24,null,null,null,null,null,"X",null,null,null,null,null,null,null,null,null,null,null,null,null,null,null,null,null,null,null,null,null,null,null,null,"X"]
[null,"Lookup Sign","Upload","",null,null,null,null,"F","M3-3P",{"$error":"#VALUE!"},{"$error":"#VALUE!"},6,2,null,1,24,12,"X",null,null,null,null,null,null,null,null,null,null,1,null,null,"X",null,"X",null,null,null,null,null,null,null,null,null,null,null,null,"BLACK ON WHITE","X"]
[null,"Lookup Sign","Upload","(multi- sign row)",null,null,null,null,null,"M1-5",{"$error":"#VALUE!"},"(multisign image continues)",null,2,null,1,24,24,"X",null,null,null,null,null,null,null,null,null,null,null,null,null,null,null,null,null,null,null,null,null,null,null,null,null,null,null,null,null,"X"]
[null,"Lookup Sign","Upload","",null,null,null,null,null,"R2-4a",{"$error":"#VALUE!"},null,null,null,null,1,36,72,null,null,null,null,null,null,null,null,null,null,null,null,null,null,null,null,null,null,null,null,null,null,null,null,null,null,null,null,null,null,"X"]
[null,"Lookup Sign","Upload","",null,null,null,null,null,"R2-1",{"$error":"#VALUE!"},null,null,null,null,1,24,30,null,null,null,null,null,null,null,null,null,null,null,null,null,null,null,null,null,null,null,null,null,null,null,null,null,null,null,null,null,null,"X"]
[null,"Lookup Sign","Upload",2.0833333333333335,5,null,null,null,null,"VD-700",{"$error":"#VALUE!"},null,null,null,null,1,6,10,null,null,null,null,null,null,null,null,null,null,null,null,null,null,null,null,null,null,null,null,null,null,null,null,null,null,null,null,null,null,null,null,"T-44"]
[null,"Lookup Sign","Upload","",null,null,null,null,null,"R2-1",{"$error":"#VALUE!"},null,null,null,null,1,30,36,null,null,null,null,null,null,null,null,null,null,null,null,null,null,null,null,null,null,null,null,null,null,null,null,null,null,null,null,null,null,"X"]
[null,"Lookup Sign","Upload","",null,null,null,null,null,"M1-1",{"$error":"#VALUE!"},{"$error":"#VALUE!"},16.5,3,null,2,24,24,null,"x",null,null,null,null,null,null,null,null,null,null,null,null,null,null,null,null,null,null,null,null,null,null,null,null,null,null,null,null,"X",null,null,6.48]
[null,"Lookup Sign","Upload","(multi- sign row)",null,null,null,null,null,"M1-5",{"$error":"#VALUE!"},"(multisign image continues)",null,3,null,1,30,24,null,null,null,null,null,null,null,null,null,null,null,null,null,null,null,null,null,null,null,null,null,null,null,null,null,null,null,null,null,null,"X",null,null,5]
[null,"Lookup Sign","Upload","(multi- sign row)",null,null,null,null,null,"M1-1",{"$error":"#VALUE!"},"(multisign image continues)",null,3,null,1,30,24,null,null,null,null,null,null,null,null,null,null,null,null,null,null,null,null,null,null,null,null,null,null,null,null,null,null,null,null,null,null,"X",null,null,5]
[null,"(no sign id entered)","Upload",""]
[null,"(no sign id entered)","Upload",""]
[null,"(no sign id entered)","Upload",""]
[null,"(no sign id entered)","Upload",""]
[null,"(no sign id entered)","Upload",""]
[null,"(no sign id entered)","Upload",""]
[null,"(no sign id entered)","Upload",""]
[null,"(no sign id entered)","Upload",""]
[null,"(no sign id entered)","Upload",""]
[null,"(no sign id entered)","Upload",""]
[null,"(no sign id entered)","Upload",""]
[null,"(no sign id entered)","Upload",""]
[null,"(no sign id entered)","Upload",""]
[null,"(no sign id entered)","Upload",""]
[null,"(no sign id entered)","Upload",""]
[null,"(no sign id entered)","Upload",""]
[null,"(no sign id entered)","Upload",""]
[null,"(no sign id entered)","Upload",""]
[null,"(no sign id entered)","Upload",""]
[null,"(no sign id entered)","Upload",""]
[null,"(no sign id entered)","Upload",""]
[null,"(no sign id entered)","Upload",""]
[null,"(no sign id entered)","Upload",""]
[null,"(no sign id entered)","Upload",""]
[null,"(no sign id entered)","Upload",""]
[null,"(no sign id entered)","Upload",""]
[null,"(no sign id entered)","Upload",""]
[null,"(no sign id entered)","Upload",""]
[null,"(no sign id entered)","Upload",""]
[null,"(no sign id entered)","Upload",""]
[null,"(no sign id entered)","Upload",""]
[null,"(no sign id entered)","Upload",""]

{"sheet":"CALC_VALS","index":2,"n_rows":191,"n_cols":46,"rows_kept":191,"cut":false,"hidden":true,"merged":[[2,40,4,40],[2,41,4,41],[2,42,4,42],[3,33,4,33],[3,34,4,34],[0,38,4,38],[0,40,1,42],[1,37,4,37],[2,35,4,35],[2,36,4,36],[0,39,4,39],[2,24,4,24],[2,25,4,25],[2,26,4,26],[2,27,4,27],[2,13,4,13],[2,14,4,14],[2,15,4,15],[2,16,4,16],[2,18,4,18],[2,29,4,29],[2,32,4,32],[2,33,2,34],[1,1,4,1],[1,2,4,2],[1,3,4,3],[1,7,4,7],[1,8,4,8],[1,9,4,9],[1,10,4,10],[1,11,4,11],[1,13,1,14],[1,15,1,16],[1,12,4,12],[2,30,4,30],[2,19,4,19],[0,1,0,3],[0,0,4,0],[0,4,4,4],[0,5,4,5],[0,6,4,6],[1,18,1,19],[1,20,4,20],[1,21,4,21],[1,22,4,22],[0,7,0,9],[0,10,0,11],[0,12,0,16],[0,17,0,20],[0,21,0,37],[1,17,4,17],[2,31,4,31],[2,23,4,23],[1,28,1,32],[1,33,1,36],[1,23,1,27],[2,28,4,28]]}
["BILLING GROUP","LOCATION",null,null,"SIGN DESIGNATION","SIGN LEGEND","DOUBLE SIDED","  SIGN DIMENSIONS",null,null,"NEW SIGNS",null,"EXISTING SIGNS",null,null,null,null,"EXIST POSTS",null,null,null,"NEW SIGN POSTS",null,null,null,null,null,null,null,null,null,null,null,null,null,null,null,null,"REMARKS","SHEETING REMARKS","SIGN DETAIL",null,null,"HELPER CELLS:"]
[null,"ROAD","MILEMARKER OR STATION","LOCATION CODE",null,null,null,"EA","WIDTH (in)","HEIGHT (in)","FLAT SHEET ALUMINUM","EXTRUDED ALUMINUM SHEET","RETAIN","RESET",null,"REMOVE",null,"RETAIN","RESET",null,"REMOVE","NO. OF POSTS","SOIL BEARING SLIP BASE","SQUARE STEEL (in)",null,null,null,null,"TUBULAR STEEL φ (in)",null,null,null,null,"W-SHAPE STEEL",null,null,null,"SIGN FRAME REQUIRED",null,null,null,null,null,{"$f":"\"PROJECT NAME: \"& Directions!$D$14&CHAR(13)&\"PROJECT NUMBER: \"& Directions!$D$15&CHAR(13)","v":"PROJECT NAME: COLCHESTER\rPROJECT NUMBER: STPG 5600(17)\r"}]
[null,null,null,null,null,null,null,null,null,null,null,null,null,"ORIGIN","DESTINATON","FLAT SHEET ALUMINUM","EXTRUDED ALUMINUM SHEET",null,"ORIGIN","DESTINATON",null,null,null,1.75,2,2.5,"ANCHOR","SLEEVE","FOUNDATION",3,3.5,4,5,"FTG. SIZE",null,"WEIGHT","POST SIZE",null,null,null," SHSM","SHEET NUMBER","STD. SHEET NUMBER",{"$f":"\"FILE NAME: \"&Directions!$D$16&CHAR(13)&\"PROJECT LEADER: \"&Directions!$D$17&CHAR(13)&\"DESIGNED BY: \"&Directions!$D$18&CHAR(13)&Directions!#REF!&\"99\"","v":{"$error":"#REF!"}}]
[null,null,null,null,null,null,null,null,null,null,null,null,null,null,null,null,null,null,null,null,null,null,null,null,null,null,null,null,null,null,null,null,null,"24\"","30\"",null,null,null,null,null,null,null,null,{"$f":"\"PLOT DATE: \"&#REF!&CHAR(13)&\"DRAWN BY: \"& Directions!$D$19&CHAR(13)&\"CHECKED BY: \"& Directions!$D$20&CHAR(13)&\"SHEET \"&Directions!D23&\" OF \"&Directions!D25","v":{"$error":"#REF!"}}]
[]
["NUMBER OF SIGN ENTRIES",null,null,{"$f":"COUNT(H10:H101)","v":89},null,null,null,null,"ASSOCIATED PAY ITEM",null,2000,2100,null,null,6000,5000,5100,null,null,6100,null,null,3500,3410,3410,3410,null,null,4300,3300,3300,3300,3300,4100,4200,3100]
[null,null,null,"GRAND TOTALS",null,null,null,null,null,null,{"$f":"SUM(K10:K99999)","v":445.47916666666669},{"$f":"SUM(L10:L99999)","v":6.48},4,0,0,67,0,5,0,0,40,41,0,0,525,90,41,0,0,0,0,0,0,0,0,0]
[null,null,null,null,"SIGN DESIGNATION","SIGN LEGEND","SHEETING REMARKS","NumNewSign","Width","Height","FLAT SHEET ALUMINUM","EXTRUDED ALUMINUM SHEET",null,null,null,null,null,null,null,null,null,null,null,null,null,null,null,null,null,null,null,null,null,null,null,null,null,null,null,null,null,null,null,"RowHeights","NumNewSigns","IsExtruded"]
[{"$f":"IF(DATA_INPUT!F11<>\"\",DATA_INPUT!F11,\"\")","v":"Text"},{"$f":"IF(DATA_INPUT!G11<>\"\",DATA_INPUT!G11,\"\")","v":"Text"},{"$f":"IF(DATA_INPUT!H11<>\"\",DATA_INPUT!H11,\"\")","v":"Text"},{"$f":"IF(DATA_INPUT!I11<>\"\",DATA_INPUT!I11,\"\")","v":"Text"},{"$f":"IF(DATA_INPUT!J11<>\"\",DATA_INPUT!J11,\"\")","v":"MUTCD or VTRANS Sign Code"},{"$f":"IF(DATA_INPUT!L11<>\"\",DATA_INPUT!L11,IF(DATA_INPUT!K11<>\"\",DATA_INPUT!K11,\"\"))","v":"(use \"Create Multi-Sign Image\")"},{"$f":"IF(DATA_INPUT!O11<>\"\",DATA_INPUT!O11,\"\")","v":"X"},{"$f":"IF(DATA_INPUT!P11<>\"\",DATA_INPUT!P11,\"\")","v":"Quantity"},{"$f":"IF(DATA_INPUT!Q11<>\"\",DATA_INPUT!Q11,\"\")","v":"Inches"},{"$f":"IF(DATA_INPUT!R11<>\"\",DATA_INPUT!R11,\"\")","v":"Inches"},{"$f":"IF(DATA_INPUT!S11<>\"\",IF(DATA_INPUT!AZ11<>\"\",DATA_INPUT!AZ11,H9*I9*J9/144)*IF(G9<>\"\",3/2,1),\"\")","v":{"$error":"#VALUE!"}},{"$f":"IF(DATA_INPUT!T11<>\"\",IF(DATA_INPUT!AZ11<>\"\",DATA_INPUT!AZ11,H9*I9*J9/144)*IF(G9<>\"\",3/2,1),\"\")","v":{"$error":"#VALUE!"}},{"$f":"IF(DATA_INPUT!U11<>\"\",$H9,\"\")","v":"Quantity"},{"$f":"IF(DATA_INPUT!V11<>\"\",$H9,\"\")","v":"Quantity"},{"$f":"IF(DATA_INPUT!W11<>\"\",$H9,\"\")","v":"Quantity"},{"$f":"IF(DATA_INPUT!X11<>\"\",$H9,\"\")","v":"Quantity"},{"$f":"IF(DATA_INPUT!Y11<>\"\",$H9,\"\")","v":"Quantity"},{"$f":"IF(DATA_INPUT!Z11<>\"\",DATA_INPUT!Z11,\"\")","v":"Quantity"},{"$f":"IF(DATA_INPUT!AA11<>\"\",DATA_INPUT!AA11,\"\")","v":"Quantity"},{"$f":"IF(DATA_INPUT!AB11<>\"\",DATA_INPUT!AB11,\"\")","v":"Quantity"},{"$f":"IF(DATA_INPUT!AC11<>\"\",DATA_INPUT!AC11,\"\")","v":"Quantity"},{"$f":"IF(DATA_INPUT!AD11<>\"\",DATA_INPUT!AD11,\"\")","v":"Quantity"},{"$f":"IF(DATA_INPUT!AE11<>\"\",$V9,\"\")","v":"Quantity"},{"$f":"IF(DATA_INPUT!AF11<>\"\",$V9*8,\"\")","v":{"$error":"#VALUE!"}},{"$f":"IF(DATA_INPUT!AG11<>\"\",$V9*15,\"\")","v":{"$error":"#VALUE!"}},{"$f":"IF(DATA_INPUT!AH11<>\"\",$V9*15,\"\")","v":{"$error":"#VALUE!"}},{"$f":"IF(DATA_INPUT!AI11<>\"\",$V9,\"\")","v":"Quantity"},{"$f":"IF(DATA_INPUT!AJ11<>\"\",$V9,\"\")","v":"Quantity"},{"$f":"IF(DATA_INPUT!AK11<>\"\",$V9,\"\")","v":"Quantity"},{"$f":"IF(DATA_INPUT!AL11<>\"\",$V9*7.6*DATA_INPUT!AL11,\"\")","v":{"$error":"#VALUE!"}},{"$f":"IF(DATA_INPUT!AM11<>\"\",$V9*9*DATA_INPUT!AM11,\"\")","v":{"$error":"#VALUE!"}},{"$f":"IF(DATA_INPUT!AN11<>\"\",$V9*10.8*DATA_INPUT!AN11,\"\")","v":{"$error":"#VALUE!"}},{"$f":"IF(DATA_INPUT!AO11<>\"\",$V9*14.6*DATA_INPUT!AO11,\"\")","v":{"$error":"#VALUE!"}},{"$f":"IF(DATA_INPUT!AP11<>\"\",$V9,\"\")","v":"Quantity"},{"$f":"IF(DATA_INPUT!AQ11<>\"\",$V9,\"\")","v":"Quantity"},{"$f":"IF(DATA_INPUT!AR11<>\"\",DATA_INPUT!AR11,\"\")","v":"LBS"},{"$f":"IF(DATA_INPUT!AS11<>\"\",DATA_INPUT!AS11,\"\")","v":"Text"},{"$f":"IF(DATA_INPUT!AT11<>\"\",DATA_INPUT!AT11,\"\")","v":"X"},{"$f":"IF(DATA_INPUT!AU11<>\"\",DATA_INPUT!AU11,\"\")","v":"Text"},{"$f":"IF(DATA_INPUT!AV11<>\"\",DATA_INPUT!AV11,\"\")","v":"Text"},{"$f":"IF(DATA_INPUT!AW11<>\"\",DATA_INPUT!AW11,\"\")","v":"X"},{"$f":"IF(DATA_INPUT!AX11<>\"\",DATA_INPUT!AX11+Directions!$D$24-1,\"\")","v":{"$error":"#VALUE!"}},{"$f":"IF(DATA_INPUT!AY11<>\"\",DATA_INPUT!AY11,\"\")","v":"VTRANS sheet number"},{"$f":"IF(DATA_INPUT!G11<>\"\",2,IF(DATA_INPUT!N11>2,2,IF(DATA_INPUT!N11=2,3,4)))","v":2},{"$f":"IF(OR(DATA_INPUT!S11<>\"\",DATA_INPUT!T11<>\"\"),H9,\"\")","v":"Quantity"},{"$f":"IF(DATA_INPUT!T11<>\"\",\"X\",\"\")","v":"X"}]
[{"$f":"IF(DATA_INPUT!F12<>\"\",DATA_INPUT!F12,\"\")","v":""},{"$f":"IF(DATA_INPUT!G12<>\"\",DATA_INPUT!G12,\"\")","v":"SIGNAL MAST ARM MOUNTED; BRACKETS REQUIRED"},{"$f":"IF(DATA_INPUT!H12<>\"\",DATA_INPUT!H12,\"\")","v":""},{"$f":"IF(DATA_INPUT!I12<>\"\",DATA_INPUT!I12,\"\")","v":""},{"$f":"IF(DATA_INPUT!J12<>\"\",DATA_INPUT!J12,\"\")","v":""},{"$f":"IF(DATA_INPUT!L12<>\"\",DATA_INPUT!L12,IF(DATA_INPUT!K12<>\"\",DATA_INPUT!K12,\"\"))","v":""},{"$f":"IF(DATA_INPUT!O12<>\"\",DATA_INPUT!O12,\"\")","v":""},{"$f":"IF(DATA_INPUT!P12<>\"\",DATA_INPUT!P12,\"\")","v":""},{"$f":"IF(DATA_INPUT!Q12<>\"\",DATA_INPUT!Q12,\"\")","v":""},{"$f":"IF(DATA_INPUT!R12<>\"\",DATA_INPUT!R12,\"\")","v":""},{"$f":"IF(DATA_INPUT!S12<>\"\",IF(DATA_INPUT!AZ12<>\"\",DATA_INPUT!AZ12,H10*I10*J10/144)*IF(G10<>\"\",3/2,1),\"\")","v":""},{"$f":"IF(DATA_INPUT!T12<>\"\",IF(DATA_INPUT!AZ12<>\"\",DATA_INPUT!AZ12,H10*I10*J10/144)*IF(G10<>\"\",3/2,1),\"\")","v":""},{"$f":"IF(DATA_INPUT!U12<>\"\",$H10,\"\")","v":""},{"$f":"IF(DATA_INPUT!V12<>\"\",$H10,\"\")","v":""},{"$f":"IF(DATA_INPUT!W12<>\"\",$H10,\"\")","v":""},{"$f":"IF(DATA_INPUT!X12<>\"\",$H10,\"\")","v":""},{"$f":"IF(DATA_INPUT!Y12<>\"\",$H10,\"\")","v":""},{"$f":"IF(DATA_INPUT!Z12<>\"\",DATA_INPUT!Z12,\"\")","v":""},{"$f":"IF(DATA_INPUT!AA12<>\"\",DATA_INPUT!AA12,\"\")","v":""},{"$f":"IF(DATA_INPUT!AB12<>\"\",DATA_INPUT!AB12,\"\")","v":""},{"$f":"IF(DATA_INPUT!AC12<>\"\",DATA_INPUT!AC12,\"\")","v":""},{"$f":"IF(DATA_INPUT!AD12<>\"\",DATA_INPUT!AD12,\"\")","v":""},{"$f":"IF(DATA_INPUT!AE12<>\"\",$V10,\"\")","v":""},{"$f":"IF(DATA_INPUT!AF12<>\"\",$V10*8,\"\")","v":""},{"$f":"IF(DATA_INPUT!AG12<>\"\",$V10*15,\"\")","v":""},{"$f":"IF(DATA_INPUT!AH12<>\"\",$V10*15,\"\")","v":""},{"$f":"IF(DATA_INPUT!AI12<>\"\",$V10,\"\")","v":""},{"$f":"IF(DATA_INPUT!AJ12<>\"\",$V10,\"\")","v":""},{"$f":"IF(DATA_INPUT!AK12<>\"\",$V10,\"\")","v":""},{"$f":"IF(DATA_INPUT!AL12<>\"\",$V10*7.6*DATA_INPUT!AL12,\"\")","v":""},{"$f":"IF(DATA_INPUT!AM12<>\"\",$V10*9*DATA_INPUT!AM12,\"\")","v":""},{"$f":"IF(DATA_INPUT!AN12<>\"\",$V10*10.8*DATA_INPUT!AN12,\"\")","v":""},{"$f":"IF(DATA_INPUT!AO12<>\"\",$V10*14.6*DATA_INPUT!AO12,\"\")","v":""},{"$f":"IF(DATA_INPUT!AP12<>\"\",$V10,\"\")","v":""},{"$f":"IF(DATA_INPUT!AQ12<>\"\",$V10,\"\")","v":""},{"$f":"IF(DATA_INPUT!AR12<>\"\",DATA_INPUT!AR12,\"\")","v":""},{"$f":"IF(DATA_INPUT!AS12<>\"\",DATA_INPUT!AS12,\"\")","v":""},{"$f":"IF(DATA_INPUT!AT12<>\"\",DATA_INPUT!AT12,\"\")","v":""},{"$f":"IF(DATA_INPUT!AU12<>\"\",DATA_INPUT!AU12,\"\")","v":""},{"$f":"IF(DATA_INPUT!AV12<>\"\",DATA_INPUT!AV12,\"\")","v":""},{"$f":"IF(DATA_INPUT!AW12<>\"\",DATA_INPUT!AW12,\"\")","v":""},{"$f":"IF(DATA_INPUT!AX12<>\"\",DATA_INPUT!AX12+Directions!$D$24-1,\"\")","v":""},{"$f":"IF(DATA_INPUT!AY12<>\"\",DATA_INPUT!AY12,\"\")","v":""},{"$f":"IF(DATA_INPUT!G12<>\"\",2,IF(DATA_INPUT!N12>2,2,IF(DATA_INPUT!N12=2,3,4)))","v":2},{"$f":"IF(OR(DATA_INPUT!S12<>\"\",DATA_INPUT!T12<>\"\"),H10,\"\")","v":""},{"$f":"IF(DATA_INPUT!T12<>\"\",\"X\",\"\")","v":""}]
[{"$f":"IF(DATA_INPUT!F13<>\"\",DATA_INPUT!F13,\"\")","v":""},{"$f":"IF(DATA_INPUT!G13<>\"\",DATA_INPUT!G13,\"\")","v":""},{"$f":"IF(DATA_INPUT!H13<>\"\",DATA_INPUT!H13,\"\")","v":"MAST ARM 1"},{"$f":"IF(DATA_INPUT!I13<>\"\",DATA_INPUT!I13,\"\")","v":""},{"$f":"IF(DATA_INPUT!J13<>\"\",DATA_INPUT!J13,\"\")","v":"D3-1"},{"$f":"IF(DATA_INPUT!L13<>\"\",DATA_INPUT!L13,IF(DATA_INPUT!K13<>\"\",DATA_INPUT!K13,\"\"))","v":"BLAKELY RD"},{"$f":"IF(DATA_INPUT!O13<>\"\",DATA_INPUT!O13,\"\")","v":""},{"$f":"IF(DATA_INPUT!P13<>\"\",DATA_INPUT!P13,\"\")","v":2},{"$f":"IF(DATA_INPUT!Q13<>\"\",DATA_INPUT!Q13,\"\")","v":96},{"$f":"IF(DATA_INPUT!R13<>\"\",DATA_INPUT!R13,\"\")","v":24},{"$f":"IF(DATA_INPUT!S13<>\"\",IF(DATA_INPUT!AZ13<>\"\",DATA_INPUT!AZ13,H11*I11*J11/144)*IF(G11<>\"\",3/2,1),\"\")","v":32},{"$f":"IF(DATA_INPUT!T13<>\"\",IF(DATA_INPUT!AZ13<>\"\",DATA_INPUT!AZ13,H11*I11*J11/144)*IF(G11<>\"\",3/2,1),\"\")","v":""},{"$f":"IF(DATA_INPUT!U13<>\"\",$H11,\"\")","v":""},{"$f":"IF(DATA_INPUT!V13<>\"\",$H11,\"\")","v":""},{"$f":"IF(DATA_INPUT!W13<>\"\",$H11,\"\")","v":""},{"$f":"IF(DATA_INPUT!X13<>\"\",$H11,\"\")","v":""},{"$f":"IF(DATA_INPUT!Y13<>\"\",$H11,\"\")","v":""},{"$f":"IF(DATA_INPUT!Z13<>\"\",DATA_INPUT!Z13,\"\")","v":""},{"$f":"IF(DATA_INPUT!AA13<>\"\",DATA_INPUT!AA13,\"\")","v":""},{"$f":"IF(DATA_INPUT!AB13<>\"\",DATA_INPUT!AB13,\"\")","v":""},{"$f":"IF(DATA_INPUT!AC13<>\"\",DATA_INPUT!AC13,\"\")","v":""},{"$f":"IF(DATA_INPUT!AD13<>\"\",DATA_INPUT!AD13,\"\")","v":""},{"$f":"IF(DATA_INPUT!AE13<>\"\",$V11,\"\")","v":""},{"$f":"IF(DATA_INPUT!AF13<>\"\",$V11*8,\"\")","v":""},{"$f":"IF(DATA_INPUT!AG13<>\"\",$V11*15,\"\")","v":""},{"$f":"IF(DATA_INPUT!AH13<>\"\",$V11*15,\"\")","v":""},{"$f":"IF(DATA_INPUT!AI13<>\"\",$V11,\"\")","v":""},{"$f":"IF(DATA_INPUT!AJ13<>\"\",$V11,\"\")","v":""},{"$f":"IF(DATA_INPUT!AK13<>\"\",$V11,\"\")","v":""},{"$f":"IF(DATA_INPUT!AL13<>\"\",$V11*7.6*DATA_INPUT!AL13,\"\")","v":""},{"$f":"IF(DATA_INPUT!AM13<>\"\",$V11*9*DATA_INPUT!AM13,\"\")","v":""},{"$f":"IF(DATA_INPUT!AN13<>\"\",$V11*10.8*DATA_INPUT!AN13,\"\")","v":""},{"$f":"IF(DATA_INPUT!AO13<>\"\",$V11*14.6*DATA_INPUT!AO13,\"\")","v":""},{"$f":"IF(DATA_INPUT!AP13<>\"\",$V11,\"\")","v":""},{"$f":"IF(DATA_INPUT!AQ13<>\"\",$V11,\"\")","v":""},{"$f":"IF(DATA_INPUT!AR13<>\"\",DATA_INPUT!AR13,\"\")","v":""},{"$f":"IF(DATA_INPUT!AS13<>\"\",DATA_INPUT!AS13,\"\")","v":""},{"$f":"IF(DATA_INPUT!AT13<>\"\",DATA_INPUT!AT13,\"\")","v":""},{"$f":"IF(DATA_INPUT!AU13<>\"\",DATA_INPUT!AU13,\"\")","v":"SEE MAST ARM PROFILES FOR PLACEMENT"},{"$f":"IF(DATA_INPUT!AV13<>\"\",DATA_INPUT!AV13,\"\")","v":""},{"$f":"IF(DATA_INPUT!AW13<>\"\",DATA_INPUT!AW13,\"\")","v":"X"},{"$f":"IF(DATA_INPUT!AX13<>\"\",DATA_INPUT!AX13+Directions!$D$24-1,\"\")","v":1},{"$f":"IF(DATA_INPUT!AY13<>\"\",DATA_INPUT!AY13,\"\")","v":""},{"$f":"IF(DATA_INPUT!G13<>\"\",2,IF(DATA_INPUT!N13>2,2,IF(DATA_INPUT!N13=2,3,4)))","v":4},{"$f":"IF(OR(DATA_INPUT!S13<>\"\",DATA_INPUT!T13<>\"\"),H11,\"\")","v":2},{"$f":"IF(DATA_INPUT!T13<>\"\",\"X\",\"\")","v":""}]
[{"$f":"IF(DATA_INPUT!F14<>\"\",DATA_INPUT!F14,\"\")","v":""},{"$f":"IF(DATA_INPUT!G14<>\"\",DATA_INPUT!G14,\"\")","v":""},{"$f":"IF(DATA_INPUT!H14<>\"\",DATA_INPUT!H14,\"\")","v":""},{"$f":"IF(DATA_INPUT!I14<>\"\",DATA_INPUT!I14,\"\")","v":""},{"$f":"IF(DATA_INPUT!J14<>\"\",DATA_INPUT!J14,\"\")","v":"R10-101"},{"$f":"IF(DATA_INPUT!L14<>\"\",DATA_INPUT!L14,IF(DATA_INPUT!K14<>\"\",DATA_INPUT!K14,\"\"))","v":{"$error":"#VALUE!"}},{"$f":"IF(DATA_INPUT!O14<>\"\",DATA_INPUT!O14,\"\")","v":""},{"$f":"IF(DATA_INPUT!P14<>\"\",DATA_INPUT!P14,\"\")","v":1},{"$f":"IF(DATA_INPUT!Q14<>\"\",DATA_INPUT!Q14,\"\")","v":30},{"$f":"IF(DATA_INPUT!R14<>\"\",DATA_INPUT!R14,\"\")","v":36},{"$f":"IF(DATA_INPUT!S14<>\"\",IF(DATA_INPUT!AZ14<>\"\",DATA_INPUT!AZ14,H12*I12*J12/144)*IF(G12<>\"\",3/2,1),\"\")","v":7.5},{"$f":"IF(DATA_INPUT!T14<>\"\",IF(DATA_INPUT!AZ14<>\"\",DATA_INPUT!AZ14,H12*I12*J12/144)*IF(G12<>\"\",3/2,1),\"\")","v":""},{"$f":"IF(DATA_INPUT!U14<>\"\",$H12,\"\")","v":""},{"$f":"IF(DATA_INPUT!V14<>\"\",$H12,\"\")","v":""},{"$f":"IF(DATA_INPUT!W14<>\"\",$H12,\"\")","v":""},{"$f":"IF(DATA_INPUT!X14<>\"\",$H12,\"\")","v":""},{"$f":"IF(DATA_INPUT!Y14<>\"\",$H12,\"\")","v":""},{"$f":"IF(DATA_INPUT!Z14<>\"\",DATA_INPUT!Z14,\"\")","v":""},{"$f":"IF(DATA_INPUT!AA14<>\"\",DATA_INPUT!AA14,\"\")","v":""},{"$f":"IF(DATA_INPUT!AB14<>\"\",DATA_INPUT!AB14,\"\")","v":""},{"$f":"IF(DATA_INPUT!AC14<>\"\",DATA_INPUT!AC14,\"\")","v":""},{"$f":"IF(DATA_INPUT!AD14<>\"\",DATA_INPUT!AD14,\"\")","v":""},{"$f":"IF(DATA_INPUT!AE14<>\"\",$V12,\"\")","v":""},{"$f":"IF(DATA_INPUT!AF14<>\"\",$V12*8,\"\")","v":""},{"$f":"IF(DATA_INPUT!AG14<>\"\",$V12*15,\"\")","v":""},{"$f":"IF(DATA_INPUT!AH14<>\"\",$V12*15,\"\")","v":""},{"$f":"IF(DATA_INPUT!AI14<>\"\",$V12,\"\")","v":""},{"$f":"IF(DATA_INPUT!AJ14<>\"\",$V12,\"\")","v":""},{"$f":"IF(DATA_INPUT!AK14<>\"\",$V12,\"\")","v":""},{"$f":"IF(DATA_INPUT!AL14<>\"\",$V12*7.6*DATA_INPUT!AL14,\"\")","v":""},{"$f":"IF(DATA_INPUT!AM14<>\"\",$V12*9*DATA_INPUT!AM14,\"\")","v":""},{"$f":"IF(DATA_INPUT!AN14<>\"\",$V12*10.8*DATA_INPUT!AN14,\"\")","v":""},{"$f":"IF(DATA_INPUT!AO14<>\"\",$V12*14.6*DATA_INPUT!AO14,\"\")","v":""},{"$f":"IF(DATA_INPUT!AP14<>\"\",$V12,\"\")","v":""},{"$f":"IF(DATA_INPUT!AQ14<>\"\",$V12,\"\")","v":""},{"$f":"IF(DATA_INPUT!AR14<>\"\",DATA_INPUT!AR14,\"\")","v":""},{"$f":"IF(DATA_INPUT!AS14<>\"\",DATA_INPUT!AS14,\"\")","v":""},{"$f":"IF(DATA_INPUT!AT14<>\"\",DATA_INPUT!AT14,\"\")","v":""},{"$f":"IF(DATA_INPUT!AU14<>\"\",DATA_INPUT!AU14,\"\")","v":"SEE MAST ARM PROFILES FOR PLACEMENT"},{"$f":"IF(DATA_INPUT!AV14<>\"\",DATA_INPUT!AV14,\"\")","v":""},{"$f":"IF(DATA_INPUT!AW14<>\"\",DATA_INPUT!AW14,\"\")","v":""},{"$f":"IF(DATA_INPUT!AX14<>\"\",DATA_INPUT!AX14+Directions!$D$24-1,\"\")","v":1},{"$f":"IF(DATA_INPUT!AY14<>\"\",DATA_INPUT!AY14,\"\")","v":""},{"$f":"IF(DATA_INPUT!G14<>\"\",2,IF(DATA_INPUT!N14>2,2,IF(DATA_INPUT!N14=2,3,4)))","v":4},{"$f":"IF(OR(DATA_INPUT!S14<>\"\",DATA_INPUT!T14<>\"\"),H12,\"\")","v":1},{"$f":"IF(DATA_INPUT!T14<>\"\",\"X\",\"\")","v":""}]
[{"$f":"IF(DATA_INPUT!F15<>\"\",DATA_INPUT!F15,\"\")","v":""},{"$f":"IF(DATA_INPUT!G15<>\"\",DATA_INPUT!G15,\"\")","v":""},{"$f":"IF(DATA_INPUT!H15<>\"\",DATA_INPUT!H15,\"\")","v":"MAST ARM 2"},{"$f":"IF(DATA_INPUT!I15<>\"\",DATA_INPUT!I15,\"\")","v":""},{"$f":"IF(DATA_INPUT!J15<>\"\",DATA_INPUT!J15,\"\")","v":"D3-1A"},{"$f":"IF(DATA_INPUT!L15<>\"\",DATA_INPUT!L15,IF(DATA_INPUT!K15<>\"\",DATA_INPUT!K15,\"\"))","v":"US-7 / ROOSEVELT HWY"},{"$f":"IF(DATA_INPUT!O15<>\"\",DATA_INPUT!O15,\"\")","v":""},{"$f":"IF(DATA_INPUT!P15<>\"\",DATA_INPUT!P15,\"\")","v":1},{"$f":"IF(DATA_INPUT!Q15<>\"\",DATA_INPUT!Q15,\"\")","v":126},{"$f":"IF(DATA_INPUT!R15<>\"\",DATA_INPUT!R15,\"\")","v":24},{"$f":"IF(DATA_INPUT!S15<>\"\",IF(DATA_INPUT!AZ15<>\"\",DATA_INPUT!AZ15,H13*I13*J13/144)*IF(G13<>\"\",3/2,1),\"\")","v":21},{"$f":"IF(DATA_INPUT!T15<>\"\",IF(DATA_INPUT!AZ15<>\"\",DATA_INPUT!AZ15,H13*I13*J13/144)*IF(G13<>\"\",3/2,1),\"\")","v":""},{"$f":"IF(DATA_INPUT!U15<>\"\",$H13,\"\")","v":""},{"$f":"IF(DATA_INPUT!V15<>\"\",$H13,\"\")","v":""},{"$f":"IF(DATA_INPUT!W15<>\"\",$H13,\"\")","v":""},{"$f":"IF(DATA_INPUT!X15<>\"\",$H13,\"\")","v":""},{"$f":"IF(DATA_INPUT!Y15<>\"\",$H13,\"\")","v":""},{"$f":"IF(DATA_INPUT!Z15<>\"\",DATA_INPUT!Z15,\"\")","v":""},{"$f":"IF(DATA_INPUT!AA15<>\"\",DATA_INPUT!AA15,\"\")","v":""},{"$f":"IF(DATA_INPUT!AB15<>\"\",DATA_INPUT!AB15,\"\")","v":""},{"$f":"IF(DATA_INPUT!AC15<>\"\",DATA_INPUT!AC15,\"\")","v":""},{"$f":"IF(DATA_INPUT!AD15<>\"\",DATA_INPUT!AD15,\"\")","v":""},{"$f":"IF(DATA_INPUT!AE15<>\"\",$V13,\"\")","v":""},{"$f":"IF(DATA_INPUT!AF15<>\"\",$V13*8,\"\")","v":""},{"$f":"IF(DATA_INPUT!AG15<>\"\",$V13*15,\"\")","v":""},{"$f":"IF(DATA_INPUT!AH15<>\"\",$V13*15,\"\")","v":""},{"$f":"IF(DATA_INPUT!AI15<>\"\",$V13,\"\")","v":""},{"$f":"IF(DATA_INPUT!AJ15<>\"\",$V13,\"\")","v":""},{"$f":"IF(DATA_INPUT!AK15<>\"\",$V13,\"\")","v":""},{"$f":"IF(DATA_INPUT!AL15<>\"\",$V13*7.6*DATA_INPUT!AL15,\"\")","v":""},{"$f":"IF(DATA_INPUT!AM15<>\"\",$V13*9*DATA_INPUT!AM15,\"\")","v":""},{"$f":"IF(DATA_INPUT!AN15<>\"\",$V13*10.8*DATA_INPUT!AN15,\"\")","v":""},{"$f":"IF(DATA_INPUT!AO15<>\"\",$V13*14.6*DATA_INPUT!AO15,\"\")","v":""},{"$f":"IF(DATA_INPUT!AP15<>\"\",$V13,\"\")","v":""},{"$f":"IF(DATA_INPUT!AQ15<>\"\",$V13,\"\")","v":""},{"$f":"IF(DATA_INPUT!AR15<>\"\",DATA_INPUT!AR15,\"\")","v":""},{"$f":"IF(DATA_INPUT!AS15<>\"\",DATA_INPUT!AS15,\"\")","v":""},{"$f":"IF(DATA_INPUT!AT15<>\"\",DATA_INPUT!AT15,\"\")","v":""},{"$f":"IF(DATA_INPUT!AU15<>\"\",DATA_INPUT!AU15,\"\")","v":"SEE MAST ARM PROFILES FOR PLACEMENT"},{"$f":"IF(DATA_INPUT!AV15<>\"\",DATA_INPUT!AV15,\"\")","v":""},{"$f":"IF(DATA_INPUT!AW15<>\"\",DATA_INPUT!AW15,\"\")","v":"X"},{"$f":"IF(DATA_INPUT!AX15<>\"\",DATA_INPUT!AX15+Directions!$D$24-1,\"\")","v":1},{"$f":"IF(DATA_INPUT!AY15<>\"\",DATA_INPUT!AY15,\"\")","v":""},{"$f":"IF(DATA_INPUT!G15<>\"\",2,IF(DATA_INPUT!N15>2,2,IF(DATA_INPUT!N15=2,3,4)))","v":4},{"$f":"IF(OR(DATA_INPUT!S15<>\"\",DATA_INPUT!T15<>\"\"),H13,\"\")","v":1},{"$f":"IF(DATA_INPUT!T15<>\"\",\"X\",\"\")","v":""}]
[{"$f":"IF(DATA_INPUT!F16<>\"\",DATA_INPUT!F16,\"\")","v":""},{"$f":"IF(DATA_INPUT!G16<>\"\",DATA_INPUT!G16,\"\")","v":""},{"$f":"IF(DATA_INPUT!H16<>\"\",DATA_INPUT!H16,\"\")","v":""},{"$f":"IF(DATA_INPUT!I16<>\"\",DATA_INPUT!I16,\"\")","v":""},{"$f":"IF(DATA_INPUT!J16<>\"\",DATA_INPUT!J16,\"\")","v":"R10-101"},{"$f":"IF(DATA_INPUT!L16<>\"\",DATA_INPUT!L16,IF(DATA_INPUT!K16<>\"\",DATA_INPUT!K16,\"\"))","v":{"$error":"#VALUE!"}},{"$f":"IF(DATA_INPUT!O16<>\"\",DATA_INPUT!O16,\"\")","v":""},{"$f":"IF(DATA_INPUT!P16<>\"\",DATA_INPUT!P16,\"\")","v":1},{"$f":"IF(DATA_INPUT!Q16<>\"\",DATA_INPUT!Q16,\"\")","v":30},{"$f":"IF(DATA_INPUT!R16<>\"\",DATA_INPUT!R16,\"\")","v":36},{"$f":"IF(DATA_INPUT!S16<>\"\",IF(DATA_INPUT!AZ16<>\"\",DATA_INPUT!AZ16,H14*I14*J14/144)*IF(G14<>\"\",3/2,1),\"\")","v":7.5},{"$f":"IF(DATA_INPUT!T16<>\"\",IF(DATA_INPUT!AZ16<>\"\",DATA_INPUT!AZ16,H14*I14*J14/144)*IF(G14<>\"\",3/2,1),\"\")","v":""},{"$f":"IF(DATA_INPUT!U16<>\"\",$H14,\"\")","v":""},{"$f":"IF(DATA_INPUT!V16<>\"\",$H14,\"\")","v":""},{"$f":"IF(DATA_INPUT!W16<>\"\",$H14,\"\")","v":""},{"$f":"IF(DATA_INPUT!X16<>\"\",$H14,\"\")","v":""},{"$f":"IF(DATA_INPUT!Y16<>\"\",$H14,\"\")","v":""},{"$f":"IF(DATA_INPUT!Z16<>\"\",DATA_INPUT!Z16,\"\")","v":""},{"$f":"IF(DATA_INPUT!AA16<>\"\",DATA_INPUT!AA16,\"\")","v":""},{"$f":"IF(DATA_INPUT!AB16<>\"\",DATA_INPUT!AB16,\"\")","v":""},{"$f":"IF(DATA_INPUT!AC16<>\"\",DATA_INPUT!AC16,\"\")","v":""},{"$f":"IF(DATA_INPUT!AD16<>\"\",DATA_INPUT!AD16,\"\")","v":""},{"$f":"IF(DATA_INPUT!AE16<>\"\",$V14,\"\")","v":""},{"$f":"IF(DATA_INPUT!AF16<>\"\",$V14*8,\"\")","v":""},{"$f":"IF(DATA_INPUT!AG16<>\"\",$V14*15,\"\")","v":""},{"$f":"IF(DATA_INPUT!AH16<>\"\",$V14*15,\"\")","v":""},{"$f":"IF(DATA_INPUT!AI16<>\"\",$V14,\"\")","v":""},{"$f":"IF(DATA_INPUT!AJ16<>\"\",$V14,\"\")","v":""},{"$f":"IF(DATA_INPUT!AK16<>\"\",$V14,\"\")","v":""},{"$f":"IF(DATA_INPUT!AL16<>\"\",$V14*7.6*DATA_INPUT!AL16,\"\")","v":""},{"$f":"IF(DATA_INPUT!AM16<>\"\",$V14*9*DATA_INPUT!AM16,\"\")","v":""},{"$f":"IF(DATA_INPUT!AN16<>\"\",$V14*10.8*DATA_INPUT!AN16,\"\")","v":""},{"$f":"IF(DATA_INPUT!AO16<>\"\",$V14*14.6*DATA_INPUT!AO16,\"\")","v":""},{"$f":"IF(DATA_INPUT!AP16<>\"\",$V14,\"\")","v":""},{"$f":"IF(DATA_INPUT!AQ16<>\"\",$V14,\"\")","v":""},{"$f":"IF(DATA_INPUT!AR16<>\"\",DATA_INPUT!AR16,\"\")","v":""},{"$f":"IF(DATA_INPUT!AS16<>\"\",DATA_INPUT!AS16,\"\")","v":""},{"$f":"IF(DATA_INPUT!AT16<>\"\",DATA_INPUT!AT16,\"\")","v":""},{"$f":"IF(DATA_INPUT!AU16<>\"\",DATA_INPUT!AU16,\"\")","v":"SEE MAST ARM PROFILES FOR PLACEMENT"},{"$f":"IF(DATA_INPUT!AV16<>\"\",DATA_INPUT!AV16,\"\")","v":""},{"$f":"IF(DATA_INPUT!AW16<>\"\",DATA_INPUT!AW16,\"\")","v":""},{"$f":"IF(DATA_INPUT!AX16<>\"\",DATA_INPUT!AX16+Directions!$D$24-1,\"\")","v":1},{"$f":"IF(DATA_INPUT!AY16<>\"\",DATA_INPUT!AY16,\"\")","v":""},{"$f":"IF(DATA_INPUT!G16<>\"\",2,IF(DATA_INPUT!N16>2,2,IF(DATA_INPUT!N16=2,3,4)))","v":4},{"$f":"IF(OR(DATA_INPUT!S16<>\"\",DATA_INPUT!T16<>\"\"),H14,\"\")","v":1},{"$f":"IF(DATA_INPUT!T16<>\"\",\"X\",\"\")","v":""}]
[{"$f":"IF(DATA_INPUT!F17<>\"\",DATA_INPUT!F17,\"\")","v":""},{"$f":"IF(DATA_INPUT!G17<>\"\",DATA_INPUT!G17,\"\")","v":""},{"$f":"IF(DATA_INPUT!H17<>\"\",DATA_INPUT!H17,\"\")","v":""},{"$f":"IF(DATA_INPUT!I17<>\"\",DATA_INPUT!I17,\"\")","v":""},{"$f":"IF(DATA_INPUT!J17<>\"\",DATA_INPUT!J17,\"\")","v":"R10-10R"},{"$f":"IF(DATA_INPUT!L17<>\"\",DATA_INPUT!L17,IF(DATA_INPUT!K17<>\"\",DATA_INPUT!K17,\"\"))","v":{"$error":"#VALUE!"}},{"$f":"IF(DATA_INPUT!O17<>\"\",DATA_INPUT!O17,\"\")","v":""},{"$f":"IF(DATA_INPUT!P17<>\"\",DATA_INPUT!P17,\"\")","v":1},{"$f":"IF(DATA_INPUT!Q17<>\"\",DATA_INPUT!Q17,\"\")","v":24},{"$f":"IF(DATA_INPUT!R17<>\"\",DATA_INPUT!R17,\"\")","v":30},{"$f":"IF(DATA_INPUT!S17<>\"\",IF(DATA_INPUT!AZ17<>\"\",DATA_INPUT!AZ17,H15*I15*J15/144)*IF(G15<>\"\",3/2,1),\"\")","v":5},{"$f":"IF(DATA_INPUT!T17<>\"\",IF(DATA_INPUT!AZ17<>\"\",DATA_INPUT!AZ17,H15*I15*J15/144)*IF(G15<>\"\",3/2,1),\"\")","v":""},{"$f":"IF(DATA_INPUT!U17<>\"\",$H15,\"\")","v":""},{"$f":"IF(DATA_INPUT!V17<>\"\",$H15,\"\")","v":""},{"$f":"IF(DATA_INPUT!W17<>\"\",$H15,\"\")","v":""},{"$f":"IF(DATA_INPUT!X17<>\"\",$H15,\"\")","v":""},{"$f":"IF(DATA_INPUT!Y17<>\"\",$H15,\"\")","v":""},{"$f":"IF(DATA_INPUT!Z17<>\"\",DATA_INPUT!Z17,\"\")","v":""},{"$f":"IF(DATA_INPUT!AA17<>\"\",DATA_INPUT!AA17,\"\")","v":""},{"$f":"IF(DATA_INPUT!AB17<>\"\",DATA_INPUT!AB17,\"\")","v":""},{"$f":"IF(DATA_INPUT!AC17<>\"\",DATA_INPUT!AC17,\"\")","v":""},{"$f":"IF(DATA_INPUT!AD17<>\"\",DATA_INPUT!AD17,\"\")","v":""},{"$f":"IF(DATA_INPUT!AE17<>\"\",$V15,\"\")","v":""},{"$f":"IF(DATA_INPUT!AF17<>\"\",$V15*8,\"\")","v":""},{"$f":"IF(DATA_INPUT!AG17<>\"\",$V15*15,\"\")","v":""},{"$f":"IF(DATA_INPUT!AH17<>\"\",$V15*15,\"\")","v":""},{"$f":"IF(DATA_INPUT!AI17<>\"\",$V15,\"\")","v":""},{"$f":"IF(DATA_INPUT!AJ17<>\"\",$V15,\"\")","v":""},{"$f":"IF(DATA_INPUT!AK17<>\"\",$V15,\"\")","v":""},{"$f":"IF(DATA_INPUT!AL17<>\"\",$V15*7.6*DATA_INPUT!AL17,\"\")","v":""},{"$f":"IF(DATA_INPUT!AM17<>\"\",$V15*9*DATA_INPUT!AM17,\"\")","v":""},{"$f":"IF(DATA_INPUT!AN17<>\"\",$V15*10.8*DATA_INPUT!AN17,\"\")","v":""},{"$f":"IF(DATA_INPUT!AO17<>\"\",$V15*14.6*DATA_INPUT!AO17,\"\")","v":""},{"$f":"IF(DATA_INPUT!AP17<>\"\",$V15,\"\")","v":""},{"$f":"IF(DATA_INPUT!AQ17<>\"\",$V15,\"\")","v":""},{"$f":"IF(DATA_INPUT!AR17<>\"\",DATA_INPUT!AR17,\"\")","v":""},{"$f":"IF(DATA_INPUT!AS17<>\"\",DATA_INPUT!AS17,\"\")","v":""},{"$f":"IF(DATA_INPUT!AT17<>\"\",DATA_INPUT!AT17,\"\")","v":""},{"$f":"IF(DATA_INPUT!AU17<>\"\",DATA_INPUT!AU17,\"\")","v":"SEE MAST ARM PROFILES FOR PLACEMENT"},{"$f":"IF(DATA_INPUT!AV17<>\"\",DATA_INPUT!AV17,\"\")","v":""},{"$f":"IF(DATA_INPUT!AW17<>\"\",DATA_INPUT!AW17,\"\")","v":"X"},{"$f":"IF(DATA_INPUT!AX17<>\"\",DATA_INPUT!AX17+Directions!$D$24-1,\"\")","v":""},{"$f":"IF(DATA_INPUT!AY17<>\"\",DATA_INPUT!AY17,\"\")","v":""},{"$f":"IF(DATA_INPUT!G17<>\"\",2,IF(DATA_INPUT!N17>2,2,IF(DATA_INPUT!N17=2,3,4)))","v":4},{"$f":"IF(OR(DATA_INPUT!S17<>\"\",DATA_INPUT!T17<>\"\"),H15,\"\")","v":1},{"$f":"IF(DATA_INPUT!T17<>\"\",\"X\",\"\")","v":""}]
[{"$f":"IF(DATA_INPUT!F18<>\"\",DATA_INPUT!F18,\"\")","v":""},{"$f":"IF(DATA_INPUT!G18<>\"\",DATA_INPUT!G18,\"\")","v":""},{"$f":"IF(DATA_INPUT!H18<>\"\",DATA_INPUT!H18,\"\")","v":"MAST ARM 3"},{"$f":"IF(DATA_INPUT!I18<>\"\",DATA_INPUT!I18,\"\")","v":""},{"$f":"IF(DATA_INPUT!J18<>\"\",DATA_INPUT!J18,\"\")","v":"D3-1"},{"$f":"IF(DATA_INPUT!L18<>\"\",DATA_INPUT!L18,IF(DATA_INPUT!K18<>\"\",DATA_INPUT!K18,\"\"))","v":"SEVERANCE RD"},{"$f":"IF(DATA_INPUT!O18<>\"\",DATA_INPUT!O18,\"\")","v":""},{"$f":"IF(DATA_INPUT!P18<>\"\",DATA_INPUT!P18,\"\")","v":2},{"$f":"IF(DATA_INPUT!Q18<>\"\",DATA_INPUT!Q18,\"\")","v":114},{"$f":"IF(DATA_INPUT!R18<>\"\",DATA_INPUT!R18,\"\")","v":24},{"$f":"IF(DATA_INPUT!S18<>\"\",IF(DATA_INPUT!AZ18<>\"\",DATA_INPUT!AZ18,H16*I16*J16/144)*IF(G16<>\"\",3/2,1),\"\")","v":38},{"$f":"IF(DATA_INPUT!T18<>\"\",IF(DATA_INPUT!AZ18<>\"\",DATA_INPUT!AZ18,H16*I16*J16/144)*IF(G16<>\"\",3/2,1),\"\")","v":""},{"$f":"IF(DATA_INPUT!U18<>\"\",$H16,\"\")","v":""},{"$f":"IF(DATA_INPUT!V18<>\"\",$H16,\"\")","v":""},{"$f":"IF(DATA_INPUT!W18<>\"\",$H16,\"\")","v":""},{"$f":"IF(DATA_INPUT!X18<>\"\",$H16,\"\")","v":""},{"$f":"IF(DATA_INPUT!Y18<>\"\",$H16,\"\")","v":""},{"$f":"IF(DATA_INPUT!Z18<>\"\",DATA_INPUT!Z18,\"\")","v":""},{"$f":"IF(DATA_INPUT!AA18<>\"\",DATA_INPUT!AA18,\"\")","v":""},{"$f":"IF(DATA_INPUT!AB18<>\"\",DATA_INPUT!AB18,\"\")","v":""},{"$f":"IF(DATA_INPUT!AC18<>\"\",DATA_INPUT!AC18,\"\")","v":""},{"$f":"IF(DATA_INPUT!AD18<>\"\",DATA_INPUT!AD18,\"\")","v":""},{"$f":"IF(DATA_INPUT!AE18<>\"\",$V16,\"\")","v":""},{"$f":"IF(DATA_INPUT!AF18<>\"\",$V16*8,\"\")","v":""},{"$f":"IF(DATA_INPUT!AG18<>\"\",$V16*15,\"\")","v":""},{"$f":"IF(DATA_INPUT!AH18<>\"\",$V16*15,\"\")","v":""},{"$f":"IF(DATA_INPUT!AI18<>\"\",$V16,\"\")","v":""},{"$f":"IF(DATA_INPUT!AJ18<>\"\",$V16,\"\")","v":""},{"$f":"IF(DATA_INPUT!AK18<>\"\",$V16,\"\")","v":""},{"$f":"IF(DATA_INPUT!AL18<>\"\",$V16*7.6*DATA_INPUT!AL18,\"\")","v":""},{"$f":"IF(DATA_INPUT!AM18<>\"\",$V16*9*DATA_INPUT!AM18,\"\")","v":""},{"$f":"IF(DATA_INPUT!AN18<>\"\",$V16*10.8*DATA_INPUT!AN18,\"\")","v":""},{"$f":"IF(DATA_INPUT!AO18<>\"\",$V16*14.6*DATA_INPUT!AO18,\"\")","v":""},{"$f":"IF(DATA_INPUT!AP18<>\"\",$V16,\"\")","v":""},{"$f":"IF(DATA_INPUT!AQ18<>\"\",$V16,\"\")","v":""},{"$f":"IF(DATA_INPUT!AR18<>\"\",DATA_INPUT!AR18,\"\")","v":""},{"$f":"IF(DATA_INPUT!AS18<>\"\",DATA_INPUT!AS18,\"\")","v":""},{"$f":"IF(DATA_INPUT!AT18<>\"\",DATA_INPUT!AT18,\"\")","v":""},{"$f":"IF(DATA_INPUT!AU18<>\"\",DATA_INPUT!AU18,\"\")","v":"SEE MAST ARM PROFILES FOR PLACEMENT"},{"$f":"IF(DATA_INPUT!AV18<>\"\",DATA_INPUT!AV18,\"\")","v":""},{"$f":"IF(DATA_INPUT!AW18<>\"\",DATA_INPUT!AW18,\"\")","v":"X"},{"$f":"IF(DATA_INPUT!AX18<>\"\",DATA_INPUT!AX18+Directions!$D$24-1,\"\")","v":1},{"$f":"IF(DATA_INPUT!AY18<>\"\",DATA_INPUT!AY18,\"\")","v":""},{"$f":"IF(DATA_INPUT!G18<>\"\",2,IF(DATA_INPUT!N18>2,2,IF(DATA_INPUT!N18=2,3,4)))","v":4},{"$f":"IF(OR(DATA_INPUT!S18<>\"\",DATA_INPUT!T18<>\"\"),H16,\"\")","v":2},{"$f":"IF(DATA_INPUT!T18<>\"\",\"X\",\"\")","v":""}]
[{"$f":"IF(DATA_INPUT!F19<>\"\",DATA_INPUT!F19,\"\")","v":""},{"$f":"IF(DATA_INPUT!G19<>\"\",DATA_INPUT!G19,\"\")","v":""},{"$f":"IF(DATA_INPUT!H19<>\"\",DATA_INPUT!H19,\"\")","v":""},{"$f":"IF(DATA_INPUT!I19<>\"\",DATA_INPUT!I19,\"\")","v":""},{"$f":"IF(DATA_INPUT!J19<>\"\",DATA_INPUT!J19,\"\")","v":"R10-10R"},{"$f":"IF(DATA_INPUT!L19<>\"\",DATA_INPUT!L19,IF(DATA_INPUT!K19<>\"\",DATA_INPUT!K19,\"\"))","v":{"$error":"#VALUE!"}},{"$f":"IF(DATA_INPUT!O19<>\"\",DATA_INPUT!O19,\"\")","v":""},{"$f":"IF(DATA_INPUT!P19<>\"\",DATA_INPUT!P19,\"\")","v":1},{"$f":"IF(DATA_INPUT!Q19<>\"\",DATA_INPUT!Q19,\"\")","v":24},{"$f":"IF(DATA_INPUT!R19<>\"\",DATA_INPUT!R19,\"\")","v":30},{"$f":"IF(DATA_INPUT!S19<>\"\",IF(DATA_INPUT!AZ19<>\"\",DATA_INPUT!AZ19,H17*I17*J17/144)*IF(G17<>\"\",3/2,1),\"\")","v":5},{"$f":"IF(DATA_INPUT!T19<>\"\",IF(DATA_INPUT!AZ19<>\"\",DATA_INPUT!AZ19,H17*I17*J17/144)*IF(G17<>\"\",3/2,1),\"\")","v":""},{"$f":"IF(DATA_INPUT!U19<>\"\",$H17,\"\")","v":""},{"$f":"IF(DATA_INPUT!V19<>\"\",$H17,\"\")","v":""},{"$f":"IF(DATA_INPUT!W19<>\"\",$H17,\"\")","v":""},{"$f":"IF(DATA_INPUT!X19<>\"\",$H17,\"\")","v":""},{"$f":"IF(DATA_INPUT!Y19<>\"\",$H17,\"\")","v":""},{"$f":"IF(DATA_INPUT!Z19<>\"\",DATA_INPUT!Z19,\"\")","v":""},{"$f":"IF(DATA_INPUT!AA19<>\"\",DATA_INPUT!AA19,\"\")","v":""},{"$f":"IF(DATA_INPUT!AB19<>\"\",DATA_INPUT!AB19,\"\")","v":""},{"$f":"IF(DATA_INPUT!AC19<>\"\",DATA_INPUT!AC19,\"\")","v":""},{"$f":"IF(DATA_INPUT!AD19<>\"\",DATA_INPUT!AD19,\"\")","v":""},{"$f":"IF(DATA_INPUT!AE19<>\"\",$V17,\"\")","v":""},{"$f":"IF(DATA_INPUT!AF19<>\"\",$V17*8,\"\")","v":""},{"$f":"IF(DATA_INPUT!AG19<>\"\",$V17*15,\"\")","v":""},{"$f":"IF(DATA_INPUT!AH19<>\"\",$V17*15,\"\")","v":""},{"$f":"IF(DATA_INPUT!AI19<>\"\",$V17,\"\")","v":""},{"$f":"IF(DATA_INPUT!AJ19<>\"\",$V17,\"\")","v":""},{"$f":"IF(DATA_INPUT!AK19<>\"\",$V17,\"\")","v":""},{"$f":"IF(DATA_INPUT!AL19<>\"\",$V17*7.6*DATA_INPUT!AL19,\"\")","v":""},{"$f":"IF(DATA_INPUT!AM19<>\"\",$V17*9*DATA_INPUT!AM19,\"\")","v":""},{"$f":"IF(DATA_INPUT!AN19<>\"\",$V17*10.8*DATA_INPUT!AN19,\"\")","v":""},{"$f":"IF(DATA_INPUT!AO19<>\"\",$V17*14.6*DATA_INPUT!AO19,\"\")","v":""},{"$f":"IF(DATA_INPUT!AP19<>\"\",$V17,\"\")","v":""},{"$f":"IF(DATA_INPUT!AQ19<>\"\",$V17,\"\")","v":""},{"$f":"IF(DATA_INPUT!AR19<>\"\",DATA_INPUT!AR19,\"\")","v":""},{"$f":"IF(DATA_INPUT!AS19<>\"\",DATA_INPUT!AS19,\"\")","v":""},{"$f":"IF(DATA_INPUT!AT19<>\"\",DATA_INPUT!AT19,\"\")","v":""},{"$f":"IF(DATA_INPUT!AU19<>\"\",DATA_INPUT!AU19,\"\")","v":"SEE MAST ARM PROFILES FOR PLACEMENT"},{"$f":"IF(DATA_INPUT!AV19<>\"\",DATA_INPUT!AV19,\"\")","v":""},{"$f":"IF(DATA_INPUT!AW19<>\"\",DATA_INPUT!AW19,\"\")","v":"X"},{"$f":"IF(DATA_INPUT!AX19<>\"\",DATA_INPUT!AX19+Directions!$D$24-1,\"\")","v":""},{"$f":"IF(DATA_INPUT!AY19<>\"\",DATA_INPUT!AY19,\"\")","v":""},{"$f":"IF(DATA_INPUT!G19<>\"\",2,IF(DATA_INPUT!N19>2,2,IF(DATA_INPUT!N19=2,3,4)))","v":4},{"$f":"IF(OR(DATA_INPUT!S19<>\"\",DATA_INPUT!T19<>\"\"),H17,\"\")","v":1},{"$f":"IF(DATA_INPUT!T19<>\"\",\"X\",\"\")","v":""}]
[{"$f":"IF(DATA_INPUT!F20<>\"\",DATA_INPUT!F20,\"\")","v":""},{"$f":"IF(DATA_INPUT!G20<>\"\",DATA_INPUT!G20,\"\")","v":""},{"$f":"IF(DATA_INPUT!H20<>\"\",DATA_INPUT!H20,\"\")","v":"MAST ARM 4"},{"$f":"IF(DATA_INPUT!I20<>\"\",DATA_INPUT!I20,\"\")","v":""},{"$f":"IF(DATA_INPUT!J20<>\"\",DATA_INPUT!J20,\"\")","v":"D3-1A"},{"$f":"IF(DATA_INPUT!L20<>\"\",DATA_INPUT!L20,IF(DATA_INPUT!K20<>\"\",DATA_INPUT!K20,\"\"))","v":"US-7 / ROOSEVELT HWY"},{"$f":"IF(DATA_INPUT!O20<>\"\",DATA_INPUT!O20,\"\")","v":""},{"$f":"IF(DATA_INPUT!P20<>\"\",DATA_INPUT!P20,\"\")","v":1},{"$f":"IF(DATA_INPUT!Q20<>\"\",DATA_INPUT!Q20,\"\")","v":126},{"$f":"IF(DATA_INPUT!R20<>\"\",DATA_INPUT!R20,\"\")","v":24},{"$f":"IF(DATA_INPUT!S20<>\"\",IF(DATA_INPUT!AZ20<>\"\",DATA_INPUT!AZ20,H18*I18*J18/144)*IF(G18<>\"\",3/2,1),\"\")","v":21},{"$f":"IF(DATA_INPUT!T20<>\"\",IF(DATA_INPUT!AZ20<>\"\",DATA_INPUT!AZ20,H18*I18*J18/144)*IF(G18<>\"\",3/2,1),\"\")","v":""},{"$f":"IF(DATA_INPUT!U20<>\"\",$H18,\"\")","v":""},{"$f":"IF(DATA_INPUT!V20<>\"\",$H18,\"\")","v":""},{"$f":"IF(DATA_INPUT!W20<>\"\",$H18,\"\")","v":""},{"$f":"IF(DATA_INPUT!X20<>\"\",$H18,\"\")","v":""},{"$f":"IF(DATA_INPUT!Y20<>\"\",$H18,\"\")","v":""},{"$f":"IF(DATA_INPUT!Z20<>\"\",DATA_INPUT!Z20,\"\")","v":""},{"$f":"IF(DATA_INPUT!AA20<>\"\",DATA_INPUT!AA20,\"\")","v":""},{"$f":"IF(DATA_INPUT!AB20<>\"\",DATA_INPUT!AB20,\"\")","v":""},{"$f":"IF(DATA_INPUT!AC20<>\"\",DATA_INPUT!AC20,\"\")","v":""},{"$f":"IF(DATA_INPUT!AD20<>\"\",DATA_INPUT!AD20,\"\")","v":""},{"$f":"IF(DATA_INPUT!AE20<>\"\",$V18,\"\")","v":""},{"$f":"IF(DATA_INPUT!AF20<>\"\",$V18*8,\"\")","v":""},{"$f":"IF(DATA_INPUT!AG20<>\"\",$V18*15,\"\")","v":""},{"$f":"IF(DATA_INPUT!AH20<>\"\",$V18*15,\"\")","v":""},{"$f":"IF(DATA_INPUT!AI20<>\"\",$V18,\"\")","v":""},{"$f":"IF(DATA_INPUT!AJ20<>\"\",$V18,\"\")","v":""},{"$f":"IF(DATA_INPUT!AK20<>\"\",$V18,\"\")","v":""},{"$f":"IF(DATA_INPUT!AL20<>\"\",$V18*7.6*DATA_INPUT!AL20,\"\")","v":""},{"$f":"IF(DATA_INPUT!AM20<>\"\",$V18*9*DATA_INPUT!AM20,\"\")","v":""},{"$f":"IF(DATA_INPUT!AN20<>\"\",$V18*10.8*DATA_INPUT!AN20,\"\")","v":""},{"$f":"IF(DATA_INPUT!AO20<>\"\",$V18*14.6*DATA_INPUT!AO20,\"\")","v":""},{"$f":"IF(DATA_INPUT!AP20<>\"\",$V18,\"\")","v":""},{"$f":"IF(DATA_INPUT!AQ20<>\"\",$V18,\"\")","v":""},{"$f":"IF(DATA_INPUT!AR20<>\"\",DATA_INPUT!AR20,\"\")","v":""},{"$f":"IF(DATA_INPUT!AS20<>\"\",DATA_INPUT!AS20,\"\")","v":""},{"$f":"IF(DATA_INPUT!AT20<>\"\",DATA_INPUT!AT20,\"\")","v":""},{"$f":"IF(DATA_INPUT!AU20<>\"\",DATA_INPUT!AU20,\"\")","v":"SEE MAST ARM PROFILES FOR PLACEMENT"},{"$f":"IF(DATA_INPUT!AV20<>\"\",DATA_INPUT!AV20,\"\")","v":""},{"$f":"IF(DATA_INPUT!AW20<>\"\",DATA_INPUT!AW20,\"\")","v":"X"},{"$f":"IF(DATA_INPUT!AX20<>\"\",DATA_INPUT!AX20+Directions!$D$24-1,\"\")","v":1},{"$f":"IF(DATA_INPUT!AY20<>\"\",DATA_INPUT!AY20,\"\")","v":""},{"$f":"IF(DATA_INPUT!G20<>\"\",2,IF(DATA_INPUT!N20>2,2,IF(DATA_INPUT!N20=2,3,4)))","v":4},{"$f":"IF(OR(DATA_INPUT!S20<>\"\",DATA_INPUT!T20<>\"\"),H18,\"\")","v":1},{"$f":"IF(DATA_INPUT!T20<>\"\",\"X\",\"\")","v":""}]
[{"$f":"IF(DATA_INPUT!F21<>\"\",DATA_INPUT!F21,\"\")","v":""},{"$f":"IF(DATA_INPUT!G21<>\"\",DATA_INPUT!G21,\"\")","v":""},{"$f":"IF(DATA_INPUT!H21<>\"\",DATA_INPUT!H21,\"\")","v":""},{"$f":"IF(DATA_INPUT!I21<>\"\",DATA_INPUT!I21,\"\")","v":""},{"$f":"IF(DATA_INPUT!J21<>\"\",DATA_INPUT!J21,\"\")","v":"R10-10R"},{"$f":"IF(DATA_INPUT!L21<>\"\",DATA_INPUT!L21,IF(DATA_INPUT!K21<>\"\",DATA_INPUT!K21,\"\"))","v":{"$error":"#VALUE!"}},{"$f":"IF(DATA_INPUT!O21<>\"\",DATA_INPUT!O21,\"\")","v":""},{"$f":"IF(DATA_INPUT!P21<>\"\",DATA_INPUT!P21,\"\")","v":1},{"$f":"IF(DATA_INPUT!Q21<>\"\",DATA_INPUT!Q21,\"\")","v":24},{"$f":"IF(DATA_INPUT!R21<>\"\",DATA_INPUT!R21,\"\")","v":30},{"$f":"IF(DATA_INPUT!S21<>\"\",IF(DATA_INPUT!AZ21<>\"\",DATA_INPUT!AZ21,H19*I19*J19/144)*IF(G19<>\"\",3/2,1),\"\")","v":5},{"$f":"IF(DATA_INPUT!T21<>\"\",IF(DATA_INPUT!AZ21<>\"\",DATA_INPUT!AZ21,H19*I19*J19/144)*IF(G19<>\"\",3/2,1),\"\")","v":""},{"$f":"IF(DATA_INPUT!U21<>\"\",$H19,\"\")","v":""},{"$f":"IF(DATA_INPUT!V21<>\"\",$H19,\"\")","v":""},{"$f":"IF(DATA_INPUT!W21<>\"\",$H19,\"\")","v":""},{"$f":"IF(DATA_INPUT!X21<>\"\",$H19,\"\")","v":""},{"$f":"IF(DATA_INPUT!Y21<>\"\",$H19,\"\")","v":""},{"$f":"IF(DATA_INPUT!Z21<>\"\",DATA_INPUT!Z21,\"\")","v":""},{"$f":"IF(DATA_INPUT!AA21<>\"\",DATA_INPUT!AA21,\"\")","v":""},{"$f":"IF(DATA_INPUT!AB21<>\"\",DATA_INPUT!AB21,\"\")","v":""},{"$f":"IF(DATA_INPUT!AC21<>\"\",DATA_INPUT!AC21,\"\")","v":""},{"$f":"IF(DATA_INPUT!AD21<>\"\",DATA_INPUT!AD21,\"\")","v":""},{"$f":"IF(DATA_INPUT!AE21<>\"\",$V19,\"\")","v":""},{"$f":"IF(DATA_INPUT!AF21<>\"\",$V19*8,\"\")","v":""},{"$f":"IF(DATA_INPUT!AG21<>\"\",$V19*15,\"\")","v":""},{"$f":"IF(DATA_INPUT!AH21<>\"\",$V19*15,\"\")","v":""},{"$f":"IF(DATA_INPUT!AI21<>\"\",$V19,\"\")","v":""},{"$f":"IF(DATA_INPUT!AJ21<>\"\",$V19,\"\")","v":""},{"$f":"IF(DATA_INPUT!AK21<>\"\",$V19,\"\")","v":""},{"$f":"IF(DATA_INPUT!AL21<>\"\",$V19*7.6*DATA_INPUT!AL21,\"\")","v":""},{"$f":"IF(DATA_INPUT!AM21<>\"\",$V19*9*DATA_INPUT!AM21,\"\")","v":""},{"$f":"IF(DATA_INPUT!AN21<>\"\",$V19*10.8*DATA_INPUT!AN21,\"\")","v":""},{"$f":"IF(DATA_INPUT!AO21<>\"\",$V19*14.6*DATA_INPUT!AO21,\"\")","v":""},{"$f":"IF(DATA_INPUT!AP21<>\"\",$V19,\"\")","v":""},{"$f":"IF(DATA_INPUT!AQ21<>\"\",$V19,\"\")","v":""},{"$f":"IF(DATA_INPUT!AR21<>\"\",DATA_INPUT!AR21,\"\")","v":""},{"$f":"IF(DATA_INPUT!AS21<>\"\",DATA_INPUT!AS21,\"\")","v":""},{"$f":"IF(DATA_INPUT!AT21<>\"\",DATA_INPUT!AT21,\"\")","v":""},{"$f":"IF(DATA_INPUT!AU21<>\"\",DATA_INPUT!AU21,\"\")","v":"SEE MAST ARM PROFILES FOR PLACEMENT"},{"$f":"IF(DATA_INPUT!AV21<>\"\",DATA_INPUT!AV21,\"\")","v":""},{"$f":"IF(DATA_INPUT!AW21<>\"\",DATA_INPUT!AW21,\"\")","v":"X"},{"$f":"IF(DATA_INPUT!AX21<>\"\",DATA_INPUT!AX21+Directions!$D$24-1,\"\")","v":""},{"$f":"IF(DATA_INPUT!AY21<>\"\",DATA_INPUT!AY21,\"\")","v":""},{"$f":"IF(DATA_INPUT!G21<>\"\",2,IF(DATA_INPUT!N21>2,2,IF(DATA_INPUT!N21=2,3,4)))","v":4},{"$f":"IF(OR(DATA_INPUT!S21<>\"\",DATA_INPUT!T21<>\"\"),H19,\"\")","v":1},{"$f":"IF(DATA_INPUT!T21<>\"\",\"X\",\"\")","v":""}]
[{"$f":"IF(DATA_INPUT!F22<>\"\",DATA_INPUT!F22,\"\")","v":""},{"$f":"IF(DATA_INPUT!G22<>\"\",DATA_INPUT!G22,\"\")","v":"PED/BIKE SIGNAL POLES"},{"$f":"IF(DATA_INPUT!H22<>\"\",DATA_INPUT!H22,\"\")","v":""},{"$f":"IF(DATA_INPUT!I22<>\"\",DATA_INPUT!I22,\"\")","v":""},{"$f":"IF(DATA_INPUT!J22<>\"\",DATA_INPUT!J22,\"\")","v":""},{"$f":"IF(DATA_INPUT!L22<>\"\",DATA_INPUT!L22,IF(DATA_INPUT!K22<>\"\",DATA_INPUT!K22,\"\"))","v":""},{"$f":"IF(DATA_INPUT!O22<>\"\",DATA_INPUT!O22,\"\")","v":""},{"$f":"IF(DATA_INPUT!P22<>\"\",DATA_INPUT!P22,\"\")","v":""},{"$f":"IF(DATA_INPUT!Q22<>\"\",DATA_INPUT!Q22,\"\")","v":""},{"$f":"IF(DATA_INPUT!R22<>\"\",DATA_INPUT!R22,\"\")","v":""},{"$f":"IF(DATA_INPUT!S22<>\"\",IF(DATA_INPUT!AZ22<>\"\",DATA_INPUT!AZ22,H20*I20*J20/144)*IF(G20<>\"\",3/2,1),\"\")","v":""},{"$f":"IF(DATA_INPUT!T22<>\"\",IF(DATA_INPUT!AZ22<>\"\",DATA_INPUT!AZ22,H20*I20*J20/144)*IF(G20<>\"\",3/2,1),\"\")","v":""},{"$f":"IF(DATA_INPUT!U22<>\"\",$H20,\"\")","v":""},{"$f":"IF(DATA_INPUT!V22<>\"\",$H20,\"\")","v":""},{"$f":"IF(DATA_INPUT!W22<>\"\",$H20,\"\")","v":""},{"$f":"IF(DATA_INPUT!X22<>\"\",$H20,\"\")","v":""},{"$f":"IF(DATA_INPUT!Y22<>\"\",$H20,\"\")","v":""},{"$f":"IF(DATA_INPUT!Z22<>\"\",DATA_INPUT!Z22,\"\")","v":""},{"$f":"IF(DATA_INPUT!AA22<>\"\",DATA_INPUT!AA22,\"\")","v":""},{"$f":"IF(DATA_INPUT!AB22<>\"\",DATA_INPUT!AB22,\"\")","v":""},{"$f":"IF(DATA_INPUT!AC22<>\"\",DATA_INPUT!AC22,\"\")","v":""},{"$f":"IF(DATA_INPUT!AD22<>\"\",DATA_INPUT!AD22,\"\")","v":""},{"$f":"IF(DATA_INPUT!AE22<>\"\",$V20,\"\")","v":""},{"$f":"IF(DATA_INPUT!AF22<>\"\",$V20*8,\"\")","v":""},{"$f":"IF(DATA_INPUT!AG22<>\"\",$V20*15,\"\")","v":""},{"$f":"IF(DATA_INPUT!AH22<>\"\",$V20*15,\"\")","v":""},{"$f":"IF(DATA_INPUT!AI22<>\"\",$V20,\"\")","v":""},{"$f":"IF(DATA_INPUT!AJ22<>\"\",$V20,\"\")","v":""},{"$f":"IF(DATA_INPUT!AK22<>\"\",$V20,\"\")","v":""},{"$f":"IF(DATA_INPUT!AL22<>\"\",$V20*7.6*DATA_INPUT!AL22,\"\")","v":""},{"$f":"IF(DATA_INPUT!AM22<>\"\",$V20*9*DATA_INPUT!AM22,\"\")","v":""},{"$f":"IF(DATA_INPUT!AN22<>\"\",$V20*10.8*DATA_INPUT!AN22,\"\")","v":""},{"$f":"IF(DATA_INPUT!AO22<>\"\",$V20*14.6*DATA_INPUT!AO22,\"\")","v":""},{"$f":"IF(DATA_INPUT!AP22<>\"\",$V20,\"\")","v":""},{"$f":"IF(DATA_INPUT!AQ22<>\"\",$V20,\"\")","v":""},{"$f":"IF(DATA_INPUT!AR22<>\"\",DATA_INPUT!AR22,\"\")","v":""},{"$f":"IF(DATA_INPUT!AS22<>\"\",DATA_INPUT!AS22,\"\")","v":""},{"$f":"IF(DATA_INPUT!AT22<>\"\",DATA_INPUT!AT22,\"\")","v":""},{"$f":"IF(DATA_INPUT!AU22<>\"\",DATA_INPUT!AU22,\"\")","v":""},{"$f":"IF(DATA_INPUT!AV22<>\"\",DATA_INPUT!AV22,\"\")","v":""},{"$f":"IF(DATA_INPUT!AW22<>\"\",DATA_INPUT!AW22,\"\")","v":""},{"$f":"IF(DATA_INPUT!AX22<>\"\",DATA_INPUT!AX22+Directions!$D$24-1,\"\")","v":""},{"$f":"IF(DATA_INPUT!AY22<>\"\",DATA_INPUT!AY22,\"\")","v":""},{"$f":"IF(DATA_INPUT!G22<>\"\",2,IF(DATA_INPUT!N22>2,2,IF(DATA_INPUT!N22=2,3,4)))","v":2},{"$f":"IF(OR(DATA_INPUT!S22<>\"\",DATA_INPUT!T22<>\"\"),H20,\"\")","v":""},{"$f":"IF(DATA_INPUT!T22<>\"\",\"X\",\"\")","v":""}]
[{"$f":"IF(DATA_INPUT!F23<>\"\",DATA_INPUT!F23,\"\")","v":""},{"$f":"IF(DATA_INPUT!G23<>\"\",DATA_INPUT!G23,\"\")","v":""},{"$f":"IF(DATA_INPUT!H23<>\"\",DATA_INPUT!H23,\"\")","v":"PED/BIKE SIGNAL POLES"},{"$f":"IF(DATA_INPUT!I23<>\"\",DATA_INPUT!I23,\"\")","v":""},{"$f":"IF(DATA_INPUT!J23<>\"\",DATA_INPUT!J23,\"\")","v":"R10-3E"},{"$f":"IF(DATA_INPUT!L23<>\"\",DATA_INPUT!L23,IF(DATA_INPUT!K23<>\"\",DATA_INPUT!K23,\"\"))","v":{"$error":"#VALUE!"}},{"$f":"IF(DATA_INPUT!O23<>\"\",DATA_INPUT!O23,\"\")","v":""},{"$f":"IF(DATA_INPUT!P23<>\"\",DATA_INPUT!P23,\"\")","v":8},{"$f":"IF(DATA_INPUT!Q23<>\"\",DATA_INPUT!Q23,\"\")","v":9},{"$f":"IF(DATA_INPUT!R23<>\"\",DATA_INPUT!R23,\"\")","v":15},{"$f":"IF(DATA_INPUT!S23<>\"\",IF(DATA_INPUT!AZ23<>\"\",DATA_INPUT!AZ23,H21*I21*J21/144)*IF(G21<>\"\",3/2,1),\"\")","v":7.5},{"$f":"IF(DATA_INPUT!T23<>\"\",IF(DATA_INPUT!AZ23<>\"\",DATA_INPUT!AZ23,H21*I21*J21/144)*IF(G21<>\"\",3/2,1),\"\")","v":""},{"$f":"IF(DATA_INPUT!U23<>\"\",$H21,\"\")","v":""},{"$f":"IF(DATA_INPUT!V23<>\"\",$H21,\"\")","v":""},{"$f":"IF(DATA_INPUT!W23<>\"\",$H21,\"\")","v":""},{"$f":"IF(DATA_INPUT!X23<>\"\",$H21,\"\")","v":""},{"$f":"IF(DATA_INPUT!Y23<>\"\",$H21,\"\")","v":""},{"$f":"IF(DATA_INPUT!Z23<>\"\",DATA_INPUT!Z23,\"\")","v":""},{"$f":"IF(DATA_INPUT!AA23<>\"\",DATA_INPUT!AA23,\"\")","v":""},{"$f":"IF(DATA_INPUT!AB23<>\"\",DATA_INPUT!AB23,\"\")","v":""},{"$f":"IF(DATA_INPUT!AC23<>\"\",DATA_INPUT!AC23,\"\")","v":""},{"$f":"IF(DATA_INPUT!AD23<>\"\",DATA_INPUT!AD23,\"\")","v":""},{"$f":"IF(DATA_INPUT!AE23<>\"\",$V21,\"\")","v":""},{"$f":"IF(DATA_INPUT!AF23<>\"\",$V21*8,\"\")","v":""},{"$f":"IF(DATA_INPUT!AG23<>\"\",$V21*15,\"\")","v":""},{"$f":"IF(DATA_INPUT!AH23<>\"\",$V21*15,\"\")","v":""},{"$f":"IF(DATA_INPUT!AI23<>\"\",$V21,\"\")","v":""},{"$f":"IF(DATA_INPUT!AJ23<>\"\",$V21,\"\")","v":""},{"$f":"IF(DATA_INPUT!AK23<>\"\",$V21,\"\")","v":""},{"$f":"IF(DATA_INPUT!AL23<>\"\",$V21*7.6*DATA_INPUT!AL23,\"\")","v":""},{"$f":"IF(DATA_INPUT!AM23<>\"\",$V21*9*DATA_INPUT!AM23,\"\")","v":""},{"$f":"IF(DATA_INPUT!AN23<>\"\",$V21*10.8*DATA_INPUT!AN23,\"\")","v":""},{"$f":"IF(DATA_INPUT!AO23<>\"\",$V21*14.6*DATA_INPUT!AO23,\"\")","v":""},{"$f":"IF(DATA_INPUT!AP23<>\"\",$V21,\"\")","v":""},{"$f":"IF(DATA_INPUT!AQ23<>\"\",$V21,\"\")","v":""},{"$f":"IF(DATA_INPUT!AR23<>\"\",DATA_INPUT!AR23,\"\")","v":""},{"$f":"IF(DATA_INPUT!AS23<>\"\",DATA_INPUT!AS23,\"\")","v":""},{"$f":"IF(DATA_INPUT!AT23<>\"\",DATA_INPUT!AT23,\"\")","v":""},{"$f":"IF(DATA_INPUT!AU23<>\"\",DATA_INPUT!AU23,\"\")","v":"ON POLES ABOVE PEDESTRIAN SIGNAL ACTUATION BUTTONS"},{"$f":"IF(DATA_INPUT!AV23<>\"\",DATA_INPUT!AV23,\"\")","v":""},{"$f":"IF(DATA_INPUT!AW23<>\"\",DATA_INPUT!AW23,\"\")","v":"X"},{"$f":"IF(DATA_INPUT!AX23<>\"\",DATA_INPUT!AX23+Directions!$D$24-1,\"\")","v":""},{"$f":"IF(DATA_INPUT!AY23<>\"\",DATA_INPUT!AY23,\"\")","v":""},{"$f":"IF(DATA_INPUT!G23<>\"\",2,IF(DATA_INPUT!N23>2,2,IF(DATA_INPUT!N23=2,3,4)))","v":4},{"$f":"IF(OR(DATA_INPUT!S23<>\"\",DATA_INPUT!T23<>\"\"),H21,\"\")","v":8},{"$f":"IF(DATA_INPUT!T23<>\"\",\"X\",\"\")","v":""}]
[{"$f":"IF(DATA_INPUT!F24<>\"\",DATA_INPUT!F24,\"\")","v":""},{"$f":"IF(DATA_INPUT!G24<>\"\",DATA_INPUT!G24,\"\")","v":""},{"$f":"IF(DATA_INPUT!H24<>\"\",DATA_INPUT!H24,\"\")","v":""},{"$f":"IF(DATA_INPUT!I24<>\"\",DATA_INPUT!I24,\"\")","v":""},{"$f":"IF(DATA_INPUT!J24<>\"\",DATA_INPUT!J24,\"\")","v":"R10-26"},{"$f":"IF(DATA_INPUT!L24<>\"\",DATA_INPUT!L24,IF(DATA_INPUT!K24<>\"\",DATA_INPUT!K24,\"\"))","v":{"$error":"#VALUE!"}},{"$f":"IF(DATA_INPUT!O24<>\"\",DATA_INPUT!O24,\"\")","v":""},{"$f":"IF(DATA_INPUT!P24<>\"\",DATA_INPUT!P24,\"\")","v":8},{"$f":"IF(DATA_INPUT!Q24<>\"\",DATA_INPUT!Q24,\"\")","v":9},{"$f":"IF(DATA_INPUT!R24<>\"\",DATA_INPUT!R24,\"\")","v":15},{"$f":"IF(DATA_INPUT!S24<>\"\",IF(DATA_INPUT!AZ24<>\"\",DATA_INPUT!AZ24,H22*I22*J22/144)*IF(G22<>\"\",3/2,1),\"\")","v":7.5},{"$f":"IF(DATA_INPUT!T24<>\"\",IF(DATA_INPUT!AZ24<>\"\",DATA_INPUT!AZ24,H22*I22*J22/144)*IF(G22<>\"\",3/2,1),\"\")","v":""},{"$f":"IF(DATA_INPUT!U24<>\"\",$H22,\"\")","v":""},{"$f":"IF(DATA_INPUT!V24<>\"\",$H22,\"\")","v":""},{"$f":"IF(DATA_INPUT!W24<>\"\",$H22,\"\")","v":""},{"$f":"IF(DATA_INPUT!X24<>\"\",$H22,\"\")","v":""},{"$f":"IF(DATA_INPUT!Y24<>\"\",$H22,\"\")","v":""},{"$f":"IF(DATA_INPUT!Z24<>\"\",DATA_INPUT!Z24,\"\")","v":""},{"$f":"IF(DATA_INPUT!AA24<>\"\",DATA_INPUT!AA24,\"\")","v":""},{"$f":"IF(DATA_INPUT!AB24<>\"\",DATA_INPUT!AB24,\"\")","v":""},{"$f":"IF(DATA_INPUT!AC24<>\"\",DATA_INPUT!AC24,\"\")","v":""},{"$f":"IF(DATA_INPUT!AD24<>\"\",DATA_INPUT!AD24,\"\")","v":""},{"$f":"IF(DATA_INPUT!AE24<>\"\",$V22,\"\")","v":""},{"$f":"IF(DATA_INPUT!AF24<>\"\",$V22*8,\"\")","v":""},{"$f":"IF(DATA_INPUT!AG24<>\"\",$V22*15,\"\")","v":""},{"$f":"IF(DATA_INPUT!AH24<>\"\",$V22*15,\"\")","v":""},{"$f":"IF(DATA_INPUT!AI24<>\"\",$V22,\"\")","v":""},{"$f":"IF(DATA_INPUT!AJ24<>\"\",$V22,\"\")","v":""},{"$f":"IF(DATA_INPUT!AK24<>\"\",$V22,\"\")","v":""},{"$f":"IF(DATA_INPUT!AL24<>\"\",$V22*7.6*DATA_INPUT!AL24,\"\")","v":""},{"$f":"IF(DATA_INPUT!AM24<>\"\",$V22*9*DATA_INPUT!AM24,\"\")","v":""},{"$f":"IF(DATA_INPUT!AN24<>\"\",$V22*10.8*DATA_INPUT!AN24,\"\")","v":""},{"$f":"IF(DATA_INPUT!AO24<>\"\",$V22*14.6*DATA_INPUT!AO24,\"\")","v":""},{"$f":"IF(DATA_INPUT!AP24<>\"\",$V22,\"\")","v":""},{"$f":"IF(DATA_INPUT!AQ24<>\"\",$V22,\"\")","v":""},{"$f":"IF(DATA_INPUT!AR24<>\"\",DATA_INPUT!AR24,\"\")","v":""},{"$f":"IF(DATA_INPUT!AS24<>\"\",DATA_INPUT!AS24,\"\")","v":""},{"$f":"IF(DATA_INPUT!AT24<>\"\",DATA_INPUT!AT24,\"\")","v":""},{"$f":"IF(DATA_INPUT!AU24<>\"\",DATA_INPUT!AU24,\"\")","v":"ON POLES ABOVE BICYCLE SIGNAL ACTUATION BUTTONS"},{"$f":"IF(DATA_INPUT!AV24<>\"\",DATA_INPUT!AV24,\"\")","v":""},{"$f":"IF(DATA_INPUT!AW24<>\"\",DATA_INPUT!AW24,\"\")","v":"X"},{"$f":"IF(DATA_INPUT!AX24<>\"\",DATA_INPUT!AX24+Directions!$D$24-1,\"\")","v":""},{"$f":"IF(DATA_INPUT!AY24<>\"\",DATA_INPUT!AY24,\"\")","v":""},{"$f":"IF(DATA_INPUT!G24<>\"\",2,IF(DATA_INPUT!N24>2,2,IF(DATA_INPUT!N24=2,3,4)))","v":4},{"$f":"IF(OR(DATA_INPUT!S24<>\"\",DATA_INPUT!T24<>\"\"),H22,\"\")","v":8},{"$f":"IF(DATA_INPUT!T24<>\"\",\"X\",\"\")","v":""}]
[{"$f":"IF(DATA_INPUT!F25<>\"\",DATA_INPUT!F25,\"\")","v":""},{"$f":"IF(DATA_INPUT!G25<>\"\",DATA_INPUT!G25,\"\")","v":"US-7 / ROOSEVELT HWY"},{"$f":"IF(DATA_INPUT!H25<>\"\",DATA_INPUT!H25,\"\")","v":""},{"$f":"IF(DATA_INPUT!I25<>\"\",DATA_INPUT!I25,\"\")","v":""},{"$f":"IF(DATA_INPUT!J25<>\"\",DATA_INPUT!J25,\"\")","v":""},{"$f":"IF(DATA_INPUT!L25<>\"\",DATA_INPUT!L25,IF(DATA_INPUT!K25<>\"\",DATA_INPUT!K25,\"\"))","v":""},{"$f":"IF(DATA_INPUT!O25<>\"\",DATA_INPUT!O25,\"\")","v":""},{"$f":"IF(DATA_INPUT!P25<>\"\",DATA_INPUT!P25,\"\")","v":""},{"$f":"IF(DATA_INPUT!Q25<>\"\",DATA_INPUT!Q25,\"\")","v":""},{"$f":"IF(DATA_INPUT!R25<>\"\",DATA_INPUT!R25,\"\")","v":""},{"$f":"IF(DATA_INPUT!S25<>\"\",IF(DATA_INPUT!AZ25<>\"\",DATA_INPUT!AZ25,H23*I23*J23/144)*IF(G23<>\"\",3/2,1),\"\")","v":""},{"$f":"IF(DATA_INPUT!T25<>\"\",IF(DATA_INPUT!AZ25<>\"\",DATA_INPUT!AZ25,H23*I23*J23/144)*IF(G23<>\"\",3/2,1),\"\")","v":""},{"$f":"IF(DATA_INPUT!U25<>\"\",$H23,\"\")","v":""},{"$f":"IF(DATA_INPUT!V25<>\"\",$H23,\"\")","v":""},{"$f":"IF(DATA_INPUT!W25<>\"\",$H23,\"\")","v":""},{"$f":"IF(DATA_INPUT!X25<>\"\",$H23,\"\")","v":""},{"$f":"IF(DATA_INPUT!Y25<>\"\",$H23,\"\")","v":""},{"$f":"IF(DATA_INPUT!Z25<>\"\",DATA_INPUT!Z25,\"\")","v":""},{"$f":"IF(DATA_INPUT!AA25<>\"\",DATA_INPUT!AA25,\"\")","v":""},{"$f":"IF(DATA_INPUT!AB25<>\"\",DATA_INPUT!AB25,\"\")","v":""},{"$f":"IF(DATA_INPUT!AC25<>\"\",DATA_INPUT!AC25,\"\")","v":""},{"$f":"IF(DATA_INPUT!AD25<>\"\",DATA_INPUT!AD25,\"\")","v":""},{"$f":"IF(DATA_INPUT!AE25<>\"\",$V23,\"\")","v":""},{"$f":"IF(DATA_INPUT!AF25<>\"\",$V23*8,\"\")","v":""},{"$f":"IF(DATA_INPUT!AG25<>\"\",$V23*15,\"\")","v":""},{"$f":"IF(DATA_INPUT!AH25<>\"\",$V23*15,\"\")","v":""},{"$f":"IF(DATA_INPUT!AI25<>\"\",$V23,\"\")","v":""},{"$f":"IF(DATA_INPUT!AJ25<>\"\",$V23,\"\")","v":""},{"$f":"IF(DATA_INPUT!AK25<>\"\",$V23,\"\")","v":""},{"$f":"IF(DATA_INPUT!AL25<>\"\",$V23*7.6*DATA_INPUT!AL25,\"\")","v":""},{"$f":"IF(DATA_INPUT!AM25<>\"\",$V23*9*DATA_INPUT!AM25,\"\")","v":""},{"$f":"IF(DATA_INPUT!AN25<>\"\",$V23*10.8*DATA_INPUT!AN25,\"\")","v":""},{"$f":"IF(DATA_INPUT!AO25<>\"\",$V23*14.6*DATA_INPUT!AO25,\"\")","v":""},{"$f":"IF(DATA_INPUT!AP25<>\"\",$V23,\"\")","v":""},{"$f":"IF(DATA_INPUT!AQ25<>\"\",$V23,\"\")","v":""},{"$f":"IF(DATA_INPUT!AR25<>\"\",DATA_INPUT!AR25,\"\")","v":""},{"$f":"IF(DATA_INPUT!AS25<>\"\",DATA_INPUT!AS25,\"\")","v":""},{"$f":"IF(DATA_INPUT!AT25<>\"\",DATA_INPUT!AT25,\"\")","v":""},{"$f":"IF(DATA_INPUT!AU25<>\"\",DATA_INPUT!AU25,\"\")","v":""},{"$f":"IF(DATA_INPUT!AV25<>\"\",DATA_INPUT!AV25,\"\")","v":""},{"$f":"IF(DATA_INPUT!AW25<>\"\",DATA_INPUT!AW25,\"\")","v":""},{"$f":"IF(DATA_INPUT!AX25<>\"\",DATA_INPUT!AX25+Directions!$D$24-1,\"\")","v":""},{"$f":"IF(DATA_INPUT!AY25<>\"\",DATA_INPUT!AY25,\"\")","v":""},{"$f":"IF(DATA_INPUT!G25<>\"\",2,IF(DATA_INPUT!N25>2,2,IF(DATA_INPUT!N25=2,3,4)))","v":2},{"$f":"IF(OR(DATA_INPUT!S25<>\"\",DATA_INPUT!T25<>\"\"),H23,\"\")","v":""},{"$f":"IF(DATA_INPUT!T25<>\"\",\"X\",\"\")","v":""}]
[{"$f":"IF(DATA_INPUT!F26<>\"\",DATA_INPUT!F26,\"\")","v":""},{"$f":"IF(DATA_INPUT!G26<>\"\",DATA_INPUT!G26,\"\")","v":""},{"$f":"IF(DATA_INPUT!H26<>\"\",DATA_INPUT!H26,\"\")","v":"STA. 88 +60.00"},{"$f":"IF(DATA_INPUT!I26<>\"\",DATA_INPUT!I26,\"\")","v":"A"},{"$f":"IF(DATA_INPUT!J26<>\"\",DATA_INPUT!J26,\"\")","v":"VR-922"},{"$f":"IF(DATA_INPUT!L26<>\"\",DATA_INPUT!L26,IF(DATA_INPUT!K26<>\"\",DATA_INPUT!K26,\"\"))","v":{"$error":"#VALUE!"}},{"$f":"IF(DATA_INPUT!O26<>\"\",DATA_INPUT!O26,\"\")","v":""},{"$f":"IF(DATA_INPUT!P26<>\"\",DATA_INPUT!P26,\"\")","v":1},{"$f":"IF(DATA_INPUT!Q26<>\"\",DATA_INPUT!Q26,\"\")","v":30},{"$f":"IF(DATA_INPUT!R26<>\"\",DATA_INPUT!R26,\"\")","v":36},{"$f":"IF(DATA_INPUT!S26<>\"\",IF(DATA_INPUT!AZ26<>\"\",DATA_INPUT!AZ26,H24*I24*J24/144)*IF(G24<>\"\",3/2,1),\"\")","v":""},{"$f":"IF(DATA_INPUT!T26<>\"\",IF(DATA_INPUT!AZ26<>\"\",DATA_INPUT!AZ26,H24*I24*J24/144)*IF(G24<>\"\",3/2,1),\"\")","v":""},{"$f":"IF(DATA_INPUT!U26<>\"\",$H24,\"\")","v":""},{"$f":"IF(DATA_INPUT!V26<>\"\",$H24,\"\")","v":""},{"$f":"IF(DATA_INPUT!W26<>\"\",$H24,\"\")","v":""},{"$f":"IF(DATA_INPUT!X26<>\"\",$H24,\"\")","v":1},{"$f":"IF(DATA_INPUT!Y26<>\"\",$H24,\"\")","v":""},{"$f":"IF(DATA_INPUT!Z26<>\"\",DATA_INPUT!Z26,\"\")","v":""},{"$f":"IF(DATA_INPUT!AA26<>\"\",DATA_INPUT!AA26,\"\")","v":""},{"$f":"IF(DATA_INPUT!AB26<>\"\",DATA_INPUT!AB26,\"\")","v":""},{"$f":"IF(DATA_INPUT!AC26<>\"\",DATA_INPUT!AC26,\"\")","v":2},{"$f":"IF(DATA_INPUT!AD26<>\"\",DATA_INPUT!AD26,\"\")","v":""},{"$f":"IF(DATA_INPUT!AE26<>\"\",$V24,\"\")","v":""},{"$f":"IF(DATA_INPUT!AF26<>\"\",$V24*8,\"\")","v":""},{"$f":"IF(DATA_INPUT!AG26<>\"\",$V24*15,\"\")","v":""},{"$f":"IF(DATA_INPUT!AH26<>\"\",$V24*15,\"\")","v":""},{"$f":"IF(DATA_INPUT!AI26<>\"\",$V24,\"\")","v":""},{"$f":"IF(DATA_INPUT!AJ26<>\"\",$V24,\"\")","v":""},{"$f":"IF(DATA_INPUT!AK26<>\"\",$V24,\"\")","v":""},{"$f":"IF(DATA_INPUT!AL26<>\"\",$V24*7.6*DATA_INPUT!AL26,\"\")","v":""},{"$f":"IF(DATA_INPUT!AM26<>\"\",$V24*9*DATA_INPUT!AM26,\"\")","v":""},{"$f":"IF(DATA_INPUT!AN26<>\"\",$V24*10.8*DATA_INPUT!AN26,\"\")","v":""},{"$f":"IF(DATA_INPUT!AO26<>\"\",$V24*14.6*DATA_INPUT!AO26,\"\")","v":""},{"$f":"IF(DATA_INPUT!AP26<>\"\",$V24,\"\")","v":""},{"$f":"IF(DATA_INPUT!AQ26<>\"\",$V24,\"\")","v":""},{"$f":"IF(DATA_INPUT!AR26<>\"\",DATA_INPUT!AR26,\"\")","v":""},{"$f":"IF(DATA_INPUT!AS26<>\"\",DATA_INPUT!AS26,\"\")","v":""},{"$f":"IF(DATA_INPUT!AT26<>\"\",DATA_INPUT!AT26,\"\")","v":""},{"$f":"IF(DATA_INPUT!AU26<>\"\",DATA_INPUT!AU26,\"\")","v":""},{"$f":"IF(DATA_INPUT!AV26<>\"\",DATA_INPUT!AV26,\"\")","v":""},{"$f":"IF(DATA_INPUT!AW26<>\"\",DATA_INPUT!AW26,\"\")","v":"X"},{"$f":"IF(DATA_INPUT!AX26<>\"\",DATA_INPUT!AX26+Directions!$D$24-1,\"\")","v":""},{"$f":"IF(DATA_INPUT!AY26<>\"\",DATA_INPUT!AY26,\"\")","v":""},{"$f":"IF(DATA_INPUT!G26<>\"\",2,IF(DATA_INPUT!N26>2,2,IF(DATA_INPUT!N26=2,3,4)))","v":4},{"$f":"IF(OR(DATA_INPUT!S26<>\"\",DATA_INPUT!T26<>\"\"),H24,\"\")","v":""},{"$f":"IF(DATA_INPUT!T26<>\"\",\"X\",\"\")","v":""}]
[{"$f":"IF(DATA_INPUT!F27<>\"\",DATA_INPUT!F27,\"\")","v":""},{"$f":"IF(DATA_INPUT!G27<>\"\",DATA_INPUT!G27,\"\")","v":""},{"$f":"IF(DATA_INPUT!H27<>\"\",DATA_INPUT!H27,\"\")","v":""},{"$f":"IF(DATA_INPUT!I27<>\"\",DATA_INPUT!I27,\"\")","v":"A"},{"$f":"IF(DATA_INPUT!J27<>\"\",DATA_INPUT!J27,\"\")","v":"R3-7L"},{"$f":"IF(DATA_INPUT!L27<>\"\",DATA_INPUT!L27,IF(DATA_INPUT!K27<>\"\",DATA_INPUT!K27,\"\"))","v":{"$error":"#VALUE!"}},{"$f":"IF(DATA_INPUT!O27<>\"\",DATA_INPUT!O27,\"\")","v":""},{"$f":"IF(DATA_INPUT!P27<>\"\",DATA_INPUT!P27,\"\")","v":1},{"$f":"IF(DATA_INPUT!Q27<>\"\",DATA_INPUT!Q27,\"\")","v":36},{"$f":"IF(DATA_INPUT!R27<>\"\",DATA_INPUT!R27,\"\")","v":36},{"$f":"IF(DATA_INPUT!S27<>\"\",IF(DATA_INPUT!AZ27<>\"\",DATA_INPUT!AZ27,H25*I25*J25/144)*IF(G25<>\"\",3/2,1),\"\")","v":9},{"$f":"IF(DATA_INPUT!T27<>\"\",IF(DATA_INPUT!AZ27<>\"\",DATA_INPUT!AZ27,H25*I25*J25/144)*IF(G25<>\"\",3/2,1),\"\")","v":""},{"$f":"IF(DATA_INPUT!U27<>\"\",$H25,\"\")","v":""},{"$f":"IF(DATA_INPUT!V27<>\"\",$H25,\"\")","v":""},{"$f":"IF(DATA_INPUT!W27<>\"\",$H25,\"\")","v":""},{"$f":"IF(DATA_INPUT!X27<>\"\",$H25,\"\")","v":""},{"$f":"IF(DATA_INPUT!Y27<>\"\",$H25,\"\")","v":""},{"$f":"IF(DATA_INPUT!Z27<>\"\",DATA_INPUT!Z27,\"\")","v":""},{"$f":"IF(DATA_INPUT!AA27<>\"\",DATA_INPUT!AA27,\"\")","v":""},{"$f":"IF(DATA_INPUT!AB27<>\"\",DATA_INPUT!AB27,\"\")","v":""},{"$f":"IF(DATA_INPUT!AC27<>\"\",DATA_INPUT!AC27,\"\")","v":""},{"$f":"IF(DATA_INPUT!AD27<>\"\",DATA_INPUT!AD27,\"\")","v":2},{"$f":"IF(DATA_INPUT!AE27<>\"\",$V25,\"\")","v":""},{"$f":"IF(DATA_INPUT!AF27<>\"\",$V25*8,\"\")","v":""},{"$f":"IF(DATA_INPUT!AG27<>\"\",$V25*15,\"\")","v":30},{"$f":"IF(DATA_INPUT!AH27<>\"\",$V25*15,\"\")","v":""},{"$f":"IF(DATA_INPUT!AI27<>\"\",$V25,\"\")","v":2},{"$f":"IF(DATA_INPUT!AJ27<>\"\",$V25,\"\")","v":""},{"$f":"IF(DATA_INPUT!AK27<>\"\",$V25,\"\")","v":""},{"$f":"IF(DATA_INPUT!AL27<>\"\",$V25*7.6*DATA_INPUT!AL27,\"\")","v":""},{"$f":"IF(DATA_INPUT!AM27<>\"\",$V25*9*DATA_INPUT!AM27,\"\")","v":""},{"$f":"IF(DATA_INPUT!AN27<>\"\",$V25*10.8*DATA_INPUT!AN27,\"\")","v":""},{"$f":"IF(DATA_INPUT!AO27<>\"\",$V25*14.6*DATA_INPUT!AO27,\"\")","v":""},{"$f":"IF(DATA_INPUT!AP27<>\"\",$V25,\"\")","v":""},{"$f":"IF(DATA_INPUT!AQ27<>\"\",$V25,\"\")","v":""},{"$f":"IF(DATA_INPUT!AR27<>\"\",DATA_INPUT!AR27,\"\")","v":""},{"$f":"IF(DATA_INPUT!AS27<>\"\",DATA_INPUT!AS27,\"\")","v":""},{"$f":"IF(DATA_INPUT!AT27<>\"\",DATA_INPUT!AT27,\"\")","v":""},{"$f":"IF(DATA_INPUT!AU27<>\"\",DATA_INPUT!AU27,\"\")","v":""},{"$f":"IF(DATA_INPUT!AV27<>\"\",DATA_INPUT!AV27,\"\")","v":""},{"$f":"IF(DATA_INPUT!AW27<>\"\",DATA_INPUT!AW27,\"\")","v":"X"},{"$f":"IF(DATA_INPUT!AX27<>\"\",DATA_INPUT!AX27+Directions!$D$24-1,\"\")","v":""},{"$f":"IF(DATA_INPUT!AY27<>\"\",DATA_INPUT!AY27,\"\")","v":""},{"$f":"IF(DATA_INPUT!G27<>\"\",2,IF(DATA_INPUT!N27>2,2,IF(DATA_INPUT!N27=2,3,4)))","v":4},{"$f":"IF(OR(DATA_INPUT!S27<>\"\",DATA_INPUT!T27<>\"\"),H25,\"\")","v":1},{"$f":"IF(DATA_INPUT!T27<>\"\",\"X\",\"\")","v":""}]
[{"$f":"IF(DATA_INPUT!F28<>\"\",DATA_INPUT!F28,\"\")","v":""},{"$f":"IF(DATA_INPUT!G28<>\"\",DATA_INPUT!G28,\"\")","v":""},{"$f":"IF(DATA_INPUT!H28<>\"\",DATA_INPUT!H28,\"\")","v":"STA, 90 +21.00"},{"$f":"IF(DATA_INPUT!I28<>\"\",DATA_INPUT!I28,\"\")","v":"A"},{"$f":"IF(DATA_INPUT!J28<>\"\",DATA_INPUT!J28,\"\")","v":"W2-1"},{"$f":"IF(DATA_INPUT!L28<>\"\",DATA_INPUT!L28,IF(DATA_INPUT!K28<>\"\",DATA_INPUT!K28,\"\"))","v":{"$error":"#VALUE!"}},{"$f":"IF(DATA_INPUT!O28<>\"\",DATA_INPUT!O28,\"\")","v":""},{"$f":"IF(DATA_INPUT!P28<>\"\",DATA_INPUT!P28,\"\")","v":1},{"$f":"IF(DATA_INPUT!Q28<>\"\",DATA_INPUT!Q28,\"\")","v":36},{"$f":"IF(DATA_INPUT!R28<>\"\",DATA_INPUT!R28,\"\")","v":36},{"$f":"IF(DATA_INPUT!S28<>\"\",IF(DATA_INPUT!AZ28<>\"\",DATA_INPUT!AZ28,H26*I26*J26/144)*IF(G26<>\"\",3/2,1),\"\")","v":""},{"$f":"IF(DATA_INPUT!T28<>\"\",IF(DATA_INPUT!AZ28<>\"\",DATA_INPUT!AZ28,H26*I26*J26/144)*IF(G26<>\"\",3/2,1),\"\")","v":""},{"$f":"IF(DATA_INPUT!U28<>\"\",$H26,\"\")","v":""},{"$f":"IF(DATA_INPUT!V28<>\"\",$H26,\"\")","v":""},{"$f":"IF(DATA_INPUT!W28<>\"\",$H26,\"\")","v":""},{"$f":"IF(DATA_INPUT!X28<>\"\",$H26,\"\")","v":1},{"$f":"IF(DATA_INPUT!Y28<>\"\",$H26,\"\")","v":""},{"$f":"IF(DATA_INPUT!Z28<>\"\",DATA_INPUT!Z28,\"\")","v":""},{"$f":"IF(DATA_INPUT!AA28<>\"\",DATA_INPUT!AA28,\"\")","v":""},{"$f":"IF(DATA_INPUT!AB28<>\"\",DATA_INPUT!AB28,\"\")","v":""},{"$f":"IF(DATA_INPUT!AC28<>\"\",DATA_INPUT!AC28,\"\")","v":2},{"$f":"IF(DATA_INPUT!AD28<>\"\",DATA_INPUT!AD28,\"\")","v":""},{"$f":"IF(DATA_INPUT!AE28<>\"\",$V26,\"\")","v":""},{"$f":"IF(DATA_INPUT!AF28<>\"\",$V26*8,\"\")","v":""},{"$f":"IF(DATA_INPUT!AG28<>\"\",$V26*15,\"\")","v":""},{"$f":"IF(DATA_INPUT!AH28<>\"\",$V26*15,\"\")","v":""},{"$f":"IF(DATA_INPUT!AI28<>\"\",$V26,\"\")","v":""},{"$f":"IF(DATA_INPUT!AJ28<>\"\",$V26,\"\")","v":""},{"$f":"IF(DATA_INPUT!AK28<>\"\",$V26,\"\")","v":""},{"$f":"IF(DATA_INPUT!AL28<>\"\",$V26*7.6*DATA_INPUT!AL28,\"\")","v":""},{"$f":"IF(DATA_INPUT!AM28<>\"\",$V26*9*DATA_INPUT!AM28,\"\")","v":""},{"$f":"IF(DATA_INPUT!AN28<>\"\",$V26*10.8*DATA_INPUT!AN28,\"\")","v":""},{"$f":"IF(DATA_INPUT!AO28<>\"\",$V26*14.6*DATA_INPUT!AO28,\"\")","v":""},{"$f":"IF(DATA_INPUT!AP28<>\"\",$V26,\"\")","v":""},{"$f":"IF(DATA_INPUT!AQ28<>\"\",$V26,\"\")","v":""},{"$f":"IF(DATA_INPUT!AR28<>\"\",DATA_INPUT!AR28,\"\")","v":""},{"$f":"IF(DATA_INPUT!AS28<>\"\",DATA_INPUT!AS28,\"\")","v":""},{"$f":"IF(DATA_INPUT!AT28<>\"\",DATA_INPUT!AT28,\"\")","v":""},{"$f":"IF(DATA_INPUT!AU28<>\"\",DATA_INPUT!AU28,\"\")","v":""},{"$f":"IF(DATA_INPUT!AV28<>\"\",DATA_INPUT!AV28,\"\")","v":""},{"$f":"IF(DATA_INPUT!AW28<>\"\",DATA_INPUT!AW28,\"\")","v":"X"},{"$f":"IF(DATA_INPUT!AX28<>\"\",DATA_INPUT!AX28+Directions!$D$24-1,\"\")","v":""},{"$f":"IF(DATA_INPUT!AY28<>\"\",DATA_INPUT!AY28,\"\")","v":""},{"$f":"IF(DATA_INPUT!G28<>\"\",2,IF(DATA_INPUT!N28>2,2,IF(DATA_INPUT!N28=2,3,4)))","v":4},{"$f":"IF(OR(DATA_INPUT!S28<>\"\",DATA_INPUT!T28<>\"\"),H26,\"\")","v":""},{"$f":"IF(DATA_INPUT!T28<>\"\",\"X\",\"\")","v":""}]
[{"$f":"IF(DATA_INPUT!F29<>\"\",DATA_INPUT!F29,\"\")","v":""},{"$f":"IF(DATA_INPUT!G29<>\"\",DATA_INPUT!G29,\"\")","v":""},{"$f":"IF(DATA_INPUT!H29<>\"\",DATA_INPUT!H29,\"\")","v":""},{"$f":"IF(DATA_INPUT!I29<>\"\",DATA_INPUT!I29,\"\")","v":"A"},{"$f":"IF(DATA_INPUT!J29<>\"\",DATA_INPUT!J29,\"\")","v":"W16-8P"},{"$f":"IF(DATA_INPUT!L29<>\"\",DATA_INPUT!L29,IF(DATA_INPUT!K29<>\"\",DATA_INPUT!K29,\"\"))","v":"BLAKELY ROAD"},{"$f":"IF(DATA_INPUT!O29<>\"\",DATA_INPUT!O29,\"\")","v":""},{"$f":"IF(DATA_INPUT!P29<>\"\",DATA_INPUT!P29,\"\")","v":1},{"$f":"IF(DATA_INPUT!Q29<>\"\",DATA_INPUT!Q29,\"\")","v":""},{"$f":"IF(DATA_INPUT!R29<>\"\",DATA_INPUT!R29,\"\")","v":""},{"$f":"IF(DATA_INPUT!S29<>\"\",IF(DATA_INPUT!AZ29<>\"\",DATA_INPUT!AZ29,H27*I27*J27/144)*IF(G27<>\"\",3/2,1),\"\")","v":""},{"$f":"IF(DATA_INPUT!T29<>\"\",IF(DATA_INPUT!AZ29<>\"\",DATA_INPUT!AZ29,H27*I27*J27/144)*IF(G27<>\"\",3/2,1),\"\")","v":""},{"$f":"IF(DATA_INPUT!U29<>\"\",$H27,\"\")","v":""},{"$f":"IF(DATA_INPUT!V29<>\"\",$H27,\"\")","v":""},{"$f":"IF(DATA_INPUT!W29<>\"\",$H27,\"\")","v":""},{"$f":"IF(DATA_INPUT!X29<>\"\",$H27,\"\")","v":1},{"$f":"IF(DATA_INPUT!Y29<>\"\",$H27,\"\")","v":""},{"$f":"IF(DATA_INPUT!Z29<>\"\",DATA_INPUT!Z29,\"\")","v":""},{"$f":"IF(DATA_INPUT!AA29<>\"\",DATA_INPUT!AA29,\"\")","v":""},{"$f":"IF(DATA_INPUT!AB29<>\"\",DATA_INPUT!AB29,\"\")","v":""},{"$f":"IF(DATA_INPUT!AC29<>\"\",DATA_INPUT!AC29,\"\")","v":""},{"$f":"IF(DATA_INPUT!AD29<>\"\",DATA_INPUT!AD29,\"\")","v":""},{"$f":"IF(DATA_INPUT!AE29<>\"\",$V27,\"\")","v":""},{"$f":"IF(DATA_INPUT!AF29<>\"\",$V27*8,\"\")","v":""},{"$f":"IF(DATA_INPUT!AG29<>\"\",$V27*15,\"\")","v":""},{"$f":"IF(DATA_INPUT!AH29<>\"\",$V27*15,\"\")","v":""},{"$f":"IF(DATA_INPUT!AI29<>\"\",$V27,\"\")","v":""},{"$f":"IF(DATA_INPUT!AJ29<>\"\",$V27,\"\")","v":""},{"$f":"IF(DATA_INPUT!AK29<>\"\",$V27,\"\")","v":""},{"$f":"IF(DATA_INPUT!AL29<>\"\",$V27*7.6*DATA_INPUT!AL29,\"\")","v":""},{"$f":"IF(DATA_INPUT!AM29<>\"\",$V27*9*DATA_INPUT!AM29,\"\")","v":""},{"$f":"IF(DATA_INPUT!AN29<>\"\",$V27*10.8*DATA_INPUT!AN29,\"\")","v":""},{"$f":"IF(DATA_INPUT!AO29<>\"\",$V27*14.6*DATA_INPUT!AO29,\"\")","v":""},{"$f":"IF(DATA_INPUT!AP29<>\"\",$V27,\"\")","v":""},{"$f":"IF(DATA_INPUT!AQ29<>\"\",$V27,\"\")","v":""},{"$f":"IF(DATA_INPUT!AR29<>\"\",DATA_INPUT!AR29,\"\")","v":""},{"$f":"IF(DATA_INPUT!AS29<>\"\",DATA_INPUT!AS29,\"\")","v":""},{"$f":"IF(DATA_INPUT!AT29<>\"\",DATA_INPUT!AT29,\"\")","v":""},{"$f":"IF(DATA_INPUT!AU29<>\"\",DATA_INPUT!AU29,\"\")","v":""},{"$f":"IF(DATA_INPUT!AV29<>\"\",DATA_INPUT!AV29,\"\")","v":""},{"$f":"IF(DATA_INPUT!AW29<>\"\",DATA_INPUT!AW29,\"\")","v":""},{"$f":"IF(DATA_INPUT!AX29<>\"\",DATA_INPUT!AX29+Directions!$D$24-1,\"\")","v":""},{"$f":"IF(DATA_INPUT!AY29<>\"\",DATA_INPUT!AY29,\"\")","v":""},{"$f":"IF(DATA_INPUT!G29<>\"\",2,IF(DATA_INPUT!N29>2,2,IF(DATA_INPUT!N29=2,3,4)))","v":4},{"$f":"IF(OR(DATA_INPUT!S29<>\"\",DATA_INPUT!T29<>\"\"),H27,\"\")","v":""},{"$f":"IF(DATA_INPUT!T29<>\"\",\"X\",\"\")","v":""}]
[{"$f":"IF(DATA_INPUT!F30<>\"\",DATA_INPUT!F30,\"\")","v":""},{"$f":"IF(DATA_INPUT!G30<>\"\",DATA_INPUT!G30,\"\")","v":""},{"$f":"IF(DATA_INPUT!H30<>\"\",DATA_INPUT!H30,\"\")","v":""},{"$f":"IF(DATA_INPUT!I30<>\"\",DATA_INPUT!I30,\"\")","v":"A"},{"$f":"IF(DATA_INPUT!J30<>\"\",DATA_INPUT!J30,\"\")","v":"W16-8P"},{"$f":"IF(DATA_INPUT!L30<>\"\",DATA_INPUT!L30,IF(DATA_INPUT!K30<>\"\",DATA_INPUT!K30,\"\"))","v":"SEVERANCE ROAD"},{"$f":"IF(DATA_INPUT!O30<>\"\",DATA_INPUT!O30,\"\")","v":""},{"$f":"IF(DATA_INPUT!P30<>\"\",DATA_INPUT!P30,\"\")","v":1},{"$f":"IF(DATA_INPUT!Q30<>\"\",DATA_INPUT!Q30,\"\")","v":""},{"$f":"IF(DATA_INPUT!R30<>\"\",DATA_INPUT!R30,\"\")","v":""},{"$f":"IF(DATA_INPUT!S30<>\"\",IF(DATA_INPUT!AZ30<>\"\",DATA_INPUT!AZ30,H28*I28*J28/144)*IF(G28<>\"\",3/2,1),\"\")","v":""},{"$f":"IF(DATA_INPUT!T30<>\"\",IF(DATA_INPUT!AZ30<>\"\",DATA_INPUT!AZ30,H28*I28*J28/144)*IF(G28<>\"\",3/2,1),\"\")","v":""},{"$f":"IF(DATA_INPUT!U30<>\"\",$H28,\"\")","v":""},{"$f":"IF(DATA_INPUT!V30<>\"\",$H28,\"\")","v":""},{"$f":"IF(DATA_INPUT!W30<>\"\",$H28,\"\")","v":""},{"$f":"IF(DATA_INPUT!X30<>\"\",$H28,\"\")","v":1},{"$f":"IF(DATA_INPUT!Y30<>\"\",$H28,\"\")","v":""},{"$f":"IF(DATA_INPUT!Z30<>\"\",DATA_INPUT!Z30,\"\")","v":""},{"$f":"IF(DATA_INPUT!AA30<>\"\",DATA_INPUT!AA30,\"\")","v":""},{"$f":"IF(DATA_INPUT!AB30<>\"\",DATA_INPUT!AB30,\"\")","v":""},{"$f":"IF(DATA_INPUT!AC30<>\"\",DATA_INPUT!AC30,\"\")","v":""},{"$f":"IF(DATA_INPUT!AD30<>\"\",DATA_INPUT!AD30,\"\")","v":""},{"$f":"IF(DATA_INPUT!AE30<>\"\",$V28,\"\")","v":""},{"$f":"IF(DATA_INPUT!AF30<>\"\",$V28*8,\"\")","v":""},{"$f":"IF(DATA_INPUT!AG30<>\"\",$V28*15,\"\")","v":""},{"$f":"IF(DATA_INPUT!AH30<>\"\",$V28*15,\"\")","v":""},{"$f":"IF(DATA_INPUT!AI30<>\"\",$V28,\"\")","v":""},{"$f":"IF(DATA_INPUT!AJ30<>\"\",$V28,\"\")","v":""},{"$f":"IF(DATA_INPUT!AK30<>\"\",$V28,\"\")","v":""},{"$f":"IF(DATA_INPUT!AL30<>\"\",$V28*7.6*DATA_INPUT!AL30,\"\")","v":""},{"$f":"IF(DATA_INPUT!AM30<>\"\",$V28*9*DATA_INPUT!AM30,\"\")","v":""},{"$f":"IF(DATA_INPUT!AN30<>\"\",$V28*10.8*DATA_INPUT!AN30,\"\")","v":""},{"$f":"IF(DATA_INPUT!AO30<>\"\",$V28*14.6*DATA_INPUT!AO30,\"\")","v":""},{"$f":"IF(DATA_INPUT!AP30<>\"\",$V28,\"\")","v":""},{"$f":"IF(DATA_INPUT!AQ30<>\"\",$V28,\"\")","v":""},{"$f":"IF(DATA_INPUT!AR30<>\"\",DATA_INPUT!AR30,\"\")","v":""},{"$f":"IF(DATA_INPUT!AS30<>\"\",DATA_INPUT!AS30,\"\")","v":""},{"$f":"IF(DATA_INPUT!AT30<>\"\",DATA_INPUT!AT30,\"\")","v":""},{"$f":"IF(DATA_INPUT!AU30<>\"\",DATA_INPUT!AU30,\"\")","v":""},{"$f":"IF(DATA_INPUT!AV30<>\"\",DATA_INPUT!AV30,\"\")","v":""},{"$f":"IF(DATA_INPUT!AW30<>\"\",DATA_INPUT!AW30,\"\")","v":""},{"$f":"IF(DATA_INPUT!AX30<>\"\",DATA_INPUT!AX30+Directions!$D$24-1,\"\")","v":""},{"$f":"IF(DATA_INPUT!AY30<>\"\",DATA_INPUT!AY30,\"\")","v":""},{"$f":"IF(DATA_INPUT!G30<>\"\",2,IF(DATA_INPUT!N30>2,2,IF(DATA_INPUT!N30=2,3,4)))","v":4},{"$f":"IF(OR(DATA_INPUT!S30<>\"\",DATA_INPUT!T30<>\"\"),H28,\"\")","v":""},{"$f":"IF(DATA_INPUT!T30<>\"\",\"X\",\"\")","v":""}]
[{"$f":"IF(DATA_INPUT!F31<>\"\",DATA_INPUT!F31,\"\")","v":""},{"$f":"IF(DATA_INPUT!G31<>\"\",DATA_INPUT!G31,\"\")","v":""},{"$f":"IF(DATA_INPUT!H31<>\"\",DATA_INPUT!H31,\"\")","v":""},{"$f":"IF(DATA_INPUT!I31<>\"\",DATA_INPUT!I31,\"\")","v":"A"},{"$f":"IF(DATA_INPUT!J31<>\"\",DATA_INPUT!J31,\"\")","v":"W2-1"},{"$f":"IF(DATA_INPUT!L31<>\"\",DATA_INPUT!L31,IF(DATA_INPUT!K31<>\"\",DATA_INPUT!K31,\"\"))","v":{"$error":"#VALUE!"}},{"$f":"IF(DATA_INPUT!O31<>\"\",DATA_INPUT!O31,\"\")","v":""},{"$f":"IF(DATA_INPUT!P31<>\"\",DATA_INPUT!P31,\"\")","v":1},{"$f":"IF(DATA_INPUT!Q31<>\"\",DATA_INPUT!Q31,\"\")","v":36},{"$f":"IF(DATA_INPUT!R31<>\"\",DATA_INPUT!R31,\"\")","v":36},{"$f":"IF(DATA_INPUT!S31<>\"\",IF(DATA_INPUT!AZ31<>\"\",DATA_INPUT!AZ31,H29*I29*J29/144)*IF(G29<>\"\",3/2,1),\"\")","v":9},{"$f":"IF(DATA_INPUT!T31<>\"\",IF(DATA_INPUT!AZ31<>\"\",DATA_INPUT!AZ31,H29*I29*J29/144)*IF(G29<>\"\",3/2,1),\"\")","v":""},{"$f":"IF(DATA_INPUT!U31<>\"\",$H29,\"\")","v":""},{"$f":"IF(DATA_INPUT!V31<>\"\",$H29,\"\")","v":""},{"$f":"IF(DATA_INPUT!W31<>\"\",$H29,\"\")","v":""},{"$f":"IF(DATA_INPUT!X31<>\"\",$H29,\"\")","v":""},{"$f":"IF(DATA_INPUT!Y31<>\"\",$H29,\"\")","v":""},{"$f":"IF(DATA_INPUT!Z31<>\"\",DATA_INPUT!Z31,\"\")","v":""},{"$f":"IF(DATA_INPUT!AA31<>\"\",DATA_INPUT!AA31,\"\")","v":""},{"$f":"IF(DATA_INPUT!AB31<>\"\",DATA_INPUT!AB31,\"\")","v":""},{"$f":"IF(DATA_INPUT!AC31<>\"\",DATA_INPUT!AC31,\"\")","v":""},{"$f":"IF(DATA_INPUT!AD31<>\"\",DATA_INPUT!AD31,\"\")","v":2},{"$f":"IF(DATA_INPUT!AE31<>\"\",$V29,\"\")","v":""},{"$f":"IF(DATA_INPUT!AF31<>\"\",$V29*8,\"\")","v":""},{"$f":"IF(DATA_INPUT!AG31<>\"\",$V29*15,\"\")","v":30},{"$f":"IF(DATA_INPUT!AH31<>\"\",$V29*15,\"\")","v":""},{"$f":"IF(DATA_INPUT!AI31<>\"\",$V29,\"\")","v":2},{"$f":"IF(DATA_INPUT!AJ31<>\"\",$V29,\"\")","v":""},{"$f":"IF(DATA_INPUT!AK31<>\"\",$V29,\"\")","v":""},{"$f":"IF(DATA_INPUT!AL31<>\"\",$V29*7.6*DATA_INPUT!AL31,\"\")","v":""},{"$f":"IF(DATA_INPUT!AM31<>\"\",$V29*9*DATA_INPUT!AM31,\"\")","v":""},{"$f":"IF(DATA_INPUT!AN31<>\"\",$V29*10.8*DATA_INPUT!AN31,\"\")","v":""},{"$f":"IF(DATA_INPUT!AO31<>\"\",$V29*14.6*DATA_INPUT!AO31,\"\")","v":""},{"$f":"IF(DATA_INPUT!AP31<>\"\",$V29,\"\")","v":""},{"$f":"IF(DATA_INPUT!AQ31<>\"\",$V29,\"\")","v":""},{"$f":"IF(DATA_INPUT!AR31<>\"\",DATA_INPUT!AR31,\"\")","v":""},{"$f":"IF(DATA_INPUT!AS31<>\"\",DATA_INPUT!AS31,\"\")","v":""},{"$f":"IF(DATA_INPUT!AT31<>\"\",DATA_INPUT!AT31,\"\")","v":""},{"$f":"IF(DATA_INPUT!AU31<>\"\",DATA_INPUT!AU31,\"\")","v":""},{"$f":"IF(DATA_INPUT!AV31<>\"\",DATA_INPUT!AV31,\"\")","v":""},{"$f":"IF(DATA_INPUT!AW31<>\"\",DATA_INPUT!AW31,\"\")","v":"X"},{"$f":"IF(DATA_INPUT!AX31<>\"\",DATA_INPUT!AX31+Directions!$D$24-1,\"\")","v":""},{"$f":"IF(DATA_INPUT!AY31<>\"\",DATA_INPUT!AY31,\"\")","v":""},{"$f":"IF(DATA_INPUT!G31<>\"\",2,IF(DATA_INPUT!N31>2,2,IF(DATA_INPUT!N31=2,3,4)))","v":4},{"$f":"IF(OR(DATA_INPUT!S31<>\"\",DATA_INPUT!T31<>\"\"),H29,\"\")","v":1},{"$f":"IF(DATA_INPUT!T31<>\"\",\"X\",\"\")","v":""}]
[{"$f":"IF(DATA_INPUT!F32<>\"\",DATA_INPUT!F32,\"\")","v":""},{"$f":"IF(DATA_INPUT!G32<>\"\",DATA_INPUT!G32,\"\")","v":""},{"$f":"IF(DATA_INPUT!H32<>\"\",DATA_INPUT!H32,\"\")","v":""},{"$f":"IF(DATA_INPUT!I32<>\"\",DATA_INPUT!I32,\"\")","v":"A"},{"$f":"IF(DATA_INPUT!J32<>\"\",DATA_INPUT!J32,\"\")","v":"W16-8AP"},{"$f":"IF(DATA_INPUT!L32<>\"\",DATA_INPUT!L32,IF(DATA_INPUT!K32<>\"\",DATA_INPUT!K32,\"\"))","v":"BLAKELY RD LEFT/ SEVERANCE ROAD RIGHT"},{"$f":"IF(DATA_INPUT!O32<>\"\",DATA_INPUT!O32,\"\")","v":""},{"$f":"IF(DATA_INPUT!P32<>\"\",DATA_INPUT!P32,\"\")","v":1},{"$f":"IF(DATA_INPUT!Q32<>\"\",DATA_INPUT!Q32,\"\")","v":54},{"$f":"IF(DATA_INPUT!R32<>\"\",DATA_INPUT!R32,\"\")","v":15},{"$f":"IF(DATA_INPUT!S32<>\"\",IF(DATA_INPUT!AZ32<>\"\",DATA_INPUT!AZ32,H30*I30*J30/144)*IF(G30<>\"\",3/2,1),\"\")","v":5.625},{"$f":"IF(DATA_INPUT!T32<>\"\",IF(DATA_INPUT!AZ32<>\"\",DATA_INPUT!AZ32,H30*I30*J30/144)*IF(G30<>\"\",3/2,1),\"\")","v":""},{"$f":"IF(DATA_INPUT!U32<>\"\",$H30,\"\")","v":""},{"$f":"IF(DATA_INPUT!V32<>\"\",$H30,\"\")","v":""},{"$f":"IF(DATA_INPUT!W32<>\"\",$H30,\"\")","v":""},{"$f":"IF(DATA_INPUT!X32<>\"\",$H30,\"\")","v":""},{"$f":"IF(DATA_INPUT!Y32<>\"\",$H30,\"\")","v":""},{"$f":"IF(DATA_INPUT!Z32<>\"\",DATA_INPUT!Z32,\"\")","v":""},{"$f":"IF(DATA_INPUT!AA32<>\"\",DATA_INPUT!AA32,\"\")","v":""},{"$f":"IF(DATA_INPUT!AB32<>\"\",DATA_INPUT!AB32,\"\")","v":""},{"$f":"IF(DATA_INPUT!AC32<>\"\",DATA_INPUT!AC32,\"\")","v":""},{"$f":"IF(DATA_INPUT!AD32<>\"\",DATA_INPUT!AD32,\"\")","v":""},{"$f":"IF(DATA_INPUT!AE32<>\"\",$V30,\"\")","v":""},{"$f":"IF(DATA_INPUT!AF32<>\"\",$V30*8,\"\")","v":""},{"$f":"IF(DATA_INPUT!AG32<>\"\",$V30*15,\"\")","v":""},{"$f":"IF(DATA_INPUT!AH32<>\"\",$V30*15,\"\")","v":""},{"$f":"IF(DATA_INPUT!AI32<>\"\",$V30,\"\")","v":""},{"$f":"IF(DATA_INPUT!AJ32<>\"\",$V30,\"\")","v":""},{"$f":"IF(DATA_INPUT!AK32<>\"\",$V30,\"\")","v":""},{"$f":"IF(DATA_INPUT!AL32<>\"\",$V30*7.6*DATA_INPUT!AL32,\"\")","v":""},{"$f":"IF(DATA_INPUT!AM32<>\"\",$V30*9*DATA_INPUT!AM32,\"\")","v":""},{"$f":"IF(DATA_INPUT!AN32<>\"\",$V30*10.8*DATA_INPUT!AN32,\"\")","v":""},{"$f":"IF(DATA_INPUT!AO32<>\"\",$V30*14.6*DATA_INPUT!AO32,\"\")","v":""},{"$f":"IF(DATA_INPUT!AP32<>\"\",$V30,\"\")","v":""},{"$f":"IF(DATA_INPUT!AQ32<>\"\",$V30,\"\")","v":""},{"$f":"IF(DATA_INPUT!AR32<>\"\",DATA_INPUT!AR32,\"\")","v":""},{"$f":"IF(DATA_INPUT!AS32<>\"\",DATA_INPUT!AS32,\"\")","v":""},{"$f":"IF(DATA_INPUT!AT32<>\"\",DATA_INPUT!AT32,\"\")","v":""},{"$f":"IF(DATA_INPUT!AU32<>\"\",DATA_INPUT!AU32,\"\")","v":"MOUNT ON SAME POST AS W2-1"},{"$f":"IF(DATA_INPUT!AV32<>\"\",DATA_INPUT!AV32,\"\")","v":""},{"$f":"IF(DATA_INPUT!AW32<>\"\",DATA_INPUT!AW32,\"\")","v":"X"},{"$f":"IF(DATA_INPUT!AX32<>\"\",DATA_INPUT!AX32+Directions!$D$24-1,\"\")","v":1},{"$f":"IF(DATA_INPUT!AY32<>\"\",DATA_INPUT!AY32,\"\")","v":""},{"$f":"IF(DATA_INPUT!G32<>\"\",2,IF(DATA_INPUT!N32>2,2,IF(DATA_INPUT!N32=2,3,4)))","v":4},{"$f":"IF(OR(DATA_INPUT!S32<>\"\",DATA_INPUT!T32<>\"\"),H30,\"\")","v":1},{"$f":"IF(DATA_INPUT!T32<>\"\",\"X\",\"\")","v":""}]
[{"$f":"IF(DATA_INPUT!F33<>\"\",DATA_INPUT!F33,\"\")","v":""},{"$f":"IF(DATA_INPUT!G33<>\"\",DATA_INPUT!G33,\"\")","v":""},{"$f":"IF(DATA_INPUT!H33<>\"\",DATA_INPUT!H33,\"\")","v":"STA. 92 +41.00"},{"$f":"IF(DATA_INPUT!I33<>\"\",DATA_INPUT!I33,\"\")","v":"A"},{"$f":"IF(DATA_INPUT!J33<>\"\",DATA_INPUT!J33,\"\")","v":"TIS"},{"$f":"IF(DATA_INPUT!L33<>\"\",DATA_INPUT!L33,IF(DATA_INPUT!K33<>\"\",DATA_INPUT!K33,\"\"))","v":"TRAVEL INFORMATION SIGNS"},{"$f":"IF(DATA_INPUT!O33<>\"\",DATA_INPUT!O33,\"\")","v":""},{"$f":"IF(DATA_INPUT!P33<>\"\",DATA_INPUT!P33,\"\")","v":3},{"$f":"IF(DATA_INPUT!Q33<>\"\",DATA_INPUT!Q33,\"\")","v":""},{"$f":"IF(DATA_INPUT!R33<>\"\",DATA_INPUT!R33,\"\")","v":""},{"$f":"IF(DATA_INPUT!S33<>\"\",IF(DATA_INPUT!AZ33<>\"\",DATA_INPUT!AZ33,H31*I31*J31/144)*IF(G31<>\"\",3/2,1),\"\")","v":""},{"$f":"IF(DATA_INPUT!T33<>\"\",IF(DATA_INPUT!AZ33<>\"\",DATA_INPUT!AZ33,H31*I31*J31/144)*IF(G31<>\"\",3/2,1),\"\")","v":""},{"$f":"IF(DATA_INPUT!U33<>\"\",$H31,\"\")","v":3},{"$f":"IF(DATA_INPUT!V33<>\"\",$H31,\"\")","v":""},{"$f":"IF(DATA_INPUT!W33<>\"\",$H31,\"\")","v":""},{"$f":"IF(DATA_INPUT!X33<>\"\",$H31,\"\")","v":""},{"$f":"IF(DATA_INPUT!Y33<>\"\",$H31,\"\")","v":""},{"$f":"IF(DATA_INPUT!Z33<>\"\",DATA_INPUT!Z33,\"\")","v":2},{"$f":"IF(DATA_INPUT!AA33<>\"\",DATA_INPUT!AA33,\"\")","v":""},{"$f":"IF(DATA_INPUT!AB33<>\"\",DATA_INPUT!AB33,\"\")","v":""},{"$f":"IF(DATA_INPUT!AC33<>\"\",DATA_INPUT!AC33,\"\")","v":""},{"$f":"IF(DATA_INPUT!AD33<>\"\",DATA_INPUT!AD33,\"\")","v":""},{"$f":"IF(DATA_INPUT!AE33<>\"\",$V31,\"\")","v":""},{"$f":"IF(DATA_INPUT!AF33<>\"\",$V31*8,\"\")","v":""},{"$f":"IF(DATA_INPUT!AG33<>\"\",$V31*15,\"\")","v":""},{"$f":"IF(DATA_INPUT!AH33<>\"\",$V31*15,\"\")","v":""},{"$f":"IF(DATA_INPUT!AI33<>\"\",$V31,\"\")","v":""},{"$f":"IF(DATA_INPUT!AJ33<>\"\",$V31,\"\")","v":""},{"$f":"IF(DATA_INPUT!AK33<>\"\",$V31,\"\")","v":""},{"$f":"IF(DATA_INPUT!AL33<>\"\",$V31*7.6*DATA_INPUT!AL33,\"\")","v":""},{"$f":"IF(DATA_INPUT!AM33<>\"\",$V31*9*DATA_INPUT!AM33,\"\")","v":""},{"$f":"IF(DATA_INPUT!AN33<>\"\",$V31*10.8*DATA_INPUT!AN33,\"\")","v":""},{"$f":"IF(DATA_INPUT!AO33<>\"\",$V31*14.6*DATA_INPUT!AO33,\"\")","v":""},{"$f":"IF(DATA_INPUT!AP33<>\"\",$V31,\"\")","v":""},{"$f":"IF(DATA_INPUT!AQ33<>\"\",$V31,\"\")","v":""},{"$f":"IF(DATA_INPUT!AR33<>\"\",DATA_INPUT!AR33,\"\")","v":""},{"$f":"IF(DATA_INPUT!AS33<>\"\",DATA_INPUT!AS33,\"\")","v":""},{"$f":"IF(DATA_INPUT!AT33<>\"\",DATA_INPUT!AT33,\"\")","v":""},{"$f":"IF(DATA_INPUT!AU33<>\"\",DATA_INPUT!AU33,\"\")","v":""},{"$f":"IF(DATA_INPUT!AV33<>\"\",DATA_INPUT!AV33,\"\")","v":""},{"$f":"IF(DATA_INPUT!AW33<>\"\",DATA_INPUT!AW33,\"\")","v":""},{"$f":"IF(DATA_INPUT!AX33<>\"\",DATA_INPUT!AX33+Directions!$D$24-1,\"\")","v":""},{"$f":"IF(DATA_INPUT!AY33<>\"\",DATA_INPUT!AY33,\"\")","v":""},{"$f":"IF(DATA_INPUT!G33<>\"\",2,IF(DATA_INPUT!N33>2,2,IF(DATA_INPUT!N33=2,3,4)))","v":4},{"$f":"IF(OR(DATA_INPUT!S33<>\"\",DATA_INPUT!T33<>\"\"),H31,\"\")","v":""},{"$f":"IF(DATA_INPUT!T33<>\"\",\"X\",\"\")","v":""}]
[{"$f":"IF(DATA_INPUT!F34<>\"\",DATA_INPUT!F34,\"\")","v":""},{"$f":"IF(DATA_INPUT!G34<>\"\",DATA_INPUT!G34,\"\")","v":""},{"$f":"IF(DATA_INPUT!H34<>\"\",DATA_INPUT!H34,\"\")","v":"STA. 93 +97.00"},{"$f":"IF(DATA_INPUT!I34<>\"\",DATA_INPUT!I34,\"\")","v":"A"},{"$f":"IF(DATA_INPUT!J34<>\"\",DATA_INPUT!J34,\"\")","v":"VR-922"},{"$f":"IF(DATA_INPUT!L34<>\"\",DATA_INPUT!L34,IF(DATA_INPUT!K34<>\"\",DATA_INPUT!K34,\"\"))","v":{"$error":"#VALUE!"}},{"$f":"IF(DATA_INPUT!O34<>\"\",DATA_INPUT!O34,\"\")","v":""},{"$f":"IF(DATA_INPUT!P34<>\"\",DATA_INPUT!P34,\"\")","v":1},{"$f":"IF(DATA_INPUT!Q34<>\"\",DATA_INPUT!Q34,\"\")","v":30},{"$f":"IF(DATA_INPUT!R34<>\"\",DATA_INPUT!R34,\"\")","v":36},{"$f":"IF(DATA_INPUT!S34<>\"\",IF(DATA_INPUT!AZ34<>\"\",DATA_INPUT!AZ34,H32*I32*J32/144)*IF(G32<>\"\",3/2,1),\"\")","v":""},{"$f":"IF(DATA_INPUT!T34<>\"\",IF(DATA_INPUT!AZ34<>\"\",DATA_INPUT!AZ34,H32*I32*J32/144)*IF(G32<>\"\",3/2,1),\"\")","v":""},{"$f":"IF(DATA_INPUT!U34<>\"\",$H32,\"\")","v":""},{"$f":"IF(DATA_INPUT!V34<>\"\",$H32,\"\")","v":""},{"$f":"IF(DATA_INPUT!W34<>\"\",$H32,\"\")","v":""},{"$f":"IF(DATA_INPUT!X34<>\"\",$H32,\"\")","v":1},{"$f":"IF(DATA_INPUT!Y34<>\"\",$H32,\"\")","v":""},{"$f":"IF(DATA_INPUT!Z34<>\"\",DATA_INPUT!Z34,\"\")","v":""},{"$f":"IF(DATA_INPUT!AA34<>\"\",DATA_INPUT!AA34,\"\")","v":""},{"$f":"IF(DATA_INPUT!AB34<>\"\",DATA_INPUT!AB34,\"\")","v":""},{"$f":"IF(DATA_INPUT!AC34<>\"\",DATA_INPUT!AC34,\"\")","v":2},{"$f":"IF(DATA_INPUT!AD34<>\"\",DATA_INPUT!AD34,\"\")","v":""},{"$f":"IF(DATA_INPUT!AE34<>\"\",$V32,\"\")","v":""},{"$f":"IF(DATA_INPUT!AF34<>\"\",$V32*8,\"\")","v":""},{"$f":"IF(DATA_INPUT!AG34<>\"\",$V32*15,\"\")","v":""},{"$f":"IF(DATA_INPUT!AH34<>\"\",$V32*15,\"\")","v":""},{"$f":"IF(DATA_INPUT!AI34<>\"\",$V32,\"\")","v":""},{"$f":"IF(DATA_INPUT!AJ34<>\"\",$V32,\"\")","v":""},{"$f":"IF(DATA_INPUT!AK34<>\"\",$V32,\"\")","v":""},{"$f":"IF(DATA_INPUT!AL34<>\"\",$V32*7.6*DATA_INPUT!AL34,\"\")","v":""},{"$f":"IF(DATA_INPUT!AM34<>\"\",$V32*9*DATA_INPUT!AM34,\"\")","v":""},{"$f":"IF(DATA_INPUT!AN34<>\"\",$V32*10.8*DATA_INPUT!AN34,\"\")","v":""},{"$f":"IF(DATA_INPUT!AO34<>\"\",$V32*14.6*DATA_INPUT!AO34,\"\")","v":""},{"$f":"IF(DATA_INPUT!AP34<>\"\",$V32,\"\")","v":""},{"$f":"IF(DATA_INPUT!AQ34<>\"\",$V32,\"\")","v":""},{"$f":"IF(DATA_INPUT!AR34<>\"\",DATA_INPUT!AR34,\"\")","v":""},{"$f":"IF(DATA_INPUT!AS34<>\"\",DATA_INPUT!AS34,\"\")","v":""},{"$f":"IF(DATA_INPUT!AT34<>\"\",DATA_INPUT!AT34,\"\")","v":""},{"$f":"IF(DATA_INPUT!AU34<>\"\",DATA_INPUT!AU34,\"\")","v":""},{"$f":"IF(DATA_INPUT!AV34<>\"\",DATA_INPUT!AV34,\"\")","v":""},{"$f":"IF(DATA_INPUT!AW34<>\"\",DATA_INPUT!AW34,\"\")","v":""},{"$f":"IF(DATA_INPUT!AX34<>\"\",DATA_INPUT!AX34+Directions!$D$24-1,\"\")","v":""},{"$f":"IF(DATA_INPUT!AY34<>\"\",DATA_INPUT!AY34,\"\")","v":"T-145"},{"$f":"IF(DATA_INPUT!G34<>\"\",2,IF(DATA_INPUT!N34>2,2,IF(DATA_INPUT!N34=2,3,4)))","v":4},{"$f":"IF(OR(DATA_INPUT!S34<>\"\",DATA_INPUT!T34<>\"\"),H32,\"\")","v":""},{"$f":"IF(DATA_INPUT!T34<>\"\",\"X\",\"\")","v":""}]
[{"$f":"IF(DATA_INPUT!F35<>\"\",DATA_INPUT!F35,\"\")","v":""},{"$f":"IF(DATA_INPUT!G35<>\"\",DATA_INPUT!G35,\"\")","v":""},{"$f":"IF(DATA_INPUT!H35<>\"\",DATA_INPUT!H35,\"\")","v":""},{"$f":"IF(DATA_INPUT!I35<>\"\",DATA_INPUT!I35,\"\")","v":"A"},{"$f":"IF(DATA_INPUT!J35<>\"\",DATA_INPUT!J35,\"\")","v":"VR-922"},{"$f":"IF(DATA_INPUT!L35<>\"\",DATA_INPUT!L35,IF(DATA_INPUT!K35<>\"\",DATA_INPUT!K35,\"\"))","v":"(LT,Thru/RT) LANE ASSIGNMENT"},{"$f":"IF(DATA_INPUT!O35<>\"\",DATA_INPUT!O35,\"\")","v":""},{"$f":"IF(DATA_INPUT!P35<>\"\",DATA_INPUT!P35,\"\")","v":1},{"$f":"IF(DATA_INPUT!Q35<>\"\",DATA_INPUT!Q35,\"\")","v":30},{"$f":"IF(DATA_INPUT!R35<>\"\",DATA_INPUT!R35,\"\")","v":36},{"$f":"IF(DATA_INPUT!S35<>\"\",IF(DATA_INPUT!AZ35<>\"\",DATA_INPUT!AZ35,H33*I33*J33/144)*IF(G33<>\"\",3/2,1),\"\")","v":7.5},{"$f":"IF(DATA_INPUT!T35<>\"\",IF(DATA_INPUT!AZ35<>\"\",DATA_INPUT!AZ35,H33*I33*J33/144)*IF(G33<>\"\",3/2,1),\"\")","v":""},{"$f":"IF(DATA_INPUT!U35<>\"\",$H33,\"\")","v":""},{"$f":"IF(DATA_INPUT!V35<>\"\",$H33,\"\")","v":""},{"$f":"IF(DATA_INPUT!W35<>\"\",$H33,\"\")","v":""},{"$f":"IF(DATA_INPUT!X35<>\"\",$H33,\"\")","v":""},{"$f":"IF(DATA_INPUT!Y35<>\"\",$H33,\"\")","v":""},{"$f":"IF(DATA_INPUT!Z35<>\"\",DATA_INPUT!Z35,\"\")","v":""},{"$f":"IF(DATA_INPUT!AA35<>\"\",DATA_INPUT!AA35,\"\")","v":""},{"$f":"IF(DATA_INPUT!AB35<>\"\",DATA_INPUT!AB35,\"\")","v":""},{"$f":"IF(DATA_INPUT!AC35<>\"\",DATA_INPUT!AC35,\"\")","v":""},{"$f":"IF(DATA_INPUT!AD35<>\"\",DATA_INPUT!AD35,\"\")","v":2},{"$f":"IF(DATA_INPUT!AE35<>\"\",$V33,\"\")","v":""},{"$f":"IF(DATA_INPUT!AF35<>\"\",$V33*8,\"\")","v":""},{"$f":"IF(DATA_INPUT!AG35<>\"\",$V33*15,\"\")","v":30},{"$f":"IF(DATA_INPUT!AH35<>\"\",$V33*15,\"\")","v":""},{"$f":"IF(DATA_INPUT!AI35<>\"\",$V33,\"\")","v":2},{"$f":"IF(DATA_INPUT!AJ35<>\"\",$V33,\"\")","v":""},{"$f":"IF(DATA_INPUT!AK35<>\"\",$V33,\"\")","v":""},{"$f":"IF(DATA_INPUT!AL35<>\"\",$V33*7.6*DATA_INPUT!AL35,\"\")","v":""},{"$f":"IF(DATA_INPUT!AM35<>\"\",$V33*9*DATA_INPUT!AM35,\"\")","v":""},{"$f":"IF(DATA_INPUT!AN35<>\"\",$V33*10.8*DATA_INPUT!AN35,\"\")","v":""},{"$f":"IF(DATA_INPUT!AO35<>\"\",$V33*14.6*DATA_INPUT!AO35,\"\")","v":""},{"$f":"IF(DATA_INPUT!AP35<>\"\",$V33,\"\")","v":""},{"$f":"IF(DATA_INPUT!AQ35<>\"\",$V33,\"\")","v":""},{"$f":"IF(DATA_INPUT!AR35<>\"\",DATA_INPUT!AR35,\"\")","v":""},{"$f":"IF(DATA_INPUT!AS35<>\"\",DATA_INPUT!AS35,\"\")","v":""},{"$f":"IF(DATA_INPUT!AT35<>\"\",DATA_INPUT!AT35,\"\")","v":""},{"$f":"IF(DATA_INPUT!AU35<>\"\",DATA_INPUT!AU35,\"\")","v":"LEFT LANE LEFT TURN ONLY, RIGHT LANE THRU/RIGHT TURN COMBINED"},{"$f":"IF(DATA_INPUT!AV35<>\"\",DATA_INPUT!AV35,\"\")","v":""},{"$f":"IF(DATA_INPUT!AW35<>\"\",DATA_INPUT!AW35,\"\")","v":""},{"$f":"IF(DATA_INPUT!AX35<>\"\",DATA_INPUT!AX35+Directions!$D$24-1,\"\")","v":1},{"$f":"IF(DATA_INPUT!AY35<>\"\",DATA_INPUT!AY35,\"\")","v":"T-145"},{"$f":"IF(DATA_INPUT!G35<>\"\",2,IF(DATA_INPUT!N35>2,2,IF(DATA_INPUT!N35=2,3,4)))","v":4},{"$f":"IF(OR(DATA_INPUT!S35<>\"\",DATA_INPUT!T35<>\"\"),H33,\"\")","v":1},{"$f":"IF(DATA_INPUT!T35<>\"\",\"X\",\"\")","v":""}]
[{"$f":"IF(DATA_INPUT!F36<>\"\",DATA_INPUT!F36,\"\")","v":""},{"$f":"IF(DATA_INPUT!G36<>\"\",DATA_INPUT!G36,\"\")","v":""},{"$f":"IF(DATA_INPUT!H36<>\"\",DATA_INPUT!H36,\"\")","v":"STA. 96 +92.00"},{"$f":"IF(DATA_INPUT!I36<>\"\",DATA_INPUT!I36,\"\")","v":"A"},{"$f":"IF(DATA_INPUT!J36<>\"\",DATA_INPUT!J36,\"\")","v":"W3-3"},{"$f":"IF(DATA_INPUT!L36<>\"\",DATA_INPUT!L36,IF(DATA_INPUT!K36<>\"\",DATA_INPUT!K36,\"\"))","v":{"$error":"#VALUE!"}},{"$f":"IF(DATA_INPUT!O36<>\"\",DATA_INPUT!O36,\"\")","v":""},{"$f":"IF(DATA_INPUT!P36<>\"\",DATA_INPUT!P36,\"\")","v":1},{"$f":"IF(DATA_INPUT!Q36<>\"\",DATA_INPUT!Q36,\"\")","v":30},{"$f":"IF(DATA_INPUT!R36<>\"\",DATA_INPUT!R36,\"\")","v":30},{"$f":"IF(DATA_INPUT!S36<>\"\",IF(DATA_INPUT!AZ36<>\"\",DATA_INPUT!AZ36,H34*I34*J34/144)*IF(G34<>\"\",3/2,1),\"\")","v":""},{"$f":"IF(DATA_INPUT!T36<>\"\",IF(DATA_INPUT!AZ36<>\"\",DATA_INPUT!AZ36,H34*I34*J34/144)*IF(G34<>\"\",3/2,1),\"\")","v":""},{"$f":"IF(DATA_INPUT!U36<>\"\",$H34,\"\")","v":""},{"$f":"IF(DATA_INPUT!V36<>\"\",$H34,\"\")","v":""},{"$f":"IF(DATA_INPUT!W36<>\"\",$H34,\"\")","v":""},{"$f":"IF(DATA_INPUT!X36<>\"\",$H34,\"\")","v":1},{"$f":"IF(DATA_INPUT!Y36<>\"\",$H34,\"\")","v":""},{"$f":"IF(DATA_INPUT!Z36<>\"\",DATA_INPUT!Z36,\"\")","v":""},{"$f":"IF(DATA_INPUT!AA36<>\"\",DATA_INPUT!AA36,\"\")","v":""},{"$f":"IF(DATA_INPUT!AB36<>\"\",DATA_INPUT!AB36,\"\")","v":""},{"$f":"IF(DATA_INPUT!AC36<>\"\",DATA_INPUT!AC36,\"\")","v":2},{"$f":"IF(DATA_INPUT!AD36<>\"\",DATA_INPUT!AD36,\"\")","v":""},{"$f":"IF(DATA_INPUT!AE36<>\"\",$V34,\"\")","v":""},{"$f":"IF(DATA_INPUT!AF36<>\"\",$V34*8,\"\")","v":""},{"$f":"IF(DATA_INPUT!AG36<>\"\",$V34*15,\"\")","v":""},{"$f":"IF(DATA_INPUT!AH36<>\"\",$V34*15,\"\")","v":""},{"$f":"IF(DATA_INPUT!AI36<>\"\",$V34,\"\")","v":""},{"$f":"IF(DATA_INPUT!AJ36<>\"\",$V34,\"\")","v":""},{"$f":"IF(DATA_INPUT!AK36<>\"\",$V34,\"\")","v":""},{"$f":"IF(DATA_INPUT!AL36<>\"\",$V34*7.6*DATA_INPUT!AL36,\"\")","v":""},{"$f":"IF(DATA_INPUT!AM36<>\"\",$V34*9*DATA_INPUT!AM36,\"\")","v":""},{"$f":"IF(DATA_INPUT!AN36<>\"\",$V34*10.8*DATA_INPUT!AN36,\"\")","v":""},{"$f":"IF(DATA_INPUT!AO36<>\"\",$V34*14.6*DATA_INPUT!AO36,\"\")","v":""},{"$f":"IF(DATA_INPUT!AP36<>\"\",$V34,\"\")","v":""},{"$f":"IF(DATA_INPUT!AQ36<>\"\",$V34,\"\")","v":""},{"$f":"IF(DATA_INPUT!AR36<>\"\",DATA_INPUT!AR36,\"\")","v":""},{"$f":"IF(DATA_INPUT!AS36<>\"\",DATA_INPUT!AS36,\"\")","v":""},{"$f":"IF(DATA_INPUT!AT36<>\"\",DATA_INPUT!AT36,\"\")","v":""},{"$f":"IF(DATA_INPUT!AU36<>\"\",DATA_INPUT!AU36,\"\")","v":""},{"$f":"IF(DATA_INPUT!AV36<>\"\",DATA_INPUT!AV36,\"\")","v":""},{"$f":"IF(DATA_INPUT!AW36<>\"\",DATA_INPUT!AW36,\"\")","v":"X"},{"$f":"IF(DATA_INPUT!AX36<>\"\",DATA_INPUT!AX36+Directions!$D$24-1,\"\")","v":""},{"$f":"IF(DATA_INPUT!AY36<>\"\",DATA_INPUT!AY36,\"\")","v":""},{"$f":"IF(DATA_INPUT!G36<>\"\",2,IF(DATA_INPUT!N36>2,2,IF(DATA_INPUT!N36=2,3,4)))","v":4},{"$f":"IF(OR(DATA_INPUT!S36<>\"\",DATA_INPUT!T36<>\"\"),H34,\"\")","v":""},{"$f":"IF(DATA_INPUT!T36<>\"\",\"X\",\"\")","v":""}]
[{"$f":"IF(DATA_INPUT!F37<>\"\",DATA_INPUT!F37,\"\")","v":""},{"$f":"IF(DATA_INPUT!G37<>\"\",DATA_INPUT!G37,\"\")","v":""},{"$f":"IF(DATA_INPUT!H37<>\"\",DATA_INPUT!H37,\"\")","v":""},{"$f":"IF(DATA_INPUT!I37<>\"\",DATA_INPUT!I37,\"\")","v":"A"},{"$f":"IF(DATA_INPUT!J37<>\"\",DATA_INPUT!J37,\"\")","v":"W3-3"},{"$f":"IF(DATA_INPUT!L37<>\"\",DATA_INPUT!L37,IF(DATA_INPUT!K37<>\"\",DATA_INPUT!K37,\"\"))","v":{"$error":"#VALUE!"}},{"$f":"IF(DATA_INPUT!O37<>\"\",DATA_INPUT!O37,\"\")","v":""},{"$f":"IF(DATA_INPUT!P37<>\"\",DATA_INPUT!P37,\"\")","v":1},{"$f":"IF(DATA_INPUT!Q37<>\"\",DATA_INPUT!Q37,\"\")","v":30},{"$f":"IF(DATA_INPUT!R37<>\"\",DATA_INPUT!R37,\"\")","v":30},{"$f":"IF(DATA_INPUT!S37<>\"\",IF(DATA_INPUT!AZ37<>\"\",DATA_INPUT!AZ37,H35*I35*J35/144)*IF(G35<>\"\",3/2,1),\"\")","v":6.25},{"$f":"IF(DATA_INPUT!T37<>\"\",IF(DATA_INPUT!AZ37<>\"\",DATA_INPUT!AZ37,H35*I35*J35/144)*IF(G35<>\"\",3/2,1),\"\")","v":""},{"$f":"IF(DATA_INPUT!U37<>\"\",$H35,\"\")","v":""},{"$f":"IF(DATA_INPUT!V37<>\"\",$H35,\"\")","v":""},{"$f":"IF(DATA_INPUT!W37<>\"\",$H35,\"\")","v":""},{"$f":"IF(DATA_INPUT!X37<>\"\",$H35,\"\")","v":""},{"$f":"IF(DATA_INPUT!Y37<>\"\",$H35,\"\")","v":""},{"$f":"IF(DATA_INPUT!Z37<>\"\",DATA_INPUT!Z37,\"\")","v":""},{"$f":"IF(DATA_INPUT!AA37<>\"\",DATA_INPUT!AA37,\"\")","v":""},{"$f":"IF(DATA_INPUT!AB37<>\"\",DATA_INPUT!AB37,\"\")","v":""},{"$f":"IF(DATA_INPUT!AC37<>\"\",DATA_INPUT!AC37,\"\")","v":""},{"$f":"IF(DATA_INPUT!AD37<>\"\",DATA_INPUT!AD37,\"\")","v":1},{"$f":"IF(DATA_INPUT!AE37<>\"\",$V35,\"\")","v":""},{"$f":"IF(DATA_INPUT!AF37<>\"\",$V35*8,\"\")","v":""},{"$f":"IF(DATA_INPUT!AG37<>\"\",$V35*15,\"\")","v":15},{"$f":"IF(DATA_INPUT!AH37<>\"\",$V35*15,\"\")","v":""},{"$f":"IF(DATA_INPUT!AI37<>\"\",$V35,\"\")","v":1},{"$f":"IF(DATA_INPUT!AJ37<>\"\",$V35,\"\")","v":""},{"$f":"IF(DATA_INPUT!AK37<>\"\",$V35,\"\")","v":""},{"$f":"IF(DATA_INPUT!AL37<>\"\",$V35*7.6*DATA_INPUT!AL37,\"\")","v":""},{"$f":"IF(DATA_INPUT!AM37<>\"\",$V35*9*DATA_INPUT!AM37,\"\")","v":""},{"$f":"IF(DATA_INPUT!AN37<>\"\",$V35*10.8*DATA_INPUT!AN37,\"\")","v":""},{"$f":"IF(DATA_INPUT!AO37<>\"\",$V35*14.6*DATA_INPUT!AO37,\"\")","v":""},{"$f":"IF(DATA_INPUT!AP37<>\"\",$V35,\"\")","v":""},{"$f":"IF(DATA_INPUT!AQ37<>\"\",$V35,\"\")","v":""},{"$f":"IF(DATA_INPUT!AR37<>\"\",DATA_INPUT!AR37,\"\")","v":""},{"$f":"IF(DATA_INPUT!AS37<>\"\",DATA_INPUT!AS37,\"\")","v":""},{"$f":"IF(DATA_INPUT!AT37<>\"\",DATA_INPUT!AT37,\"\")","v":""},{"$f":"IF(DATA_INPUT!AU37<>\"\",DATA_INPUT!AU37,\"\")","v":""},{"$f":"IF(DATA_INPUT!AV37<>\"\",DATA_INPUT!AV37,\"\")","v":" YELLOW"},{"$f":"IF(DATA_INPUT!AW37<>\"\",DATA_INPUT!AW37,\"\")","v":"X"},{"$f":"IF(DATA_INPUT!AX37<>\"\",DATA_INPUT!AX37+Directions!$D$24-1,\"\")","v":""},{"$f":"IF(DATA_INPUT!AY37<>\"\",DATA_INPUT!AY37,\"\")","v":""},{"$f":"IF(DATA_INPUT!G37<>\"\",2,IF(DATA_INPUT!N37>2,2,IF(DATA_INPUT!N37=2,3,4)))","v":4},{"$f":"IF(OR(DATA_INPUT!S37<>\"\",DATA_INPUT!T37<>\"\"),H35,\"\")","v":1},{"$f":"IF(DATA_INPUT!T37<>\"\",\"X\",\"\")","v":""}]
[{"$f":"IF(DATA_INPUT!F38<>\"\",DATA_INPUT!F38,\"\")","v":""},{"$f":"IF(DATA_INPUT!G38<>\"\",DATA_INPUT!G38,\"\")","v":""},{"$f":"IF(DATA_INPUT!H38<>\"\",DATA_INPUT!H38,\"\")","v":"STA. 97 +75.00"},{"$f":"IF(DATA_INPUT!I38<>\"\",DATA_INPUT!I38,\"\")","v":"F"},{"$f":"IF(DATA_INPUT!J38<>\"\",DATA_INPUT!J38,\"\")","v":"R2-1"},{"$f":"IF(DATA_INPUT!L38<>\"\",DATA_INPUT!L38,IF(DATA_INPUT!K38<>\"\",DATA_INPUT!K38,\"\"))","v":{"$error":"#VALUE!"}},{"$f":"IF(DATA_INPUT!O38<>\"\",DATA_INPUT!O38,\"\")","v":""},{"$f":"IF(DATA_INPUT!P38<>\"\",DATA_INPUT!P38,\"\")","v":1},{"$f":"IF(DATA_INPUT!Q38<>\"\",DATA_INPUT!Q38,\"\")","v":24},{"$f":"IF(DATA_INPUT!R38<>\"\",DATA_INPUT!R38,\"\")","v":30},{"$f":"IF(DATA_INPUT!S38<>\"\",IF(DATA_INPUT!AZ38<>\"\",DATA_INPUT!AZ38,H36*I36*J36/144)*IF(G36<>\"\",3/2,1),\"\")","v":5},{"$f":"IF(DATA_INPUT!T38<>\"\",IF(DATA_INPUT!AZ38<>\"\",DATA_INPUT!AZ38,H36*I36*J36/144)*IF(G36<>\"\",3/2,1),\"\")","v":""},{"$f":"IF(DATA_INPUT!U38<>\"\",$H36,\"\")","v":""},{"$f":"IF(DATA_INPUT!V38<>\"\",$H36,\"\")","v":""},{"$f":"IF(DATA_INPUT!W38<>\"\",$H36,\"\")","v":""},{"$f":"IF(DATA_INPUT!X38<>\"\",$H36,\"\")","v":""},{"$f":"IF(DATA_INPUT!Y38<>\"\",$H36,\"\")","v":""},{"$f":"IF(DATA_INPUT!Z38<>\"\",DATA_INPUT!Z38,\"\")","v":""},{"$f":"IF(DATA_INPUT!AA38<>\"\",DATA_INPUT!AA38,\"\")","v":""},{"$f":"IF(DATA_INPUT!AB38<>\"\",DATA_INPUT!AB38,\"\")","v":""},{"$f":"IF(DATA_INPUT!AC38<>\"\",DATA_INPUT!AC38,\"\")","v":""},{"$f":"IF(DATA_INPUT!AD38<>\"\",DATA_INPUT!AD38,\"\")","v":1},{"$f":"IF(DATA_INPUT!AE38<>\"\",$V36,\"\")","v":""},{"$f":"IF(DATA_INPUT!AF38<>\"\",$V36*8,\"\")","v":""},{"$f":"IF(DATA_INPUT!AG38<>\"\",$V36*15,\"\")","v":15},{"$f":"IF(DATA_INPUT!AH38<>\"\",$V36*15,\"\")","v":""},{"$f":"IF(DATA_INPUT!AI38<>\"\",$V36,\"\")","v":1},{"$f":"IF(DATA_INPUT!AJ38<>\"\",$V36,\"\")","v":""},{"$f":"IF(DATA_INPUT!AK38<>\"\",$V36,\"\")","v":""},{"$f":"IF(DATA_INPUT!AL38<>\"\",$V36*7.6*DATA_INPUT!AL38,\"\")","v":""},{"$f":"IF(DATA_INPUT!AM38<>\"\",$V36*9*DATA_INPUT!AM38,\"\")","v":""},{"$f":"IF(DATA_INPUT!AN38<>\"\",$V36*10.8*DATA_INPUT!AN38,\"\")","v":""},{"$f":"IF(DATA_INPUT!AO38<>\"\",$V36*14.6*DATA_INPUT!AO38,\"\")","v":""},{"$f":"IF(DATA_INPUT!AP38<>\"\",$V36,\"\")","v":""},{"$f":"IF(DATA_INPUT!AQ38<>\"\",$V36,\"\")","v":""},{"$f":"IF(DATA_INPUT!AR38<>\"\",DATA_INPUT!AR38,\"\")","v":""},{"$f":"IF(DATA_INPUT!AS38<>\"\",DATA_INPUT!AS38,\"\")","v":""},{"$f":"IF(DATA_INPUT!AT38<>\"\",DATA_INPUT!AT38,\"\")","v":""},{"$f":"IF(DATA_INPUT!AU38<>\"\",DATA_INPUT!AU38,\"\")","v":""},{"$f":"IF(DATA_INPUT!AV38<>\"\",DATA_INPUT!AV38,\"\")","v":""},{"$f":"IF(DATA_INPUT!AW38<>\"\",DATA_INPUT!AW38,\"\")","v":"X"},{"$f":"IF(DATA_INPUT!AX38<>\"\",DATA_INPUT!AX38+Directions!$D$24-1,\"\")","v":""},{"$f":"IF(DATA_INPUT!AY38<>\"\",DATA_INPUT!AY38,\"\")","v":""},{"$f":"IF(DATA_INPUT!G38<>\"\",2,IF(DATA_INPUT!N38>2,2,IF(DATA_INPUT!N38=2,3,4)))","v":4},{"$f":"IF(OR(DATA_INPUT!S38<>\"\",DATA_INPUT!T38<>\"\"),H36,\"\")","v":1},{"$f":"IF(DATA_INPUT!T38<>\"\",\"X\",\"\")","v":""}]
[{"$f":"IF(DATA_INPUT!F39<>\"\",DATA_INPUT!F39,\"\")","v":""},{"$f":"IF(DATA_INPUT!G39<>\"\",DATA_INPUT!G39,\"\")","v":""},{"$f":"IF(DATA_INPUT!H39<>\"\",DATA_INPUT!H39,\"\")","v":"STA. 98 +40.00"},{"$f":"IF(DATA_INPUT!I39<>\"\",DATA_INPUT!I39,\"\")","v":"A"},{"$f":"IF(DATA_INPUT!J39<>\"\",DATA_INPUT!J39,\"\")","v":"M3-3P"},{"$f":"IF(DATA_INPUT!L39<>\"\",DATA_INPUT!L39,IF(DATA_INPUT!K39<>\"\",DATA_INPUT!K39,\"\"))","v":{"$error":"#VALUE!"}},{"$f":"IF(DATA_INPUT!O39<>\"\",DATA_INPUT!O39,\"\")","v":""},{"$f":"IF(DATA_INPUT!P39<>\"\",DATA_INPUT!P39,\"\")","v":1},{"$f":"IF(DATA_INPUT!Q39<>\"\",DATA_INPUT!Q39,\"\")","v":24},{"$f":"IF(DATA_INPUT!R39<>\"\",DATA_INPUT!R39,\"\")","v":12},{"$f":"IF(DATA_INPUT!S39<>\"\",IF(DATA_INPUT!AZ39<>\"\",DATA_INPUT!AZ39,H37*I37*J37/144)*IF(G37<>\"\",3/2,1),\"\")","v":""},{"$f":"IF(DATA_INPUT!T39<>\"\",IF(DATA_INPUT!AZ39<>\"\",DATA_INPUT!AZ39,H37*I37*J37/144)*IF(G37<>\"\",3/2,1),\"\")","v":""},{"$f":"IF(DATA_INPUT!U39<>\"\",$H37,\"\")","v":""},{"$f":"IF(DATA_INPUT!V39<>\"\",$H37,\"\")","v":""},{"$f":"IF(DATA_INPUT!W39<>\"\",$H37,\"\")","v":""},{"$f":"IF(DATA_INPUT!X39<>\"\",$H37,\"\")","v":1},{"$f":"IF(DATA_INPUT!Y39<>\"\",$H37,\"\")","v":""},{"$f":"IF(DATA_INPUT!Z39<>\"\",DATA_INPUT!Z39,\"\")","v":""},{"$f":"IF(DATA_INPUT!AA39<>\"\",DATA_INPUT!AA39,\"\")","v":""},{"$f":"IF(DATA_INPUT!AB39<>\"\",DATA_INPUT!AB39,\"\")","v":""},{"$f":"IF(DATA_INPUT!AC39<>\"\",DATA_INPUT!AC39,\"\")","v":2},{"$f":"IF(DATA_INPUT!AD39<>\"\",DATA_INPUT!AD39,\"\")","v":""},{"$f":"IF(DATA_INPUT!AE39<>\"\",$V37,\"\")","v":""},{"$f":"IF(DATA_INPUT!AF39<>\"\",$V37*8,\"\")","v":""},{"$f":"IF(DATA_INPUT!AG39<>\"\",$V37*15,\"\")","v":""},{"$f":"IF(DATA_INPUT!AH39<>\"\",$V37*15,\"\")","v":""},{"$f":"IF(DATA_INPUT!AI39<>\"\",$V37,\"\")","v":""},{"$f":"IF(DATA_INPUT!AJ39<>\"\",$V37,\"\")","v":""},{"$f":"IF(DATA_INPUT!AK39<>\"\",$V37,\"\")","v":""},{"$f":"IF(DATA_INPUT!AL39<>\"\",$V37*7.6*DATA_INPUT!AL39,\"\")","v":""},{"$f":"IF(DATA_INPUT!AM39<>\"\",$V37*9*DATA_INPUT!AM39,\"\")","v":""},{"$f":"IF(DATA_INPUT!AN39<>\"\",$V37*10.8*DATA_INPUT!AN39,\"\")","v":""},{"$f":"IF(DATA_INPUT!AO39<>\"\",$V37*14.6*DATA_INPUT!AO39,\"\")","v":""},{"$f":"IF(DATA_INPUT!AP39<>\"\",$V37,\"\")","v":""},{"$f":"IF(DATA_INPUT!AQ39<>\"\",$V37,\"\")","v":""},{"$f":"IF(DATA_INPUT!AR39<>\"\",DATA_INPUT!AR39,\"\")","v":""},{"$f":"IF(DATA_INPUT!AS39<>\"\",DATA_INPUT!AS39,\"\")","v":""},{"$f":"IF(DATA_INPUT!AT39<>\"\",DATA_INPUT!AT39,\"\")","v":""},{"$f":"IF(DATA_INPUT!AU39<>\"\",DATA_INPUT!AU39,\"\")","v":""},{"$f":"IF(DATA_INPUT!AV39<>\"\",DATA_INPUT!AV39,\"\")","v":""},{"$f":"IF(DATA_INPUT!AW39<>\"\",DATA_INPUT!AW39,\"\")","v":"X"},{"$f":"IF(DATA_INPUT!AX39<>\"\",DATA_INPUT!AX39+Directions!$D$24-1,\"\")","v":""},{"$f":"IF(DATA_INPUT!AY39<>\"\",DATA_INPUT!AY39,\"\")","v":""},{"$f":"IF(DATA_INPUT!G39<>\"\",2,IF(DATA_INPUT!N39>2,2,IF(DATA_INPUT!N39=2,3,4)))","v":2},{"$f":"IF(OR(DATA_INPUT!S39<>\"\",DATA_INPUT!T39<>\"\"),H37,\"\")","v":""},{"$f":"IF(DATA_INPUT!T39<>\"\",\"X\",\"\")","v":""}]
[{"$f":"IF(DATA_INPUT!F40<>\"\",DATA_INPUT!F40,\"\")","v":""},{"$f":"IF(DATA_INPUT!G40<>\"\",DATA_INPUT!G40,\"\")","v":""},{"$f":"IF(DATA_INPUT!H40<>\"\",DATA_INPUT!H40,\"\")","v":""},{"$f":"IF(DATA_INPUT!I40<>\"\",DATA_INPUT!I40,\"\")","v":""},{"$f":"IF(DATA_INPUT!J40<>\"\",DATA_INPUT!J40,\"\")","v":"M3-4P"},{"$f":"IF(DATA_INPUT!L40<>\"\",DATA_INPUT!L40,IF(DATA_INPUT!K40<>\"\",DATA_INPUT!K40,\"\"))","v":"(multisign image continues)"},{"$f":"IF(DATA_INPUT!O40<>\"\",DATA_INPUT!O40,\"\")","v":""},{"$f":"IF(DATA_INPUT!P40<>\"\",DATA_INPUT!P40,\"\")","v":1},{"$f":"IF(DATA_INPUT!Q40<>\"\",DATA_INPUT!Q40,\"\")","v":24},{"$f":"IF(DATA_INPUT!R40<>\"\",DATA_INPUT!R40,\"\")","v":12},{"$f":"IF(DATA_INPUT!S40<>\"\",IF(DATA_INPUT!AZ40<>\"\",DATA_INPUT!AZ40,H38*I38*J38/144)*IF(G38<>\"\",3/2,1),\"\")","v":""},{"$f":"IF(DATA_INPUT!T40<>\"\",IF(DATA_INPUT!AZ40<>\"\",DATA_INPUT!AZ40,H38*I38*J38/144)*IF(G38<>\"\",3/2,1),\"\")","v":""},{"$f":"IF(DATA_INPUT!U40<>\"\",$H38,\"\")","v":""},{"$f":"IF(DATA_INPUT!V40<>\"\",$H38,\"\")","v":""},{"$f":"IF(DATA_INPUT!W40<>\"\",$H38,\"\")","v":""},{"$f":"IF(DATA_INPUT!X40<>\"\",$H38,\"\")","v":1},{"$f":"IF(DATA_INPUT!Y40<>\"\",$H38,\"\")","v":""},{"$f":"IF(DATA_INPUT!Z40<>\"\",DATA_INPUT!Z40,\"\")","v":""},{"$f":"IF(DATA_INPUT!AA40<>\"\",DATA_INPUT!AA40,\"\")","v":""},{"$f":"IF(DATA_INPUT!AB40<>\"\",DATA_INPUT!AB40,\"\")","v":""},{"$f":"IF(DATA_INPUT!AC40<>\"\",DATA_INPUT!AC40,\"\")","v":""},{"$f":"IF(DATA_INPUT!AD40<>\"\",DATA_INPUT!AD40,\"\")","v":""},{"$f":"IF(DATA_INPUT!AE40<>\"\",$V38,\"\")","v":""},{"$f":"IF(DATA_INPUT!AF40<>\"\",$V38*8,\"\")","v":""},{"$f":"IF(DATA_INPUT!AG40<>\"\",$V38*15,\"\")","v":""},{"$f":"IF(DATA_INPUT!AH40<>\"\",$V38*15,\"\")","v":""},{"$f":"IF(DATA_INPUT!AI40<>\"\",$V38,\"\")","v":""},{"$f":"IF(DATA_INPUT!AJ40<>\"\",$V38,\"\")","v":""},{"$f":"IF(DATA_INPUT!AK40<>\"\",$V38,\"\")","v":""},{"$f":"IF(DATA_INPUT!AL40<>\"\",$V38*7.6*DATA_INPUT!AL40,\"\")","v":""},{"$f":"IF(DATA_INPUT!AM40<>\"\",$V38*9*DATA_INPUT!AM40,\"\")","v":""},{"$f":"IF(DATA_INPUT!AN40<>\"\",$V38*10.8*DATA_INPUT!AN40,\"\")","v":""},{"$f":"IF(DATA_INPUT!AO40<>\"\",$V38*14.6*DATA_INPUT!AO40,\"\")","v":""},{"$f":"IF(DATA_INPUT!AP40<>\"\",$V38,\"\")","v":""},{"$f":"IF(DATA_INPUT!AQ40<>\"\",$V38,\"\")","v":""},{"$f":"IF(DATA_INPUT!AR40<>\"\",DATA_INPUT!AR40,\"\")","v":""},{"$f":"IF(DATA_INPUT!AS40<>\"\",DATA_INPUT!AS40,\"\")","v":""},{"$f":"IF(DATA_INPUT!AT40<>\"\",DATA_INPUT!AT40,\"\")","v":""},{"$f":"IF(DATA_INPUT!AU40<>\"\",DATA_INPUT!AU40,\"\")","v":""},{"$f":"IF(DATA_INPUT!AV40<>\"\",DATA_INPUT!AV40,\"\")","v":""},{"$f":"IF(DATA_INPUT!AW40<>\"\",DATA_INPUT!AW40,\"\")","v":"X"},{"$f":"IF(DATA_INPUT!AX40<>\"\",DATA_INPUT!AX40+Directions!$D$24-1,\"\")","v":""},{"$f":"IF(DATA_INPUT!AY40<>\"\",DATA_INPUT!AY40,\"\")","v":""},{"$f":"IF(DATA_INPUT!G40<>\"\",2,IF(DATA_INPUT!N40>2,2,IF(DATA_INPUT!N40=2,3,4)))","v":2},{"$f":"IF(OR(DATA_INPUT!S40<>\"\",DATA_INPUT!T40<>\"\"),H38,\"\")","v":""},{"$f":"IF(DATA_INPUT!T40<>\"\",\"X\",\"\")","v":""}]
[{"$f":"IF(DATA_INPUT!F41<>\"\",DATA_INPUT!F41,\"\")","v":""},{"$f":"IF(DATA_INPUT!G41<>\"\",DATA_INPUT!G41,\"\")","v":""},{"$f":"IF(DATA_INPUT!H41<>\"\",DATA_INPUT!H41,\"\")","v":""},{"$f":"IF(DATA_INPUT!I41<>\"\",DATA_INPUT!I41,\"\")","v":""},{"$f":"IF(DATA_INPUT!J41<>\"\",DATA_INPUT!J41,\"\")","v":"M3-1P"},{"$f":"IF(DATA_INPUT!L41<>\"\",DATA_INPUT!L41,IF(DATA_INPUT!K41<>\"\",DATA_INPUT!K41,\"\"))","v":"(multisign image continues)"},{"$f":"IF(DATA_INPUT!O41<>\"\",DATA_INPUT!O41,\"\")","v":""},{"$f":"IF(DATA_INPUT!P41<>\"\",DATA_INPUT!P41,\"\")","v":1},{"$f":"IF(DATA_INPUT!Q41<>\"\",DATA_INPUT!Q41,\"\")","v":24},{"$f":"IF(DATA_INPUT!R41<>\"\",DATA_INPUT!R41,\"\")","v":12},{"$f":"IF(DATA_INPUT!S41<>\"\",IF(DATA_INPUT!AZ41<>\"\",DATA_INPUT!AZ41,H39*I39*J39/144)*IF(G39<>\"\",3/2,1),\"\")","v":""},{"$f":"IF(DATA_INPUT!T41<>\"\",IF(DATA_INPUT!AZ41<>\"\",DATA_INPUT!AZ41,H39*I39*J39/144)*IF(G39<>\"\",3/2,1),\"\")","v":""},{"$f":"IF(DATA_INPUT!U41<>\"\",$H39,\"\")","v":""},{"$f":"IF(DATA_INPUT!V41<>\"\",$H39,\"\")","v":""},{"$f":"IF(DATA_INPUT!W41<>\"\",$H39,\"\")","v":""},{"$f":"IF(DATA_INPUT!X41<>\"\",$H39,\"\")","v":1},{"$f":"IF(DATA_INPUT!Y41<>\"\",$H39,\"\")","v":""},{"$f":"IF(DATA_INPUT!Z41<>\"\",DATA_INPUT!Z41,\"\")","v":""},{"$f":"IF(DATA_INPUT!AA41<>\"\",DATA_INPUT!AA41,\"\")","v":""},{"$f":"IF(DATA_INPUT!AB41<>\"\",DATA_INPUT!AB41,\"\")","v":""},{"$f":"IF(DATA_INPUT!AC41<>\"\",DATA_INPUT!AC41,\"\")","v":""},{"$f":"IF(DATA_INPUT!AD41<>\"\",DATA_INPUT!AD41,\"\")","v":""},{"$f":"IF(DATA_INPUT!AE41<>\"\",$V39,\"\")","v":""},{"$f":"IF(DATA_INPUT!AF41<>\"\",$V39*8,\"\")","v":""},{"$f":"IF(DATA_INPUT!AG41<>\"\",$V39*15,\"\")","v":""},{"$f":"IF(DATA_INPUT!AH41<>\"\",$V39*15,\"\")","v":""},{"$f":"IF(DATA_INPUT!AI41<>\"\",$V39,\"\")","v":""},{"$f":"IF(DATA_INPUT!AJ41<>\"\",$V39,\"\")","v":""},{"$f":"IF(DATA_INPUT!AK41<>\"\",$V39,\"\")","v":""},{"$f":"IF(DATA_INPUT!AL41<>\"\",$V39*7.6*DATA_INPUT!AL41,\"\")","v":""},{"$f":"IF(DATA_INPUT!AM41<>\"\",$V39*9*DATA_INPUT!AM41,\"\")","v":""},{"$f":"IF(DATA_INPUT!AN41<>\"\",$V39*10.8*DATA_INPUT!AN41,\"\")","v":""},{"$f":"IF(DATA_INPUT!AO41<>\"\",$V39*14.6*DATA_INPUT!AO41,\"\")","v":""},{"$f":"IF(DATA_INPUT!AP41<>\"\",$V39,\"\")","v":""},{"$f":"IF(DATA_INPUT!AQ41<>\"\",$V39,\"\")","v":""},{"$f":"IF(DATA_INPUT!AR41<>\"\",DATA_INPUT!AR41,\"\")","v":""},{"$f":"IF(DATA_INPUT!AS41<>\"\",DATA_INPUT!AS41,\"\")","v":""},{"$f":"IF(DATA_INPUT!AT41<>\"\",DATA_INPUT!AT41,\"\")","v":""},{"$f":"IF(DATA_INPUT!AU41<>\"\",DATA_INPUT!AU41,\"\")","v":""},{"$f":"IF(DATA_INPUT!AV41<>\"\",DATA_INPUT!AV41,\"\")","v":""},{"$f":"IF(DATA_INPUT!AW41<>\"\",DATA_INPUT!AW41,\"\")","v":"X"},{"$f":"IF(DATA_INPUT!AX41<>\"\",DATA_INPUT!AX41+Directions!$D$24-1,\"\")","v":""},{"$f":"IF(DATA_INPUT!AY41<>\"\",DATA_INPUT!AY41,\"\")","v":""},{"$f":"IF(DATA_INPUT!G41<>\"\",2,IF(DATA_INPUT!N41>2,2,IF(DATA_INPUT!N41=2,3,4)))","v":2},{"$f":"IF(OR(DATA_INPUT!S41<>\"\",DATA_INPUT!T41<>\"\"),H39,\"\")","v":""},{"$f":"IF(DATA_INPUT!T41<>\"\",\"X\",\"\")","v":""}]
[{"$f":"IF(DATA_INPUT!F42<>\"\",DATA_INPUT!F42,\"\")","v":""},{"$f":"IF(DATA_INPUT!G42<>\"\",DATA_INPUT!G42,\"\")","v":""},{"$f":"IF(DATA_INPUT!H42<>\"\",DATA_INPUT!H42,\"\")","v":""},{"$f":"IF(DATA_INPUT!I42<>\"\",DATA_INPUT!I42,\"\")","v":""},{"$f":"IF(DATA_INPUT!J42<>\"\",DATA_INPUT!J42,\"\")","v":"M1-5"},{"$f":"IF(DATA_INPUT!L42<>\"\",DATA_INPUT!L42,IF(DATA_INPUT!K42<>\"\",DATA_INPUT!K42,\"\"))","v":"(multisign image continues)"},{"$f":"IF(DATA_INPUT!O42<>\"\",DATA_INPUT!O42,\"\")","v":""},{"$f":"IF(DATA_INPUT!P42<>\"\",DATA_INPUT!P42,\"\")","v":1},{"$f":"IF(DATA_INPUT!Q42<>\"\",DATA_INPUT!Q42,\"\")","v":30},{"$f":"IF(DATA_INPUT!R42<>\"\",DATA_INPUT!R42,\"\")","v":24},{"$f":"IF(DATA_INPUT!S42<>\"\",IF(DATA_INPUT!AZ42<>\"\",DATA_INPUT!AZ42,H40*I40*J40/144)*IF(G40<>\"\",3/2,1),\"\")","v":""},{"$f":"IF(DATA_INPUT!T42<>\"\",IF(DATA_INPUT!AZ42<>\"\",DATA_INPUT!AZ42,H40*I40*J40/144)*IF(G40<>\"\",3/2,1),\"\")","v":""},{"$f":"IF(DATA_INPUT!U42<>\"\",$H40,\"\")","v":""},{"$f":"IF(DATA_INPUT!V42<>\"\",$H40,\"\")","v":""},{"$f":"IF(DATA_INPUT!W42<>\"\",$H40,\"\")","v":""},{"$f":"IF(DATA_INPUT!X42<>\"\",$H40,\"\")","v":1},{"$f":"IF(DATA_INPUT!Y42<>\"\",$H40,\"\")","v":""},{"$f":"IF(DATA_INPUT!Z42<>\"\",DATA_INPUT!Z42,\"\")","v":""},{"$f":"IF(DATA_INPUT!AA42<>\"\",DATA_INPUT!AA42,\"\")","v":""},{"$f":"IF(DATA_INPUT!AB42<>\"\",DATA_INPUT!AB42,\"\")","v":""},{"$f":"IF(DATA_INPUT!AC42<>\"\",DATA_INPUT!AC42,\"\")","v":""},{"$f":"IF(DATA_INPUT!AD42<>\"\",DATA_INPUT!AD42,\"\")","v":""},{"$f":"IF(DATA_INPUT!AE42<>\"\",$V40,\"\")","v":""},{"$f":"IF(DATA_INPUT!AF42<>\"\",$V40*8,\"\")","v":""},{"$f":"IF(DATA_INPUT!AG42<>\"\",$V40*15,\"\")","v":""},{"$f":"IF(DATA_INPUT!AH42<>\"\",$V40*15,\"\")","v":""},{"$f":"IF(DATA_INPUT!AI42<>\"\",$V40,\"\")","v":""},{"$f":"IF(DATA_INPUT!AJ42<>\"\",$V40,\"\")","v":""},{"$f":"IF(DATA_INPUT!AK42<>\"\",$V40,\"\")","v":""},{"$f":"IF(DATA_INPUT!AL42<>\"\",$V40*7.6*DATA_INPUT!AL42,\"\")","v":""},{"$f":"IF(DATA_INPUT!AM42<>\"\",$V40*9*DATA_INPUT!AM42,\"\")","v":""},{"$f":"IF(DATA_INPUT!AN42<>\"\",$V40*10.8*DATA_INPUT!AN42,\"\")","v":""},{"$f":"IF(DATA_INPUT!AO42<>\"\",$V40*14.6*DATA_INPUT!AO42,\"\")","v":""},{"$f":"IF(DATA_INPUT!AP42<>\"\",$V40,\"\")","v":""},{"$f":"IF(DATA_INPUT!AQ42<>\"\",$V40,\"\")","v":""},{"$f":"IF(DATA_INPUT!AR42<>\"\",DATA_INPUT!AR42,\"\")","v":""},{"$f":"IF(DATA_INPUT!AS42<>\"\",DATA_INPUT!AS42,\"\")","v":""},{"$f":"IF(DATA_INPUT!AT42<>\"\",DATA_INPUT!AT42,\"\")","v":""},{"$f":"IF(DATA_INPUT!AU42<>\"\",DATA_INPUT!AU42,\"\")","v":""},{"$f":"IF(DATA_INPUT!AV42<>\"\",DATA_INPUT!AV42,\"\")","v":""},{"$f":"IF(DATA_INPUT!AW42<>\"\",DATA_INPUT!AW42,\"\")","v":"X"},{"$f":"IF(DATA_INPUT!AX42<>\"\",DATA_INPUT!AX42+Directions!$D$24-1,\"\")","v":""},{"$f":"IF(DATA_INPUT!AY42<>\"\",DATA_INPUT!AY42,\"\")","v":""},{"$f":"IF(DATA_INPUT!G42<>\"\",2,IF(DATA_INPUT!N42>2,2,IF(DATA_INPUT!N42=2,3,4)))","v":2},{"$f":"IF(OR(DATA_INPUT!S42<>\"\",DATA_INPUT!T42<>\"\"),H40,\"\")","v":""},{"$f":"IF(DATA_INPUT!T42<>\"\",\"X\",\"\")","v":""}]
[{"$f":"IF(DATA_INPUT!F43<>\"\",DATA_INPUT!F43,\"\")","v":""},{"$f":"IF(DATA_INPUT!G43<>\"\",DATA_INPUT!G43,\"\")","v":""},{"$f":"IF(DATA_INPUT!H43<>\"\",DATA_INPUT!H43,\"\")","v":""},{"$f":"IF(DATA_INPUT!I43<>\"\",DATA_INPUT!I43,\"\")","v":""},{"$f":"IF(DATA_INPUT!J43<>\"\",DATA_INPUT!J43,\"\")","v":"M1-4"},{"$f":"IF(DATA_INPUT!L43<>\"\",DATA_INPUT!L43,IF(DATA_INPUT!K43<>\"\",DATA_INPUT!K43,\"\"))","v":"(multisign image continues)"},{"$f":"IF(DATA_INPUT!O43<>\"\",DATA_INPUT!O43,\"\")","v":""},{"$f":"IF(DATA_INPUT!P43<>\"\",DATA_INPUT!P43,\"\")","v":1},{"$f":"IF(DATA_INPUT!Q43<>\"\",DATA_INPUT!Q43,\"\")","v":30},{"$f":"IF(DATA_INPUT!R43<>\"\",DATA_INPUT!R43,\"\")","v":24},{"$f":"IF(DATA_INPUT!S43<>\"\",IF(DATA_INPUT!AZ43<>\"\",DATA_INPUT!AZ43,H41*I41*J41/144)*IF(G41<>\"\",3/2,1),\"\")","v":""},{"$f":"IF(DATA_INPUT!T43<>\"\",IF(DATA_INPUT!AZ43<>\"\",DATA_INPUT!AZ43,H41*I41*J41/144)*IF(G41<>\"\",3/2,1),\"\")","v":""},{"$f":"IF(DATA_INPUT!U43<>\"\",$H41,\"\")","v":""},{"$f":"IF(DATA_INPUT!V43<>\"\",$H41,\"\")","v":""},{"$f":"IF(DATA_INPUT!W43<>\"\",$H41,\"\")","v":""},{"$f":"IF(DATA_INPUT!X43<>\"\",$H41,\"\")","v":1},{"$f":"IF(DATA_INPUT!Y43<>\"\",$H41,\"\")","v":""},{"$f":"IF(DATA_INPUT!Z43<>\"\",DATA_INPUT!Z43,\"\")","v":""},{"$f":"IF(DATA_INPUT!AA43<>\"\",DATA_INPUT!AA43,\"\")","v":""},{"$f":"IF(DATA_INPUT!AB43<>\"\",DATA_INPUT!AB43,\"\")","v":""},{"$f":"IF(DATA_INPUT!AC43<>\"\",DATA_INPUT!AC43,\"\")","v":""},{"$f":"IF(DATA_INPUT!AD43<>\"\",DATA_INPUT!AD43,\"\")","v":""},{"$f":"IF(DATA_INPUT!AE43<>\"\",$V41,\"\")","v":""},{"$f":"IF(DATA_INPUT!AF43<>\"\",$V41*8,\"\")","v":""},{"$f":"IF(DATA_INPUT!AG43<>\"\",$V41*15,\"\")","v":""},{"$f":"IF(DATA_INPUT!AH43<>\"\",$V41*15,\"\")","v":""},{"$f":"IF(DATA_INPUT!AI43<>\"\",$V41,\"\")","v":""},{"$f":"IF(DATA_INPUT!AJ43<>\"\",$V41,\"\")","v":""},{"$f":"IF(DATA_INPUT!AK43<>\"\",$V41,\"\")","v":""},{"$f":"IF(DATA_INPUT!AL43<>\"\",$V41*7.6*DATA_INPUT!AL43,\"\")","v":""},{"$f":"IF(DATA_INPUT!AM43<>\"\",$V41*9*DATA_INPUT!AM43,\"\")","v":""},{"$f":"IF(DATA_INPUT!AN43<>\"\",$V41*10.8*DATA_INPUT!AN43,\"\")","v":""},{"$f":"IF(DATA_INPUT!AO43<>\"\",$V41*14.6*DATA_INPUT!AO43,\"\")","v":""},{"$f":"IF(DATA_INPUT!AP43<>\"\",$V41,\"\")","v":""},{"$f":"IF(DATA_INPUT!AQ43<>\"\",$V41,\"\")","v":""},{"$f":"IF(DATA_INPUT!AR43<>\"\",DATA_INPUT!AR43,\"\")","v":""},{"$f":"IF(DATA_INPUT!AS43<>\"\",DATA_INPUT!AS43,\"\")","v":""},{"$f":"IF(DATA_INPUT!AT43<>\"\",DATA_INPUT!AT43,\"\")","v":""},{"$f":"IF(DATA_INPUT!AU43<>\"\",DATA_INPUT!AU43,\"\")","v":""},{"$f":"IF(DATA_INPUT!AV43<>\"\",DATA_INPUT!AV43,\"\")","v":""},{"$f":"IF(DATA_INPUT!AW43<>\"\",DATA_INPUT!AW43,\"\")","v":"X"},{"$f":"IF(DATA_INPUT!AX43<>\"\",DATA_INPUT!AX43+Directions!$D$24-1,\"\")","v":""},{"$f":"IF(DATA_INPUT!AY43<>\"\",DATA_INPUT!AY43,\"\")","v":""},{"$f":"IF(DATA_INPUT!G43<>\"\",2,IF(DATA_INPUT!N43>2,2,IF(DATA_INPUT!N43=2,3,4)))","v":2},{"$f":"IF(OR(DATA_INPUT!S43<>\"\",DATA_INPUT!T43<>\"\"),H41,\"\")","v":""},{"$f":"IF(DATA_INPUT!T43<>\"\",\"X\",\"\")","v":""}]
[{"$f":"IF(DATA_INPUT!F44<>\"\",DATA_INPUT!F44,\"\")","v":""},{"$f":"IF(DATA_INPUT!G44<>\"\",DATA_INPUT!G44,\"\")","v":""},{"$f":"IF(DATA_INPUT!H44<>\"\",DATA_INPUT!H44,\"\")","v":""},{"$f":"IF(DATA_INPUT!I44<>\"\",DATA_INPUT!I44,\"\")","v":""},{"$f":"IF(DATA_INPUT!J44<>\"\",DATA_INPUT!J44,\"\")","v":"M1-4"},{"$f":"IF(DATA_INPUT!L44<>\"\",DATA_INPUT!L44,IF(DATA_INPUT!K44<>\"\",DATA_INPUT!K44,\"\"))","v":"(multisign image continues)"},{"$f":"IF(DATA_INPUT!O44<>\"\",DATA_INPUT!O44,\"\")","v":""},{"$f":"IF(DATA_INPUT!P44<>\"\",DATA_INPUT!P44,\"\")","v":1},{"$f":"IF(DATA_INPUT!Q44<>\"\",DATA_INPUT!Q44,\"\")","v":30},{"$f":"IF(DATA_INPUT!R44<>\"\",DATA_INPUT!R44,\"\")","v":24},{"$f":"IF(DATA_INPUT!S44<>\"\",IF(DATA_INPUT!AZ44<>\"\",DATA_INPUT!AZ44,H42*I42*J42/144)*IF(G42<>\"\",3/2,1),\"\")","v":""},{"$f":"IF(DATA_INPUT!T44<>\"\",IF(DATA_INPUT!AZ44<>\"\",DATA_INPUT!AZ44,H42*I42*J42/144)*IF(G42<>\"\",3/2,1),\"\")","v":""},{"$f":"IF(DATA_INPUT!U44<>\"\",$H42,\"\")","v":""},{"$f":"IF(DATA_INPUT!V44<>\"\",$H42,\"\")","v":""},{"$f":"IF(DATA_INPUT!W44<>\"\",$H42,\"\")","v":""},{"$f":"IF(DATA_INPUT!X44<>\"\",$H42,\"\")","v":1},{"$f":"IF(DATA_INPUT!Y44<>\"\",$H42,\"\")","v":""},{"$f":"IF(DATA_INPUT!Z44<>\"\",DATA_INPUT!Z44,\"\")","v":""},{"$f":"IF(DATA_INPUT!AA44<>\"\",DATA_INPUT!AA44,\"\")","v":""},{"$f":"IF(DATA_INPUT!AB44<>\"\",DATA_INPUT!AB44,\"\")","v":""},{"$f":"IF(DATA_INPUT!AC44<>\"\",DATA_INPUT!AC44,\"\")","v":""},{"$f":"IF(DATA_INPUT!AD44<>\"\",DATA_INPUT!AD44,\"\")","v":""},{"$f":"IF(DATA_INPUT!AE44<>\"\",$V42,\"\")","v":""},{"$f":"IF(DATA_INPUT!AF44<>\"\",$V42*8,\"\")","v":""},{"$f":"IF(DATA_INPUT!AG44<>\"\",$V42*15,\"\")","v":""},{"$f":"IF(DATA_INPUT!AH44<>\"\",$V42*15,\"\")","v":""},{"$f":"IF(DATA_INPUT!AI44<>\"\",$V42,\"\")","v":""},{"$f":"IF(DATA_INPUT!AJ44<>\"\",$V42,\"\")","v":""},{"$f":"IF(DATA_INPUT!AK44<>\"\",$V42,\"\")","v":""},{"$f":"IF(DATA_INPUT!AL44<>\"\",$V42*7.6*DATA_INPUT!AL44,\"\")","v":""},{"$f":"IF(DATA_INPUT!AM44<>\"\",$V42*9*DATA_INPUT!AM44,\"\")","v":""},{"$f":"IF(DATA_INPUT!AN44<>\"\",$V42*10.8*DATA_INPUT!AN44,\"\")","v":""},{"$f":"IF(DATA_INPUT!AO44<>\"\",$V42*14.6*DATA_INPUT!AO44,\"\")","v":""},{"$f":"IF(DATA_INPUT!AP44<>\"\",$V42,\"\")","v":""},{"$f":"IF(DATA_INPUT!AQ44<>\"\",$V42,\"\")","v":""},{"$f":"IF(DATA_INPUT!AR44<>\"\",DATA_INPUT!AR44,\"\")","v":""},{"$f":"IF(DATA_INPUT!AS44<>\"\",DATA_INPUT!AS44,\"\")","v":""},{"$f":"IF(DATA_INPUT!AT44<>\"\",DATA_INPUT!AT44,\"\")","v":""},{"$f":"IF(DATA_INPUT!AU44<>\"\",DATA_INPUT!AU44,\"\")","v":""},{"$f":"IF(DATA_INPUT!AV44<>\"\",DATA_INPUT!AV44,\"\")","v":""},{"$f":"IF(DATA_INPUT!AW44<>\"\",DATA_INPUT!AW44,\"\")","v":"X"},{"$f":"IF(DATA_INPUT!AX44<>\"\",DATA_INPUT!AX44+Directions!$D$24-1,\"\")","v":""},{"$f":"IF(DATA_INPUT!AY44<>\"\",DATA_INPUT!AY44,\"\")","v":""},{"$f":"IF(DATA_INPUT!G44<>\"\",2,IF(DATA_INPUT!N44>2,2,IF(DATA_INPUT!N44=2,3,4)))","v":2},{"$f":"IF(OR(DATA_INPUT!S44<>\"\",DATA_INPUT!T44<>\"\"),H42,\"\")","v":""},{"$f":"IF(DATA_INPUT!T44<>\"\",\"X\",\"\")","v":""}]
[{"$f":"IF(DATA_INPUT!F45<>\"\",DATA_INPUT!F45,\"\")","v":""},{"$f":"IF(DATA_INPUT!G45<>\"\",DATA_INPUT!G45,\"\")","v":""},{"$f":"IF(DATA_INPUT!H45<>\"\",DATA_INPUT!H45,\"\")","v":""},{"$f":"IF(DATA_INPUT!I45<>\"\",DATA_INPUT!I45,\"\")","v":""},{"$f":"IF(DATA_INPUT!J45<>\"\",DATA_INPUT!J45,\"\")","v":"M6-1PL"},{"$f":"IF(DATA_INPUT!L45<>\"\",DATA_INPUT!L45,IF(DATA_INPUT!K45<>\"\",DATA_INPUT!K45,\"\"))","v":"(multisign image continues)"},{"$f":"IF(DATA_INPUT!O45<>\"\",DATA_INPUT!O45,\"\")","v":""},{"$f":"IF(DATA_INPUT!P45<>\"\",DATA_INPUT!P45,\"\")","v":1},{"$f":"IF(DATA_INPUT!Q45<>\"\",DATA_INPUT!Q45,\"\")","v":21},{"$f":"IF(DATA_INPUT!R45<>\"\",DATA_INPUT!R45,\"\")","v":15},{"$f":"IF(DATA_INPUT!S45<>\"\",IF(DATA_INPUT!AZ45<>\"\",DATA_INPUT!AZ45,H43*I43*J43/144)*IF(G43<>\"\",3/2,1),\"\")","v":""},{"$f":"IF(DATA_INPUT!T45<>\"\",IF(DATA_INPUT!AZ45<>\"\",DATA_INPUT!AZ45,H43*I43*J43/144)*IF(G43<>\"\",3/2,1),\"\")","v":""},{"$f":"IF(DATA_INPUT!U45<>\"\",$H43,\"\")","v":""},{"$f":"IF(DATA_INPUT!V45<>\"\",$H43,\"\")","v":""},{"$f":"IF(DATA_INPUT!W45<>\"\",$H43,\"\")","v":""},{"$f":"IF(DATA_INPUT!X45<>\"\",$H43,\"\")","v":1},{"$f":"IF(DATA_INPUT!Y45<>\"\",$H43,\"\")","v":""},{"$f":"IF(DATA_INPUT!Z45<>\"\",DATA_INPUT!Z45,\"\")","v":""},{"$f":"IF(DATA_INPUT!AA45<>\"\",DATA_INPUT!AA45,\"\")","v":""},{"$f":"IF(DATA_INPUT!AB45<>\"\",DATA_INPUT!AB45,\"\")","v":""},{"$f":"IF(DATA_INPUT!AC45<>\"\",DATA_INPUT!AC45,\"\")","v":""},{"$f":"IF(DATA_INPUT!AD45<>\"\",DATA_INPUT!AD45,\"\")","v":""},{"$f":"IF(DATA_INPUT!AE45<>\"\",$V43,\"\")","v":""},{"$f":"IF(DATA_INPUT!AF45<>\"\",$V43*8,\"\")","v":""},{"$f":"IF(DATA_INPUT!AG45<>\"\",$V43*15,\"\")","v":""},{"$f":"IF(DATA_INPUT!AH45<>\"\",$V43*15,\"\")","v":""},{"$f":"IF(DATA_INPUT!AI45<>\"\",$V43,\"\")","v":""},{"$f":"IF(DATA_INPUT!AJ45<>\"\",$V43,\"\")","v":""},{"$f":"IF(DATA_INPUT!AK45<>\"\",$V43,\"\")","v":""},{"$f":"IF(DATA_INPUT!AL45<>\"\",$V43*7.6*DATA_INPUT!AL45,\"\")","v":""},{"$f":"IF(DATA_INPUT!AM45<>\"\",$V43*9*DATA_INPUT!AM45,\"\")","v":""},{"$f":"IF(DATA_INPUT!AN45<>\"\",$V43*10.8*DATA_INPUT!AN45,\"\")","v":""},{"$f":"IF(DATA_INPUT!AO45<>\"\",$V43*14.6*DATA_INPUT!AO45,\"\")","v":""},{"$f":"IF(DATA_INPUT!AP45<>\"\",$V43,\"\")","v":""},{"$f":"IF(DATA_INPUT!AQ45<>\"\",$V43,\"\")","v":""},{"$f":"IF(DATA_INPUT!AR45<>\"\",DATA_INPUT!AR45,\"\")","v":""},{"$f":"IF(DATA_INPUT!AS45<>\"\",DATA_INPUT!AS45,\"\")","v":""},{"$f":"IF(DATA_INPUT!AT45<>\"\",DATA_INPUT!AT45,\"\")","v":""},{"$f":"IF(DATA_INPUT!AU45<>\"\",DATA_INPUT!AU45,\"\")","v":""},{"$f":"IF(DATA_INPUT!AV45<>\"\",DATA_INPUT!AV45,\"\")","v":""},{"$f":"IF(DATA_INPUT!AW45<>\"\",DATA_INPUT!AW45,\"\")","v":"X"},{"$f":"IF(DATA_INPUT!AX45<>\"\",DATA_INPUT!AX45+Directions!$D$24-1,\"\")","v":""},{"$f":"IF(DATA_INPUT!AY45<>\"\",DATA_INPUT!AY45,\"\")","v":""},{"$f":"IF(DATA_INPUT!G45<>\"\",2,IF(DATA_INPUT!N45>2,2,IF(DATA_INPUT!N45=2,3,4)))","v":2},{"$f":"IF(OR(DATA_INPUT!S45<>\"\",DATA_INPUT!T45<>\"\"),H43,\"\")","v":""},{"$f":"IF(DATA_INPUT!T45<>\"\",\"X\",\"\")","v":""}]
[{"$f":"IF(DATA_INPUT!F46<>\"\",DATA_INPUT!F46,\"\")","v":""},{"$f":"IF(DATA_INPUT!G46<>\"\",DATA_INPUT!G46,\"\")","v":""},{"$f":"IF(DATA_INPUT!H46<>\"\",DATA_INPUT!H46,\"\")","v":""},{"$f":"IF(DATA_INPUT!I46<>\"\",DATA_INPUT!I46,\"\")","v":""},{"$f":"IF(DATA_INPUT!J46<>\"\",DATA_INPUT!J46,\"\")","v":"M6-3P"},{"$f":"IF(DATA_INPUT!L46<>\"\",DATA_INPUT!L46,IF(DATA_INPUT!K46<>\"\",DATA_INPUT!K46,\"\"))","v":"(multisign image continues)"},{"$f":"IF(DATA_INPUT!O46<>\"\",DATA_INPUT!O46,\"\")","v":""},{"$f":"IF(DATA_INPUT!P46<>\"\",DATA_INPUT!P46,\"\")","v":2},{"$f":"IF(DATA_INPUT!Q46<>\"\",DATA_INPUT!Q46,\"\")","v":21},{"$f":"IF(DATA_INPUT!R46<>\"\",DATA_INPUT!R46,\"\")","v":15},{"$f":"IF(DATA_INPUT!S46<>\"\",IF(DATA_INPUT!AZ46<>\"\",DATA_INPUT!AZ46,H44*I44*J44/144)*IF(G44<>\"\",3/2,1),\"\")","v":""},{"$f":"IF(DATA_INPUT!T46<>\"\",IF(DATA_INPUT!AZ46<>\"\",DATA_INPUT!AZ46,H44*I44*J44/144)*IF(G44<>\"\",3/2,1),\"\")","v":""},{"$f":"IF(DATA_INPUT!U46<>\"\",$H44,\"\")","v":""},{"$f":"IF(DATA_INPUT!V46<>\"\",$H44,\"\")","v":""},{"$f":"IF(DATA_INPUT!W46<>\"\",$H44,\"\")","v":""},{"$f":"IF(DATA_INPUT!X46<>\"\",$H44,\"\")","v":2},{"$f":"IF(DATA_INPUT!Y46<>\"\",$H44,\"\")","v":""},{"$f":"IF(DATA_INPUT!Z46<>\"\",DATA_INPUT!Z46,\"\")","v":""},{"$f":"IF(DATA_INPUT!AA46<>\"\",DATA_INPUT!AA46,\"\")","v":""},{"$f":"IF(DATA_INPUT!AB46<>\"\",DATA_INPUT!AB46,\"\")","v":""},{"$f":"IF(DATA_INPUT!AC46<>\"\",DATA_INPUT!AC46,\"\")","v":""},{"$f":"IF(DATA_INPUT!AD46<>\"\",DATA_INPUT!AD46,\"\")","v":""},{"$f":"IF(DATA_INPUT!AE46<>\"\",$V44,\"\")","v":""},{"$f":"IF(DATA_INPUT!AF46<>\"\",$V44*8,\"\")","v":""},{"$f":"IF(DATA_INPUT!AG46<>\"\",$V44*15,\"\")","v":""},{"$f":"IF(DATA_INPUT!AH46<>\"\",$V44*15,\"\")","v":""},{"$f":"IF(DATA_INPUT!AI46<>\"\",$V44,\"\")","v":""},{"$f":"IF(DATA_INPUT!AJ46<>\"\",$V44,\"\")","v":""},{"$f":"IF(DATA_INPUT!AK46<>\"\",$V44,\"\")","v":""},{"$f":"IF(DATA_INPUT!AL46<>\"\",$V44*7.6*DATA_INPUT!AL46,\"\")","v":""},{"$f":"IF(DATA_INPUT!AM46<>\"\",$V44*9*DATA_INPUT!AM46,\"\")","v":""},{"$f":"IF(DATA_INPUT!AN46<>\"\",$V44*10.8*DATA_INPUT!AN46,\"\")","v":""},{"$f":"IF(DATA_INPUT!AO46<>\"\",$V44*14.6*DATA_INPUT!AO46,\"\")","v":""},{"$f":"IF(DATA_INPUT!AP46<>\"\",$V44,\"\")","v":""},{"$f":"IF(DATA_INPUT!AQ46<>\"\",$V44,\"\")","v":""},{"$f":"IF(DATA_INPUT!AR46<>\"\",DATA_INPUT!AR46,\"\")","v":""},{"$f":"IF(DATA_INPUT!AS46<>\"\",DATA_INPUT!AS46,\"\")","v":""},{"$f":"IF(DATA_INPUT!AT46<>\"\",DATA_INPUT!AT46,\"\")","v":""},{"$f":"IF(DATA_INPUT!AU46<>\"\",DATA_INPUT!AU46,\"\")","v":""},{"$f":"IF(DATA_INPUT!AV46<>\"\",DATA_INPUT!AV46,\"\")","v":""},{"$f":"IF(DATA_INPUT!AW46<>\"\",DATA_INPUT!AW46,\"\")","v":"X"},{"$f":"IF(DATA_INPUT!AX46<>\"\",DATA_INPUT!AX46+Directions!$D$24-1,\"\")","v":""},{"$f":"IF(DATA_INPUT!AY46<>\"\",DATA_INPUT!AY46,\"\")","v":""},{"$f":"IF(DATA_INPUT!G46<>\"\",2,IF(DATA_INPUT!N46>2,2,IF(DATA_INPUT!N46=2,3,4)))","v":2},{"$f":"IF(OR(DATA_INPUT!S46<>\"\",DATA_INPUT!T46<>\"\"),H44,\"\")","v":""},{"$f":"IF(DATA_INPUT!T46<>\"\",\"X\",\"\")","v":""}]
[{"$f":"IF(DATA_INPUT!F47<>\"\",DATA_INPUT!F47,\"\")","v":""},{"$f":"IF(DATA_INPUT!G47<>\"\",DATA_INPUT!G47,\"\")","v":""},{"$f":"IF(DATA_INPUT!H47<>\"\",DATA_INPUT!H47,\"\")","v":"STA. 98 +40.00"},{"$f":"IF(DATA_INPUT!I47<>\"\",DATA_INPUT!I47,\"\")","v":"A"},{"$f":"IF(DATA_INPUT!J47<>\"\",DATA_INPUT!J47,\"\")","v":"M3-3P"},{"$f":"IF(DATA_INPUT!L47<>\"\",DATA_INPUT!L47,IF(DATA_INPUT!K47<>\"\",DATA_INPUT!K47,\"\"))","v":{"$error":"#VALUE!"}},{"$f":"IF(DATA_INPUT!O47<>\"\",DATA_INPUT!O47,\"\")","v":""},{"$f":"IF(DATA_INPUT!P47<>\"\",DATA_INPUT!P47,\"\")","v":1},{"$f":"IF(DATA_INPUT!Q47<>\"\",DATA_INPUT!Q47,\"\")","v":24},{"$f":"IF(DATA_INPUT!R47<>\"\",DATA_INPUT!R47,\"\")","v":12},{"$f":"IF(DATA_INPUT!S47<>\"\",IF(DATA_INPUT!AZ47<>\"\",DATA_INPUT!AZ47,H45*I45*J45/144)*IF(G45<>\"\",3/2,1),\"\")","v":2},{"$f":"IF(DATA_INPUT!T47<>\"\",IF(DATA_INPUT!AZ47<>\"\",DATA_INPUT!AZ47,H45*I45*J45/144)*IF(G45<>\"\",3/2,1),\"\")","v":""},{"$f":"IF(DATA_INPUT!U47<>\"\",$H45,\"\")","v":""},{"$f":"IF(DATA_INPUT!V47<>\"\",$H45,\"\")","v":""},{"$f":"IF(DATA_INPUT!W47<>\"\",$H45,\"\")","v":""},{"$f":"IF(DATA_INPUT!X47<>\"\",$H45,\"\")","v":""},{"$f":"IF(DATA_INPUT!Y47<>\"\",$H45,\"\")","v":""},{"$f":"IF(DATA_INPUT!Z47<>\"\",DATA_INPUT!Z47,\"\")","v":""},{"$f":"IF(DATA_INPUT!AA47<>\"\",DATA_INPUT!AA47,\"\")","v":""},{"$f":"IF(DATA_INPUT!AB47<>\"\",DATA_INPUT!AB47,\"\")","v":""},{"$f":"IF(DATA_INPUT!AC47<>\"\",DATA_INPUT!AC47,\"\")","v":""},{"$f":"IF(DATA_INPUT!AD47<>\"\",DATA_INPUT!AD47,\"\")","v":2},{"$f":"IF(DATA_INPUT!AE47<>\"\",$V45,\"\")","v":""},{"$f":"IF(DATA_INPUT!AF47<>\"\",$V45*8,\"\")","v":""},{"$f":"IF(DATA_INPUT!AG47<>\"\",$V45*15,\"\")","v":""},{"$f":"IF(DATA_INPUT!AH47<>\"\",$V45*15,\"\")","v":30},{"$f":"IF(DATA_INPUT!AI47<>\"\",$V45,\"\")","v":2},{"$f":"IF(DATA_INPUT!AJ47<>\"\",$V45,\"\")","v":""},{"$f":"IF(DATA_INPUT!AK47<>\"\",$V45,\"\")","v":""},{"$f":"IF(DATA_INPUT!AL47<>\"\",$V45*7.6*DATA_INPUT!AL47,\"\")","v":""},{"$f":"IF(DATA_INPUT!AM47<>\"\",$V45*9*DATA_INPUT!AM47,\"\")","v":""},{"$f":"IF(DATA_INPUT!AN47<>\"\",$V45*10.8*DATA_INPUT!AN47,\"\")","v":""},{"$f":"IF(DATA_INPUT!AO47<>\"\",$V45*14.6*DATA_INPUT!AO47,\"\")","v":""},{"$f":"IF(DATA_INPUT!AP47<>\"\",$V45,\"\")","v":""},{"$f":"IF(DATA_INPUT!AQ47<>\"\",$V45,\"\")","v":""},{"$f":"IF(DATA_INPUT!AR47<>\"\",DATA_INPUT!AR47,\"\")","v":""},{"$f":"IF(DATA_INPUT!AS47<>\"\",DATA_INPUT!AS47,\"\")","v":""},{"$f":"IF(DATA_INPUT!AT47<>\"\",DATA_INPUT!AT47,\"\")","v":"X"},{"$f":"IF(DATA_INPUT!AU47<>\"\",DATA_INPUT!AU47,\"\")","v":""},{"$f":"IF(DATA_INPUT!AV47<>\"\",DATA_INPUT!AV47,\"\")","v":"BLACK ON WHITE"},{"$f":"IF(DATA_INPUT!AW47<>\"\",DATA_INPUT!AW47,\"\")","v":"X"},{"$f":"IF(DATA_INPUT!AX47<>\"\",DATA_INPUT!AX47+Directions!$D$24-1,\"\")","v":""},{"$f":"IF(DATA_INPUT!AY47<>\"\",DATA_INPUT!AY47,\"\")","v":""},{"$f":"IF(DATA_INPUT!G47<>\"\",2,IF(DATA_INPUT!N47>2,2,IF(DATA_INPUT!N47=2,3,4)))","v":2},{"$f":"IF(OR(DATA_INPUT!S47<>\"\",DATA_INPUT!T47<>\"\"),H45,\"\")","v":1},{"$f":"IF(DATA_INPUT!T47<>\"\",\"X\",\"\")","v":""}]
[{"$f":"IF(DATA_INPUT!F48<>\"\",DATA_INPUT!F48,\"\")","v":""},{"$f":"IF(DATA_INPUT!G48<>\"\",DATA_INPUT!G48,\"\")","v":""},{"$f":"IF(DATA_INPUT!H48<>\"\",DATA_INPUT!H48,\"\")","v":""},{"$f":"IF(DATA_INPUT!I48<>\"\",DATA_INPUT!I48,\"\")","v":""},{"$f":"IF(DATA_INPUT!J48<>\"\",DATA_INPUT!J48,\"\")","v":"M3-4P"},{"$f":"IF(DATA_INPUT!L48<>\"\",DATA_INPUT!L48,IF(DATA_INPUT!K48<>\"\",DATA_INPUT!K48,\"\"))","v":"(multisign image continues)"},{"$f":"IF(DATA_INPUT!O48<>\"\",DATA_INPUT!O48,\"\")","v":""},{"$f":"IF(DATA_INPUT!P48<>\"\",DATA_INPUT!P48,\"\")","v":1},{"$f":"IF(DATA_INPUT!Q48<>\"\",DATA_INPUT!Q48,\"\")","v":24},{"$f":"IF(DATA_INPUT!R48<>\"\",DATA_INPUT!R48,\"\")","v":12},{"$f":"IF(DATA_INPUT!S48<>\"\",IF(DATA_INPUT!AZ48<>\"\",DATA_INPUT!AZ48,H46*I46*J46/144)*IF(G46<>\"\",3/2,1),\"\")","v":2},{"$f":"IF(DATA_INPUT!T48<>\"\",IF(DATA_INPUT!AZ48<>\"\",DATA_INPUT!AZ48,H46*I46*J46/144)*IF(G46<>\"\",3/2,1),\"\")","v":""},{"$f":"IF(DATA_INPUT!U48<>\"\",$H46,\"\")","v":""},{"$f":"IF(DATA_INPUT!V48<>\"\",$H46,\"\")","v":""},{"$f":"IF(DATA_INPUT!W48<>\"\",$H46,\"\")","v":""},{"$f":"IF(DATA_INPUT!X48<>\"\",$H46,\"\")","v":""},{"$f":"IF(DATA_INPUT!Y48<>\"\",$H46,\"\")","v":""},{"$f":"IF(DATA_INPUT!Z48<>\"\",DATA_INPUT!Z48,\"\")","v":""},{"$f":"IF(DATA_INPUT!AA48<>\"\",DATA_INPUT!AA48,\"\")","v":""},{"$f":"IF(DATA_INPUT!AB48<>\"\",DATA_INPUT!AB48,\"\")","v":""},{"$f":"IF(DATA_INPUT!AC48<>\"\",DATA_INPUT!AC48,\"\")","v":""},{"$f":"IF(DATA_INPUT!AD48<>\"\",DATA_INPUT!AD48,\"\")","v":""},{"$f":"IF(DATA_INPUT!AE48<>\"\",$V46,\"\")","v":""},{"$f":"IF(DATA_INPUT!AF48<>\"\",$V46*8,\"\")","v":""},{"$f":"IF(DATA_INPUT!AG48<>\"\",$V46*15,\"\")","v":""},{"$f":"IF(DATA_INPUT!AH48<>\"\",$V46*15,\"\")","v":""},{"$f":"IF(DATA_INPUT!AI48<>\"\",$V46,\"\")","v":""},{"$f":"IF(DATA_INPUT!AJ48<>\"\",$V46,\"\")","v":""},{"$f":"IF(DATA_INPUT!AK48<>\"\",$V46,\"\")","v":""},{"$f":"IF(DATA_INPUT!AL48<>\"\",$V46*7.6*DATA_INPUT!AL48,\"\")","v":""},{"$f":"IF(DATA_INPUT!AM48<>\"\",$V46*9*DATA_INPUT!AM48,\"\")","v":""},{"$f":"IF(DATA_INPUT!AN48<>\"\",$V46*10.8*DATA_INPUT!AN48,\"\")","v":""},{"$f":"IF(DATA_INPUT!AO48<>\"\",$V46*14.6*DATA_INPUT!AO48,\"\")","v":""},{"$f":"IF(DATA_INPUT!AP48<>\"\",$V46,\"\")","v":""},{"$f":"IF(DATA_INPUT!AQ48<>\"\",$V46,\"\")","v":""},{"$f":"IF(DATA_INPUT!AR48<>\"\",DATA_INPUT!AR48,\"\")","v":""},{"$f":"IF(DATA_INPUT!AS48<>\"\",DATA_INPUT!AS48,\"\")","v":""},{"$f":"IF(DATA_INPUT!AT48<>\"\",DATA_INPUT!AT48,\"\")","v":""},{"$f":"IF(DATA_INPUT!AU48<>\"\",DATA_INPUT!AU48,\"\")","v":""},{"$f":"IF(DATA_INPUT!AV48<>\"\",DATA_INPUT!AV48,\"\")","v":"BLACK ON WHITE"},{"$f":"IF(DATA_INPUT!AW48<>\"\",DATA_INPUT!AW48,\"\")","v":"X"},{"$f":"IF(DATA_INPUT!AX48<>\"\",DATA_INPUT!AX48+Directions!$D$24-1,\"\")","v":""},{"$f":"IF(DATA_INPUT!AY48<>\"\",DATA_INPUT!AY48,\"\")","v":""},{"$f":"IF(DATA_INPUT!G48<>\"\",2,IF(DATA_INPUT!N48>2,2,IF(DATA_INPUT!N48=2,3,4)))","v":2},{"$f":"IF(OR(DATA_INPUT!S48<>\"\",DATA_INPUT!T48<>\"\"),H46,\"\")","v":1},{"$f":"IF(DATA_INPUT!T48<>\"\",\"X\",\"\")","v":""}]
[{"$f":"IF(DATA_INPUT!F49<>\"\",DATA_INPUT!F49,\"\")","v":""},{"$f":"IF(DATA_INPUT!G49<>\"\",DATA_INPUT!G49,\"\")","v":""},{"$f":"IF(DATA_INPUT!H49<>\"\",DATA_INPUT!H49,\"\")","v":""},{"$f":"IF(DATA_INPUT!I49<>\"\",DATA_INPUT!I49,\"\")","v":""},{"$f":"IF(DATA_INPUT!J49<>\"\",DATA_INPUT!J49,\"\")","v":"M3-1P"},{"$f":"IF(DATA_INPUT!L49<>\"\",DATA_INPUT!L49,IF(DATA_INPUT!K49<>\"\",DATA_INPUT!K49,\"\"))","v":"(multisign image continues)"},{"$f":"IF(DATA_INPUT!O49<>\"\",DATA_INPUT!O49,\"\")","v":""},{"$f":"IF(DATA_INPUT!P49<>\"\",DATA_INPUT!P49,\"\")","v":1},{"$f":"IF(DATA_INPUT!Q49<>\"\",DATA_INPUT!Q49,\"\")","v":24},{"$f":"IF(DATA_INPUT!R49<>\"\",DATA_INPUT!R49,\"\")","v":12},{"$f":"IF(DATA_INPUT!S49<>\"\",IF(DATA_INPUT!AZ49<>\"\",DATA_INPUT!AZ49,H47*I47*J47/144)*IF(G47<>\"\",3/2,1),\"\")","v":2},{"$f":"IF(DATA_INPUT!T49<>\"\",IF(DATA_INPUT!AZ49<>\"\",DATA_INPUT!AZ49,H47*I47*J47/144)*IF(G47<>\"\",3/2,1),\"\")","v":""},{"$f":"IF(DATA_INPUT!U49<>\"\",$H47,\"\")","v":""},{"$f":"IF(DATA_INPUT!V49<>\"\",$H47,\"\")","v":""},{"$f":"IF(DATA_INPUT!W49<>\"\",$H47,\"\")","v":""},{"$f":"IF(DATA_INPUT!X49<>\"\",$H47,\"\")","v":""},{"$f":"IF(DATA_INPUT!Y49<>\"\",$H47,\"\")","v":""},{"$f":"IF(DATA_INPUT!Z49<>\"\",DATA_INPUT!Z49,\"\")","v":""},{"$f":"IF(DATA_INPUT!AA49<>\"\",DATA_INPUT!AA49,\"\")","v":""},{"$f":"IF(DATA_INPUT!AB49<>\"\",DATA_INPUT!AB49,\"\")","v":""},{"$f":"IF(DATA_INPUT!AC49<>\"\",DATA_INPUT!AC49,\"\")","v":""},{"$f":"IF(DATA_INPUT!AD49<>\"\",DATA_INPUT!AD49,\"\")","v":""},{"$f":"IF(DATA_INPUT!AE49<>\"\",$V47,\"\")","v":""},{"$f":"IF(DATA_INPUT!AF49<>\"\",$V47*8,\"\")","v":""},{"$f":"IF(DATA_INPUT!AG49<>\"\",$V47*15,\"\")","v":""},{"$f":"IF(DATA_INPUT!AH49<>\"\",$V47*15,\"\")","v":""},{"$f":"IF(DATA_INPUT!AI49<>\"\",$V47,\"\")","v":""},{"$f":"IF(DATA_INPUT!AJ49<>\"\",$V47,\"\")","v":""},{"$f":"IF(DATA_INPUT!AK49<>\"\",$V47,\"\")","v":""},{"$f":"IF(DATA_INPUT!AL49<>\"\",$V47*7.6*DATA_INPUT!AL49,\"\")","v":""},{"$f":"IF(DATA_INPUT!AM49<>\"\",$V47*9*DATA_INPUT!AM49,\"\")","v":""},{"$f":"IF(DATA_INPUT!AN49<>\"\",$V47*10.8*DATA_INPUT!AN49,\"\")","v":""},{"$f":"IF(DATA_INPUT!AO49<>\"\",$V47*14.6*DATA_INPUT!AO49,\"\")","v":""},{"$f":"IF(DATA_INPUT!AP49<>\"\",$V47,\"\")","v":""},{"$f":"IF(DATA_INPUT!AQ49<>\"\",$V47,\"\")","v":""},{"$f":"IF(DATA_INPUT!AR49<>\"\",DATA_INPUT!AR49,\"\")","v":""},{"$f":"IF(DATA_INPUT!AS49<>\"\",DATA_INPUT!AS49,\"\")","v":""},{"$f":"IF(DATA_INPUT!AT49<>\"\",DATA_INPUT!AT49,\"\")","v":""},{"$f":"IF(DATA_INPUT!AU49<>\"\",DATA_INPUT!AU49,\"\")","v":""},{"$f":"IF(DATA_INPUT!AV49<>\"\",DATA_INPUT!AV49,\"\")","v":"BLACK ON WHITE"},{"$f":"IF(DATA_INPUT!AW49<>\"\",DATA_INPUT!AW49,\"\")","v":"X"},{"$f":"IF(DATA_INPUT!AX49<>\"\",DATA_INPUT!AX49+Directions!$D$24-1,\"\")","v":""},{"$f":"IF(DATA_INPUT!AY49<>\"\",DATA_INPUT!AY49,\"\")","v":""},{"$f":"IF(DATA_INPUT!G49<>\"\",2,IF(DATA_INPUT!N49>2,2,IF(DATA_INPUT!N49=2,3,4)))","v":2},{"$f":"IF(OR(DATA_INPUT!S49<>\"\",DATA_INPUT!T49<>\"\"),H47,\"\")","v":1},{"$f":"IF(DATA_INPUT!T49<>\"\",\"X\",\"\")","v":""}]
[{"$f":"IF(DATA_INPUT!F50<>\"\",DATA_INPUT!F50,\"\")","v":""},{"$f":"IF(DATA_INPUT!G50<>\"\",DATA_INPUT!G50,\"\")","v":""},{"$f":"IF(DATA_INPUT!H50<>\"\",DATA_INPUT!H50,\"\")","v":""},{"$f":"IF(DATA_INPUT!I50<>\"\",DATA_INPUT!I50,\"\")","v":""},{"$f":"IF(DATA_INPUT!J50<>\"\",DATA_INPUT!J50,\"\")","v":"M1-5"},{"$f":"IF(DATA_INPUT!L50<>\"\",DATA_INPUT!L50,IF(DATA_INPUT!K50<>\"\",DATA_INPUT!K50,\"\"))","v":"(multisign image continues)"},{"$f":"IF(DATA_INPUT!O50<>\"\",DATA_INPUT!O50,\"\")","v":""},{"$f":"IF(DATA_INPUT!P50<>\"\",DATA_INPUT!P50,\"\")","v":1},{"$f":"IF(DATA_INPUT!Q50<>\"\",DATA_INPUT!Q50,\"\")","v":30},{"$f":"IF(DATA_INPUT!R50<>\"\",DATA_INPUT!R50,\"\")","v":24},{"$f":"IF(DATA_INPUT!S50<>\"\",IF(DATA_INPUT!AZ50<>\"\",DATA_INPUT!AZ50,H48*I48*J48/144)*IF(G48<>\"\",3/2,1),\"\")","v":5},{"$f":"IF(DATA_INPUT!T50<>\"\",IF(DATA_INPUT!AZ50<>\"\",DATA_INPUT!AZ50,H48*I48*J48/144)*IF(G48<>\"\",3/2,1),\"\")","v":""},{"$f":"IF(DATA_INPUT!U50<>\"\",$H48,\"\")","v":""},{"$f":"IF(DATA_INPUT!V50<>\"\",$H48,\"\")","v":""},{"$f":"IF(DATA_INPUT!W50<>\"\",$H48,\"\")","v":""},{"$f":"IF(DATA_INPUT!X50<>\"\",$H48,\"\")","v":""},{"$f":"IF(DATA_INPUT!Y50<>\"\",$H48,\"\")","v":""},{"$f":"IF(DATA_INPUT!Z50<>\"\",DATA_INPUT!Z50,\"\")","v":""},{"$f":"IF(DATA_INPUT!AA50<>\"\",DATA_INPUT!AA50,\"\")","v":""},{"$f":"IF(DATA_INPUT!AB50<>\"\",DATA_INPUT!AB50,\"\")","v":""},{"$f":"IF(DATA_INPUT!AC50<>\"\",DATA_INPUT!AC50,\"\")","v":""},{"$f":"IF(DATA_INPUT!AD50<>\"\",DATA_INPUT!AD50,\"\")","v":""},{"$f":"IF(DATA_INPUT!AE50<>\"\",$V48,\"\")","v":""},{"$f":"IF(DATA_INPUT!AF50<>\"\",$V48*8,\"\")","v":""},{"$f":"IF(DATA_INPUT!AG50<>\"\",$V48*15,\"\")","v":""},{"$f":"IF(DATA_INPUT!AH50<>\"\",$V48*15,\"\")","v":""},{"$f":"IF(DATA_INPUT!AI50<>\"\",$V48,\"\")","v":""},{"$f":"IF(DATA_INPUT!AJ50<>\"\",$V48,\"\")","v":""},{"$f":"IF(DATA_INPUT!AK50<>\"\",$V48,\"\")","v":""},{"$f":"IF(DATA_INPUT!AL50<>\"\",$V48*7.6*DATA_INPUT!AL50,\"\")","v":""},{"$f":"IF(DATA_INPUT!AM50<>\"\",$V48*9*DATA_INPUT!AM50,\"\")","v":""},{"$f":"IF(DATA_INPUT!AN50<>\"\",$V48*10.8*DATA_INPUT!AN50,\"\")","v":""},{"$f":"IF(DATA_INPUT!AO50<>\"\",$V48*14.6*DATA_INPUT!AO50,\"\")","v":""},{"$f":"IF(DATA_INPUT!AP50<>\"\",$V48,\"\")","v":""},{"$f":"IF(DATA_INPUT!AQ50<>\"\",$V48,\"\")","v":""},{"$f":"IF(DATA_INPUT!AR50<>\"\",DATA_INPUT!AR50,\"\")","v":""},{"$f":"IF(DATA_INPUT!AS50<>\"\",DATA_INPUT!AS50,\"\")","v":""},{"$f":"IF(DATA_INPUT!AT50<>\"\",DATA_INPUT!AT50,\"\")","v":""},{"$f":"IF(DATA_INPUT!AU50<>\"\",DATA_INPUT!AU50,\"\")","v":""},{"$f":"IF(DATA_INPUT!AV50<>\"\",DATA_INPUT!AV50,\"\")","v":""},{"$f":"IF(DATA_INPUT!AW50<>\"\",DATA_INPUT!AW50,\"\")","v":"X"},{"$f":"IF(DATA_INPUT!AX50<>\"\",DATA_INPUT!AX50+Directions!$D$24-1,\"\")","v":""},{"$f":"IF(DATA_INPUT!AY50<>\"\",DATA_INPUT!AY50,\"\")","v":""},{"$f":"IF(DATA_INPUT!G50<>\"\",2,IF(DATA_INPUT!N50>2,2,IF(DATA_INPUT!N50=2,3,4)))","v":2},{"$f":"IF(OR(DATA_INPUT!S50<>\"\",DATA_INPUT!T50<>\"\"),H48,\"\")","v":1},{"$f":"IF(DATA_INPUT!T50<>\"\",\"X\",\"\")","v":""}]
[{"$f":"IF(DATA_INPUT!F51<>\"\",DATA_INPUT!F51,\"\")","v":""},{"$f":"IF(DATA_INPUT!G51<>\"\",DATA_INPUT!G51,\"\")","v":""},{"$f":"IF(DATA_INPUT!H51<>\"\",DATA_INPUT!H51,\"\")","v":""},{"$f":"IF(DATA_INPUT!I51<>\"\",DATA_INPUT!I51,\"\")","v":""},{"$f":"IF(DATA_INPUT!J51<>\"\",DATA_INPUT!J51,\"\")","v":"M1-4"},{"$f":"IF(DATA_INPUT!L51<>\"\",DATA_INPUT!L51,IF(DATA_INPUT!K51<>\"\",DATA_INPUT!K51,\"\"))","v":"(multisign image continues)"},{"$f":"IF(DATA_INPUT!O51<>\"\",DATA_INPUT!O51,\"\")","v":""},{"$f":"IF(DATA_INPUT!P51<>\"\",DATA_INPUT!P51,\"\")","v":1},{"$f":"IF(DATA_INPUT!Q51<>\"\",DATA_INPUT!Q51,\"\")","v":30},{"$f":"IF(DATA_INPUT!R51<>\"\",DATA_INPUT!R51,\"\")","v":24},{"$f":"IF(DATA_INPUT!S51<>\"\",IF(DATA_INPUT!AZ51<>\"\",DATA_INPUT!AZ51,H49*I49*J49/144)*IF(G49<>\"\",3/2,1),\"\")","v":5},{"$f":"IF(DATA_INPUT!T51<>\"\",IF(DATA_INPUT!AZ51<>\"\",DATA_INPUT!AZ51,H49*I49*J49/144)*IF(G49<>\"\",3/2,1),\"\")","v":""},{"$f":"IF(DATA_INPUT!U51<>\"\",$H49,\"\")","v":""},{"$f":"IF(DATA_INPUT!V51<>\"\",$H49,\"\")","v":""},{"$f":"IF(DATA_INPUT!W51<>\"\",$H49,\"\")","v":""},{"$f":"IF(DATA_INPUT!X51<>\"\",$H49,\"\")","v":""},{"$f":"IF(DATA_INPUT!Y51<>\"\",$H49,\"\")","v":""},{"$f":"IF(DATA_INPUT!Z51<>\"\",DATA_INPUT!Z51,\"\")","v":""},{"$f":"IF(DATA_INPUT!AA51<>\"\",DATA_INPUT!AA51,\"\")","v":""},{"$f":"IF(DATA_INPUT!AB51<>\"\",DATA_INPUT!AB51,\"\")","v":""},{"$f":"IF(DATA_INPUT!AC51<>\"\",DATA_INPUT!AC51,\"\")","v":""},{"$f":"IF(DATA_INPUT!AD51<>\"\",DATA_INPUT!AD51,\"\")","v":""},{"$f":"IF(DATA_INPUT!AE51<>\"\",$V49,\"\")","v":""},{"$f":"IF(DATA_INPUT!AF51<>\"\",$V49*8,\"\")","v":""},{"$f":"IF(DATA_INPUT!AG51<>\"\",$V49*15,\"\")","v":""},{"$f":"IF(DATA_INPUT!AH51<>\"\",$V49*15,\"\")","v":""},{"$f":"IF(DATA_INPUT!AI51<>\"\",$V49,\"\")","v":""},{"$f":"IF(DATA_INPUT!AJ51<>\"\",$V49,\"\")","v":""},{"$f":"IF(DATA_INPUT!AK51<>\"\",$V49,\"\")","v":""},{"$f":"IF(DATA_INPUT!AL51<>\"\",$V49*7.6*DATA_INPUT!AL51,\"\")","v":""},{"$f":"IF(DATA_INPUT!AM51<>\"\",$V49*9*DATA_INPUT!AM51,\"\")","v":""},{"$f":"IF(DATA_INPUT!AN51<>\"\",$V49*10.8*DATA_INPUT!AN51,\"\")","v":""},{"$f":"IF(DATA_INPUT!AO51<>\"\",$V49*14.6*DATA_INPUT!AO51,\"\")","v":""},{"$f":"IF(DATA_INPUT!AP51<>\"\",$V49,\"\")","v":""},{"$f":"IF(DATA_INPUT!AQ51<>\"\",$V49,\"\")","v":""},{"$f":"IF(DATA_INPUT!AR51<>\"\",DATA_INPUT!AR51,\"\")","v":""},{"$f":"IF(DATA_INPUT!AS51<>\"\",DATA_INPUT!AS51,\"\")","v":""},{"$f":"IF(DATA_INPUT!AT51<>\"\",DATA_INPUT!AT51,\"\")","v":""},{"$f":"IF(DATA_INPUT!AU51<>\"\",DATA_INPUT!AU51,\"\")","v":""},{"$f":"IF(DATA_INPUT!AV51<>\"\",DATA_INPUT!AV51,\"\")","v":""},{"$f":"IF(DATA_INPUT!AW51<>\"\",DATA_INPUT!AW51,\"\")","v":"X"},{"$f":"IF(DATA_INPUT!AX51<>\"\",DATA_INPUT!AX51+Directions!$D$24-1,\"\")","v":""},{"$f":"IF(DATA_INPUT!AY51<>\"\",DATA_INPUT!AY51,\"\")","v":""},{"$f":"IF(DATA_INPUT!G51<>\"\",2,IF(DATA_INPUT!N51>2,2,IF(DATA_INPUT!N51=2,3,4)))","v":2},{"$f":"IF(OR(DATA_INPUT!S51<>\"\",DATA_INPUT!T51<>\"\"),H49,\"\")","v":1},{"$f":"IF(DATA_INPUT!T51<>\"\",\"X\",\"\")","v":""}]
[{"$f":"IF(DATA_INPUT!F52<>\"\",DATA_INPUT!F52,\"\")","v":""},{"$f":"IF(DATA_INPUT!G52<>\"\",DATA_INPUT!G52,\"\")","v":""},{"$f":"IF(DATA_INPUT!H52<>\"\",DATA_INPUT!H52,\"\")","v":""},{"$f":"IF(DATA_INPUT!I52<>\"\",DATA_INPUT!I52,\"\")","v":""},{"$f":"IF(DATA_INPUT!J52<>\"\",DATA_INPUT!J52,\"\")","v":"M1-4"},{"$f":"IF(DATA_INPUT!L52<>\"\",DATA_INPUT!L52,IF(DATA_INPUT!K52<>\"\",DATA_INPUT!K52,\"\"))","v":"(multisign image continues)"},{"$f":"IF(DATA_INPUT!O52<>\"\",DATA_INPUT!O52,\"\")","v":""},{"$f":"IF(DATA_INPUT!P52<>\"\",DATA_INPUT!P52,\"\")","v":1},{"$f":"IF(DATA_INPUT!Q52<>\"\",DATA_INPUT!Q52,\"\")","v":30},{"$f":"IF(DATA_INPUT!R52<>\"\",DATA_INPUT!R52,\"\")","v":24},{"$f":"IF(DATA_INPUT!S52<>\"\",IF(DATA_INPUT!AZ52<>\"\",DATA_INPUT!AZ52,H50*I50*J50/144)*IF(G50<>\"\",3/2,1),\"\")","v":5},{"$f":"IF(DATA_INPUT!T52<>\"\",IF(DATA_INPUT!AZ52<>\"\",DATA_INPUT!AZ52,H50*I50*J50/144)*IF(G50<>\"\",3/2,1),\"\")","v":""},{"$f":"IF(DATA_INPUT!U52<>\"\",$H50,\"\")","v":""},{"$f":"IF(DATA_INPUT!V52<>\"\",$H50,\"\")","v":""},{"$f":"IF(DATA_INPUT!W52<>\"\",$H50,\"\")","v":""},{"$f":"IF(DATA_INPUT!X52<>\"\",$H50,\"\")","v":""},{"$f":"IF(DATA_INPUT!Y52<>\"\",$H50,\"\")","v":""},{"$f":"IF(DATA_INPUT!Z52<>\"\",DATA_INPUT!Z52,\"\")","v":""},{"$f":"IF(DATA_INPUT!AA52<>\"\",DATA_INPUT!AA52,\"\")","v":""},{"$f":"IF(DATA_INPUT!AB52<>\"\",DATA_INPUT!AB52,\"\")","v":""},{"$f":"IF(DATA_INPUT!AC52<>\"\",DATA_INPUT!AC52,\"\")","v":""},{"$f":"IF(DATA_INPUT!AD52<>\"\",DATA_INPUT!AD52,\"\")","v":""},{"$f":"IF(DATA_INPUT!AE52<>\"\",$V50,\"\")","v":""},{"$f":"IF(DATA_INPUT!AF52<>\"\",$V50*8,\"\")","v":""},{"$f":"IF(DATA_INPUT!AG52<>\"\",$V50*15,\"\")","v":""},{"$f":"IF(DATA_INPUT!AH52<>\"\",$V50*15,\"\")","v":""},{"$f":"IF(DATA_INPUT!AI52<>\"\",$V50,\"\")","v":""},{"$f":"IF(DATA_INPUT!AJ52<>\"\",$V50,\"\")","v":""},{"$f":"IF(DATA_INPUT!AK52<>\"\",$V50,\"\")","v":""},{"$f":"IF(DATA_INPUT!AL52<>\"\",$V50*7.6*DATA_INPUT!AL52,\"\")","v":""},{"$f":"IF(DATA_INPUT!AM52<>\"\",$V50*9*DATA_INPUT!AM52,\"\")","v":""},{"$f":"IF(DATA_INPUT!AN52<>\"\",$V50*10.8*DATA_INPUT!AN52,\"\")","v":""},{"$f":"IF(DATA_INPUT!AO52<>\"\",$V50*14.6*DATA_INPUT!AO52,\"\")","v":""},{"$f":"IF(DATA_INPUT!AP52<>\"\",$V50,\"\")","v":""},{"$f":"IF(DATA_INPUT!AQ52<>\"\",$V50,\"\")","v":""},{"$f":"IF(DATA_INPUT!AR52<>\"\",DATA_INPUT!AR52,\"\")","v":""},{"$f":"IF(DATA_INPUT!AS52<>\"\",DATA_INPUT!AS52,\"\")","v":""},{"$f":"IF(DATA_INPUT!AT52<>\"\",DATA_INPUT!AT52,\"\")","v":""},{"$f":"IF(DATA_INPUT!AU52<>\"\",DATA_INPUT!AU52,\"\")","v":""},{"$f":"IF(DATA_INPUT!AV52<>\"\",DATA_INPUT!AV52,\"\")","v":""},{"$f":"IF(DATA_INPUT!AW52<>\"\",DATA_INPUT!AW52,\"\")","v":"X"},{"$f":"IF(DATA_INPUT!AX52<>\"\",DATA_INPUT!AX52+Directions!$D$24-1,\"\")","v":""},{"$f":"IF(DATA_INPUT!AY52<>\"\",DATA_INPUT!AY52,\"\")","v":""},{"$f":"IF(DATA_INPUT!G52<>\"\",2,IF(DATA_INPUT!N52>2,2,IF(DATA_INPUT!N52=2,3,4)))","v":2},{"$f":"IF(OR(DATA_INPUT!S52<>\"\",DATA_INPUT!T52<>\"\"),H50,\"\")","v":1},{"$f":"IF(DATA_INPUT!T52<>\"\",\"X\",\"\")","v":""}]
[{"$f":"IF(DATA_INPUT!F53<>\"\",DATA_INPUT!F53,\"\")","v":""},{"$f":"IF(DATA_INPUT!G53<>\"\",DATA_INPUT!G53,\"\")","v":""},{"$f":"IF(DATA_INPUT!H53<>\"\",DATA_INPUT!H53,\"\")","v":""},{"$f":"IF(DATA_INPUT!I53<>\"\",DATA_INPUT!I53,\"\")","v":""},{"$f":"IF(DATA_INPUT!J53<>\"\",DATA_INPUT!J53,\"\")","v":"M6-1PL"},{"$f":"IF(DATA_INPUT!L53<>\"\",DATA_INPUT!L53,IF(DATA_INPUT!K53<>\"\",DATA_INPUT!K53,\"\"))","v":"(multisign image continues)"},{"$f":"IF(DATA_INPUT!O53<>\"\",DATA_INPUT!O53,\"\")","v":""},{"$f":"IF(DATA_INPUT!P53<>\"\",DATA_INPUT!P53,\"\")","v":1},{"$f":"IF(DATA_INPUT!Q53<>\"\",DATA_INPUT!Q53,\"\")","v":21},{"$f":"IF(DATA_INPUT!R53<>\"\",DATA_INPUT!R53,\"\")","v":15},{"$f":"IF(DATA_INPUT!S53<>\"\",IF(DATA_INPUT!AZ53<>\"\",DATA_INPUT!AZ53,H51*I51*J51/144)*IF(G51<>\"\",3/2,1),\"\")","v":2.1875},{"$f":"IF(DATA_INPUT!T53<>\"\",IF(DATA_INPUT!AZ53<>\"\",DATA_INPUT!AZ53,H51*I51*J51/144)*IF(G51<>\"\",3/2,1),\"\")","v":""},{"$f":"IF(DATA_INPUT!U53<>\"\",$H51,\"\")","v":""},{"$f":"IF(DATA_INPUT!V53<>\"\",$H51,\"\")","v":""},{"$f":"IF(DATA_INPUT!W53<>\"\",$H51,\"\")","v":""},{"$f":"IF(DATA_INPUT!X53<>\"\",$H51,\"\")","v":""},{"$f":"IF(DATA_INPUT!Y53<>\"\",$H51,\"\")","v":""},{"$f":"IF(DATA_INPUT!Z53<>\"\",DATA_INPUT!Z53,\"\")","v":""},{"$f":"IF(DATA_INPUT!AA53<>\"\",DATA_INPUT!AA53,\"\")","v":""},{"$f":"IF(DATA_INPUT!AB53<>\"\",DATA_INPUT!AB53,\"\")","v":""},{"$f":"IF(DATA_INPUT!AC53<>\"\",DATA_INPUT!AC53,\"\")","v":""},{"$f":"IF(DATA_INPUT!AD53<>\"\",DATA_INPUT!AD53,\"\")","v":""},{"$f":"IF(DATA_INPUT!AE53<>\"\",$V51,\"\")","v":""},{"$f":"IF(DATA_INPUT!AF53<>\"\",$V51*8,\"\")","v":""},{"$f":"IF(DATA_INPUT!AG53<>\"\",$V51*15,\"\")","v":""},{"$f":"IF(DATA_INPUT!AH53<>\"\",$V51*15,\"\")","v":""},{"$f":"IF(DATA_INPUT!AI53<>\"\",$V51,\"\")","v":""},{"$f":"IF(DATA_INPUT!AJ53<>\"\",$V51,\"\")","v":""},{"$f":"IF(DATA_INPUT!AK53<>\"\",$V51,\"\")","v":""},{"$f":"IF(DATA_INPUT!AL53<>\"\",$V51*7.6*DATA_INPUT!AL53,\"\")","v":""},{"$f":"IF(DATA_INPUT!AM53<>\"\",$V51*9*DATA_INPUT!AM53,\"\")","v":""},{"$f":"IF(DATA_INPUT!AN53<>\"\",$V51*10.8*DATA_INPUT!AN53,\"\")","v":""},{"$f":"IF(DATA_INPUT!AO53<>\"\",$V51*14.6*DATA_INPUT!AO53,\"\")","v":""},{"$f":"IF(DATA_INPUT!AP53<>\"\",$V51,\"\")","v":""},{"$f":"IF(DATA_INPUT!AQ53<>\"\",$V51,\"\")","v":""},{"$f":"IF(DATA_INPUT!AR53<>\"\",DATA_INPUT!AR53,\"\")","v":""},{"$f":"IF(DATA_INPUT!AS53<>\"\",DATA_INPUT!AS53,\"\")","v":""},{"$f":"IF(DATA_INPUT!AT53<>\"\",DATA_INPUT!AT53,\"\")","v":""},{"$f":"IF(DATA_INPUT!AU53<>\"\",DATA_INPUT!AU53,\"\")","v":""},{"$f":"IF(DATA_INPUT!AV53<>\"\",DATA_INPUT!AV53,\"\")","v":"BLACK ON WHITE"},{"$f":"IF(DATA_INPUT!AW53<>\"\",DATA_INPUT!AW53,\"\")","v":"X"},{"$f":"IF(DATA_INPUT!AX53<>\"\",DATA_INPUT!AX53+Directions!$D$24-1,\"\")","v":""},{"$f":"IF(DATA_INPUT!AY53<>\"\",DATA_INPUT!AY53,\"\")","v":""},{"$f":"IF(DATA_INPUT!G53<>\"\",2,IF(DATA_INPUT!N53>2,2,IF(DATA_INPUT!N53=2,3,4)))","v":2},{"$f":"IF(OR(DATA_INPUT!S53<>\"\",DATA_INPUT!T53<>\"\"),H51,\"\")","v":1},{"$f":"IF(DATA_INPUT!T53<>\"\",\"X\",\"\")","v":""}]
[{"$f":"IF(DATA_INPUT!F54<>\"\",DATA_INPUT!F54,\"\")","v":""},{"$f":"IF(DATA_INPUT!G54<>\"\",DATA_INPUT!G54,\"\")","v":""},{"$f":"IF(DATA_INPUT!H54<>\"\",DATA_INPUT!H54,\"\")","v":""},{"$f":"IF(DATA_INPUT!I54<>\"\",DATA_INPUT!I54,\"\")","v":""},{"$f":"IF(DATA_INPUT!J54<>\"\",DATA_INPUT!J54,\"\")","v":"M6-3P"},{"$f":"IF(DATA_INPUT!L54<>\"\",DATA_INPUT!L54,IF(DATA_INPUT!K54<>\"\",DATA_INPUT!K54,\"\"))","v":"(multisign image continues)"},{"$f":"IF(DATA_INPUT!O54<>\"\",DATA_INPUT!O54,\"\")","v":""},{"$f":"IF(DATA_INPUT!P54<>\"\",DATA_INPUT!P54,\"\")","v":2},{"$f":"IF(DATA_INPUT!Q54<>\"\",DATA_INPUT!Q54,\"\")","v":21},{"$f":"IF(DATA_INPUT!R54<>\"\",DATA_INPUT!R54,\"\")","v":15},{"$f":"IF(DATA_INPUT!S54<>\"\",IF(DATA_INPUT!AZ54<>\"\",DATA_INPUT!AZ54,H52*I52*J52/144)*IF(G52<>\"\",3/2,1),\"\")","v":4.375},{"$f":"IF(DATA_INPUT!T54<>\"\",IF(DATA_INPUT!AZ54<>\"\",DATA_INPUT!AZ54,H52*I52*J52/144)*IF(G52<>\"\",3/2,1),\"\")","v":""},{"$f":"IF(DATA_INPUT!U54<>\"\",$H52,\"\")","v":""},{"$f":"IF(DATA_INPUT!V54<>\"\",$H52,\"\")","v":""},{"$f":"IF(DATA_INPUT!W54<>\"\",$H52,\"\")","v":""},{"$f":"IF(DATA_INPUT!X54<>\"\",$H52,\"\")","v":""},{"$f":"IF(DATA_INPUT!Y54<>\"\",$H52,\"\")","v":""},{"$f":"IF(DATA_INPUT!Z54<>\"\",DATA_INPUT!Z54,\"\")","v":""},{"$f":"IF(DATA_INPUT!AA54<>\"\",DATA_INPUT!AA54,\"\")","v":""},{"$f":"IF(DATA_INPUT!AB54<>\"\",DATA_INPUT!AB54,\"\")","v":""},{"$f":"IF(DATA_INPUT!AC54<>\"\",DATA_INPUT!AC54,\"\")","v":""},{"$f":"IF(DATA_INPUT!AD54<>\"\",DATA_INPUT!AD54,\"\")","v":""},{"$f":"IF(DATA_INPUT!AE54<>\"\",$V52,\"\")","v":""},{"$f":"IF(DATA_INPUT!AF54<>\"\",$V52*8,\"\")","v":""},{"$f":"IF(DATA_INPUT!AG54<>\"\",$V52*15,\"\")","v":""},{"$f":"IF(DATA_INPUT!AH54<>\"\",$V52*15,\"\")","v":""},{"$f":"IF(DATA_INPUT!AI54<>\"\",$V52,\"\")","v":""},{"$f":"IF(DATA_INPUT!AJ54<>\"\",$V52,\"\")","v":""},{"$f":"IF(DATA_INPUT!AK54<>\"\",$V52,\"\")","v":""},{"$f":"IF(DATA_INPUT!AL54<>\"\",$V52*7.6*DATA_INPUT!AL54,\"\")","v":""},{"$f":"IF(DATA_INPUT!AM54<>\"\",$V52*9*DATA_INPUT!AM54,\"\")","v":""},{"$f":"IF(DATA_INPUT!AN54<>\"\",$V52*10.8*DATA_INPUT!AN54,\"\")","v":""},{"$f":"IF(DATA_INPUT!AO54<>\"\",$V52*14.6*DATA_INPUT!AO54,\"\")","v":""},{"$f":"IF(DATA_INPUT!AP54<>\"\",$V52,\"\")","v":""},{"$f":"IF(DATA_INPUT!AQ54<>\"\",$V52,\"\")","v":""},{"$f":"IF(DATA_INPUT!AR54<>\"\",DATA_INPUT!AR54,\"\")","v":""},{"$f":"IF(DATA_INPUT!AS54<>\"\",DATA_INPUT!AS54,\"\")","v":""},{"$f":"IF(DATA_INPUT!AT54<>\"\",DATA_INPUT!AT54,\"\")","v":""},{"$f":"IF(DATA_INPUT!AU54<>\"\",DATA_INPUT!AU54,\"\")","v":""},{"$f":"IF(DATA_INPUT!AV54<>\"\",DATA_INPUT!AV54,\"\")","v":"BLACK ON WHITE"},{"$f":"IF(DATA_INPUT!AW54<>\"\",DATA_INPUT!AW54,\"\")","v":"X"},{"$f":"IF(DATA_INPUT!AX54<>\"\",DATA_INPUT!AX54+Directions!$D$24-1,\"\")","v":""},{"$f":"IF(DATA_INPUT!AY54<>\"\",DATA_INPUT!AY54,\"\")","v":""},{"$f":"IF(DATA_INPUT!G54<>\"\",2,IF(DATA_INPUT!N54>2,2,IF(DATA_INPUT!N54=2,3,4)))","v":2},{"$f":"IF(OR(DATA_INPUT!S54<>\"\",DATA_INPUT!T54<>\"\"),H52,\"\")","v":2},{"$f":"IF(DATA_INPUT!T54<>\"\",\"X\",\"\")","v":""}]
[{"$f":"IF(DATA_INPUT!F55<>\"\",DATA_INPUT!F55,\"\")","v":""},{"$f":"IF(DATA_INPUT!G55<>\"\",DATA_INPUT!G55,\"\")","v":""},{"$f":"IF(DATA_INPUT!H55<>\"\",DATA_INPUT!H55,\"\")","v":"STA. 99 +61.00"},{"$f":"IF(DATA_INPUT!I55<>\"\",DATA_INPUT!I55,\"\")","v":"F"},{"$f":"IF(DATA_INPUT!J55<>\"\",DATA_INPUT!J55,\"\")","v":"R3-17"},{"$f":"IF(DATA_INPUT!L55<>\"\",DATA_INPUT!L55,IF(DATA_INPUT!K55<>\"\",DATA_INPUT!K55,\"\"))","v":{"$error":"#VALUE!"}},{"$f":"IF(DATA_INPUT!O55<>\"\",DATA_INPUT!O55,\"\")","v":""},{"$f":"IF(DATA_INPUT!P55<>\"\",DATA_INPUT!P55,\"\")","v":1},{"$f":"IF(DATA_INPUT!Q55<>\"\",DATA_INPUT!Q55,\"\")","v":24},{"$f":"IF(DATA_INPUT!R55<>\"\",DATA_INPUT!R55,\"\")","v":18},{"$f":"IF(DATA_INPUT!S55<>\"\",IF(DATA_INPUT!AZ55<>\"\",DATA_INPUT!AZ55,H53*I53*J53/144)*IF(G53<>\"\",3/2,1),\"\")","v":3},{"$f":"IF(DATA_INPUT!T55<>\"\",IF(DATA_INPUT!AZ55<>\"\",DATA_INPUT!AZ55,H53*I53*J53/144)*IF(G53<>\"\",3/2,1),\"\")","v":""},{"$f":"IF(DATA_INPUT!U55<>\"\",$H53,\"\")","v":""},{"$f":"IF(DATA_INPUT!V55<>\"\",$H53,\"\")","v":""},{"$f":"IF(DATA_INPUT!W55<>\"\",$H53,\"\")","v":""},{"$f":"IF(DATA_INPUT!X55<>\"\",$H53,\"\")","v":""},{"$f":"IF(DATA_INPUT!Y55<>\"\",$H53,\"\")","v":""},{"$f":"IF(DATA_INPUT!Z55<>\"\",DATA_INPUT!Z55,\"\")","v":""},{"$f":"IF(DATA_INPUT!AA55<>\"\",DATA_INPUT!AA55,\"\")","v":""},{"$f":"IF(DATA_INPUT!AB55<>\"\",DATA_INPUT!AB55,\"\")","v":""},{"$f":"IF(DATA_INPUT!AC55<>\"\",DATA_INPUT!AC55,\"\")","v":""},{"$f":"IF(DATA_INPUT!AD55<>\"\",DATA_INPUT!AD55,\"\")","v":1},{"$f":"IF(DATA_INPUT!AE55<>\"\",$V53,\"\")","v":""},{"$f":"IF(DATA_INPUT!AF55<>\"\",$V53*8,\"\")","v":""},{"$f":"IF(DATA_INPUT!AG55<>\"\",$V53*15,\"\")","v":15},{"$f":"IF(DATA_INPUT!AH55<>\"\",$V53*15,\"\")","v":""},{"$f":"IF(DATA_INPUT!AI55<>\"\",$V53,\"\")","v":1},{"$f":"IF(DATA_INPUT!AJ55<>\"\",$V53,\"\")","v":""},{"$f":"IF(DATA_INPUT!AK55<>\"\",$V53,\"\")","v":""},{"$f":"IF(DATA_INPUT!AL55<>\"\",$V53*7.6*DATA_INPUT!AL55,\"\")","v":""},{"$f":"IF(DATA_INPUT!AM55<>\"\",$V53*9*DATA_INPUT!AM55,\"\")","v":""},{"$f":"IF(DATA_INPUT!AN55<>\"\",$V53*10.8*DATA_INPUT!AN55,\"\")","v":""},{"$f":"IF(DATA_INPUT!AO55<>\"\",$V53*14.6*DATA_INPUT!AO55,\"\")","v":""},{"$f":"IF(DATA_INPUT!AP55<>\"\",$V53,\"\")","v":""},{"$f":"IF(DATA_INPUT!AQ55<>\"\",$V53,\"\")","v":""},{"$f":"IF(DATA_INPUT!AR55<>\"\",DATA_INPUT!AR55,\"\")","v":""},{"$f":"IF(DATA_INPUT!AS55<>\"\",DATA_INPUT!AS55,\"\")","v":""},{"$f":"IF(DATA_INPUT!AT55<>\"\",DATA_INPUT!AT55,\"\")","v":""},{"$f":"IF(DATA_INPUT!AU55<>\"\",DATA_INPUT!AU55,\"\")","v":""},{"$f":"IF(DATA_INPUT!AV55<>\"\",DATA_INPUT!AV55,\"\")","v":""},{"$f":"IF(DATA_INPUT!AW55<>\"\",DATA_INPUT!AW55,\"\")","v":"X"},{"$f":"IF(DATA_INPUT!AX55<>\"\",DATA_INPUT!AX55+Directions!$D$24-1,\"\")","v":""},{"$f":"IF(DATA_INPUT!AY55<>\"\",DATA_INPUT!AY55,\"\")","v":""},{"$f":"IF(DATA_INPUT!G55<>\"\",2,IF(DATA_INPUT!N55>2,2,IF(DATA_INPUT!N55=2,3,4)))","v":3},{"$f":"IF(OR(DATA_INPUT!S55<>\"\",DATA_INPUT!T55<>\"\"),H53,\"\")","v":1},{"$f":"IF(DATA_INPUT!T55<>\"\",\"X\",\"\")","v":""}]
[{"$f":"IF(DATA_INPUT!F56<>\"\",DATA_INPUT!F56,\"\")","v":""},{"$f":"IF(DATA_INPUT!G56<>\"\",DATA_INPUT!G56,\"\")","v":""},{"$f":"IF(DATA_INPUT!H56<>\"\",DATA_INPUT!H56,\"\")","v":""},{"$f":"IF(DATA_INPUT!I56<>\"\",DATA_INPUT!I56,\"\")","v":"F"},{"$f":"IF(DATA_INPUT!J56<>\"\",DATA_INPUT!J56,\"\")","v":"R3-17BP"},{"$f":"IF(DATA_INPUT!L56<>\"\",DATA_INPUT!L56,IF(DATA_INPUT!K56<>\"\",DATA_INPUT!K56,\"\"))","v":"(multisign image continues)"},{"$f":"IF(DATA_INPUT!O56<>\"\",DATA_INPUT!O56,\"\")","v":""},{"$f":"IF(DATA_INPUT!P56<>\"\",DATA_INPUT!P56,\"\")","v":1},{"$f":"IF(DATA_INPUT!Q56<>\"\",DATA_INPUT!Q56,\"\")","v":24},{"$f":"IF(DATA_INPUT!R56<>\"\",DATA_INPUT!R56,\"\")","v":9},{"$f":"IF(DATA_INPUT!S56<>\"\",IF(DATA_INPUT!AZ56<>\"\",DATA_INPUT!AZ56,H54*I54*J54/144)*IF(G54<>\"\",3/2,1),\"\")","v":1.5},{"$f":"IF(DATA_INPUT!T56<>\"\",IF(DATA_INPUT!AZ56<>\"\",DATA_INPUT!AZ56,H54*I54*J54/144)*IF(G54<>\"\",3/2,1),\"\")","v":""},{"$f":"IF(DATA_INPUT!U56<>\"\",$H54,\"\")","v":""},{"$f":"IF(DATA_INPUT!V56<>\"\",$H54,\"\")","v":""},{"$f":"IF(DATA_INPUT!W56<>\"\",$H54,\"\")","v":""},{"$f":"IF(DATA_INPUT!X56<>\"\",$H54,\"\")","v":""},{"$f":"IF(DATA_INPUT!Y56<>\"\",$H54,\"\")","v":""},{"$f":"IF(DATA_INPUT!Z56<>\"\",DATA_INPUT!Z56,\"\")","v":""},{"$f":"IF(DATA_INPUT!AA56<>\"\",DATA_INPUT!AA56,\"\")","v":""},{"$f":"IF(DATA_INPUT!AB56<>\"\",DATA_INPUT!AB56,\"\")","v":""},{"$f":"IF(DATA_INPUT!AC56<>\"\",DATA_INPUT!AC56,\"\")","v":""},{"$f":"IF(DATA_INPUT!AD56<>\"\",DATA_INPUT!AD56,\"\")","v":""},{"$f":"IF(DATA_INPUT!AE56<>\"\",$V54,\"\")","v":""},{"$f":"IF(DATA_INPUT!AF56<>\"\",$V54*8,\"\")","v":""},{"$f":"IF(DATA_INPUT!AG56<>\"\",$V54*15,\"\")","v":""},{"$f":"IF(DATA_INPUT!AH56<>\"\",$V54*15,\"\")","v":""},{"$f":"IF(DATA_INPUT!AI56<>\"\",$V54,\"\")","v":""},{"$f":"IF(DATA_INPUT!AJ56<>\"\",$V54,\"\")","v":""},{"$f":"IF(DATA_INPUT!AK56<>\"\",$V54,\"\")","v":""},{"$f":"IF(DATA_INPUT!AL56<>\"\",$V54*7.6*DATA_INPUT!AL56,\"\")","v":""},{"$f":"IF(DATA_INPUT!AM56<>\"\",$V54*9*DATA_INPUT!AM56,\"\")","v":""},{"$f":"IF(DATA_INPUT!AN56<>\"\",$V54*10.8*DATA_INPUT!AN56,\"\")","v":""},{"$f":"IF(DATA_INPUT!AO56<>\"\",$V54*14.6*DATA_INPUT!AO56,\"\")","v":""},{"$f":"IF(DATA_INPUT!AP56<>\"\",$V54,\"\")","v":""},{"$f":"IF(DATA_INPUT!AQ56<>\"\",$V54,\"\")","v":""},{"$f":"IF(DATA_INPUT!AR56<>\"\",DATA_INPUT!AR56,\"\")","v":""},{"$f":"IF(DATA_INPUT!AS56<>\"\",DATA_INPUT!AS56,\"\")","v":""},{"$f":"IF(DATA_INPUT!AT56<>\"\",DATA_INPUT!AT56,\"\")","v":""},{"$f":"IF(DATA_INPUT!AU56<>\"\",DATA_INPUT!AU56,\"\")","v":""},{"$f":"IF(DATA_INPUT!AV56<>\"\",DATA_INPUT!AV56,\"\")","v":"BLACK ON WHITE"},{"$f":"IF(DATA_INPUT!AW56<>\"\",DATA_INPUT!AW56,\"\")","v":"X"},{"$f":"IF(DATA_INPUT!AX56<>\"\",DATA_INPUT!AX56+Directions!$D$24-1,\"\")","v":""},{"$f":"IF(DATA_INPUT!AY56<>\"\",DATA_INPUT!AY56,\"\")","v":""},{"$f":"IF(DATA_INPUT!G56<>\"\",2,IF(DATA_INPUT!N56>2,2,IF(DATA_INPUT!N56=2,3,4)))","v":3},{"$f":"IF(OR(DATA_INPUT!S56<>\"\",DATA_INPUT!T56<>\"\"),H54,\"\")","v":1},{"$f":"IF(DATA_INPUT!T56<>\"\",\"X\",\"\")","v":""}]
[{"$f":"IF(DATA_INPUT!F57<>\"\",DATA_INPUT!F57,\"\")","v":""},{"$f":"IF(DATA_INPUT!G57<>\"\",DATA_INPUT!G57,\"\")","v":""},{"$f":"IF(DATA_INPUT!H57<>\"\",DATA_INPUT!H57,\"\")","v":"STA. 99 +75.00"},{"$f":"IF(DATA_INPUT!I57<>\"\",DATA_INPUT!I57,\"\")","v":"F"},{"$f":"IF(DATA_INPUT!J57<>\"\",DATA_INPUT!J57,\"\")","v":"W4-2R"},{"$f":"IF(DATA_INPUT!L57<>\"\",DATA_INPUT!L57,IF(DATA_INPUT!K57<>\"\",DATA_INPUT!K57,\"\"))","v":{"$error":"#VALUE!"}},{"$f":"IF(DATA_INPUT!O57<>\"\",DATA_INPUT!O57,\"\")","v":""},{"$f":"IF(DATA_INPUT!P57<>\"\",DATA_INPUT!P57,\"\")","v":1},{"$f":"IF(DATA_INPUT!Q57<>\"\",DATA_INPUT!Q57,\"\")","v":36},{"$f":"IF(DATA_INPUT!R57<>\"\",DATA_INPUT!R57,\"\")","v":36},{"$f":"IF(DATA_INPUT!S57<>\"\",IF(DATA_INPUT!AZ57<>\"\",DATA_INPUT!AZ57,H55*I55*J55/144)*IF(G55<>\"\",3/2,1),\"\")","v":9},{"$f":"IF(DATA_INPUT!T57<>\"\",IF(DATA_INPUT!AZ57<>\"\",DATA_INPUT!AZ57,H55*I55*J55/144)*IF(G55<>\"\",3/2,1),\"\")","v":""},{"$f":"IF(DATA_INPUT!U57<>\"\",$H55,\"\")","v":""},{"$f":"IF(DATA_INPUT!V57<>\"\",$H55,\"\")","v":""},{"$f":"IF(DATA_INPUT!W57<>\"\",$H55,\"\")","v":""},{"$f":"IF(DATA_INPUT!X57<>\"\",$H55,\"\")","v":""},{"$f":"IF(DATA_INPUT!Y57<>\"\",$H55,\"\")","v":""},{"$f":"IF(DATA_INPUT!Z57<>\"\",DATA_INPUT!Z57,\"\")","v":""},{"$f":"IF(DATA_INPUT!AA57<>\"\",DATA_INPUT!AA57,\"\")","v":""},{"$f":"IF(DATA_INPUT!AB57<>\"\",DATA_INPUT!AB57,\"\")","v":""},{"$f":"IF(DATA_INPUT!AC57<>\"\",DATA_INPUT!AC57,\"\")","v":""},{"$f":"IF(DATA_INPUT!AD57<>\"\",DATA_INPUT!AD57,\"\")","v":1},{"$f":"IF(DATA_INPUT!AE57<>\"\",$V55,\"\")","v":""},{"$f":"IF(DATA_INPUT!AF57<>\"\",$V55*8,\"\")","v":""},{"$f":"IF(DATA_INPUT!AG57<>\"\",$V55*15,\"\")","v":15},{"$f":"IF(DATA_INPUT!AH57<>\"\",$V55*15,\"\")","v":""},{"$f":"IF(DATA_INPUT!AI57<>\"\",$V55,\"\")","v":1},{"$f":"IF(DATA_INPUT!AJ57<>\"\",$V55,\"\")","v":""},{"$f":"IF(DATA_INPUT!AK57<>\"\",$V55,\"\")","v":""},{"$f":"IF(DATA_INPUT!AL57<>\"\",$V55*7.6*DATA_INPUT!AL57,\"\")","v":""},{"$f":"IF(DATA_INPUT!AM57<>\"\",$V55*9*DATA_INPUT!AM57,\"\")","v":""},{"$f":"IF(DATA_INPUT!AN57<>\"\",$V55*10.8*DATA_INPUT!AN57,\"\")","v":""},{"$f":"IF(DATA_INPUT!AO57<>\"\",$V55*14.6*DATA_INPUT!AO57,\"\")","v":""},{"$f":"IF(DATA_INPUT!AP57<>\"\",$V55,\"\")","v":""},{"$f":"IF(DATA_INPUT!AQ57<>\"\",$V55,\"\")","v":""},{"$f":"IF(DATA_INPUT!AR57<>\"\",DATA_INPUT!AR57,\"\")","v":""},{"$f":"IF(DATA_INPUT!AS57<>\"\",DATA_INPUT!AS57,\"\")","v":""},{"$f":"IF(DATA_INPUT!AT57<>\"\",DATA_INPUT!AT57,\"\")","v":""},{"$f":"IF(DATA_INPUT!AU57<>\"\",DATA_INPUT!AU57,\"\")","v":""},{"$f":"IF(DATA_INPUT!AV57<>\"\",DATA_INPUT!AV57,\"\")","v":"BLACK ON YELLOW"},{"$f":"IF(DATA_INPUT!AW57<>\"\",DATA_INPUT!AW57,\"\")","v":"X"},{"$f":"IF(DATA_INPUT!AX57<>\"\",DATA_INPUT!AX57+Directions!$D$24-1,\"\")","v":""},{"$f":"IF(DATA_INPUT!AY57<>\"\",DATA_INPUT!AY57,\"\")","v":""},{"$f":"IF(DATA_INPUT!G57<>\"\",2,IF(DATA_INPUT!N57>2,2,IF(DATA_INPUT!N57=2,3,4)))","v":4},{"$f":"IF(OR(DATA_INPUT!S57<>\"\",DATA_INPUT!T57<>\"\"),H55,\"\")","v":1},{"$f":"IF(DATA_INPUT!T57<>\"\",\"X\",\"\")","v":""}]
[{"$f":"IF(DATA_INPUT!F58<>\"\",DATA_INPUT!F58,\"\")","v":""},{"$f":"IF(DATA_INPUT!G58<>\"\",DATA_INPUT!G58,\"\")","v":""},{"$f":"IF(DATA_INPUT!H58<>\"\",DATA_INPUT!H58,\"\")","v":"STA. 99 +37.65"},{"$f":"IF(DATA_INPUT!I58<>\"\",DATA_INPUT!I58,\"\")","v":"F"},{"$f":"IF(DATA_INPUT!J58<>\"\",DATA_INPUT!J58,\"\")","v":"R2-1"},{"$f":"IF(DATA_INPUT!L58<>\"\",DATA_INPUT!L58,IF(DATA_INPUT!K58<>\"\",DATA_INPUT!K58,\"\"))","v":{"$error":"#VALUE!"}},{"$f":"IF(DATA_INPUT!O58<>\"\",DATA_INPUT!O58,\"\")","v":""},{"$f":"IF(DATA_INPUT!P58<>\"\",DATA_INPUT!P58,\"\")","v":1},{"$f":"IF(DATA_INPUT!Q58<>\"\",DATA_INPUT!Q58,\"\")","v":24},{"$f":"IF(DATA_INPUT!R58<>\"\",DATA_INPUT!R58,\"\")","v":30},{"$f":"IF(DATA_INPUT!S58<>\"\",IF(DATA_INPUT!AZ58<>\"\",DATA_INPUT!AZ58,H56*I56*J56/144)*IF(G56<>\"\",3/2,1),\"\")","v":""},{"$f":"IF(DATA_INPUT!T58<>\"\",IF(DATA_INPUT!AZ58<>\"\",DATA_INPUT!AZ58,H56*I56*J56/144)*IF(G56<>\"\",3/2,1),\"\")","v":""},{"$f":"IF(DATA_INPUT!U58<>\"\",$H56,\"\")","v":""},{"$f":"IF(DATA_INPUT!V58<>\"\",$H56,\"\")","v":""},{"$f":"IF(DATA_INPUT!W58<>\"\",$H56,\"\")","v":""},{"$f":"IF(DATA_INPUT!X58<>\"\",$H56,\"\")","v":1},{"$f":"IF(DATA_INPUT!Y58<>\"\",$H56,\"\")","v":""},{"$f":"IF(DATA_INPUT!Z58<>\"\",DATA_INPUT!Z58,\"\")","v":""},{"$f":"IF(DATA_INPUT!AA58<>\"\",DATA_INPUT!AA58,\"\")","v":""},{"$f":"IF(DATA_INPUT!AB58<>\"\",DATA_INPUT!AB58,\"\")","v":""},{"$f":"IF(DATA_INPUT!AC58<>\"\",DATA_INPUT!AC58,\"\")","v":1},{"$f":"IF(DATA_INPUT!AD58<>\"\",DATA_INPUT!AD58,\"\")","v":""},{"$f":"IF(DATA_INPUT!AE58<>\"\",$V56,\"\")","v":""},{"$f":"IF(DATA_INPUT!AF58<>\"\",$V56*8,\"\")","v":""},{"$f":"IF(DATA_INPUT!AG58<>\"\",$V56*15,\"\")","v":""},{"$f":"IF(DATA_INPUT!AH58<>\"\",$V56*15,\"\")","v":""},{"$f":"IF(DATA_INPUT!AI58<>\"\",$V56,\"\")","v":""},{"$f":"IF(DATA_INPUT!AJ58<>\"\",$V56,\"\")","v":""},{"$f":"IF(DATA_INPUT!AK58<>\"\",$V56,\"\")","v":""},{"$f":"IF(DATA_INPUT!AL58<>\"\",$V56*7.6*DATA_INPUT!AL58,\"\")","v":""},{"$f":"IF(DATA_INPUT!AM58<>\"\",$V56*9*DATA_INPUT!AM58,\"\")","v":""},{"$f":"IF(DATA_INPUT!AN58<>\"\",$V56*10.8*DATA_INPUT!AN58,\"\")","v":""},{"$f":"IF(DATA_INPUT!AO58<>\"\",$V56*14.6*DATA_INPUT!AO58,\"\")","v":""},{"$f":"IF(DATA_INPUT!AP58<>\"\",$V56,\"\")","v":""},{"$f":"IF(DATA_INPUT!AQ58<>\"\",$V56,\"\")","v":""},{"$f":"IF(DATA_INPUT!AR58<>\"\",DATA_INPUT!AR58,\"\")","v":""},{"$f":"IF(DATA_INPUT!AS58<>\"\",DATA_INPUT!AS58,\"\")","v":""},{"$f":"IF(DATA_INPUT!AT58<>\"\",DATA_INPUT!AT58,\"\")","v":""},{"$f":"IF(DATA_INPUT!AU58<>\"\",DATA_INPUT!AU58,\"\")","v":""},{"$f":"IF(DATA_INPUT!AV58<>\"\",DATA_INPUT!AV58,\"\")","v":""},{"$f":"IF(DATA_INPUT!AW58<>\"\",DATA_INPUT!AW58,\"\")","v":"X"},{"$f":"IF(DATA_INPUT!AX58<>\"\",DATA_INPUT!AX58+Directions!$D$24-1,\"\")","v":""},{"$f":"IF(DATA_INPUT!AY58<>\"\",DATA_INPUT!AY58,\"\")","v":""},{"$f":"IF(DATA_INPUT!G58<>\"\",2,IF(DATA_INPUT!N58>2,2,IF(DATA_INPUT!N58=2,3,4)))","v":4},{"$f":"IF(OR(DATA_INPUT!S58<>\"\",DATA_INPUT!T58<>\"\"),H56,\"\")","v":""},{"$f":"IF(DATA_INPUT!T58<>\"\",\"X\",\"\")","v":""}]
[{"$f":"IF(DATA_INPUT!F59<>\"\",DATA_INPUT!F59,\"\")","v":""},{"$f":"IF(DATA_INPUT!G59<>\"\",DATA_INPUT!G59,\"\")","v":""},{"$f":"IF(DATA_INPUT!H59<>\"\",DATA_INPUT!H59,\"\")","v":"STA. 100 +20.00"},{"$f":"IF(DATA_INPUT!I59<>\"\",DATA_INPUT!I59,\"\")","v":"A"},{"$f":"IF(DATA_INPUT!J59<>\"\",DATA_INPUT!J59,\"\")","v":"CUSTOM"},{"$f":"IF(DATA_INPUT!L59<>\"\",DATA_INPUT!L59,IF(DATA_INPUT!K59<>\"\",DATA_INPUT!K59,\"\"))","v":"(LT,LT,Thru,RT) LANE ASSIGNMENT"},{"$f":"IF(DATA_INPUT!O59<>\"\",DATA_INPUT!O59,\"\")","v":""},{"$f":"IF(DATA_INPUT!P59<>\"\",DATA_INPUT!P59,\"\")","v":1},{"$f":"IF(DATA_INPUT!Q59<>\"\",DATA_INPUT!Q59,\"\")","v":60},{"$f":"IF(DATA_INPUT!R59<>\"\",DATA_INPUT!R59,\"\")","v":30},{"$f":"IF(DATA_INPUT!S59<>\"\",IF(DATA_INPUT!AZ59<>\"\",DATA_INPUT!AZ59,H57*I57*J57/144)*IF(G57<>\"\",3/2,1),\"\")","v":12.5},{"$f":"IF(DATA_INPUT!T59<>\"\",IF(DATA_INPUT!AZ59<>\"\",DATA_INPUT!AZ59,H57*I57*J57/144)*IF(G57<>\"\",3/2,1),\"\")","v":""},{"$f":"IF(DATA_INPUT!U59<>\"\",$H57,\"\")","v":""},{"$f":"IF(DATA_INPUT!V59<>\"\",$H57,\"\")","v":""},{"$f":"IF(DATA_INPUT!W59<>\"\",$H57,\"\")","v":""},{"$f":"IF(DATA_INPUT!X59<>\"\",$H57,\"\")","v":""},{"$f":"IF(DATA_INPUT!Y59<>\"\",$H57,\"\")","v":""},{"$f":"IF(DATA_INPUT!Z59<>\"\",DATA_INPUT!Z59,\"\")","v":""},{"$f":"IF(DATA_INPUT!AA59<>\"\",DATA_INPUT!AA59,\"\")","v":""},{"$f":"IF(DATA_INPUT!AB59<>\"\",DATA_INPUT!AB59,\"\")","v":""},{"$f":"IF(DATA_INPUT!AC59<>\"\",DATA_INPUT!AC59,\"\")","v":""},{"$f":"IF(DATA_INPUT!AD59<>\"\",DATA_INPUT!AD59,\"\")","v":2},{"$f":"IF(DATA_INPUT!AE59<>\"\",$V57,\"\")","v":""},{"$f":"IF(DATA_INPUT!AF59<>\"\",$V57*8,\"\")","v":""},{"$f":"IF(DATA_INPUT!AG59<>\"\",$V57*15,\"\")","v":30},{"$f":"IF(DATA_INPUT!AH59<>\"\",$V57*15,\"\")","v":""},{"$f":"IF(DATA_INPUT!AI59<>\"\",$V57,\"\")","v":2},{"$f":"IF(DATA_INPUT!AJ59<>\"\",$V57,\"\")","v":""},{"$f":"IF(DATA_INPUT!AK59<>\"\",$V57,\"\")","v":""},{"$f":"IF(DATA_INPUT!AL59<>\"\",$V57*7.6*DATA_INPUT!AL59,\"\")","v":""},{"$f":"IF(DATA_INPUT!AM59<>\"\",$V57*9*DATA_INPUT!AM59,\"\")","v":""},{"$f":"IF(DATA_INPUT!AN59<>\"\",$V57*10.8*DATA_INPUT!AN59,\"\")","v":""},{"$f":"IF(DATA_INPUT!AO59<>\"\",$V57*14.6*DATA_INPUT!AO59,\"\")","v":""},{"$f":"IF(DATA_INPUT!AP59<>\"\",$V57,\"\")","v":""},{"$f":"IF(DATA_INPUT!AQ59<>\"\",$V57,\"\")","v":""},{"$f":"IF(DATA_INPUT!AR59<>\"\",DATA_INPUT!AR59,\"\")","v":""},{"$f":"IF(DATA_INPUT!AS59<>\"\",DATA_INPUT!AS59,\"\")","v":""},{"$f":"IF(DATA_INPUT!AT59<>\"\",DATA_INPUT!AT59,\"\")","v":""},{"$f":"IF(DATA_INPUT!AU59<>\"\",DATA_INPUT!AU59,\"\")","v":""},{"$f":"IF(DATA_INPUT!AV59<>\"\",DATA_INPUT!AV59,\"\")","v":""},{"$f":"IF(DATA_INPUT!AW59<>\"\",DATA_INPUT!AW59,\"\")","v":""},{"$f":"IF(DATA_INPUT!AX59<>\"\",DATA_INPUT!AX59+Directions!$D$24-1,\"\")","v":1},{"$f":"IF(DATA_INPUT!AY59<>\"\",DATA_INPUT!AY59,\"\")","v":""},{"$f":"IF(DATA_INPUT!G59<>\"\",2,IF(DATA_INPUT!N59>2,2,IF(DATA_INPUT!N59=2,3,4)))","v":4},{"$f":"IF(OR(DATA_INPUT!S59<>\"\",DATA_INPUT!T59<>\"\"),H57,\"\")","v":1},{"$f":"IF(DATA_INPUT!T59<>\"\",\"X\",\"\")","v":""}]
[{"$f":"IF(DATA_INPUT!F60<>\"\",DATA_INPUT!F60,\"\")","v":""},{"$f":"IF(DATA_INPUT!G60<>\"\",DATA_INPUT!G60,\"\")","v":""},{"$f":"IF(DATA_INPUT!H60<>\"\",DATA_INPUT!H60,\"\")","v":"STA. 100 +84.00"},{"$f":"IF(DATA_INPUT!I60<>\"\",DATA_INPUT!I60,\"\")","v":"A"},{"$f":"IF(DATA_INPUT!J60<>\"\",DATA_INPUT!J60,\"\")","v":"VR-932"},{"$f":"IF(DATA_INPUT!L60<>\"\",DATA_INPUT!L60,IF(DATA_INPUT!K60<>\"\",DATA_INPUT!K60,\"\"))","v":{"$error":"#VALUE!"}},{"$f":"IF(DATA_INPUT!O60<>\"\",DATA_INPUT!O60,\"\")","v":""},{"$f":"IF(DATA_INPUT!P60<>\"\",DATA_INPUT!P60,\"\")","v":1},{"$f":"IF(DATA_INPUT!Q60<>\"\",DATA_INPUT!Q60,\"\")","v":30},{"$f":"IF(DATA_INPUT!R60<>\"\",DATA_INPUT!R60,\"\")","v":48},{"$f":"IF(DATA_INPUT!S60<>\"\",IF(DATA_INPUT!AZ60<>\"\",DATA_INPUT!AZ60,H58*I58*J58/144)*IF(G58<>\"\",3/2,1),\"\")","v":""},{"$f":"IF(DATA_INPUT!T60<>\"\",IF(DATA_INPUT!AZ60<>\"\",DATA_INPUT!AZ60,H58*I58*J58/144)*IF(G58<>\"\",3/2,1),\"\")","v":""},{"$f":"IF(DATA_INPUT!U60<>\"\",$H58,\"\")","v":""},{"$f":"IF(DATA_INPUT!V60<>\"\",$H58,\"\")","v":""},{"$f":"IF(DATA_INPUT!W60<>\"\",$H58,\"\")","v":""},{"$f":"IF(DATA_INPUT!X60<>\"\",$H58,\"\")","v":1},{"$f":"IF(DATA_INPUT!Y60<>\"\",$H58,\"\")","v":""},{"$f":"IF(DATA_INPUT!Z60<>\"\",DATA_INPUT!Z60,\"\")","v":""},{"$f":"IF(DATA_INPUT!AA60<>\"\",DATA_INPUT!AA60,\"\")","v":""},{"$f":"IF(DATA_INPUT!AB60<>\"\",DATA_INPUT!AB60,\"\")","v":""},{"$f":"IF(DATA_INPUT!AC60<>\"\",DATA_INPUT!AC60,\"\")","v":2},{"$f":"IF(DATA_INPUT!AD60<>\"\",DATA_INPUT!AD60,\"\")","v":""},{"$f":"IF(DATA_INPUT!AE60<>\"\",$V58,\"\")","v":""},{"$f":"IF(DATA_INPUT!AF60<>\"\",$V58*8,\"\")","v":""},{"$f":"IF(DATA_INPUT!AG60<>\"\",$V58*15,\"\")","v":""},{"$f":"IF(DATA_INPUT!AH60<>\"\",$V58*15,\"\")","v":""},{"$f":"IF(DATA_INPUT!AI60<>\"\",$V58,\"\")","v":""},{"$f":"IF(DATA_INPUT!AJ60<>\"\",$V58,\"\")","v":""},{"$f":"IF(DATA_INPUT!AK60<>\"\",$V58,\"\")","v":""},{"$f":"IF(DATA_INPUT!AL60<>\"\",$V58*7.6*DATA_INPUT!AL60,\"\")","v":""},{"$f":"IF(DATA_INPUT!AM60<>\"\",$V58*9*DATA_INPUT!AM60,\"\")","v":""},{"$f":"IF(DATA_INPUT!AN60<>\"\",$V58*10.8*DATA_INPUT!AN60,\"\")","v":""},{"$f":"IF(DATA_INPUT!AO60<>\"\",$V58*14.6*DATA_INPUT!AO60,\"\")","v":""},{"$f":"IF(DATA_INPUT!AP60<>\"\",$V58,\"\")","v":""},{"$f":"IF(DATA_INPUT!AQ60<>\"\",$V58,\"\")","v":""},{"$f":"IF(DATA_INPUT!AR60<>\"\",DATA_INPUT!AR60,\"\")","v":""},{"$f":"IF(DATA_INPUT!AS60<>\"\",DATA_INPUT!AS60,\"\")","v":""},{"$f":"IF(DATA_INPUT!AT60<>\"\",DATA_INPUT!AT60,\"\")","v":""},{"$f":"IF(DATA_INPUT!AU60<>\"\",DATA_INPUT!AU60,\"\")","v":""},{"$f":"IF(DATA_INPUT!AV60<>\"\",DATA_INPUT!AV60,\"\")","v":""},{"$f":"IF(DATA_INPUT!AW60<>\"\",DATA_INPUT!AW60,\"\")","v":""},{"$f":"IF(DATA_INPUT!AX60<>\"\",DATA_INPUT!AX60+Directions!$D$24-1,\"\")","v":""},{"$f":"IF(DATA_INPUT!AY60<>\"\",DATA_INPUT!AY60,\"\")","v":"T-145"},{"$f":"IF(DATA_INPUT!G60<>\"\",2,IF(DATA_INPUT!N60>2,2,IF(DATA_INPUT!N60=2,3,4)))","v":4},{"$f":"IF(OR(DATA_INPUT!S60<>\"\",DATA_INPUT!T60<>\"\"),H58,\"\")","v":""},{"$f":"IF(DATA_INPUT!T60<>\"\",\"X\",\"\")","v":""}]
[{"$f":"IF(DATA_INPUT!F61<>\"\",DATA_INPUT!F61,\"\")","v":""},{"$f":"IF(DATA_INPUT!G61<>\"\",DATA_INPUT!G61,\"\")","v":""},{"$f":"IF(DATA_INPUT!H61<>\"\",DATA_INPUT!H61,\"\")","v":"STA. 102 +83.00"},{"$f":"IF(DATA_INPUT!I61<>\"\",DATA_INPUT!I61,\"\")","v":"F"},{"$f":"IF(DATA_INPUT!J61<>\"\",DATA_INPUT!J61,\"\")","v":"M3-2P"},{"$f":"IF(DATA_INPUT!L61<>\"\",DATA_INPUT!L61,IF(DATA_INPUT!K61<>\"\",DATA_INPUT!K61,\"\"))","v":{"$error":"#VALUE!"}},{"$f":"IF(DATA_INPUT!O61<>\"\",DATA_INPUT!O61,\"\")","v":""},{"$f":"IF(DATA_INPUT!P61<>\"\",DATA_INPUT!P61,\"\")","v":1},{"$f":"IF(DATA_INPUT!Q61<>\"\",DATA_INPUT!Q61,\"\")","v":24},{"$f":"IF(DATA_INPUT!R61<>\"\",DATA_INPUT!R61,\"\")","v":12},{"$f":"IF(DATA_INPUT!S61<>\"\",IF(DATA_INPUT!AZ61<>\"\",DATA_INPUT!AZ61,H59*I59*J59/144)*IF(G59<>\"\",3/2,1),\"\")","v":""},{"$f":"IF(DATA_INPUT!T61<>\"\",IF(DATA_INPUT!AZ61<>\"\",DATA_INPUT!AZ61,H59*I59*J59/144)*IF(G59<>\"\",3/2,1),\"\")","v":""},{"$f":"IF(DATA_INPUT!U61<>\"\",$H59,\"\")","v":""},{"$f":"IF(DATA_INPUT!V61<>\"\",$H59,\"\")","v":""},{"$f":"IF(DATA_INPUT!W61<>\"\",$H59,\"\")","v":""},{"$f":"IF(DATA_INPUT!X61<>\"\",$H59,\"\")","v":1},{"$f":"IF(DATA_INPUT!Y61<>\"\",$H59,\"\")","v":""},{"$f":"IF(DATA_INPUT!Z61<>\"\",DATA_INPUT!Z61,\"\")","v":""},{"$f":"IF(DATA_INPUT!AA61<>\"\",DATA_INPUT!AA61,\"\")","v":""},{"$f":"IF(DATA_INPUT!AB61<>\"\",DATA_INPUT!AB61,\"\")","v":""},{"$f":"IF(DATA_INPUT!AC61<>\"\",DATA_INPUT!AC61,\"\")","v":2},{"$f":"IF(DATA_INPUT!AD61<>\"\",DATA_INPUT!AD61,\"\")","v":""},{"$f":"IF(DATA_INPUT!AE61<>\"\",$V59,\"\")","v":""},{"$f":"IF(DATA_INPUT!AF61<>\"\",$V59*8,\"\")","v":""},{"$f":"IF(DATA_INPUT!AG61<>\"\",$V59*15,\"\")","v":""},{"$f":"IF(DATA_INPUT!AH61<>\"\",$V59*15,\"\")","v":""},{"$f":"IF(DATA_INPUT!AI61<>\"\",$V59,\"\")","v":""},{"$f":"IF(DATA_INPUT!AJ61<>\"\",$V59,\"\")","v":""},{"$f":"IF(DATA_INPUT!AK61<>\"\",$V59,\"\")","v":""},{"$f":"IF(DATA_INPUT!AL61<>\"\",$V59*7.6*DATA_INPUT!AL61,\"\")","v":""},{"$f":"IF(DATA_INPUT!AM61<>\"\",$V59*9*DATA_INPUT!AM61,\"\")","v":""},{"$f":"IF(DATA_INPUT!AN61<>\"\",$V59*10.8*DATA_INPUT!AN61,\"\")","v":""},{"$f":"IF(DATA_INPUT!AO61<>\"\",$V59*14.6*DATA_INPUT!AO61,\"\")","v":""},{"$f":"IF(DATA_INPUT!AP61<>\"\",$V59,\"\")","v":""},{"$f":"IF(DATA_INPUT!AQ61<>\"\",$V59,\"\")","v":""},{"$f":"IF(DATA_INPUT!AR61<>\"\",DATA_INPUT!AR61,\"\")","v":""},{"$f":"IF(DATA_INPUT!AS61<>\"\",DATA_INPUT!AS61,\"\")","v":""},{"$f":"IF(DATA_INPUT!AT61<>\"\",DATA_INPUT!AT61,\"\")","v":""},{"$f":"IF(DATA_INPUT!AU61<>\"\",DATA_INPUT!AU61,\"\")","v":""},{"$f":"IF(DATA_INPUT!AV61<>\"\",DATA_INPUT!AV61,\"\")","v":""},{"$f":"IF(DATA_INPUT!AW61<>\"\",DATA_INPUT!AW61,\"\")","v":"X"},{"$f":"IF(DATA_INPUT!AX61<>\"\",DATA_INPUT!AX61+Directions!$D$24-1,\"\")","v":""},{"$f":"IF(DATA_INPUT!AY61<>\"\",DATA_INPUT!AY61,\"\")","v":""},{"$f":"IF(DATA_INPUT!G61<>\"\",2,IF(DATA_INPUT!N61>2,2,IF(DATA_INPUT!N61=2,3,4)))","v":2},{"$f":"IF(OR(DATA_INPUT!S61<>\"\",DATA_INPUT!T61<>\"\"),H59,\"\")","v":""},{"$f":"IF(DATA_INPUT!T61<>\"\",\"X\",\"\")","v":""}]
[{"$f":"IF(DATA_INPUT!F62<>\"\",DATA_INPUT!F62,\"\")","v":""},{"$f":"IF(DATA_INPUT!G62<>\"\",DATA_INPUT!G62,\"\")","v":""},{"$f":"IF(DATA_INPUT!H62<>\"\",DATA_INPUT!H62,\"\")","v":""},{"$f":"IF(DATA_INPUT!I62<>\"\",DATA_INPUT!I62,\"\")","v":""},{"$f":"IF(DATA_INPUT!J62<>\"\",DATA_INPUT!J62,\"\")","v":"M3-3P"},{"$f":"IF(DATA_INPUT!L62<>\"\",DATA_INPUT!L62,IF(DATA_INPUT!K62<>\"\",DATA_INPUT!K62,\"\"))","v":"(multisign image continues)"},{"$f":"IF(DATA_INPUT!O62<>\"\",DATA_INPUT!O62,\"\")","v":""},{"$f":"IF(DATA_INPUT!P62<>\"\",DATA_INPUT!P62,\"\")","v":1},{"$f":"IF(DATA_INPUT!Q62<>\"\",DATA_INPUT!Q62,\"\")","v":24},{"$f":"IF(DATA_INPUT!R62<>\"\",DATA_INPUT!R62,\"\")","v":12},{"$f":"IF(DATA_INPUT!S62<>\"\",IF(DATA_INPUT!AZ62<>\"\",DATA_INPUT!AZ62,H60*I60*J60/144)*IF(G60<>\"\",3/2,1),\"\")","v":""},{"$f":"IF(DATA_INPUT!T62<>\"\",IF(DATA_INPUT!AZ62<>\"\",DATA_INPUT!AZ62,H60*I60*J60/144)*IF(G60<>\"\",3/2,1),\"\")","v":""},{"$f":"IF(DATA_INPUT!U62<>\"\",$H60,\"\")","v":""},{"$f":"IF(DATA_INPUT!V62<>\"\",$H60,\"\")","v":""},{"$f":"IF(DATA_INPUT!W62<>\"\",$H60,\"\")","v":""},{"$f":"IF(DATA_INPUT!X62<>\"\",$H60,\"\")","v":1},{"$f":"IF(DATA_INPUT!Y62<>\"\",$H60,\"\")","v":""},{"$f":"IF(DATA_INPUT!Z62<>\"\",DATA_INPUT!Z62,\"\")","v":""},{"$f":"IF(DATA_INPUT!AA62<>\"\",DATA_INPUT!AA62,\"\")","v":""},{"$f":"IF(DATA_INPUT!AB62<>\"\",DATA_INPUT!AB62,\"\")","v":""},{"$f":"IF(DATA_INPUT!AC62<>\"\",DATA_INPUT!AC62,\"\")","v":""},{"$f":"IF(DATA_INPUT!AD62<>\"\",DATA_INPUT!AD62,\"\")","v":""},{"$f":"IF(DATA_INPUT!AE62<>\"\",$V60,\"\")","v":""},{"$f":"IF(DATA_INPUT!AF62<>\"\",$V60*8,\"\")","v":""},{"$f":"IF(DATA_INPUT!AG62<>\"\",$V60*15,\"\")","v":""},{"$f":"IF(DATA_INPUT!AH62<>\"\",$V60*15,\"\")","v":""},{"$f":"IF(DATA_INPUT!AI62<>\"\",$V60,\"\")","v":""},{"$f":"IF(DATA_INPUT!AJ62<>\"\",$V60,\"\")","v":""},{"$f":"IF(DATA_INPUT!AK62<>\"\",$V60,\"\")","v":""},{"$f":"IF(DATA_INPUT!AL62<>\"\",$V60*7.6*DATA_INPUT!AL62,\"\")","v":""},{"$f":"IF(DATA_INPUT!AM62<>\"\",$V60*9*DATA_INPUT!AM62,\"\")","v":""},{"$f":"IF(DATA_INPUT!AN62<>\"\",$V60*10.8*DATA_INPUT!AN62,\"\")","v":""},{"$f":"IF(DATA_INPUT!AO62<>\"\",$V60*14.6*DATA_INPUT!AO62,\"\")","v":""},{"$f":"IF(DATA_INPUT!AP62<>\"\",$V60,\"\")","v":""},{"$f":"IF(DATA_INPUT!AQ62<>\"\",$V60,\"\")","v":""},{"$f":"IF(DATA_INPUT!AR62<>\"\",DATA_INPUT!AR62,\"\")","v":""},{"$f":"IF(DATA_INPUT!AS62<>\"\",DATA_INPUT!AS62,\"\")","v":""},{"$f":"IF(DATA_INPUT!AT62<>\"\",DATA_INPUT!AT62,\"\")","v":""},{"$f":"IF(DATA_INPUT!AU62<>\"\",DATA_INPUT!AU62,\"\")","v":""},{"$f":"IF(DATA_INPUT!AV62<>\"\",DATA_INPUT!AV62,\"\")","v":""},{"$f":"IF(DATA_INPUT!AW62<>\"\",DATA_INPUT!AW62,\"\")","v":"X"},{"$f":"IF(DATA_INPUT!AX62<>\"\",DATA_INPUT!AX62+Directions!$D$24-1,\"\")","v":""},{"$f":"IF(DATA_INPUT!AY62<>\"\",DATA_INPUT!AY62,\"\")","v":""},{"$f":"IF(DATA_INPUT!G62<>\"\",2,IF(DATA_INPUT!N62>2,2,IF(DATA_INPUT!N62=2,3,4)))","v":2},{"$f":"IF(OR(DATA_INPUT!S62<>\"\",DATA_INPUT!T62<>\"\"),H60,\"\")","v":""},{"$f":"IF(DATA_INPUT!T62<>\"\",\"X\",\"\")","v":""}]
[{"$f":"IF(DATA_INPUT!F63<>\"\",DATA_INPUT!F63,\"\")","v":""},{"$f":"IF(DATA_INPUT!G63<>\"\",DATA_INPUT!G63,\"\")","v":""},{"$f":"IF(DATA_INPUT!H63<>\"\",DATA_INPUT!H63,\"\")","v":""},{"$f":"IF(DATA_INPUT!I63<>\"\",DATA_INPUT!I63,\"\")","v":""},{"$f":"IF(DATA_INPUT!J63<>\"\",DATA_INPUT!J63,\"\")","v":"M1-4"},{"$f":"IF(DATA_INPUT!L63<>\"\",DATA_INPUT!L63,IF(DATA_INPUT!K63<>\"\",DATA_INPUT!K63,\"\"))","v":"(multisign image continues)"},{"$f":"IF(DATA_INPUT!O63<>\"\",DATA_INPUT!O63,\"\")","v":""},{"$f":"IF(DATA_INPUT!P63<>\"\",DATA_INPUT!P63,\"\")","v":1},{"$f":"IF(DATA_INPUT!Q63<>\"\",DATA_INPUT!Q63,\"\")","v":24},{"$f":"IF(DATA_INPUT!R63<>\"\",DATA_INPUT!R63,\"\")","v":24},{"$f":"IF(DATA_INPUT!S63<>\"\",IF(DATA_INPUT!AZ63<>\"\",DATA_INPUT!AZ63,H61*I61*J61/144)*IF(G61<>\"\",3/2,1),\"\")","v":""},{"$f":"IF(DATA_INPUT!T63<>\"\",IF(DATA_INPUT!AZ63<>\"\",DATA_INPUT!AZ63,H61*I61*J61/144)*IF(G61<>\"\",3/2,1),\"\")","v":""},{"$f":"IF(DATA_INPUT!U63<>\"\",$H61,\"\")","v":""},{"$f":"IF(DATA_INPUT!V63<>\"\",$H61,\"\")","v":""},{"$f":"IF(DATA_INPUT!W63<>\"\",$H61,\"\")","v":""},{"$f":"IF(DATA_INPUT!X63<>\"\",$H61,\"\")","v":1},{"$f":"IF(DATA_INPUT!Y63<>\"\",$H61,\"\")","v":""},{"$f":"IF(DATA_INPUT!Z63<>\"\",DATA_INPUT!Z63,\"\")","v":""},{"$f":"IF(DATA_INPUT!AA63<>\"\",DATA_INPUT!AA63,\"\")","v":""},{"$f":"IF(DATA_INPUT!AB63<>\"\",DATA_INPUT!AB63,\"\")","v":""},{"$f":"IF(DATA_INPUT!AC63<>\"\",DATA_INPUT!AC63,\"\")","v":""},{"$f":"IF(DATA_INPUT!AD63<>\"\",DATA_INPUT!AD63,\"\")","v":""},{"$f":"IF(DATA_INPUT!AE63<>\"\",$V61,\"\")","v":""},{"$f":"IF(DATA_INPUT!AF63<>\"\",$V61*8,\"\")","v":""},{"$f":"IF(DATA_INPUT!AG63<>\"\",$V61*15,\"\")","v":""},{"$f":"IF(DATA_INPUT!AH63<>\"\",$V61*15,\"\")","v":""},{"$f":"IF(DATA_INPUT!AI63<>\"\",$V61,\"\")","v":""},{"$f":"IF(DATA_INPUT!AJ63<>\"\",$V61,\"\")","v":""},{"$f":"IF(DATA_INPUT!AK63<>\"\",$V61,\"\")","v":""},{"$f":"IF(DATA_INPUT!AL63<>\"\",$V61*7.6*DATA_INPUT!AL63,\"\")","v":""},{"$f":"IF(DATA_INPUT!AM63<>\"\",$V61*9*DATA_INPUT!AM63,\"\")","v":""},{"$f":"IF(DATA_INPUT!AN63<>\"\",$V61*10.8*DATA_INPUT!AN63,\"\")","v":""},{"$f":"IF(DATA_INPUT!AO63<>\"\",$V61*14.6*DATA_INPUT!AO63,\"\")","v":""},{"$f":"IF(DATA_INPUT!AP63<>\"\",$V61,\"\")","v":""},{"$f":"IF(DATA_INPUT!AQ63<>\"\",$V61,\"\")","v":""},{"$f":"IF(DATA_INPUT!AR63<>\"\",DATA_INPUT!AR63,\"\")","v":""},{"$f":"IF(DATA_INPUT!AS63<>\"\",DATA_INPUT!AS63,\"\")","v":""},{"$f":"IF(DATA_INPUT!AT63<>\"\",DATA_INPUT!AT63,\"\")","v":""},{"$f":"IF(DATA_INPUT!AU63<>\"\",DATA_INPUT!AU63,\"\")","v":""},{"$f":"IF(DATA_INPUT!AV63<>\"\",DATA_INPUT!AV63,\"\")","v":""},{"$f":"IF(DATA_INPUT!AW63<>\"\",DATA_INPUT!AW63,\"\")","v":"X"},{"$f":"IF(DATA_INPUT!AX63<>\"\",DATA_INPUT!AX63+Directions!$D$24-1,\"\")","v":""},{"$f":"IF(DATA_INPUT!AY63<>\"\",DATA_INPUT!AY63,\"\")","v":""},{"$f":"IF(DATA_INPUT!G63<>\"\",2,IF(DATA_INPUT!N63>2,2,IF(DATA_INPUT!N63=2,3,4)))","v":2},{"$f":"IF(OR(DATA_INPUT!S63<>\"\",DATA_INPUT!T63<>\"\"),H61,\"\")","v":""},{"$f":"IF(DATA_INPUT!T63<>\"\",\"X\",\"\")","v":""}]
[{"$f":"IF(DATA_INPUT!F64<>\"\",DATA_INPUT!F64,\"\")","v":""},{"$f":"IF(DATA_INPUT!G64<>\"\",DATA_INPUT!G64,\"\")","v":""},{"$f":"IF(DATA_INPUT!H64<>\"\",DATA_INPUT!H64,\"\")","v":""},{"$f":"IF(DATA_INPUT!I64<>\"\",DATA_INPUT!I64,\"\")","v":""},{"$f":"IF(DATA_INPUT!J64<>\"\",DATA_INPUT!J64,\"\")","v":"M1-4"},{"$f":"IF(DATA_INPUT!L64<>\"\",DATA_INPUT!L64,IF(DATA_INPUT!K64<>\"\",DATA_INPUT!K64,\"\"))","v":"(multisign image continues)"},{"$f":"IF(DATA_INPUT!O64<>\"\",DATA_INPUT!O64,\"\")","v":""},{"$f":"IF(DATA_INPUT!P64<>\"\",DATA_INPUT!P64,\"\")","v":1},{"$f":"IF(DATA_INPUT!Q64<>\"\",DATA_INPUT!Q64,\"\")","v":24},{"$f":"IF(DATA_INPUT!R64<>\"\",DATA_INPUT!R64,\"\")","v":24},{"$f":"IF(DATA_INPUT!S64<>\"\",IF(DATA_INPUT!AZ64<>\"\",DATA_INPUT!AZ64,H62*I62*J62/144)*IF(G62<>\"\",3/2,1),\"\")","v":""},{"$f":"IF(DATA_INPUT!T64<>\"\",IF(DATA_INPUT!AZ64<>\"\",DATA_INPUT!AZ64,H62*I62*J62/144)*IF(G62<>\"\",3/2,1),\"\")","v":""},{"$f":"IF(DATA_INPUT!U64<>\"\",$H62,\"\")","v":""},{"$f":"IF(DATA_INPUT!V64<>\"\",$H62,\"\")","v":""},{"$f":"IF(DATA_INPUT!W64<>\"\",$H62,\"\")","v":""},{"$f":"IF(DATA_INPUT!X64<>\"\",$H62,\"\")","v":1},{"$f":"IF(DATA_INPUT!Y64<>\"\",$H62,\"\")","v":""},{"$f":"IF(DATA_INPUT!Z64<>\"\",DATA_INPUT!Z64,\"\")","v":""},{"$f":"IF(DATA_INPUT!AA64<>\"\",DATA_INPUT!AA64,\"\")","v":""},{"$f":"IF(DATA_INPUT!AB64<>\"\",DATA_INPUT!AB64,\"\")","v":""},{"$f":"IF(DATA_INPUT!AC64<>\"\",DATA_INPUT!AC64,\"\")","v":""},{"$f":"IF(DATA_INPUT!AD64<>\"\",DATA_INPUT!AD64,\"\")","v":""},{"$f":"IF(DATA_INPUT!AE64<>\"\",$V62,\"\")","v":""},{"$f":"IF(DATA_INPUT!AF64<>\"\",$V62*8,\"\")","v":""},{"$f":"IF(DATA_INPUT!AG64<>\"\",$V62*15,\"\")","v":""},{"$f":"IF(DATA_INPUT!AH64<>\"\",$V62*15,\"\")","v":""},{"$f":"IF(DATA_INPUT!AI64<>\"\",$V62,\"\")","v":""},{"$f":"IF(DATA_INPUT!AJ64<>\"\",$V62,\"\")","v":""},{"$f":"IF(DATA_INPUT!AK64<>\"\",$V62,\"\")","v":""},{"$f":"IF(DATA_INPUT!AL64<>\"\",$V62*7.6*DATA_INPUT!AL64,\"\")","v":""},{"$f":"IF(DATA_INPUT!AM64<>\"\",$V62*9*DATA_INPUT!AM64,\"\")","v":""},{"$f":"IF(DATA_INPUT!AN64<>\"\",$V62*10.8*DATA_INPUT!AN64,\"\")","v":""},{"$f":"IF(DATA_INPUT!AO64<>\"\",$V62*14.6*DATA_INPUT!AO64,\"\")","v":""},{"$f":"IF(DATA_INPUT!AP64<>\"\",$V62,\"\")","v":""},{"$f":"IF(DATA_INPUT!AQ64<>\"\",$V62,\"\")","v":""},{"$f":"IF(DATA_INPUT!AR64<>\"\",DATA_INPUT!AR64,\"\")","v":""},{"$f":"IF(DATA_INPUT!AS64<>\"\",DATA_INPUT!AS64,\"\")","v":""},{"$f":"IF(DATA_INPUT!AT64<>\"\",DATA_INPUT!AT64,\"\")","v":""},{"$f":"IF(DATA_INPUT!AU64<>\"\",DATA_INPUT!AU64,\"\")","v":""},{"$f":"IF(DATA_INPUT!AV64<>\"\",DATA_INPUT!AV64,\"\")","v":""},{"$f":"IF(DATA_INPUT!AW64<>\"\",DATA_INPUT!AW64,\"\")","v":"X"},{"$f":"IF(DATA_INPUT!AX64<>\"\",DATA_INPUT!AX64+Directions!$D$24-1,\"\")","v":""},{"$f":"IF(DATA_INPUT!AY64<>\"\",DATA_INPUT!AY64,\"\")","v":""},{"$f":"IF(DATA_INPUT!G64<>\"\",2,IF(DATA_INPUT!N64>2,2,IF(DATA_INPUT!N64=2,3,4)))","v":2},{"$f":"IF(OR(DATA_INPUT!S64<>\"\",DATA_INPUT!T64<>\"\"),H62,\"\")","v":""},{"$f":"IF(DATA_INPUT!T64<>\"\",\"X\",\"\")","v":""}]
[{"$f":"IF(DATA_INPUT!F65<>\"\",DATA_INPUT!F65,\"\")","v":""},{"$f":"IF(DATA_INPUT!G65<>\"\",DATA_INPUT!G65,\"\")","v":""},{"$f":"IF(DATA_INPUT!H65<>\"\",DATA_INPUT!H65,\"\")","v":"STA. 103 +60.00"},{"$f":"IF(DATA_INPUT!I65<>\"\",DATA_INPUT!I65,\"\")","v":"F"},{"$f":"IF(DATA_INPUT!J65<>\"\",DATA_INPUT!J65,\"\")","v":"M3-2P"},{"$f":"IF(DATA_INPUT!L65<>\"\",DATA_INPUT!L65,IF(DATA_INPUT!K65<>\"\",DATA_INPUT!K65,\"\"))","v":{"$error":"#VALUE!"}},{"$f":"IF(DATA_INPUT!O65<>\"\",DATA_INPUT!O65,\"\")","v":""},{"$f":"IF(DATA_INPUT!P65<>\"\",DATA_INPUT!P65,\"\")","v":1},{"$f":"IF(DATA_INPUT!Q65<>\"\",DATA_INPUT!Q65,\"\")","v":24},{"$f":"IF(DATA_INPUT!R65<>\"\",DATA_INPUT!R65,\"\")","v":12},{"$f":"IF(DATA_INPUT!S65<>\"\",IF(DATA_INPUT!AZ65<>\"\",DATA_INPUT!AZ65,H63*I63*J63/144)*IF(G63<>\"\",3/2,1),\"\")","v":2},{"$f":"IF(DATA_INPUT!T65<>\"\",IF(DATA_INPUT!AZ65<>\"\",DATA_INPUT!AZ65,H63*I63*J63/144)*IF(G63<>\"\",3/2,1),\"\")","v":""},{"$f":"IF(DATA_INPUT!U65<>\"\",$H63,\"\")","v":""},{"$f":"IF(DATA_INPUT!V65<>\"\",$H63,\"\")","v":""},{"$f":"IF(DATA_INPUT!W65<>\"\",$H63,\"\")","v":""},{"$f":"IF(DATA_INPUT!X65<>\"\",$H63,\"\")","v":""},{"$f":"IF(DATA_INPUT!Y65<>\"\",$H63,\"\")","v":""},{"$f":"IF(DATA_INPUT!Z65<>\"\",DATA_INPUT!Z65,\"\")","v":""},{"$f":"IF(DATA_INPUT!AA65<>\"\",DATA_INPUT!AA65,\"\")","v":""},{"$f":"IF(DATA_INPUT!AB65<>\"\",DATA_INPUT!AB65,\"\")","v":""},{"$f":"IF(DATA_INPUT!AC65<>\"\",DATA_INPUT!AC65,\"\")","v":""},{"$f":"IF(DATA_INPUT!AD65<>\"\",DATA_INPUT!AD65,\"\")","v":2},{"$f":"IF(DATA_INPUT!AE65<>\"\",$V63,\"\")","v":""},{"$f":"IF(DATA_INPUT!AF65<>\"\",$V63*8,\"\")","v":""},{"$f":"IF(DATA_INPUT!AG65<>\"\",$V63*15,\"\")","v":30},{"$f":"IF(DATA_INPUT!AH65<>\"\",$V63*15,\"\")","v":""},{"$f":"IF(DATA_INPUT!AI65<>\"\",$V63,\"\")","v":2},{"$f":"IF(DATA_INPUT!AJ65<>\"\",$V63,\"\")","v":""},{"$f":"IF(DATA_INPUT!AK65<>\"\",$V63,\"\")","v":""},{"$f":"IF(DATA_INPUT!AL65<>\"\",$V63*7.6*DATA_INPUT!AL65,\"\")","v":""},{"$f":"IF(DATA_INPUT!AM65<>\"\",$V63*9*DATA_INPUT!AM65,\"\")","v":""},{"$f":"IF(DATA_INPUT!AN65<>\"\",$V63*10.8*DATA_INPUT!AN65,\"\")","v":""},{"$f":"IF(DATA_INPUT!AO65<>\"\",$V63*14.6*DATA_INPUT!AO65,\"\")","v":""},{"$f":"IF(DATA_INPUT!AP65<>\"\",$V63,\"\")","v":""},{"$f":"IF(DATA_INPUT!AQ65<>\"\",$V63,\"\")","v":""},{"$f":"IF(DATA_INPUT!AR65<>\"\",DATA_INPUT!AR65,\"\")","v":""},{"$f":"IF(DATA_INPUT!AS65<>\"\",DATA_INPUT!AS65,\"\")","v":""},{"$f":"IF(DATA_INPUT!AT65<>\"\",DATA_INPUT!AT65,\"\")","v":"X"},{"$f":"IF(DATA_INPUT!AU65<>\"\",DATA_INPUT!AU65,\"\")","v":""},{"$f":"IF(DATA_INPUT!AV65<>\"\",DATA_INPUT!AV65,\"\")","v":"BLACK ON WHITE"},{"$f":"IF(DATA_INPUT!AW65<>\"\",DATA_INPUT!AW65,\"\")","v":"X"},{"$f":"IF(DATA_INPUT!AX65<>\"\",DATA_INPUT!AX65+Directions!$D$24-1,\"\")","v":""},{"$f":"IF(DATA_INPUT!AY65<>\"\",DATA_INPUT!AY65,\"\")","v":""},{"$f":"IF(DATA_INPUT!G65<>\"\",2,IF(DATA_INPUT!N65>2,2,IF(DATA_INPUT!N65=2,3,4)))","v":2},{"$f":"IF(OR(DATA_INPUT!S65<>\"\",DATA_INPUT!T65<>\"\"),H63,\"\")","v":1},{"$f":"IF(DATA_INPUT!T65<>\"\",\"X\",\"\")","v":""}]
[{"$f":"IF(DATA_INPUT!F66<>\"\",DATA_INPUT!F66,\"\")","v":""},{"$f":"IF(DATA_INPUT!G66<>\"\",DATA_INPUT!G66,\"\")","v":""},{"$f":"IF(DATA_INPUT!H66<>\"\",DATA_INPUT!H66,\"\")","v":""},{"$f":"IF(DATA_INPUT!I66<>\"\",DATA_INPUT!I66,\"\")","v":""},{"$f":"IF(DATA_INPUT!J66<>\"\",DATA_INPUT!J66,\"\")","v":"M3-3P"},{"$f":"IF(DATA_INPUT!L66<>\"\",DATA_INPUT!L66,IF(DATA_INPUT!K66<>\"\",DATA_INPUT!K66,\"\"))","v":"(multisign image continues)"},{"$f":"IF(DATA_INPUT!O66<>\"\",DATA_INPUT!O66,\"\")","v":""},{"$f":"IF(DATA_INPUT!P66<>\"\",DATA_INPUT!P66,\"\")","v":1},{"$f":"IF(DATA_INPUT!Q66<>\"\",DATA_INPUT!Q66,\"\")","v":24},{"$f":"IF(DATA_INPUT!R66<>\"\",DATA_INPUT!R66,\"\")","v":12},{"$f":"IF(DATA_INPUT!S66<>\"\",IF(DATA_INPUT!AZ66<>\"\",DATA_INPUT!AZ66,H64*I64*J64/144)*IF(G64<>\"\",3/2,1),\"\")","v":2},{"$f":"IF(DATA_INPUT!T66<>\"\",IF(DATA_INPUT!AZ66<>\"\",DATA_INPUT!AZ66,H64*I64*J64/144)*IF(G64<>\"\",3/2,1),\"\")","v":""},{"$f":"IF(DATA_INPUT!U66<>\"\",$H64,\"\")","v":""},{"$f":"IF(DATA_INPUT!V66<>\"\",$H64,\"\")","v":""},{"$f":"IF(DATA_INPUT!W66<>\"\",$H64,\"\")","v":""},{"$f":"IF(DATA_INPUT!X66<>\"\",$H64,\"\")","v":""},{"$f":"IF(DATA_INPUT!Y66<>\"\",$H64,\"\")","v":""},{"$f":"IF(DATA_INPUT!Z66<>\"\",DATA_INPUT!Z66,\"\")","v":""},{"$f":"IF(DATA_INPUT!AA66<>\"\",DATA_INPUT!AA66,\"\")","v":""},{"$f":"IF(DATA_INPUT!AB66<>\"\",DATA_INPUT!AB66,\"\")","v":""},{"$f":"IF(DATA_INPUT!AC66<>\"\",DATA_INPUT!AC66,\"\")","v":""},{"$f":"IF(DATA_INPUT!AD66<>\"\",DATA_INPUT!AD66,\"\")","v":""},{"$f":"IF(DATA_INPUT!AE66<>\"\",$V64,\"\")","v":""},{"$f":"IF(DATA_INPUT!AF66<>\"\",$V64*8,\"\")","v":""},{"$f":"IF(DATA_INPUT!AG66<>\"\",$V64*15,\"\")","v":""},{"$f":"IF(DATA_INPUT!AH66<>\"\",$V64*15,\"\")","v":""},{"$f":"IF(DATA_INPUT!AI66<>\"\",$V64,\"\")","v":""},{"$f":"IF(DATA_INPUT!AJ66<>\"\",$V64,\"\")","v":""},{"$f":"IF(DATA_INPUT!AK66<>\"\",$V64,\"\")","v":""},{"$f":"IF(DATA_INPUT!AL66<>\"\",$V64*7.6*DATA_INPUT!AL66,\"\")","v":""},{"$f":"IF(DATA_INPUT!AM66<>\"\",$V64*9*DATA_INPUT!AM66,\"\")","v":""},{"$f":"IF(DATA_INPUT!AN66<>\"\",$V64*10.8*DATA_INPUT!AN66,\"\")","v":""},{"$f":"IF(DATA_INPUT!AO66<>\"\",$V64*14.6*DATA_INPUT!AO66,\"\")","v":""},{"$f":"IF(DATA_INPUT!AP66<>\"\",$V64,\"\")","v":""},{"$f":"IF(DATA_INPUT!AQ66<>\"\",$V64,\"\")","v":""},{"$f":"IF(DATA_INPUT!AR66<>\"\",DATA_INPUT!AR66,\"\")","v":""},{"$f":"IF(DATA_INPUT!AS66<>\"\",DATA_INPUT!AS66,\"\")","v":""},{"$f":"IF(DATA_INPUT!AT66<>\"\",DATA_INPUT!AT66,\"\")","v":""},{"$f":"IF(DATA_INPUT!AU66<>\"\",DATA_INPUT!AU66,\"\")","v":""},{"$f":"IF(DATA_INPUT!AV66<>\"\",DATA_INPUT!AV66,\"\")","v":"BLACK ON WHITE"},{"$f":"IF(DATA_INPUT!AW66<>\"\",DATA_INPUT!AW66,\"\")","v":"X"},{"$f":"IF(DATA_INPUT!AX66<>\"\",DATA_INPUT!AX66+Directions!$D$24-1,\"\")","v":""},{"$f":"IF(DATA_INPUT!AY66<>\"\",DATA_INPUT!AY66,\"\")","v":""},{"$f":"IF(DATA_INPUT!G66<>\"\",2,IF(DATA_INPUT!N66>2,2,IF(DATA_INPUT!N66=2,3,4)))","v":2},{"$f":"IF(OR(DATA_INPUT!S66<>\"\",DATA_INPUT!T66<>\"\"),H64,\"\")","v":1},{"$f":"IF(DATA_INPUT!T66<>\"\",\"X\",\"\")","v":""}]
[{"$f":"IF(DATA_INPUT!F67<>\"\",DATA_INPUT!F67,\"\")","v":""},{"$f":"IF(DATA_INPUT!G67<>\"\",DATA_INPUT!G67,\"\")","v":""},{"$f":"IF(DATA_INPUT!H67<>\"\",DATA_INPUT!H67,\"\")","v":""},{"$f":"IF(DATA_INPUT!I67<>\"\",DATA_INPUT!I67,\"\")","v":""},{"$f":"IF(DATA_INPUT!J67<>\"\",DATA_INPUT!J67,\"\")","v":"M1-4"},{"$f":"IF(DATA_INPUT!L67<>\"\",DATA_INPUT!L67,IF(DATA_INPUT!K67<>\"\",DATA_INPUT!K67,\"\"))","v":"(multisign image continues)"},{"$f":"IF(DATA_INPUT!O67<>\"\",DATA_INPUT!O67,\"\")","v":""},{"$f":"IF(DATA_INPUT!P67<>\"\",DATA_INPUT!P67,\"\")","v":1},{"$f":"IF(DATA_INPUT!Q67<>\"\",DATA_INPUT!Q67,\"\")","v":24},{"$f":"IF(DATA_INPUT!R67<>\"\",DATA_INPUT!R67,\"\")","v":24},{"$f":"IF(DATA_INPUT!S67<>\"\",IF(DATA_INPUT!AZ67<>\"\",DATA_INPUT!AZ67,H65*I65*J65/144)*IF(G65<>\"\",3/2,1),\"\")","v":4},{"$f":"IF(DATA_INPUT!T67<>\"\",IF(DATA_INPUT!AZ67<>\"\",DATA_INPUT!AZ67,H65*I65*J65/144)*IF(G65<>\"\",3/2,1),\"\")","v":""},{"$f":"IF(DATA_INPUT!U67<>\"\",$H65,\"\")","v":""},{"$f":"IF(DATA_INPUT!V67<>\"\",$H65,\"\")","v":""},{"$f":"IF(DATA_INPUT!W67<>\"\",$H65,\"\")","v":""},{"$f":"IF(DATA_INPUT!X67<>\"\",$H65,\"\")","v":""},{"$f":"IF(DATA_INPUT!Y67<>\"\",$H65,\"\")","v":""},{"$f":"IF(DATA_INPUT!Z67<>\"\",DATA_INPUT!Z67,\"\")","v":""},{"$f":"IF(DATA_INPUT!AA67<>\"\",DATA_INPUT!AA67,\"\")","v":""},{"$f":"IF(DATA_INPUT!AB67<>\"\",DATA_INPUT!AB67,\"\")","v":""},{"$f":"IF(DATA_INPUT!AC67<>\"\",DATA_INPUT!AC67,\"\")","v":""},{"$f":"IF(DATA_INPUT!AD67<>\"\",DATA_INPUT!AD67,\"\")","v":""},{"$f":"IF(DATA_INPUT!AE67<>\"\",$V65,\"\")","v":""},{"$f":"IF(DATA_INPUT!AF67<>\"\",$V65*8,\"\")","v":""},{"$f":"IF(DATA_INPUT!AG67<>\"\",$V65*15,\"\")","v":""},{"$f":"IF(DATA_INPUT!AH67<>\"\",$V65*15,\"\")","v":""},{"$f":"IF(DATA_INPUT!AI67<>\"\",$V65,\"\")","v":""},{"$f":"IF(DATA_INPUT!AJ67<>\"\",$V65,\"\")","v":""},{"$f":"IF(DATA_INPUT!AK67<>\"\",$V65,\"\")","v":""},{"$f":"IF(DATA_INPUT!AL67<>\"\",$V65*7.6*DATA_INPUT!AL67,\"\")","v":""},{"$f":"IF(DATA_INPUT!AM67<>\"\",$V65*9*DATA_INPUT!AM67,\"\")","v":""},{"$f":"IF(DATA_INPUT!AN67<>\"\",$V65*10.8*DATA_INPUT!AN67,\"\")","v":""},{"$f":"IF(DATA_INPUT!AO67<>\"\",$V65*14.6*DATA_INPUT!AO67,\"\")","v":""},{"$f":"IF(DATA_INPUT!AP67<>\"\",$V65,\"\")","v":""},{"$f":"IF(DATA_INPUT!AQ67<>\"\",$V65,\"\")","v":""},{"$f":"IF(DATA_INPUT!AR67<>\"\",DATA_INPUT!AR67,\"\")","v":""},{"$f":"IF(DATA_INPUT!AS67<>\"\",DATA_INPUT!AS67,\"\")","v":""},{"$f":"IF(DATA_INPUT!AT67<>\"\",DATA_INPUT!AT67,\"\")","v":""},{"$f":"IF(DATA_INPUT!AU67<>\"\",DATA_INPUT!AU67,\"\")","v":""},{"$f":"IF(DATA_INPUT!AV67<>\"\",DATA_INPUT!AV67,\"\")","v":""},{"$f":"IF(DATA_INPUT!AW67<>\"\",DATA_INPUT!AW67,\"\")","v":"X"},{"$f":"IF(DATA_INPUT!AX67<>\"\",DATA_INPUT!AX67+Directions!$D$24-1,\"\")","v":""},{"$f":"IF(DATA_INPUT!AY67<>\"\",DATA_INPUT!AY67,\"\")","v":""},{"$f":"IF(DATA_INPUT!G67<>\"\",2,IF(DATA_INPUT!N67>2,2,IF(DATA_INPUT!N67=2,3,4)))","v":2},{"$f":"IF(OR(DATA_INPUT!S67<>\"\",DATA_INPUT!T67<>\"\"),H65,\"\")","v":1},{"$f":"IF(DATA_INPUT!T67<>\"\",\"X\",\"\")","v":""}]
[{"$f":"IF(DATA_INPUT!F68<>\"\",DATA_INPUT!F68,\"\")","v":""},{"$f":"IF(DATA_INPUT!G68<>\"\",DATA_INPUT!G68,\"\")","v":""},{"$f":"IF(DATA_INPUT!H68<>\"\",DATA_INPUT!H68,\"\")","v":""},{"$f":"IF(DATA_INPUT!I68<>\"\",DATA_INPUT!I68,\"\")","v":""},{"$f":"IF(DATA_INPUT!J68<>\"\",DATA_INPUT!J68,\"\")","v":"M1-4"},{"$f":"IF(DATA_INPUT!L68<>\"\",DATA_INPUT!L68,IF(DATA_INPUT!K68<>\"\",DATA_INPUT!K68,\"\"))","v":"(multisign image continues)"},{"$f":"IF(DATA_INPUT!O68<>\"\",DATA_INPUT!O68,\"\")","v":""},{"$f":"IF(DATA_INPUT!P68<>\"\",DATA_INPUT!P68,\"\")","v":1},{"$f":"IF(DATA_INPUT!Q68<>\"\",DATA_INPUT!Q68,\"\")","v":24},{"$f":"IF(DATA_INPUT!R68<>\"\",DATA_INPUT!R68,\"\")","v":24},{"$f":"IF(DATA_INPUT!S68<>\"\",IF(DATA_INPUT!AZ68<>\"\",DATA_INPUT!AZ68,H66*I66*J66/144)*IF(G66<>\"\",3/2,1),\"\")","v":4},{"$f":"IF(DATA_INPUT!T68<>\"\",IF(DATA_INPUT!AZ68<>\"\",DATA_INPUT!AZ68,H66*I66*J66/144)*IF(G66<>\"\",3/2,1),\"\")","v":""},{"$f":"IF(DATA_INPUT!U68<>\"\",$H66,\"\")","v":""},{"$f":"IF(DATA_INPUT!V68<>\"\",$H66,\"\")","v":""},{"$f":"IF(DATA_INPUT!W68<>\"\",$H66,\"\")","v":""},{"$f":"IF(DATA_INPUT!X68<>\"\",$H66,\"\")","v":""},{"$f":"IF(DATA_INPUT!Y68<>\"\",$H66,\"\")","v":""},{"$f":"IF(DATA_INPUT!Z68<>\"\",DATA_INPUT!Z68,\"\")","v":""},{"$f":"IF(DATA_INPUT!AA68<>\"\",DATA_INPUT!AA68,\"\")","v":""},{"$f":"IF(DATA_INPUT!AB68<>\"\",DATA_INPUT!AB68,\"\")","v":""},{"$f":"IF(DATA_INPUT!AC68<>\"\",DATA_INPUT!AC68,\"\")","v":""},{"$f":"IF(DATA_INPUT!AD68<>\"\",DATA_INPUT!AD68,\"\")","v":""},{"$f":"IF(DATA_INPUT!AE68<>\"\",$V66,\"\")","v":""},{"$f":"IF(DATA_INPUT!AF68<>\"\",$V66*8,\"\")","v":""},{"$f":"IF(DATA_INPUT!AG68<>\"\",$V66*15,\"\")","v":""},{"$f":"IF(DATA_INPUT!AH68<>\"\",$V66*15,\"\")","v":""},{"$f":"IF(DATA_INPUT!AI68<>\"\",$V66,\"\")","v":""},{"$f":"IF(DATA_INPUT!AJ68<>\"\",$V66,\"\")","v":""},{"$f":"IF(DATA_INPUT!AK68<>\"\",$V66,\"\")","v":""},{"$f":"IF(DATA_INPUT!AL68<>\"\",$V66*7.6*DATA_INPUT!AL68,\"\")","v":""},{"$f":"IF(DATA_INPUT!AM68<>\"\",$V66*9*DATA_INPUT!AM68,\"\")","v":""},{"$f":"IF(DATA_INPUT!AN68<>\"\",$V66*10.8*DATA_INPUT!AN68,\"\")","v":""},{"$f":"IF(DATA_INPUT!AO68<>\"\",$V66*14.6*DATA_INPUT!AO68,\"\")","v":""},{"$f":"IF(DATA_INPUT!AP68<>\"\",$V66,\"\")","v":""},{"$f":"IF(DATA_INPUT!AQ68<>\"\",$V66,\"\")","v":""},{"$f":"IF(DATA_INPUT!AR68<>\"\",DATA_INPUT!AR68,\"\")","v":""},{"$f":"IF(DATA_INPUT!AS68<>\"\",DATA_INPUT!AS68,\"\")","v":""},{"$f":"IF(DATA_INPUT!AT68<>\"\",DATA_INPUT!AT68,\"\")","v":""},{"$f":"IF(DATA_INPUT!AU68<>\"\",DATA_INPUT!AU68,\"\")","v":""},{"$f":"IF(DATA_INPUT!AV68<>\"\",DATA_INPUT!AV68,\"\")","v":""},{"$f":"IF(DATA_INPUT!AW68<>\"\",DATA_INPUT!AW68,\"\")","v":"X"},{"$f":"IF(DATA_INPUT!AX68<>\"\",DATA_INPUT!AX68+Directions!$D$24-1,\"\")","v":""},{"$f":"IF(DATA_INPUT!AY68<>\"\",DATA_INPUT!AY68,\"\")","v":""},{"$f":"IF(DATA_INPUT!G68<>\"\",2,IF(DATA_INPUT!N68>2,2,IF(DATA_INPUT!N68=2,3,4)))","v":2},{"$f":"IF(OR(DATA_INPUT!S68<>\"\",DATA_INPUT!T68<>\"\"),H66,\"\")","v":1},{"$f":"IF(DATA_INPUT!T68<>\"\",\"X\",\"\")","v":""}]
[{"$f":"IF(DATA_INPUT!F69<>\"\",DATA_INPUT!F69,\"\")","v":""},{"$f":"IF(DATA_INPUT!G69<>\"\",DATA_INPUT!G69,\"\")","v":""},{"$f":"IF(DATA_INPUT!H69<>\"\",DATA_INPUT!H69,\"\")","v":"STA. 104 +23.00"},{"$f":"IF(DATA_INPUT!I69<>\"\",DATA_INPUT!I69,\"\")","v":"E/F"},{"$f":"IF(DATA_INPUT!J69<>\"\",DATA_INPUT!J69,\"\")","v":"D3-1"},{"$f":"IF(DATA_INPUT!L69<>\"\",DATA_INPUT!L69,IF(DATA_INPUT!K69<>\"\",DATA_INPUT!K69,\"\"))","v":"SEVERANCE RD"},{"$f":"IF(DATA_INPUT!O69<>\"\",DATA_INPUT!O69,\"\")","v":""},{"$f":"IF(DATA_INPUT!P69<>\"\",DATA_INPUT!P69,\"\")","v":1},{"$f":"IF(DATA_INPUT!Q69<>\"\",DATA_INPUT!Q69,\"\")","v":36},{"$f":"IF(DATA_INPUT!R69<>\"\",DATA_INPUT!R69,\"\")","v":12},{"$f":"IF(DATA_INPUT!S69<>\"\",IF(DATA_INPUT!AZ69<>\"\",DATA_INPUT!AZ69,H67*I67*J67/144)*IF(G67<>\"\",3/2,1),\"\")","v":""},{"$f":"IF(DATA_INPUT!T69<>\"\",IF(DATA_INPUT!AZ69<>\"\",DATA_INPUT!AZ69,H67*I67*J67/144)*IF(G67<>\"\",3/2,1),\"\")","v":""},{"$f":"IF(DATA_INPUT!U69<>\"\",$H67,\"\")","v":""},{"$f":"IF(DATA_INPUT!V69<>\"\",$H67,\"\")","v":""},{"$f":"IF(DATA_INPUT!W69<>\"\",$H67,\"\")","v":""},{"$f":"IF(DATA_INPUT!X69<>\"\",$H67,\"\")","v":1},{"$f":"IF(DATA_INPUT!Y69<>\"\",$H67,\"\")","v":""},{"$f":"IF(DATA_INPUT!Z69<>\"\",DATA_INPUT!Z69,\"\")","v":""},{"$f":"IF(DATA_INPUT!AA69<>\"\",DATA_INPUT!AA69,\"\")","v":""},{"$f":"IF(DATA_INPUT!AB69<>\"\",DATA_INPUT!AB69,\"\")","v":""},{"$f":"IF(DATA_INPUT!AC69<>\"\",DATA_INPUT!AC69,\"\")","v":1},{"$f":"IF(DATA_INPUT!AD69<>\"\",DATA_INPUT!AD69,\"\")","v":""},{"$f":"IF(DATA_INPUT!AE69<>\"\",$V67,\"\")","v":""},{"$f":"IF(DATA_INPUT!AF69<>\"\",$V67*8,\"\")","v":""},{"$f":"IF(DATA_INPUT!AG69<>\"\",$V67*15,\"\")","v":""},{"$f":"IF(DATA_INPUT!AH69<>\"\",$V67*15,\"\")","v":""},{"$f":"IF(DATA_INPUT!AI69<>\"\",$V67,\"\")","v":""},{"$f":"IF(DATA_INPUT!AJ69<>\"\",$V67,\"\")","v":""},{"$f":"IF(DATA_INPUT!AK69<>\"\",$V67,\"\")","v":""},{"$f":"IF(DATA_INPUT!AL69<>\"\",$V67*7.6*DATA_INPUT!AL69,\"\")","v":""},{"$f":"IF(DATA_INPUT!AM69<>\"\",$V67*9*DATA_INPUT!AM69,\"\")","v":""},{"$f":"IF(DATA_INPUT!AN69<>\"\",$V67*10.8*DATA_INPUT!AN69,\"\")","v":""},{"$f":"IF(DATA_INPUT!AO69<>\"\",$V67*14.6*DATA_INPUT!AO69,\"\")","v":""},{"$f":"IF(DATA_INPUT!AP69<>\"\",$V67,\"\")","v":""},{"$f":"IF(DATA_INPUT!AQ69<>\"\",$V67,\"\")","v":""},{"$f":"IF(DATA_INPUT!AR69<>\"\",DATA_INPUT!AR69,\"\")","v":""},{"$f":"IF(DATA_INPUT!AS69<>\"\",DATA_INPUT!AS69,\"\")","v":""},{"$f":"IF(DATA_INPUT!AT69<>\"\",DATA_INPUT!AT69,\"\")","v":""},{"$f":"IF(DATA_INPUT!AU69<>\"\",DATA_INPUT!AU69,\"\")","v":""},{"$f":"IF(DATA_INPUT!AV69<>\"\",DATA_INPUT!AV69,\"\")","v":""},{"$f":"IF(DATA_INPUT!AW69<>\"\",DATA_INPUT!AW69,\"\")","v":""},{"$f":"IF(DATA_INPUT!AX69<>\"\",DATA_INPUT!AX69+Directions!$D$24-1,\"\")","v":""},{"$f":"IF(DATA_INPUT!AY69<>\"\",DATA_INPUT!AY69,\"\")","v":""},{"$f":"IF(DATA_INPUT!G69<>\"\",2,IF(DATA_INPUT!N69>2,2,IF(DATA_INPUT!N69=2,3,4)))","v":4},{"$f":"IF(OR(DATA_INPUT!S69<>\"\",DATA_INPUT!T69<>\"\"),H67,\"\")","v":""},{"$f":"IF(DATA_INPUT!T69<>\"\",\"X\",\"\")","v":""}]
[{"$f":"IF(DATA_INPUT!F70<>\"\",DATA_INPUT!F70,\"\")","v":""},{"$f":"IF(DATA_INPUT!G70<>\"\",DATA_INPUT!G70,\"\")","v":""},{"$f":"IF(DATA_INPUT!H70<>\"\",DATA_INPUT!H70,\"\")","v":""},{"$f":"IF(DATA_INPUT!I70<>\"\",DATA_INPUT!I70,\"\")","v":"H/G"},{"$f":"IF(DATA_INPUT!J70<>\"\",DATA_INPUT!J70,\"\")","v":"D3-2"},{"$f":"IF(DATA_INPUT!L70<>\"\",DATA_INPUT!L70,IF(DATA_INPUT!K70<>\"\",DATA_INPUT!K70,\"\"))","v":"ROOSEVELT HWY"},{"$f":"IF(DATA_INPUT!O70<>\"\",DATA_INPUT!O70,\"\")","v":""},{"$f":"IF(DATA_INPUT!P70<>\"\",DATA_INPUT!P70,\"\")","v":1},{"$f":"IF(DATA_INPUT!Q70<>\"\",DATA_INPUT!Q70,\"\")","v":36},{"$f":"IF(DATA_INPUT!R70<>\"\",DATA_INPUT!R70,\"\")","v":12},{"$f":"IF(DATA_INPUT!S70<>\"\",IF(DATA_INPUT!AZ70<>\"\",DATA_INPUT!AZ70,H68*I68*J68/144)*IF(G68<>\"\",3/2,1),\"\")","v":""},{"$f":"IF(DATA_INPUT!T70<>\"\",IF(DATA_INPUT!AZ70<>\"\",DATA_INPUT!AZ70,H68*I68*J68/144)*IF(G68<>\"\",3/2,1),\"\")","v":""},{"$f":"IF(DATA_INPUT!U70<>\"\",$H68,\"\")","v":""},{"$f":"IF(DATA_INPUT!V70<>\"\",$H68,\"\")","v":""},{"$f":"IF(DATA_INPUT!W70<>\"\",$H68,\"\")","v":""},{"$f":"IF(DATA_INPUT!X70<>\"\",$H68,\"\")","v":1},{"$f":"IF(DATA_INPUT!Y70<>\"\",$H68,\"\")","v":""},{"$f":"IF(DATA_INPUT!Z70<>\"\",DATA_INPUT!Z70,\"\")","v":""},{"$f":"IF(DATA_INPUT!AA70<>\"\",DATA_INPUT!AA70,\"\")","v":""},{"$f":"IF(DATA_INPUT!AB70<>\"\",DATA_INPUT!AB70,\"\")","v":""},{"$f":"IF(DATA_INPUT!AC70<>\"\",DATA_INPUT!AC70,\"\")","v":""},{"$f":"IF(DATA_INPUT!AD70<>\"\",DATA_INPUT!AD70,\"\")","v":""},{"$f":"IF(DATA_INPUT!AE70<>\"\",$V68,\"\")","v":""},{"$f":"IF(DATA_INPUT!AF70<>\"\",$V68*8,\"\")","v":""},{"$f":"IF(DATA_INPUT!AG70<>\"\",$V68*15,\"\")","v":""},{"$f":"IF(DATA_INPUT!AH70<>\"\",$V68*15,\"\")","v":""},{"$f":"IF(DATA_INPUT!AI70<>\"\",$V68,\"\")","v":""},{"$f":"IF(DATA_INPUT!AJ70<>\"\",$V68,\"\")","v":""},{"$f":"IF(DATA_INPUT!AK70<>\"\",$V68,\"\")","v":""},{"$f":"IF(DATA_INPUT!AL70<>\"\",$V68*7.6*DATA_INPUT!AL70,\"\")","v":""},{"$f":"IF(DATA_INPUT!AM70<>\"\",$V68*9*DATA_INPUT!AM70,\"\")","v":""},{"$f":"IF(DATA_INPUT!AN70<>\"\",$V68*10.8*DATA_INPUT!AN70,\"\")","v":""},{"$f":"IF(DATA_INPUT!AO70<>\"\",$V68*14.6*DATA_INPUT!AO70,\"\")","v":""},{"$f":"IF(DATA_INPUT!AP70<>\"\",$V68,\"\")","v":""},{"$f":"IF(DATA_INPUT!AQ70<>\"\",$V68,\"\")","v":""},{"$f":"IF(DATA_INPUT!AR70<>\"\",DATA_INPUT!AR70,\"\")","v":""},{"$f":"IF(DATA_INPUT!AS70<>\"\",DATA_INPUT!AS70,\"\")","v":""},{"$f":"IF(DATA_INPUT!AT70<>\"\",DATA_INPUT!AT70,\"\")","v":""},{"$f":"IF(DATA_INPUT!AU70<>\"\",DATA_INPUT!AU70,\"\")","v":""},{"$f":"IF(DATA_INPUT!AV70<>\"\",DATA_INPUT!AV70,\"\")","v":""},{"$f":"IF(DATA_INPUT!AW70<>\"\",DATA_INPUT!AW70,\"\")","v":""},{"$f":"IF(DATA_INPUT!AX70<>\"\",DATA_INPUT!AX70+Directions!$D$24-1,\"\")","v":""},{"$f":"IF(DATA_INPUT!AY70<>\"\",DATA_INPUT!AY70,\"\")","v":""},{"$f":"IF(DATA_INPUT!G70<>\"\",2,IF(DATA_INPUT!N70>2,2,IF(DATA_INPUT!N70=2,3,4)))","v":4},{"$f":"IF(OR(DATA_INPUT!S70<>\"\",DATA_INPUT!T70<>\"\"),H68,\"\")","v":""},{"$f":"IF(DATA_INPUT!T70<>\"\",\"X\",\"\")","v":""}]
[{"$f":"IF(DATA_INPUT!F71<>\"\",DATA_INPUT!F71,\"\")","v":""},{"$f":"IF(DATA_INPUT!G71<>\"\",DATA_INPUT!G71,\"\")","v":""},{"$f":"IF(DATA_INPUT!H71<>\"\",DATA_INPUT!H71,\"\")","v":"STA. 105 +45.00"},{"$f":"IF(DATA_INPUT!I71<>\"\",DATA_INPUT!I71,\"\")","v":"A/B"},{"$f":"IF(DATA_INPUT!J71<>\"\",DATA_INPUT!J71,\"\")","v":"D3-1"},{"$f":"IF(DATA_INPUT!L71<>\"\",DATA_INPUT!L71,IF(DATA_INPUT!K71<>\"\",DATA_INPUT!K71,\"\"))","v":"BLAKELY RD"},{"$f":"IF(DATA_INPUT!O71<>\"\",DATA_INPUT!O71,\"\")","v":""},{"$f":"IF(DATA_INPUT!P71<>\"\",DATA_INPUT!P71,\"\")","v":1},{"$f":"IF(DATA_INPUT!Q71<>\"\",DATA_INPUT!Q71,\"\")","v":36},{"$f":"IF(DATA_INPUT!R71<>\"\",DATA_INPUT!R71,\"\")","v":12},{"$f":"IF(DATA_INPUT!S71<>\"\",IF(DATA_INPUT!AZ71<>\"\",DATA_INPUT!AZ71,H69*I69*J69/144)*IF(G69<>\"\",3/2,1),\"\")","v":""},{"$f":"IF(DATA_INPUT!T71<>\"\",IF(DATA_INPUT!AZ71<>\"\",DATA_INPUT!AZ71,H69*I69*J69/144)*IF(G69<>\"\",3/2,1),\"\")","v":""},{"$f":"IF(DATA_INPUT!U71<>\"\",$H69,\"\")","v":""},{"$f":"IF(DATA_INPUT!V71<>\"\",$H69,\"\")","v":""},{"$f":"IF(DATA_INPUT!W71<>\"\",$H69,\"\")","v":""},{"$f":"IF(DATA_INPUT!X71<>\"\",$H69,\"\")","v":1},{"$f":"IF(DATA_INPUT!Y71<>\"\",$H69,\"\")","v":""},{"$f":"IF(DATA_INPUT!Z71<>\"\",DATA_INPUT!Z71,\"\")","v":""},{"$f":"IF(DATA_INPUT!AA71<>\"\",DATA_INPUT!AA71,\"\")","v":""},{"$f":"IF(DATA_INPUT!AB71<>\"\",DATA_INPUT!AB71,\"\")","v":""},{"$f":"IF(DATA_INPUT!AC71<>\"\",DATA_INPUT!AC71,\"\")","v":1},{"$f":"IF(DATA_INPUT!AD71<>\"\",DATA_INPUT!AD71,\"\")","v":""},{"$f":"IF(DATA_INPUT!AE71<>\"\",$V69,\"\")","v":""},{"$f":"IF(DATA_INPUT!AF71<>\"\",$V69*8,\"\")","v":""},{"$f":"IF(DATA_INPUT!AG71<>\"\",$V69*15,\"\")","v":""},{"$f":"IF(DATA_INPUT!AH71<>\"\",$V69*15,\"\")","v":""},{"$f":"IF(DATA_INPUT!AI71<>\"\",$V69,\"\")","v":""},{"$f":"IF(DATA_INPUT!AJ71<>\"\",$V69,\"\")","v":""},{"$f":"IF(DATA_INPUT!AK71<>\"\",$V69,\"\")","v":""},{"$f":"IF(DATA_INPUT!AL71<>\"\",$V69*7.6*DATA_INPUT!AL71,\"\")","v":""},{"$f":"IF(DATA_INPUT!AM71<>\"\",$V69*9*DATA_INPUT!AM71,\"\")","v":""},{"$f":"IF(DATA_INPUT!AN71<>\"\",$V69*10.8*DATA_INPUT!AN71,\"\")","v":""},{"$f":"IF(DATA_INPUT!AO71<>\"\",$V69*14.6*DATA_INPUT!AO71,\"\")","v":""},{"$f":"IF(DATA_INPUT!AP71<>\"\",$V69,\"\")","v":""},{"$f":"IF(DATA_INPUT!AQ71<>\"\",$V69,\"\")","v":""},{"$f":"IF(DATA_INPUT!AR71<>\"\",DATA_INPUT!AR71,\"\")","v":""},{"$f":"IF(DATA_INPUT!AS71<>\"\",DATA_INPUT!AS71,\"\")","v":""},{"$f":"IF(DATA_INPUT!AT71<>\"\",DATA_INPUT!AT71,\"\")","v":""},{"$f":"IF(DATA_INPUT!AU71<>\"\",DATA_INPUT!AU71,\"\")","v":""},{"$f":"IF(DATA_INPUT!AV71<>\"\",DATA_INPUT!AV71,\"\")","v":""},{"$f":"IF(DATA_INPUT!AW71<>\"\",DATA_INPUT!AW71,\"\")","v":""},{"$f":"IF(DATA_INPUT!AX71<>\"\",DATA_INPUT!AX71+Directions!$D$24-1,\"\")","v":""},{"$f":"IF(DATA_INPUT!AY71<>\"\",DATA_INPUT!AY71,\"\")","v":""},{"$f":"IF(DATA_INPUT!G71<>\"\",2,IF(DATA_INPUT!N71>2,2,IF(DATA_INPUT!N71=2,3,4)))","v":4},{"$f":"IF(OR(DATA_INPUT!S71<>\"\",DATA_INPUT!T71<>\"\"),H69,\"\")","v":""},{"$f":"IF(DATA_INPUT!T71<>\"\",\"X\",\"\")","v":""}]
[{"$f":"IF(DATA_INPUT!F72<>\"\",DATA_INPUT!F72,\"\")","v":""},{"$f":"IF(DATA_INPUT!G72<>\"\",DATA_INPUT!G72,\"\")","v":""},{"$f":"IF(DATA_INPUT!H72<>\"\",DATA_INPUT!H72,\"\")","v":""},{"$f":"IF(DATA_INPUT!I72<>\"\",DATA_INPUT!I72,\"\")","v":""},{"$f":"IF(DATA_INPUT!J72<>\"\",DATA_INPUT!J72,\"\")","v":"VD-700"},{"$f":"IF(DATA_INPUT!L72<>\"\",DATA_INPUT!L72,IF(DATA_INPUT!K72<>\"\",DATA_INPUT!K72,\"\"))","v":"(MILAGE MARKER)"},{"$f":"IF(DATA_INPUT!O72<>\"\",DATA_INPUT!O72,\"\")","v":""},{"$f":"IF(DATA_INPUT!P72<>\"\",DATA_INPUT!P72,\"\")","v":1},{"$f":"IF(DATA_INPUT!Q72<>\"\",DATA_INPUT!Q72,\"\")","v":6},{"$f":"IF(DATA_INPUT!R72<>\"\",DATA_INPUT!R72,\"\")","v":10},{"$f":"IF(DATA_INPUT!S72<>\"\",IF(DATA_INPUT!AZ72<>\"\",DATA_INPUT!AZ72,H70*I70*J70/144)*IF(G70<>\"\",3/2,1),\"\")","v":""},{"$f":"IF(DATA_INPUT!T72<>\"\",IF(DATA_INPUT!AZ72<>\"\",DATA_INPUT!AZ72,H70*I70*J70/144)*IF(G70<>\"\",3/2,1),\"\")","v":""},{"$f":"IF(DATA_INPUT!U72<>\"\",$H70,\"\")","v":""},{"$f":"IF(DATA_INPUT!V72<>\"\",$H70,\"\")","v":""},{"$f":"IF(DATA_INPUT!W72<>\"\",$H70,\"\")","v":""},{"$f":"IF(DATA_INPUT!X72<>\"\",$H70,\"\")","v":1},{"$f":"IF(DATA_INPUT!Y72<>\"\",$H70,\"\")","v":""},{"$f":"IF(DATA_INPUT!Z72<>\"\",DATA_INPUT!Z72,\"\")","v":""},{"$f":"IF(DATA_INPUT!AA72<>\"\",DATA_INPUT!AA72,\"\")","v":""},{"$f":"IF(DATA_INPUT!AB72<>\"\",DATA_INPUT!AB72,\"\")","v":""},{"$f":"IF(DATA_INPUT!AC72<>\"\",DATA_INPUT!AC72,\"\")","v":""},{"$f":"IF(DATA_INPUT!AD72<>\"\",DATA_INPUT!AD72,\"\")","v":""},{"$f":"IF(DATA_INPUT!AE72<>\"\",$V70,\"\")","v":""},{"$f":"IF(DATA_INPUT!AF72<>\"\",$V70*8,\"\")","v":""},{"$f":"IF(DATA_INPUT!AG72<>\"\",$V70*15,\"\")","v":""},{"$f":"IF(DATA_INPUT!AH72<>\"\",$V70*15,\"\")","v":""},{"$f":"IF(DATA_INPUT!AI72<>\"\",$V70,\"\")","v":""},{"$f":"IF(DATA_INPUT!AJ72<>\"\",$V70,\"\")","v":""},{"$f":"IF(DATA_INPUT!AK72<>\"\",$V70,\"\")","v":""},{"$f":"IF(DATA_INPUT!AL72<>\"\",$V70*7.6*DATA_INPUT!AL72,\"\")","v":""},{"$f":"IF(DATA_INPUT!AM72<>\"\",$V70*9*DATA_INPUT!AM72,\"\")","v":""},{"$f":"IF(DATA_INPUT!AN72<>\"\",$V70*10.8*DATA_INPUT!AN72,\"\")","v":""},{"$f":"IF(DATA_INPUT!AO72<>\"\",$V70*14.6*DATA_INPUT!AO72,\"\")","v":""},{"$f":"IF(DATA_INPUT!AP72<>\"\",$V70,\"\")","v":""},{"$f":"IF(DATA_INPUT!AQ72<>\"\",$V70,\"\")","v":""},{"$f":"IF(DATA_INPUT!AR72<>\"\",DATA_INPUT!AR72,\"\")","v":""},{"$f":"IF(DATA_INPUT!AS72<>\"\",DATA_INPUT!AS72,\"\")","v":""},{"$f":"IF(DATA_INPUT!AT72<>\"\",DATA_INPUT!AT72,\"\")","v":""},{"$f":"IF(DATA_INPUT!AU72<>\"\",DATA_INPUT!AU72,\"\")","v":""},{"$f":"IF(DATA_INPUT!AV72<>\"\",DATA_INPUT!AV72,\"\")","v":""},{"$f":"IF(DATA_INPUT!AW72<>\"\",DATA_INPUT!AW72,\"\")","v":""},{"$f":"IF(DATA_INPUT!AX72<>\"\",DATA_INPUT!AX72+Directions!$D$24-1,\"\")","v":""},{"$f":"IF(DATA_INPUT!AY72<>\"\",DATA_INPUT!AY72,\"\")","v":""},{"$f":"IF(DATA_INPUT!G72<>\"\",2,IF(DATA_INPUT!N72>2,2,IF(DATA_INPUT!N72=2,3,4)))","v":4},{"$f":"IF(OR(DATA_INPUT!S72<>\"\",DATA_INPUT!T72<>\"\"),H70,\"\")","v":""},{"$f":"IF(DATA_INPUT!T72<>\"\",\"X\",\"\")","v":""}]
[{"$f":"IF(DATA_INPUT!F73<>\"\",DATA_INPUT!F73,\"\")","v":""},{"$f":"IF(DATA_INPUT!G73<>\"\",DATA_INPUT!G73,\"\")","v":""},{"$f":"IF(DATA_INPUT!H73<>\"\",DATA_INPUT!H73,\"\")","v":"STA. 106 +20.00"},{"$f":"IF(DATA_INPUT!I73<>\"\",DATA_INPUT!I73,\"\")","v":"F"},{"$f":"IF(DATA_INPUT!J73<>\"\",DATA_INPUT!J73,\"\")","v":"VR-922"},{"$f":"IF(DATA_INPUT!L73<>\"\",DATA_INPUT!L73,IF(DATA_INPUT!K73<>\"\",DATA_INPUT!K73,\"\"))","v":"(LT,Thru/RT) LANE ASSIGNMENT"},{"$f":"IF(DATA_INPUT!O73<>\"\",DATA_INPUT!O73,\"\")","v":""},{"$f":"IF(DATA_INPUT!P73<>\"\",DATA_INPUT!P73,\"\")","v":1},{"$f":"IF(DATA_INPUT!Q73<>\"\",DATA_INPUT!Q73,\"\")","v":30},{"$f":"IF(DATA_INPUT!R73<>\"\",DATA_INPUT!R73,\"\")","v":36},{"$f":"IF(DATA_INPUT!S73<>\"\",IF(DATA_INPUT!AZ73<>\"\",DATA_INPUT!AZ73,H71*I71*J71/144)*IF(G71<>\"\",3/2,1),\"\")","v":""},{"$f":"IF(DATA_INPUT!T73<>\"\",IF(DATA_INPUT!AZ73<>\"\",DATA_INPUT!AZ73,H71*I71*J71/144)*IF(G71<>\"\",3/2,1),\"\")","v":""},{"$f":"IF(DATA_INPUT!U73<>\"\",$H71,\"\")","v":""},{"$f":"IF(DATA_INPUT!V73<>\"\",$H71,\"\")","v":""},{"$f":"IF(DATA_INPUT!W73<>\"\",$H71,\"\")","v":""},{"$f":"IF(DATA_INPUT!X73<>\"\",$H71,\"\")","v":1},{"$f":"IF(DATA_INPUT!Y73<>\"\",$H71,\"\")","v":""},{"$f":"IF(DATA_INPUT!Z73<>\"\",DATA_INPUT!Z73,\"\")","v":""},{"$f":"IF(DATA_INPUT!AA73<>\"\",DATA_INPUT!AA73,\"\")","v":""},{"$f":"IF(DATA_INPUT!AB73<>\"\",DATA_INPUT!AB73,\"\")","v":""},{"$f":"IF(DATA_INPUT!AC73<>\"\",DATA_INPUT!AC73,\"\")","v":1},{"$f":"IF(DATA_INPUT!AD73<>\"\",DATA_INPUT!AD73,\"\")","v":""},{"$f":"IF(DATA_INPUT!AE73<>\"\",$V71,\"\")","v":""},{"$f":"IF(DATA_INPUT!AF73<>\"\",$V71*8,\"\")","v":""},{"$f":"IF(DATA_INPUT!AG73<>\"\",$V71*15,\"\")","v":""},{"$f":"IF(DATA_INPUT!AH73<>\"\",$V71*15,\"\")","v":""},{"$f":"IF(DATA_INPUT!AI73<>\"\",$V71,\"\")","v":""},{"$f":"IF(DATA_INPUT!AJ73<>\"\",$V71,\"\")","v":""},{"$f":"IF(DATA_INPUT!AK73<>\"\",$V71,\"\")","v":""},{"$f":"IF(DATA_INPUT!AL73<>\"\",$V71*7.6*DATA_INPUT!AL73,\"\")","v":""},{"$f":"IF(DATA_INPUT!AM73<>\"\",$V71*9*DATA_INPUT!AM73,\"\")","v":""},{"$f":"IF(DATA_INPUT!AN73<>\"\",$V71*10.8*DATA_INPUT!AN73,\"\")","v":""},{"$f":"IF(DATA_INPUT!AO73<>\"\",$V71*14.6*DATA_INPUT!AO73,\"\")","v":""},{"$f":"IF(DATA_INPUT!AP73<>\"\",$V71,\"\")","v":""},{"$f":"IF(DATA_INPUT!AQ73<>\"\",$V71,\"\")","v":""},{"$f":"IF(DATA_INPUT!AR73<>\"\",DATA_INPUT!AR73,\"\")","v":""},{"$f":"IF(DATA_INPUT!AS73<>\"\",DATA_INPUT!AS73,\"\")","v":""},{"$f":"IF(DATA_INPUT!AT73<>\"\",DATA_INPUT!AT73,\"\")","v":""},{"$f":"IF(DATA_INPUT!AU73<>\"\",DATA_INPUT!AU73,\"\")","v":""},{"$f":"IF(DATA_INPUT!AV73<>\"\",DATA_INPUT!AV73,\"\")","v":""},{"$f":"IF(DATA_INPUT!AW73<>\"\",DATA_INPUT!AW73,\"\")","v":""},{"$f":"IF(DATA_INPUT!AX73<>\"\",DATA_INPUT!AX73+Directions!$D$24-1,\"\")","v":""},{"$f":"IF(DATA_INPUT!AY73<>\"\",DATA_INPUT!AY73,\"\")","v":""},{"$f":"IF(DATA_INPUT!G73<>\"\",2,IF(DATA_INPUT!N73>2,2,IF(DATA_INPUT!N73=2,3,4)))","v":4},{"$f":"IF(OR(DATA_INPUT!S73<>\"\",DATA_INPUT!T73<>\"\"),H71,\"\")","v":""},{"$f":"IF(DATA_INPUT!T73<>\"\",\"X\",\"\")","v":""}]
[{"$f":"IF(DATA_INPUT!F74<>\"\",DATA_INPUT!F74,\"\")","v":""},{"$f":"IF(DATA_INPUT!G74<>\"\",DATA_INPUT!G74,\"\")","v":""},{"$f":"IF(DATA_INPUT!H74<>\"\",DATA_INPUT!H74,\"\")","v":"STA. 106 +0.00"},{"$f":"IF(DATA_INPUT!I74<>\"\",DATA_INPUT!I74,\"\")","v":"A"},{"$f":"IF(DATA_INPUT!J74<>\"\",DATA_INPUT!J74,\"\")","v":"M3-4P"},{"$f":"IF(DATA_INPUT!L74<>\"\",DATA_INPUT!L74,IF(DATA_INPUT!K74<>\"\",DATA_INPUT!K74,\"\"))","v":{"$error":"#VALUE!"}},{"$f":"IF(DATA_INPUT!O74<>\"\",DATA_INPUT!O74,\"\")","v":""},{"$f":"IF(DATA_INPUT!P74<>\"\",DATA_INPUT!P74,\"\")","v":1},{"$f":"IF(DATA_INPUT!Q74<>\"\",DATA_INPUT!Q74,\"\")","v":24},{"$f":"IF(DATA_INPUT!R74<>\"\",DATA_INPUT!R74,\"\")","v":12},{"$f":"IF(DATA_INPUT!S74<>\"\",IF(DATA_INPUT!AZ74<>\"\",DATA_INPUT!AZ74,H72*I72*J72/144)*IF(G72<>\"\",3/2,1),\"\")","v":2},{"$f":"IF(DATA_INPUT!T74<>\"\",IF(DATA_INPUT!AZ74<>\"\",DATA_INPUT!AZ74,H72*I72*J72/144)*IF(G72<>\"\",3/2,1),\"\")","v":""},{"$f":"IF(DATA_INPUT!U74<>\"\",$H72,\"\")","v":""},{"$f":"IF(DATA_INPUT!V74<>\"\",$H72,\"\")","v":""},{"$f":"IF(DATA_INPUT!W74<>\"\",$H72,\"\")","v":""},{"$f":"IF(DATA_INPUT!X74<>\"\",$H72,\"\")","v":""},{"$f":"IF(DATA_INPUT!Y74<>\"\",$H72,\"\")","v":""},{"$f":"IF(DATA_INPUT!Z74<>\"\",DATA_INPUT!Z74,\"\")","v":""},{"$f":"IF(DATA_INPUT!AA74<>\"\",DATA_INPUT!AA74,\"\")","v":""},{"$f":"IF(DATA_INPUT!AB74<>\"\",DATA_INPUT!AB74,\"\")","v":""},{"$f":"IF(DATA_INPUT!AC74<>\"\",DATA_INPUT!AC74,\"\")","v":""},{"$f":"IF(DATA_INPUT!AD74<>\"\",DATA_INPUT!AD74,\"\")","v":2},{"$f":"IF(DATA_INPUT!AE74<>\"\",$V72,\"\")","v":""},{"$f":"IF(DATA_INPUT!AF74<>\"\",$V72*8,\"\")","v":""},{"$f":"IF(DATA_INPUT!AG74<>\"\",$V72*15,\"\")","v":30},{"$f":"IF(DATA_INPUT!AH74<>\"\",$V72*15,\"\")","v":""},{"$f":"IF(DATA_INPUT!AI74<>\"\",$V72,\"\")","v":2},{"$f":"IF(DATA_INPUT!AJ74<>\"\",$V72,\"\")","v":""},{"$f":"IF(DATA_INPUT!AK74<>\"\",$V72,\"\")","v":""},{"$f":"IF(DATA_INPUT!AL74<>\"\",$V72*7.6*DATA_INPUT!AL74,\"\")","v":""},{"$f":"IF(DATA_INPUT!AM74<>\"\",$V72*9*DATA_INPUT!AM74,\"\")","v":""},{"$f":"IF(DATA_INPUT!AN74<>\"\",$V72*10.8*DATA_INPUT!AN74,\"\")","v":""},{"$f":"IF(DATA_INPUT!AO74<>\"\",$V72*14.6*DATA_INPUT!AO74,\"\")","v":""},{"$f":"IF(DATA_INPUT!AP74<>\"\",$V72,\"\")","v":""},{"$f":"IF(DATA_INPUT!AQ74<>\"\",$V72,\"\")","v":""},{"$f":"IF(DATA_INPUT!AR74<>\"\",DATA_INPUT!AR74,\"\")","v":""},{"$f":"IF(DATA_INPUT!AS74<>\"\",DATA_INPUT!AS74,\"\")","v":""},{"$f":"IF(DATA_INPUT!AT74<>\"\",DATA_INPUT!AT74,\"\")","v":"X"},{"$f":"IF(DATA_INPUT!AU74<>\"\",DATA_INPUT!AU74,\"\")","v":""},{"$f":"IF(DATA_INPUT!AV74<>\"\",DATA_INPUT!AV74,\"\")","v":"BLACK ON WHITE"},{"$f":"IF(DATA_INPUT!AW74<>\"\",DATA_INPUT!AW74,\"\")","v":"X"},{"$f":"IF(DATA_INPUT!AX74<>\"\",DATA_INPUT!AX74+Directions!$D$24-1,\"\")","v":""},{"$f":"IF(DATA_INPUT!AY74<>\"\",DATA_INPUT!AY74,\"\")","v":""},{"$f":"IF(DATA_INPUT!G74<>\"\",2,IF(DATA_INPUT!N74>2,2,IF(DATA_INPUT!N74=2,3,4)))","v":2},{"$f":"IF(OR(DATA_INPUT!S74<>\"\",DATA_INPUT!T74<>\"\"),H72,\"\")","v":1},{"$f":"IF(DATA_INPUT!T74<>\"\",\"X\",\"\")","v":""}]
[{"$f":"IF(DATA_INPUT!F75<>\"\",DATA_INPUT!F75,\"\")","v":""},{"$f":"IF(DATA_INPUT!G75<>\"\",DATA_INPUT!G75,\"\")","v":""},{"$f":"IF(DATA_INPUT!H75<>\"\",DATA_INPUT!H75,\"\")","v":""},{"$f":"IF(DATA_INPUT!I75<>\"\",DATA_INPUT!I75,\"\")","v":""},{"$f":"IF(DATA_INPUT!J75<>\"\",DATA_INPUT!J75,\"\")","v":"M3-1P"},{"$f":"IF(DATA_INPUT!L75<>\"\",DATA_INPUT!L75,IF(DATA_INPUT!K75<>\"\",DATA_INPUT!K75,\"\"))","v":"(multisign image continues)"},{"$f":"IF(DATA_INPUT!O75<>\"\",DATA_INPUT!O75,\"\")","v":""},{"$f":"IF(DATA_INPUT!P75<>\"\",DATA_INPUT!P75,\"\")","v":1},{"$f":"IF(DATA_INPUT!Q75<>\"\",DATA_INPUT!Q75,\"\")","v":24},{"$f":"IF(DATA_INPUT!R75<>\"\",DATA_INPUT!R75,\"\")","v":12},{"$f":"IF(DATA_INPUT!S75<>\"\",IF(DATA_INPUT!AZ75<>\"\",DATA_INPUT!AZ75,H73*I73*J73/144)*IF(G73<>\"\",3/2,1),\"\")","v":2},{"$f":"IF(DATA_INPUT!T75<>\"\",IF(DATA_INPUT!AZ75<>\"\",DATA_INPUT!AZ75,H73*I73*J73/144)*IF(G73<>\"\",3/2,1),\"\")","v":""},{"$f":"IF(DATA_INPUT!U75<>\"\",$H73,\"\")","v":""},{"$f":"IF(DATA_INPUT!V75<>\"\",$H73,\"\")","v":""},{"$f":"IF(DATA_INPUT!W75<>\"\",$H73,\"\")","v":""},{"$f":"IF(DATA_INPUT!X75<>\"\",$H73,\"\")","v":""},{"$f":"IF(DATA_INPUT!Y75<>\"\",$H73,\"\")","v":""},{"$f":"IF(DATA_INPUT!Z75<>\"\",DATA_INPUT!Z75,\"\")","v":""},{"$f":"IF(DATA_INPUT!AA75<>\"\",DATA_INPUT!AA75,\"\")","v":""},{"$f":"IF(DATA_INPUT!AB75<>\"\",DATA_INPUT!AB75,\"\")","v":""},{"$f":"IF(DATA_INPUT!AC75<>\"\",DATA_INPUT!AC75,\"\")","v":""},{"$f":"IF(DATA_INPUT!AD75<>\"\",DATA_INPUT!AD75,\"\")","v":""},{"$f":"IF(DATA_INPUT!AE75<>\"\",$V73,\"\")","v":""},{"$f":"IF(DATA_INPUT!AF75<>\"\",$V73*8,\"\")","v":""},{"$f":"IF(DATA_INPUT!AG75<>\"\",$V73*15,\"\")","v":""},{"$f":"IF(DATA_INPUT!AH75<>\"\",$V73*15,\"\")","v":""},{"$f":"IF(DATA_INPUT!AI75<>\"\",$V73,\"\")","v":""},{"$f":"IF(DATA_INPUT!AJ75<>\"\",$V73,\"\")","v":""},{"$f":"IF(DATA_INPUT!AK75<>\"\",$V73,\"\")","v":""},{"$f":"IF(DATA_INPUT!AL75<>\"\",$V73*7.6*DATA_INPUT!AL75,\"\")","v":""},{"$f":"IF(DATA_INPUT!AM75<>\"\",$V73*9*DATA_INPUT!AM75,\"\")","v":""},{"$f":"IF(DATA_INPUT!AN75<>\"\",$V73*10.8*DATA_INPUT!AN75,\"\")","v":""},{"$f":"IF(DATA_INPUT!AO75<>\"\",$V73*14.6*DATA_INPUT!AO75,\"\")","v":""},{"$f":"IF(DATA_INPUT!AP75<>\"\",$V73,\"\")","v":""},{"$f":"IF(DATA_INPUT!AQ75<>\"\",$V73,\"\")","v":""},{"$f":"IF(DATA_INPUT!AR75<>\"\",DATA_INPUT!AR75,\"\")","v":""},{"$f":"IF(DATA_INPUT!AS75<>\"\",DATA_INPUT!AS75,\"\")","v":""},{"$f":"IF(DATA_INPUT!AT75<>\"\",DATA_INPUT!AT75,\"\")","v":""},{"$f":"IF(DATA_INPUT!AU75<>\"\",DATA_INPUT!AU75,\"\")","v":""},{"$f":"IF(DATA_INPUT!AV75<>\"\",DATA_INPUT!AV75,\"\")","v":"BLACK ON WHITE"},{"$f":"IF(DATA_INPUT!AW75<>\"\",DATA_INPUT!AW75,\"\")","v":"X"},{"$f":"IF(DATA_INPUT!AX75<>\"\",DATA_INPUT!AX75+Directions!$D$24-1,\"\")","v":""},{"$f":"IF(DATA_INPUT!AY75<>\"\",DATA_INPUT!AY75,\"\")","v":""},{"$f":"IF(DATA_INPUT!G75<>\"\",2,IF(DATA_INPUT!N75>2,2,IF(DATA_INPUT!N75=2,3,4)))","v":2},{"$f":"IF(OR(DATA_INPUT!S75<>\"\",DATA_INPUT!T75<>\"\"),H73,\"\")","v":1},{"$f":"IF(DATA_INPUT!T75<>\"\",\"X\",\"\")","v":""}]
[{"$f":"IF(DATA_INPUT!F76<>\"\",DATA_INPUT!F76,\"\")","v":""},{"$f":"IF(DATA_INPUT!G76<>\"\",DATA_INPUT!G76,\"\")","v":""},{"$f":"IF(DATA_INPUT!H76<>\"\",DATA_INPUT!H76,\"\")","v":""},{"$f":"IF(DATA_INPUT!I76<>\"\",DATA_INPUT!I76,\"\")","v":""},{"$f":"IF(DATA_INPUT!J76<>\"\",DATA_INPUT!J76,\"\")","v":"M1-4"},{"$f":"IF(DATA_INPUT!L76<>\"\",DATA_INPUT!L76,IF(DATA_INPUT!K76<>\"\",DATA_INPUT!K76,\"\"))","v":"(multisign image continues)"},{"$f":"IF(DATA_INPUT!O76<>\"\",DATA_INPUT!O76,\"\")","v":""},{"$f":"IF(DATA_INPUT!P76<>\"\",DATA_INPUT!P76,\"\")","v":1},{"$f":"IF(DATA_INPUT!Q76<>\"\",DATA_INPUT!Q76,\"\")","v":24},{"$f":"IF(DATA_INPUT!R76<>\"\",DATA_INPUT!R76,\"\")","v":24},{"$f":"IF(DATA_INPUT!S76<>\"\",IF(DATA_INPUT!AZ76<>\"\",DATA_INPUT!AZ76,H74*I74*J74/144)*IF(G74<>\"\",3/2,1),\"\")","v":4},{"$f":"IF(DATA_INPUT!T76<>\"\",IF(DATA_INPUT!AZ76<>\"\",DATA_INPUT!AZ76,H74*I74*J74/144)*IF(G74<>\"\",3/2,1),\"\")","v":""},{"$f":"IF(DATA_INPUT!U76<>\"\",$H74,\"\")","v":""},{"$f":"IF(DATA_INPUT!V76<>\"\",$H74,\"\")","v":""},{"$f":"IF(DATA_INPUT!W76<>\"\",$H74,\"\")","v":""},{"$f":"IF(DATA_INPUT!X76<>\"\",$H74,\"\")","v":""},{"$f":"IF(DATA_INPUT!Y76<>\"\",$H74,\"\")","v":""},{"$f":"IF(DATA_INPUT!Z76<>\"\",DATA_INPUT!Z76,\"\")","v":""},{"$f":"IF(DATA_INPUT!AA76<>\"\",DATA_INPUT!AA76,\"\")","v":""},{"$f":"IF(DATA_INPUT!AB76<>\"\",DATA_INPUT!AB76,\"\")","v":""},{"$f":"IF(DATA_INPUT!AC76<>\"\",DATA_INPUT!AC76,\"\")","v":""},{"$f":"IF(DATA_INPUT!AD76<>\"\",DATA_INPUT!AD76,\"\")","v":""},{"$f":"IF(DATA_INPUT!AE76<>\"\",$V74,\"\")","v":""},{"$f":"IF(DATA_INPUT!AF76<>\"\",$V74*8,\"\")","v":""},{"$f":"IF(DATA_INPUT!AG76<>\"\",$V74*15,\"\")","v":""},{"$f":"IF(DATA_INPUT!AH76<>\"\",$V74*15,\"\")","v":""},{"$f":"IF(DATA_INPUT!AI76<>\"\",$V74,\"\")","v":""},{"$f":"IF(DATA_INPUT!AJ76<>\"\",$V74,\"\")","v":""},{"$f":"IF(DATA_INPUT!AK76<>\"\",$V74,\"\")","v":""},{"$f":"IF(DATA_INPUT!AL76<>\"\",$V74*7.6*DATA_INPUT!AL76,\"\")","v":""},{"$f":"IF(DATA_INPUT!AM76<>\"\",$V74*9*DATA_INPUT!AM76,\"\")","v":""},{"$f":"IF(DATA_INPUT!AN76<>\"\",$V74*10.8*DATA_INPUT!AN76,\"\")","v":""},{"$f":"IF(DATA_INPUT!AO76<>\"\",$V74*14.6*DATA_INPUT!AO76,\"\")","v":""},{"$f":"IF(DATA_INPUT!AP76<>\"\",$V74,\"\")","v":""},{"$f":"IF(DATA_INPUT!AQ76<>\"\",$V74,\"\")","v":""},{"$f":"IF(DATA_INPUT!AR76<>\"\",DATA_INPUT!AR76,\"\")","v":""},{"$f":"IF(DATA_INPUT!AS76<>\"\",DATA_INPUT!AS76,\"\")","v":""},{"$f":"IF(DATA_INPUT!AT76<>\"\",DATA_INPUT!AT76,\"\")","v":""},{"$f":"IF(DATA_INPUT!AU76<>\"\",DATA_INPUT!AU76,\"\")","v":""},{"$f":"IF(DATA_INPUT!AV76<>\"\",DATA_INPUT!AV76,\"\")","v":""},{"$f":"IF(DATA_INPUT!AW76<>\"\",DATA_INPUT!AW76,\"\")","v":"X"},{"$f":"IF(DATA_INPUT!AX76<>\"\",DATA_INPUT!AX76+Directions!$D$24-1,\"\")","v":""},{"$f":"IF(DATA_INPUT!AY76<>\"\",DATA_INPUT!AY76,\"\")","v":""},{"$f":"IF(DATA_INPUT!G76<>\"\",2,IF(DATA_INPUT!N76>2,2,IF(DATA_INPUT!N76=2,3,4)))","v":2},{"$f":"IF(OR(DATA_INPUT!S76<>\"\",DATA_INPUT!T76<>\"\"),H74,\"\")","v":1},{"$f":"IF(DATA_INPUT!T76<>\"\",\"X\",\"\")","v":""}]
[{"$f":"IF(DATA_INPUT!F77<>\"\",DATA_INPUT!F77,\"\")","v":""},{"$f":"IF(DATA_INPUT!G77<>\"\",DATA_INPUT!G77,\"\")","v":""},{"$f":"IF(DATA_INPUT!H77<>\"\",DATA_INPUT!H77,\"\")","v":""},{"$f":"IF(DATA_INPUT!I77<>\"\",DATA_INPUT!I77,\"\")","v":""},{"$f":"IF(DATA_INPUT!J77<>\"\",DATA_INPUT!J77,\"\")","v":"M1-4"},{"$f":"IF(DATA_INPUT!L77<>\"\",DATA_INPUT!L77,IF(DATA_INPUT!K77<>\"\",DATA_INPUT!K77,\"\"))","v":"(multisign image continues)"},{"$f":"IF(DATA_INPUT!O77<>\"\",DATA_INPUT!O77,\"\")","v":""},{"$f":"IF(DATA_INPUT!P77<>\"\",DATA_INPUT!P77,\"\")","v":1},{"$f":"IF(DATA_INPUT!Q77<>\"\",DATA_INPUT!Q77,\"\")","v":24},{"$f":"IF(DATA_INPUT!R77<>\"\",DATA_INPUT!R77,\"\")","v":24},{"$f":"IF(DATA_INPUT!S77<>\"\",IF(DATA_INPUT!AZ77<>\"\",DATA_INPUT!AZ77,H75*I75*J75/144)*IF(G75<>\"\",3/2,1),\"\")","v":4},{"$f":"IF(DATA_INPUT!T77<>\"\",IF(DATA_INPUT!AZ77<>\"\",DATA_INPUT!AZ77,H75*I75*J75/144)*IF(G75<>\"\",3/2,1),\"\")","v":""},{"$f":"IF(DATA_INPUT!U77<>\"\",$H75,\"\")","v":""},{"$f":"IF(DATA_INPUT!V77<>\"\",$H75,\"\")","v":""},{"$f":"IF(DATA_INPUT!W77<>\"\",$H75,\"\")","v":""},{"$f":"IF(DATA_INPUT!X77<>\"\",$H75,\"\")","v":""},{"$f":"IF(DATA_INPUT!Y77<>\"\",$H75,\"\")","v":""},{"$f":"IF(DATA_INPUT!Z77<>\"\",DATA_INPUT!Z77,\"\")","v":""},{"$f":"IF(DATA_INPUT!AA77<>\"\",DATA_INPUT!AA77,\"\")","v":""},{"$f":"IF(DATA_INPUT!AB77<>\"\",DATA_INPUT!AB77,\"\")","v":""},{"$f":"IF(DATA_INPUT!AC77<>\"\",DATA_INPUT!AC77,\"\")","v":""},{"$f":"IF(DATA_INPUT!AD77<>\"\",DATA_INPUT!AD77,\"\")","v":""},{"$f":"IF(DATA_INPUT!AE77<>\"\",$V75,\"\")","v":""},{"$f":"IF(DATA_INPUT!AF77<>\"\",$V75*8,\"\")","v":""},{"$f":"IF(DATA_INPUT!AG77<>\"\",$V75*15,\"\")","v":""},{"$f":"IF(DATA_INPUT!AH77<>\"\",$V75*15,\"\")","v":""},{"$f":"IF(DATA_INPUT!AI77<>\"\",$V75,\"\")","v":""},{"$f":"IF(DATA_INPUT!AJ77<>\"\",$V75,\"\")","v":""},{"$f":"IF(DATA_INPUT!AK77<>\"\",$V75,\"\")","v":""},{"$f":"IF(DATA_INPUT!AL77<>\"\",$V75*7.6*DATA_INPUT!AL77,\"\")","v":""},{"$f":"IF(DATA_INPUT!AM77<>\"\",$V75*9*DATA_INPUT!AM77,\"\")","v":""},{"$f":"IF(DATA_INPUT!AN77<>\"\",$V75*10.8*DATA_INPUT!AN77,\"\")","v":""},{"$f":"IF(DATA_INPUT!AO77<>\"\",$V75*14.6*DATA_INPUT!AO77,\"\")","v":""},{"$f":"IF(DATA_INPUT!AP77<>\"\",$V75,\"\")","v":""},{"$f":"IF(DATA_INPUT!AQ77<>\"\",$V75,\"\")","v":""},{"$f":"IF(DATA_INPUT!AR77<>\"\",DATA_INPUT!AR77,\"\")","v":""},{"$f":"IF(DATA_INPUT!AS77<>\"\",DATA_INPUT!AS77,\"\")","v":""},{"$f":"IF(DATA_INPUT!AT77<>\"\",DATA_INPUT!AT77,\"\")","v":""},{"$f":"IF(DATA_INPUT!AU77<>\"\",DATA_INPUT!AU77,\"\")","v":""},{"$f":"IF(DATA_INPUT!AV77<>\"\",DATA_INPUT!AV77,\"\")","v":""},{"$f":"IF(DATA_INPUT!AW77<>\"\",DATA_INPUT!AW77,\"\")","v":"X"},{"$f":"IF(DATA_INPUT!AX77<>\"\",DATA_INPUT!AX77+Directions!$D$24-1,\"\")","v":""},{"$f":"IF(DATA_INPUT!AY77<>\"\",DATA_INPUT!AY77,\"\")","v":""},{"$f":"IF(DATA_INPUT!G77<>\"\",2,IF(DATA_INPUT!N77>2,2,IF(DATA_INPUT!N77=2,3,4)))","v":2},{"$f":"IF(OR(DATA_INPUT!S77<>\"\",DATA_INPUT!T77<>\"\"),H75,\"\")","v":1},{"$f":"IF(DATA_INPUT!T77<>\"\",\"X\",\"\")","v":""}]
[{"$f":"IF(DATA_INPUT!F78<>\"\",DATA_INPUT!F78,\"\")","v":""},{"$f":"IF(DATA_INPUT!G78<>\"\",DATA_INPUT!G78,\"\")","v":""},{"$f":"IF(DATA_INPUT!H78<>\"\",DATA_INPUT!H78,\"\")","v":"STA. 106 +80.00"},{"$f":"IF(DATA_INPUT!I78<>\"\",DATA_INPUT!I78,\"\")","v":"A"},{"$f":"IF(DATA_INPUT!J78<>\"\",DATA_INPUT!J78,\"\")","v":"M3-4P"},{"$f":"IF(DATA_INPUT!L78<>\"\",DATA_INPUT!L78,IF(DATA_INPUT!K78<>\"\",DATA_INPUT!K78,\"\"))","v":{"$error":"#VALUE!"}},{"$f":"IF(DATA_INPUT!O78<>\"\",DATA_INPUT!O78,\"\")","v":""},{"$f":"IF(DATA_INPUT!P78<>\"\",DATA_INPUT!P78,\"\")","v":1},{"$f":"IF(DATA_INPUT!Q78<>\"\",DATA_INPUT!Q78,\"\")","v":24},{"$f":"IF(DATA_INPUT!R78<>\"\",DATA_INPUT!R78,\"\")","v":12},{"$f":"IF(DATA_INPUT!S78<>\"\",IF(DATA_INPUT!AZ78<>\"\",DATA_INPUT!AZ78,H76*I76*J76/144)*IF(G76<>\"\",3/2,1),\"\")","v":""},{"$f":"IF(DATA_INPUT!T78<>\"\",IF(DATA_INPUT!AZ78<>\"\",DATA_INPUT!AZ78,H76*I76*J76/144)*IF(G76<>\"\",3/2,1),\"\")","v":""},{"$f":"IF(DATA_INPUT!U78<>\"\",$H76,\"\")","v":""},{"$f":"IF(DATA_INPUT!V78<>\"\",$H76,\"\")","v":""},{"$f":"IF(DATA_INPUT!W78<>\"\",$H76,\"\")","v":""},{"$f":"IF(DATA_INPUT!X78<>\"\",$H76,\"\")","v":1},{"$f":"IF(DATA_INPUT!Y78<>\"\",$H76,\"\")","v":""},{"$f":"IF(DATA_INPUT!Z78<>\"\",DATA_INPUT!Z78,\"\")","v":""},{"$f":"IF(DATA_INPUT!AA78<>\"\",DATA_INPUT!AA78,\"\")","v":""},{"$f":"IF(DATA_INPUT!AB78<>\"\",DATA_INPUT!AB78,\"\")","v":""},{"$f":"IF(DATA_INPUT!AC78<>\"\",DATA_INPUT!AC78,\"\")","v":2},{"$f":"IF(DATA_INPUT!AD78<>\"\",DATA_INPUT!AD78,\"\")","v":""},{"$f":"IF(DATA_INPUT!AE78<>\"\",$V76,\"\")","v":""},{"$f":"IF(DATA_INPUT!AF78<>\"\",$V76*8,\"\")","v":""},{"$f":"IF(DATA_INPUT!AG78<>\"\",$V76*15,\"\")","v":""},{"$f":"IF(DATA_INPUT!AH78<>\"\",$V76*15,\"\")","v":""},{"$f":"IF(DATA_INPUT!AI78<>\"\",$V76,\"\")","v":""},{"$f":"IF(DATA_INPUT!AJ78<>\"\",$V76,\"\")","v":""},{"$f":"IF(DATA_INPUT!AK78<>\"\",$V76,\"\")","v":""},{"$f":"IF(DATA_INPUT!AL78<>\"\",$V76*7.6*DATA_INPUT!AL78,\"\")","v":""},{"$f":"IF(DATA_INPUT!AM78<>\"\",$V76*9*DATA_INPUT!AM78,\"\")","v":""},{"$f":"IF(DATA_INPUT!AN78<>\"\",$V76*10.8*DATA_INPUT!AN78,\"\")","v":""},{"$f":"IF(DATA_INPUT!AO78<>\"\",$V76*14.6*DATA_INPUT!AO78,\"\")","v":""},{"$f":"IF(DATA_INPUT!AP78<>\"\",$V76,\"\")","v":""},{"$f":"IF(DATA_INPUT!AQ78<>\"\",$V76,\"\")","v":""},{"$f":"IF(DATA_INPUT!AR78<>\"\",DATA_INPUT!AR78,\"\")","v":""},{"$f":"IF(DATA_INPUT!AS78<>\"\",DATA_INPUT!AS78,\"\")","v":""},{"$f":"IF(DATA_INPUT!AT78<>\"\",DATA_INPUT!AT78,\"\")","v":""},{"$f":"IF(DATA_INPUT!AU78<>\"\",DATA_INPUT!AU78,\"\")","v":""},{"$f":"IF(DATA_INPUT!AV78<>\"\",DATA_INPUT!AV78,\"\")","v":""},{"$f":"IF(DATA_INPUT!AW78<>\"\",DATA_INPUT!AW78,\"\")","v":"X"},{"$f":"IF(DATA_INPUT!AX78<>\"\",DATA_INPUT!AX78+Directions!$D$24-1,\"\")","v":""},{"$f":"IF(DATA_INPUT!AY78<>\"\",DATA_INPUT!AY78,\"\")","v":""},{"$f":"IF(DATA_INPUT!G78<>\"\",2,IF(DATA_INPUT!N78>2,2,IF(DATA_INPUT!N78=2,3,4)))","v":2},{"$f":"IF(OR(DATA_INPUT!S78<>\"\",DATA_INPUT!T78<>\"\"),H76,\"\")","v":""},{"$f":"IF(DATA_INPUT!T78<>\"\",\"X\",\"\")","v":""}]
[{"$f":"IF(DATA_INPUT!F79<>\"\",DATA_INPUT!F79,\"\")","v":""},{"$f":"IF(DATA_INPUT!G79<>\"\",DATA_INPUT!G79,\"\")","v":""},{"$f":"IF(DATA_INPUT!H79<>\"\",DATA_INPUT!H79,\"\")","v":""},{"$f":"IF(DATA_INPUT!I79<>\"\",DATA_INPUT!I79,\"\")","v":""},{"$f":"IF(DATA_INPUT!J79<>\"\",DATA_INPUT!J79,\"\")","v":"M3-1P"},{"$f":"IF(DATA_INPUT!L79<>\"\",DATA_INPUT!L79,IF(DATA_INPUT!K79<>\"\",DATA_INPUT!K79,\"\"))","v":"(multisign image continues)"},{"$f":"IF(DATA_INPUT!O79<>\"\",DATA_INPUT!O79,\"\")","v":""},{"$f":"IF(DATA_INPUT!P79<>\"\",DATA_INPUT!P79,\"\")","v":1},{"$f":"IF(DATA_INPUT!Q79<>\"\",DATA_INPUT!Q79,\"\")","v":24},{"$f":"IF(DATA_INPUT!R79<>\"\",DATA_INPUT!R79,\"\")","v":12},{"$f":"IF(DATA_INPUT!S79<>\"\",IF(DATA_INPUT!AZ79<>\"\",DATA_INPUT!AZ79,H77*I77*J77/144)*IF(G77<>\"\",3/2,1),\"\")","v":""},{"$f":"IF(DATA_INPUT!T79<>\"\",IF(DATA_INPUT!AZ79<>\"\",DATA_INPUT!AZ79,H77*I77*J77/144)*IF(G77<>\"\",3/2,1),\"\")","v":""},{"$f":"IF(DATA_INPUT!U79<>\"\",$H77,\"\")","v":""},{"$f":"IF(DATA_INPUT!V79<>\"\",$H77,\"\")","v":""},{"$f":"IF(DATA_INPUT!W79<>\"\",$H77,\"\")","v":""},{"$f":"IF(DATA_INPUT!X79<>\"\",$H77,\"\")","v":1},{"$f":"IF(DATA_INPUT!Y79<>\"\",$H77,\"\")","v":""},{"$f":"IF(DATA_INPUT!Z79<>\"\",DATA_INPUT!Z79,\"\")","v":""},{"$f":"IF(DATA_INPUT!AA79<>\"\",DATA_INPUT!AA79,\"\")","v":""},{"$f":"IF(DATA_INPUT!AB79<>\"\",DATA_INPUT!AB79,\"\")","v":""},{"$f":"IF(DATA_INPUT!AC79<>\"\",DATA_INPUT!AC79,\"\")","v":""},{"$f":"IF(DATA_INPUT!AD79<>\"\",DATA_INPUT!AD79,\"\")","v":""},{"$f":"IF(DATA_INPUT!AE79<>\"\",$V77,\"\")","v":""},{"$f":"IF(DATA_INPUT!AF79<>\"\",$V77*8,\"\")","v":""},{"$f":"IF(DATA_INPUT!AG79<>\"\",$V77*15,\"\")","v":""},{"$f":"IF(DATA_INPUT!AH79<>\"\",$V77*15,\"\")","v":""},{"$f":"IF(DATA_INPUT!AI79<>\"\",$V77,\"\")","v":""},{"$f":"IF(DATA_INPUT!AJ79<>\"\",$V77,\"\")","v":""},{"$f":"IF(DATA_INPUT!AK79<>\"\",$V77,\"\")","v":""},{"$f":"IF(DATA_INPUT!AL79<>\"\",$V77*7.6*DATA_INPUT!AL79,\"\")","v":""},{"$f":"IF(DATA_INPUT!AM79<>\"\",$V77*9*DATA_INPUT!AM79,\"\")","v":""},{"$f":"IF(DATA_INPUT!AN79<>\"\",$V77*10.8*DATA_INPUT!AN79,\"\")","v":""},{"$f":"IF(DATA_INPUT!AO79<>\"\",$V77*14.6*DATA_INPUT!AO79,\"\")","v":""},{"$f":"IF(DATA_INPUT!AP79<>\"\",$V77,\"\")","v":""},{"$f":"IF(DATA_INPUT!AQ79<>\"\",$V77,\"\")","v":""},{"$f":"IF(DATA_INPUT!AR79<>\"\",DATA_INPUT!AR79,\"\")","v":""},{"$f":"IF(DATA_INPUT!AS79<>\"\",DATA_INPUT!AS79,\"\")","v":""},{"$f":"IF(DATA_INPUT!AT79<>\"\",DATA_INPUT!AT79,\"\")","v":""},{"$f":"IF(DATA_INPUT!AU79<>\"\",DATA_INPUT!AU79,\"\")","v":""},{"$f":"IF(DATA_INPUT!AV79<>\"\",DATA_INPUT!AV79,\"\")","v":""},{"$f":"IF(DATA_INPUT!AW79<>\"\",DATA_INPUT!AW79,\"\")","v":"X"},{"$f":"IF(DATA_INPUT!AX79<>\"\",DATA_INPUT!AX79+Directions!$D$24-1,\"\")","v":""},{"$f":"IF(DATA_INPUT!AY79<>\"\",DATA_INPUT!AY79,\"\")","v":""},{"$f":"IF(DATA_INPUT!G79<>\"\",2,IF(DATA_INPUT!N79>2,2,IF(DATA_INPUT!N79=2,3,4)))","v":2},{"$f":"IF(OR(DATA_INPUT!S79<>\"\",DATA_INPUT!T79<>\"\"),H77,\"\")","v":""},{"$f":"IF(DATA_INPUT!T79<>\"\",\"X\",\"\")","v":""}]
[{"$f":"IF(DATA_INPUT!F80<>\"\",DATA_INPUT!F80,\"\")","v":""},{"$f":"IF(DATA_INPUT!G80<>\"\",DATA_INPUT!G80,\"\")","v":""},{"$f":"IF(DATA_INPUT!H80<>\"\",DATA_INPUT!H80,\"\")","v":""},{"$f":"IF(DATA_INPUT!I80<>\"\",DATA_INPUT!I80,\"\")","v":""},{"$f":"IF(DATA_INPUT!J80<>\"\",DATA_INPUT!J80,\"\")","v":"M1-4"},{"$f":"IF(DATA_INPUT!L80<>\"\",DATA_INPUT!L80,IF(DATA_INPUT!K80<>\"\",DATA_INPUT!K80,\"\"))","v":"(multisign image continues)"},{"$f":"IF(DATA_INPUT!O80<>\"\",DATA_INPUT!O80,\"\")","v":""},{"$f":"IF(DATA_INPUT!P80<>\"\",DATA_INPUT!P80,\"\")","v":1},{"$f":"IF(DATA_INPUT!Q80<>\"\",DATA_INPUT!Q80,\"\")","v":24},{"$f":"IF(DATA_INPUT!R80<>\"\",DATA_INPUT!R80,\"\")","v":24},{"$f":"IF(DATA_INPUT!S80<>\"\",IF(DATA_INPUT!AZ80<>\"\",DATA_INPUT!AZ80,H78*I78*J78/144)*IF(G78<>\"\",3/2,1),\"\")","v":""},{"$f":"IF(DATA_INPUT!T80<>\"\",IF(DATA_INPUT!AZ80<>\"\",DATA_INPUT!AZ80,H78*I78*J78/144)*IF(G78<>\"\",3/2,1),\"\")","v":""},{"$f":"IF(DATA_INPUT!U80<>\"\",$H78,\"\")","v":""},{"$f":"IF(DATA_INPUT!V80<>\"\",$H78,\"\")","v":""},{"$f":"IF(DATA_INPUT!W80<>\"\",$H78,\"\")","v":""},{"$f":"IF(DATA_INPUT!X80<>\"\",$H78,\"\")","v":1},{"$f":"IF(DATA_INPUT!Y80<>\"\",$H78,\"\")","v":""},{"$f":"IF(DATA_INPUT!Z80<>\"\",DATA_INPUT!Z80,\"\")","v":""},{"$f":"IF(DATA_INPUT!AA80<>\"\",DATA_INPUT!AA80,\"\")","v":""},{"$f":"IF(DATA_INPUT!AB80<>\"\",DATA_INPUT!AB80,\"\")","v":""},{"$f":"IF(DATA_INPUT!AC80<>\"\",DATA_INPUT!AC80,\"\")","v":""},{"$f":"IF(DATA_INPUT!AD80<>\"\",DATA_INPUT!AD80,\"\")","v":""},{"$f":"IF(DATA_INPUT!AE80<>\"\",$V78,\"\")","v":""},{"$f":"IF(DATA_INPUT!AF80<>\"\",$V78*8,\"\")","v":""},{"$f":"IF(DATA_INPUT!AG80<>\"\",$V78*15,\"\")","v":""},{"$f":"IF(DATA_INPUT!AH80<>\"\",$V78*15,\"\")","v":""},{"$f":"IF(DATA_INPUT!AI80<>\"\",$V78,\"\")","v":""},{"$f":"IF(DATA_INPUT!AJ80<>\"\",$V78,\"\")","v":""},{"$f":"IF(DATA_INPUT!AK80<>\"\",$V78,\"\")","v":""},{"$f":"IF(DATA_INPUT!AL80<>\"\",$V78*7.6*DATA_INPUT!AL80,\"\")","v":""},{"$f":"IF(DATA_INPUT!AM80<>\"\",$V78*9*DATA_INPUT!AM80,\"\")","v":""},{"$f":"IF(DATA_INPUT!AN80<>\"\",$V78*10.8*DATA_INPUT!AN80,\"\")","v":""},{"$f":"IF(DATA_INPUT!AO80<>\"\",$V78*14.6*DATA_INPUT!AO80,\"\")","v":""},{"$f":"IF(DATA_INPUT!AP80<>\"\",$V78,\"\")","v":""},{"$f":"IF(DATA_INPUT!AQ80<>\"\",$V78,\"\")","v":""},{"$f":"IF(DATA_INPUT!AR80<>\"\",DATA_INPUT!AR80,\"\")","v":""},{"$f":"IF(DATA_INPUT!AS80<>\"\",DATA_INPUT!AS80,\"\")","v":""},{"$f":"IF(DATA_INPUT!AT80<>\"\",DATA_INPUT!AT80,\"\")","v":""},{"$f":"IF(DATA_INPUT!AU80<>\"\",DATA_INPUT!AU80,\"\")","v":""},{"$f":"IF(DATA_INPUT!AV80<>\"\",DATA_INPUT!AV80,\"\")","v":""},{"$f":"IF(DATA_INPUT!AW80<>\"\",DATA_INPUT!AW80,\"\")","v":"X"},{"$f":"IF(DATA_INPUT!AX80<>\"\",DATA_INPUT!AX80+Directions!$D$24-1,\"\")","v":""},{"$f":"IF(DATA_INPUT!AY80<>\"\",DATA_INPUT!AY80,\"\")","v":""},{"$f":"IF(DATA_INPUT!G80<>\"\",2,IF(DATA_INPUT!N80>2,2,IF(DATA_INPUT!N80=2,3,4)))","v":2},{"$f":"IF(OR(DATA_INPUT!S80<>\"\",DATA_INPUT!T80<>\"\"),H78,\"\")","v":""},{"$f":"IF(DATA_INPUT!T80<>\"\",\"X\",\"\")","v":""}]
[{"$f":"IF(DATA_INPUT!F81<>\"\",DATA_INPUT!F81,\"\")","v":""},{"$f":"IF(DATA_INPUT!G81<>\"\",DATA_INPUT!G81,\"\")","v":""},{"$f":"IF(DATA_INPUT!H81<>\"\",DATA_INPUT!H81,\"\")","v":""},{"$f":"IF(DATA_INPUT!I81<>\"\",DATA_INPUT!I81,\"\")","v":""},{"$f":"IF(DATA_INPUT!J81<>\"\",DATA_INPUT!J81,\"\")","v":"M1-4"},{"$f":"IF(DATA_INPUT!L81<>\"\",DATA_INPUT!L81,IF(DATA_INPUT!K81<>\"\",DATA_INPUT!K81,\"\"))","v":"(multisign image continues)"},{"$f":"IF(DATA_INPUT!O81<>\"\",DATA_INPUT!O81,\"\")","v":""},{"$f":"IF(DATA_INPUT!P81<>\"\",DATA_INPUT!P81,\"\")","v":1},{"$f":"IF(DATA_INPUT!Q81<>\"\",DATA_INPUT!Q81,\"\")","v":24},{"$f":"IF(DATA_INPUT!R81<>\"\",DATA_INPUT!R81,\"\")","v":24},{"$f":"IF(DATA_INPUT!S81<>\"\",IF(DATA_INPUT!AZ81<>\"\",DATA_INPUT!AZ81,H79*I79*J79/144)*IF(G79<>\"\",3/2,1),\"\")","v":""},{"$f":"IF(DATA_INPUT!T81<>\"\",IF(DATA_INPUT!AZ81<>\"\",DATA_INPUT!AZ81,H79*I79*J79/144)*IF(G79<>\"\",3/2,1),\"\")","v":""},{"$f":"IF(DATA_INPUT!U81<>\"\",$H79,\"\")","v":""},{"$f":"IF(DATA_INPUT!V81<>\"\",$H79,\"\")","v":""},{"$f":"IF(DATA_INPUT!W81<>\"\",$H79,\"\")","v":""},{"$f":"IF(DATA_INPUT!X81<>\"\",$H79,\"\")","v":1},{"$f":"IF(DATA_INPUT!Y81<>\"\",$H79,\"\")","v":""},{"$f":"IF(DATA_INPUT!Z81<>\"\",DATA_INPUT!Z81,\"\")","v":""},{"$f":"IF(DATA_INPUT!AA81<>\"\",DATA_INPUT!AA81,\"\")","v":""},{"$f":"IF(DATA_INPUT!AB81<>\"\",DATA_INPUT!AB81,\"\")","v":""},{"$f":"IF(DATA_INPUT!AC81<>\"\",DATA_INPUT!AC81,\"\")","v":""},{"$f":"IF(DATA_INPUT!AD81<>\"\",DATA_INPUT!AD81,\"\")","v":""},{"$f":"IF(DATA_INPUT!AE81<>\"\",$V79,\"\")","v":""},{"$f":"IF(DATA_INPUT!AF81<>\"\",$V79*8,\"\")","v":""},{"$f":"IF(DATA_INPUT!AG81<>\"\",$V79*15,\"\")","v":""},{"$f":"IF(DATA_INPUT!AH81<>\"\",$V79*15,\"\")","v":""},{"$f":"IF(DATA_INPUT!AI81<>\"\",$V79,\"\")","v":""},{"$f":"IF(DATA_INPUT!AJ81<>\"\",$V79,\"\")","v":""},{"$f":"IF(DATA_INPUT!AK81<>\"\",$V79,\"\")","v":""},{"$f":"IF(DATA_INPUT!AL81<>\"\",$V79*7.6*DATA_INPUT!AL81,\"\")","v":""},{"$f":"IF(DATA_INPUT!AM81<>\"\",$V79*9*DATA_INPUT!AM81,\"\")","v":""},{"$f":"IF(DATA_INPUT!AN81<>\"\",$V79*10.8*DATA_INPUT!AN81,\"\")","v":""},{"$f":"IF(DATA_INPUT!AO81<>\"\",$V79*14.6*DATA_INPUT!AO81,\"\")","v":""},{"$f":"IF(DATA_INPUT!AP81<>\"\",$V79,\"\")","v":""},{"$f":"IF(DATA_INPUT!AQ81<>\"\",$V79,\"\")","v":""},{"$f":"IF(DATA_INPUT!AR81<>\"\",DATA_INPUT!AR81,\"\")","v":""},{"$f":"IF(DATA_INPUT!AS81<>\"\",DATA_INPUT!AS81,\"\")","v":""},{"$f":"IF(DATA_INPUT!AT81<>\"\",DATA_INPUT!AT81,\"\")","v":""},{"$f":"IF(DATA_INPUT!AU81<>\"\",DATA_INPUT!AU81,\"\")","v":""},{"$f":"IF(DATA_INPUT!AV81<>\"\",DATA_INPUT!AV81,\"\")","v":""},{"$f":"IF(DATA_INPUT!AW81<>\"\",DATA_INPUT!AW81,\"\")","v":"X"},{"$f":"IF(DATA_INPUT!AX81<>\"\",DATA_INPUT!AX81+Directions!$D$24-1,\"\")","v":""},{"$f":"IF(DATA_INPUT!AY81<>\"\",DATA_INPUT!AY81,\"\")","v":""},{"$f":"IF(DATA_INPUT!G81<>\"\",2,IF(DATA_INPUT!N81>2,2,IF(DATA_INPUT!N81=2,3,4)))","v":2},{"$f":"IF(OR(DATA_INPUT!S81<>\"\",DATA_INPUT!T81<>\"\"),H79,\"\")","v":""},{"$f":"IF(DATA_INPUT!T81<>\"\",\"X\",\"\")","v":""}]
[{"$f":"IF(DATA_INPUT!F82<>\"\",DATA_INPUT!F82,\"\")","v":""},{"$f":"IF(DATA_INPUT!G82<>\"\",DATA_INPUT!G82,\"\")","v":""},{"$f":"IF(DATA_INPUT!H82<>\"\",DATA_INPUT!H82,\"\")","v":"STA. 107 +78.00"},{"$f":"IF(DATA_INPUT!I82<>\"\",DATA_INPUT!I82,\"\")","v":"F"},{"$f":"IF(DATA_INPUT!J82<>\"\",DATA_INPUT!J82,\"\")","v":"M3-2P"},{"$f":"IF(DATA_INPUT!L82<>\"\",DATA_INPUT!L82,IF(DATA_INPUT!K82<>\"\",DATA_INPUT!K82,\"\"))","v":{"$error":"#VALUE!"}},{"$f":"IF(DATA_INPUT!O82<>\"\",DATA_INPUT!O82,\"\")","v":""},{"$f":"IF(DATA_INPUT!P82<>\"\",DATA_INPUT!P82,\"\")","v":1},{"$f":"IF(DATA_INPUT!Q82<>\"\",DATA_INPUT!Q82,\"\")","v":24},{"$f":"IF(DATA_INPUT!R82<>\"\",DATA_INPUT!R82,\"\")","v":12},{"$f":"IF(DATA_INPUT!S82<>\"\",IF(DATA_INPUT!AZ82<>\"\",DATA_INPUT!AZ82,H80*I80*J80/144)*IF(G80<>\"\",3/2,1),\"\")","v":""},{"$f":"IF(DATA_INPUT!T82<>\"\",IF(DATA_INPUT!AZ82<>\"\",DATA_INPUT!AZ82,H80*I80*J80/144)*IF(G80<>\"\",3/2,1),\"\")","v":""},{"$f":"IF(DATA_INPUT!U82<>\"\",$H80,\"\")","v":""},{"$f":"IF(DATA_INPUT!V82<>\"\",$H80,\"\")","v":""},{"$f":"IF(DATA_INPUT!W82<>\"\",$H80,\"\")","v":""},{"$f":"IF(DATA_INPUT!X82<>\"\",$H80,\"\")","v":1},{"$f":"IF(DATA_INPUT!Y82<>\"\",$H80,\"\")","v":""},{"$f":"IF(DATA_INPUT!Z82<>\"\",DATA_INPUT!Z82,\"\")","v":""},{"$f":"IF(DATA_INPUT!AA82<>\"\",DATA_INPUT!AA82,\"\")","v":""},{"$f":"IF(DATA_INPUT!AB82<>\"\",DATA_INPUT!AB82,\"\")","v":""},{"$f":"IF(DATA_INPUT!AC82<>\"\",DATA_INPUT!AC82,\"\")","v":2},{"$f":"IF(DATA_INPUT!AD82<>\"\",DATA_INPUT!AD82,\"\")","v":""},{"$f":"IF(DATA_INPUT!AE82<>\"\",$V80,\"\")","v":""},{"$f":"IF(DATA_INPUT!AF82<>\"\",$V80*8,\"\")","v":""},{"$f":"IF(DATA_INPUT!AG82<>\"\",$V80*15,\"\")","v":""},{"$f":"IF(DATA_INPUT!AH82<>\"\",$V80*15,\"\")","v":""},{"$f":"IF(DATA_INPUT!AI82<>\"\",$V80,\"\")","v":""},{"$f":"IF(DATA_INPUT!AJ82<>\"\",$V80,\"\")","v":""},{"$f":"IF(DATA_INPUT!AK82<>\"\",$V80,\"\")","v":""},{"$f":"IF(DATA_INPUT!AL82<>\"\",$V80*7.6*DATA_INPUT!AL82,\"\")","v":""},{"$f":"IF(DATA_INPUT!AM82<>\"\",$V80*9*DATA_INPUT!AM82,\"\")","v":""},{"$f":"IF(DATA_INPUT!AN82<>\"\",$V80*10.8*DATA_INPUT!AN82,\"\")","v":""},{"$f":"IF(DATA_INPUT!AO82<>\"\",$V80*14.6*DATA_INPUT!AO82,\"\")","v":""},{"$f":"IF(DATA_INPUT!AP82<>\"\",$V80,\"\")","v":""},{"$f":"IF(DATA_INPUT!AQ82<>\"\",$V80,\"\")","v":""},{"$f":"IF(DATA_INPUT!AR82<>\"\",DATA_INPUT!AR82,\"\")","v":""},{"$f":"IF(DATA_INPUT!AS82<>\"\",DATA_INPUT!AS82,\"\")","v":""},{"$f":"IF(DATA_INPUT!AT82<>\"\",DATA_INPUT!AT82,\"\")","v":""},{"$f":"IF(DATA_INPUT!AU82<>\"\",DATA_INPUT!AU82,\"\")","v":""},{"$f":"IF(DATA_INPUT!AV82<>\"\",DATA_INPUT!AV82,\"\")","v":""},{"$f":"IF(DATA_INPUT!AW82<>\"\",DATA_INPUT!AW82,\"\")","v":"X"},{"$f":"IF(DATA_INPUT!AX82<>\"\",DATA_INPUT!AX82+Directions!$D$24-1,\"\")","v":""},{"$f":"IF(DATA_INPUT!AY82<>\"\",DATA_INPUT!AY82,\"\")","v":""},{"$f":"IF(DATA_INPUT!G82<>\"\",2,IF(DATA_INPUT!N82>2,2,IF(DATA_INPUT!N82=2,3,4)))","v":2},{"$f":"IF(OR(DATA_INPUT!S82<>\"\",DATA_INPUT!T82<>\"\"),H80,\"\")","v":""},{"$f":"IF(DATA_INPUT!T82<>\"\",\"X\",\"\")","v":""}]
[{"$f":"IF(DATA_INPUT!F83<>\"\",DATA_INPUT!F83,\"\")","v":""},{"$f":"IF(DATA_INPUT!G83<>\"\",DATA_INPUT!G83,\"\")","v":""},{"$f":"IF(DATA_INPUT!H83<>\"\",DATA_INPUT!H83,\"\")","v":""},{"$f":"IF(DATA_INPUT!I83<>\"\",DATA_INPUT!I83,\"\")","v":""},{"$f":"IF(DATA_INPUT!J83<>\"\",DATA_INPUT!J83,\"\")","v":"M3-3P"},{"$f":"IF(DATA_INPUT!L83<>\"\",DATA_INPUT!L83,IF(DATA_INPUT!K83<>\"\",DATA_INPUT!K83,\"\"))","v":"(multisign image continues)"},{"$f":"IF(DATA_INPUT!O83<>\"\",DATA_INPUT!O83,\"\")","v":""},{"$f":"IF(DATA_INPUT!P83<>\"\",DATA_INPUT!P83,\"\")","v":2},{"$f":"IF(DATA_INPUT!Q83<>\"\",DATA_INPUT!Q83,\"\")","v":24},{"$f":"IF(DATA_INPUT!R83<>\"\",DATA_INPUT!R83,\"\")","v":12},{"$f":"IF(DATA_INPUT!S83<>\"\",IF(DATA_INPUT!AZ83<>\"\",DATA_INPUT!AZ83,H81*I81*J81/144)*IF(G81<>\"\",3/2,1),\"\")","v":""},{"$f":"IF(DATA_INPUT!T83<>\"\",IF(DATA_INPUT!AZ83<>\"\",DATA_INPUT!AZ83,H81*I81*J81/144)*IF(G81<>\"\",3/2,1),\"\")","v":""},{"$f":"IF(DATA_INPUT!U83<>\"\",$H81,\"\")","v":""},{"$f":"IF(DATA_INPUT!V83<>\"\",$H81,\"\")","v":""},{"$f":"IF(DATA_INPUT!W83<>\"\",$H81,\"\")","v":""},{"$f":"IF(DATA_INPUT!X83<>\"\",$H81,\"\")","v":2},{"$f":"IF(DATA_INPUT!Y83<>\"\",$H81,\"\")","v":""},{"$f":"IF(DATA_INPUT!Z83<>\"\",DATA_INPUT!Z83,\"\")","v":""},{"$f":"IF(DATA_INPUT!AA83<>\"\",DATA_INPUT!AA83,\"\")","v":""},{"$f":"IF(DATA_INPUT!AB83<>\"\",DATA_INPUT!AB83,\"\")","v":""},{"$f":"IF(DATA_INPUT!AC83<>\"\",DATA_INPUT!AC83,\"\")","v":""},{"$f":"IF(DATA_INPUT!AD83<>\"\",DATA_INPUT!AD83,\"\")","v":""},{"$f":"IF(DATA_INPUT!AE83<>\"\",$V81,\"\")","v":""},{"$f":"IF(DATA_INPUT!AF83<>\"\",$V81*8,\"\")","v":""},{"$f":"IF(DATA_INPUT!AG83<>\"\",$V81*15,\"\")","v":""},{"$f":"IF(DATA_INPUT!AH83<>\"\",$V81*15,\"\")","v":""},{"$f":"IF(DATA_INPUT!AI83<>\"\",$V81,\"\")","v":""},{"$f":"IF(DATA_INPUT!AJ83<>\"\",$V81,\"\")","v":""},{"$f":"IF(DATA_INPUT!AK83<>\"\",$V81,\"\")","v":""},{"$f":"IF(DATA_INPUT!AL83<>\"\",$V81*7.6*DATA_INPUT!AL83,\"\")","v":""},{"$f":"IF(DATA_INPUT!AM83<>\"\",$V81*9*DATA_INPUT!AM83,\"\")","v":""},{"$f":"IF(DATA_INPUT!AN83<>\"\",$V81*10.8*DATA_INPUT!AN83,\"\")","v":""},{"$f":"IF(DATA_INPUT!AO83<>\"\",$V81*14.6*DATA_INPUT!AO83,\"\")","v":""},{"$f":"IF(DATA_INPUT!AP83<>\"\",$V81,\"\")","v":""},{"$f":"IF(DATA_INPUT!AQ83<>\"\",$V81,\"\")","v":""},{"$f":"IF(DATA_INPUT!AR83<>\"\",DATA_INPUT!AR83,\"\")","v":""},{"$f":"IF(DATA_INPUT!AS83<>\"\",DATA_INPUT!AS83,\"\")","v":""},{"$f":"IF(DATA_INPUT!AT83<>\"\",DATA_INPUT!AT83,\"\")","v":""},{"$f":"IF(DATA_INPUT!AU83<>\"\",DATA_INPUT!AU83,\"\")","v":""},{"$f":"IF(DATA_INPUT!AV83<>\"\",DATA_INPUT!AV83,\"\")","v":""},{"$f":"IF(DATA_INPUT!AW83<>\"\",DATA_INPUT!AW83,\"\")","v":"X"},{"$f":"IF(DATA_INPUT!AX83<>\"\",DATA_INPUT!AX83+Directions!$D$24-1,\"\")","v":""},{"$f":"IF(DATA_INPUT!AY83<>\"\",DATA_INPUT!AY83,\"\")","v":""},{"$f":"IF(DATA_INPUT!G83<>\"\",2,IF(DATA_INPUT!N83>2,2,IF(DATA_INPUT!N83=2,3,4)))","v":2},{"$f":"IF(OR(DATA_INPUT!S83<>\"\",DATA_INPUT!T83<>\"\"),H81,\"\")","v":""},{"$f":"IF(DATA_INPUT!T83<>\"\",\"X\",\"\")","v":""}]
[{"$f":"IF(DATA_INPUT!F84<>\"\",DATA_INPUT!F84,\"\")","v":""},{"$f":"IF(DATA_INPUT!G84<>\"\",DATA_INPUT!G84,\"\")","v":""},{"$f":"IF(DATA_INPUT!H84<>\"\",DATA_INPUT!H84,\"\")","v":""},{"$f":"IF(DATA_INPUT!I84<>\"\",DATA_INPUT!I84,\"\")","v":""},{"$f":"IF(DATA_INPUT!J84<>\"\",DATA_INPUT!J84,\"\")","v":"M1-4"},{"$f":"IF(DATA_INPUT!L84<>\"\",DATA_INPUT!L84,IF(DATA_INPUT!K84<>\"\",DATA_INPUT!K84,\"\"))","v":"(multisign image continues)"},{"$f":"IF(DATA_INPUT!O84<>\"\",DATA_INPUT!O84,\"\")","v":""},{"$f":"IF(DATA_INPUT!P84<>\"\",DATA_INPUT!P84,\"\")","v":1},{"$f":"IF(DATA_INPUT!Q84<>\"\",DATA_INPUT!Q84,\"\")","v":24},{"$f":"IF(DATA_INPUT!R84<>\"\",DATA_INPUT!R84,\"\")","v":24},{"$f":"IF(DATA_INPUT!S84<>\"\",IF(DATA_INPUT!AZ84<>\"\",DATA_INPUT!AZ84,H82*I82*J82/144)*IF(G82<>\"\",3/2,1),\"\")","v":""},{"$f":"IF(DATA_INPUT!T84<>\"\",IF(DATA_INPUT!AZ84<>\"\",DATA_INPUT!AZ84,H82*I82*J82/144)*IF(G82<>\"\",3/2,1),\"\")","v":""},{"$f":"IF(DATA_INPUT!U84<>\"\",$H82,\"\")","v":""},{"$f":"IF(DATA_INPUT!V84<>\"\",$H82,\"\")","v":""},{"$f":"IF(DATA_INPUT!W84<>\"\",$H82,\"\")","v":""},{"$f":"IF(DATA_INPUT!X84<>\"\",$H82,\"\")","v":1},{"$f":"IF(DATA_INPUT!Y84<>\"\",$H82,\"\")","v":""},{"$f":"IF(DATA_INPUT!Z84<>\"\",DATA_INPUT!Z84,\"\")","v":""},{"$f":"IF(DATA_INPUT!AA84<>\"\",DATA_INPUT!AA84,\"\")","v":""},{"$f":"IF(DATA_INPUT!AB84<>\"\",DATA_INPUT!AB84,\"\")","v":""},{"$f":"IF(DATA_INPUT!AC84<>\"\",DATA_INPUT!AC84,\"\")","v":""},{"$f":"IF(DATA_INPUT!AD84<>\"\",DATA_INPUT!AD84,\"\")","v":""},{"$f":"IF(DATA_INPUT!AE84<>\"\",$V82,\"\")","v":""},{"$f":"IF(DATA_INPUT!AF84<>\"\",$V82*8,\"\")","v":""},{"$f":"IF(DATA_INPUT!AG84<>\"\",$V82*15,\"\")","v":""},{"$f":"IF(DATA_INPUT!AH84<>\"\",$V82*15,\"\")","v":""},{"$f":"IF(DATA_INPUT!AI84<>\"\",$V82,\"\")","v":""},{"$f":"IF(DATA_INPUT!AJ84<>\"\",$V82,\"\")","v":""},{"$f":"IF(DATA_INPUT!AK84<>\"\",$V82,\"\")","v":""},{"$f":"IF(DATA_INPUT!AL84<>\"\",$V82*7.6*DATA_INPUT!AL84,\"\")","v":""},{"$f":"IF(DATA_INPUT!AM84<>\"\",$V82*9*DATA_INPUT!AM84,\"\")","v":""},{"$f":"IF(DATA_INPUT!AN84<>\"\",$V82*10.8*DATA_INPUT!AN84,\"\")","v":""},{"$f":"IF(DATA_INPUT!AO84<>\"\",$V82*14.6*DATA_INPUT!AO84,\"\")","v":""},{"$f":"IF(DATA_INPUT!AP84<>\"\",$V82,\"\")","v":""},{"$f":"IF(DATA_INPUT!AQ84<>\"\",$V82,\"\")","v":""},{"$f":"IF(DATA_INPUT!AR84<>\"\",DATA_INPUT!AR84,\"\")","v":""},{"$f":"IF(DATA_INPUT!AS84<>\"\",DATA_INPUT!AS84,\"\")","v":""},{"$f":"IF(DATA_INPUT!AT84<>\"\",DATA_INPUT!AT84,\"\")","v":""},{"$f":"IF(DATA_INPUT!AU84<>\"\",DATA_INPUT!AU84,\"\")","v":""},{"$f":"IF(DATA_INPUT!AV84<>\"\",DATA_INPUT!AV84,\"\")","v":""},{"$f":"IF(DATA_INPUT!AW84<>\"\",DATA_INPUT!AW84,\"\")","v":"X"},{"$f":"IF(DATA_INPUT!AX84<>\"\",DATA_INPUT!AX84+Directions!$D$24-1,\"\")","v":""},{"$f":"IF(DATA_INPUT!AY84<>\"\",DATA_INPUT!AY84,\"\")","v":""},{"$f":"IF(DATA_INPUT!G84<>\"\",2,IF(DATA_INPUT!N84>2,2,IF(DATA_INPUT!N84=2,3,4)))","v":2},{"$f":"IF(OR(DATA_INPUT!S84<>\"\",DATA_INPUT!T84<>\"\"),H82,\"\")","v":""},{"$f":"IF(DATA_INPUT!T84<>\"\",\"X\",\"\")","v":""}]
[{"$f":"IF(DATA_INPUT!F85<>\"\",DATA_INPUT!F85,\"\")","v":""},{"$f":"IF(DATA_INPUT!G85<>\"\",DATA_INPUT!G85,\"\")","v":""},{"$f":"IF(DATA_INPUT!H85<>\"\",DATA_INPUT!H85,\"\")","v":""},{"$f":"IF(DATA_INPUT!I85<>\"\",DATA_INPUT!I85,\"\")","v":""},{"$f":"IF(DATA_INPUT!J85<>\"\",DATA_INPUT!J85,\"\")","v":"M1-4"},{"$f":"IF(DATA_INPUT!L85<>\"\",DATA_INPUT!L85,IF(DATA_INPUT!K85<>\"\",DATA_INPUT!K85,\"\"))","v":"(multisign image continues)"},{"$f":"IF(DATA_INPUT!O85<>\"\",DATA_INPUT!O85,\"\")","v":""},{"$f":"IF(DATA_INPUT!P85<>\"\",DATA_INPUT!P85,\"\")","v":1},{"$f":"IF(DATA_INPUT!Q85<>\"\",DATA_INPUT!Q85,\"\")","v":24},{"$f":"IF(DATA_INPUT!R85<>\"\",DATA_INPUT!R85,\"\")","v":24},{"$f":"IF(DATA_INPUT!S85<>\"\",IF(DATA_INPUT!AZ85<>\"\",DATA_INPUT!AZ85,H83*I83*J83/144)*IF(G83<>\"\",3/2,1),\"\")","v":""},{"$f":"IF(DATA_INPUT!T85<>\"\",IF(DATA_INPUT!AZ85<>\"\",DATA_INPUT!AZ85,H83*I83*J83/144)*IF(G83<>\"\",3/2,1),\"\")","v":""},{"$f":"IF(DATA_INPUT!U85<>\"\",$H83,\"\")","v":""},{"$f":"IF(DATA_INPUT!V85<>\"\",$H83,\"\")","v":""},{"$f":"IF(DATA_INPUT!W85<>\"\",$H83,\"\")","v":""},{"$f":"IF(DATA_INPUT!X85<>\"\",$H83,\"\")","v":1},{"$f":"IF(DATA_INPUT!Y85<>\"\",$H83,\"\")","v":""},{"$f":"IF(DATA_INPUT!Z85<>\"\",DATA_INPUT!Z85,\"\")","v":""},{"$f":"IF(DATA_INPUT!AA85<>\"\",DATA_INPUT!AA85,\"\")","v":""},{"$f":"IF(DATA_INPUT!AB85<>\"\",DATA_INPUT!AB85,\"\")","v":""},{"$f":"IF(DATA_INPUT!AC85<>\"\",DATA_INPUT!AC85,\"\")","v":""},{"$f":"IF(DATA_INPUT!AD85<>\"\",DATA_INPUT!AD85,\"\")","v":""},{"$f":"IF(DATA_INPUT!AE85<>\"\",$V83,\"\")","v":""},{"$f":"IF(DATA_INPUT!AF85<>\"\",$V83*8,\"\")","v":""},{"$f":"IF(DATA_INPUT!AG85<>\"\",$V83*15,\"\")","v":""},{"$f":"IF(DATA_INPUT!AH85<>\"\",$V83*15,\"\")","v":""},{"$f":"IF(DATA_INPUT!AI85<>\"\",$V83,\"\")","v":""},{"$f":"IF(DATA_INPUT!AJ85<>\"\",$V83,\"\")","v":""},{"$f":"IF(DATA_INPUT!AK85<>\"\",$V83,\"\")","v":""},{"$f":"IF(DATA_INPUT!AL85<>\"\",$V83*7.6*DATA_INPUT!AL85,\"\")","v":""},{"$f":"IF(DATA_INPUT!AM85<>\"\",$V83*9*DATA_INPUT!AM85,\"\")","v":""},{"$f":"IF(DATA_INPUT!AN85<>\"\",$V83*10.8*DATA_INPUT!AN85,\"\")","v":""},{"$f":"IF(DATA_INPUT!AO85<>\"\",$V83*14.6*DATA_INPUT!AO85,\"\")","v":""},{"$f":"IF(DATA_INPUT!AP85<>\"\",$V83,\"\")","v":""},{"$f":"IF(DATA_INPUT!AQ85<>\"\",$V83,\"\")","v":""},{"$f":"IF(DATA_INPUT!AR85<>\"\",DATA_INPUT!AR85,\"\")","v":""},{"$f":"IF(DATA_INPUT!AS85<>\"\",DATA_INPUT!AS85,\"\")","v":""},{"$f":"IF(DATA_INPUT!AT85<>\"\",DATA_INPUT!AT85,\"\")","v":""},{"$f":"IF(DATA_INPUT!AU85<>\"\",DATA_INPUT!AU85,\"\")","v":""},{"$f":"IF(DATA_INPUT!AV85<>\"\",DATA_INPUT!AV85,\"\")","v":""},{"$f":"IF(DATA_INPUT!AW85<>\"\",DATA_INPUT!AW85,\"\")","v":"X"},{"$f":"IF(DATA_INPUT!AX85<>\"\",DATA_INPUT!AX85+Directions!$D$24-1,\"\")","v":""},{"$f":"IF(DATA_INPUT!AY85<>\"\",DATA_INPUT!AY85,\"\")","v":""},{"$f":"IF(DATA_INPUT!G85<>\"\",2,IF(DATA_INPUT!N85>2,2,IF(DATA_INPUT!N85=2,3,4)))","v":2},{"$f":"IF(OR(DATA_INPUT!S85<>\"\",DATA_INPUT!T85<>\"\"),H83,\"\")","v":""},{"$f":"IF(DATA_INPUT!T85<>\"\",\"X\",\"\")","v":""}]
[{"$f":"IF(DATA_INPUT!F86<>\"\",DATA_INPUT!F86,\"\")","v":""},{"$f":"IF(DATA_INPUT!G86<>\"\",DATA_INPUT!G86,\"\")","v":""},{"$f":"IF(DATA_INPUT!H86<>\"\",DATA_INPUT!H86,\"\")","v":""},{"$f":"IF(DATA_INPUT!I86<>\"\",DATA_INPUT!I86,\"\")","v":""},{"$f":"IF(DATA_INPUT!J86<>\"\",DATA_INPUT!J86,\"\")","v":"M1-5"},{"$f":"IF(DATA_INPUT!L86<>\"\",DATA_INPUT!L86,IF(DATA_INPUT!K86<>\"\",DATA_INPUT!K86,\"\"))","v":"(multisign image continues)"},{"$f":"IF(DATA_INPUT!O86<>\"\",DATA_INPUT!O86,\"\")","v":""},{"$f":"IF(DATA_INPUT!P86<>\"\",DATA_INPUT!P86,\"\")","v":1},{"$f":"IF(DATA_INPUT!Q86<>\"\",DATA_INPUT!Q86,\"\")","v":30},{"$f":"IF(DATA_INPUT!R86<>\"\",DATA_INPUT!R86,\"\")","v":24},{"$f":"IF(DATA_INPUT!S86<>\"\",IF(DATA_INPUT!AZ86<>\"\",DATA_INPUT!AZ86,H84*I84*J84/144)*IF(G84<>\"\",3/2,1),\"\")","v":""},{"$f":"IF(DATA_INPUT!T86<>\"\",IF(DATA_INPUT!AZ86<>\"\",DATA_INPUT!AZ86,H84*I84*J84/144)*IF(G84<>\"\",3/2,1),\"\")","v":""},{"$f":"IF(DATA_INPUT!U86<>\"\",$H84,\"\")","v":""},{"$f":"IF(DATA_INPUT!V86<>\"\",$H84,\"\")","v":""},{"$f":"IF(DATA_INPUT!W86<>\"\",$H84,\"\")","v":""},{"$f":"IF(DATA_INPUT!X86<>\"\",$H84,\"\")","v":1},{"$f":"IF(DATA_INPUT!Y86<>\"\",$H84,\"\")","v":""},{"$f":"IF(DATA_INPUT!Z86<>\"\",DATA_INPUT!Z86,\"\")","v":""},{"$f":"IF(DATA_INPUT!AA86<>\"\",DATA_INPUT!AA86,\"\")","v":""},{"$f":"IF(DATA_INPUT!AB86<>\"\",DATA_INPUT!AB86,\"\")","v":""},{"$f":"IF(DATA_INPUT!AC86<>\"\",DATA_INPUT!AC86,\"\")","v":""},{"$f":"IF(DATA_INPUT!AD86<>\"\",DATA_INPUT!AD86,\"\")","v":""},{"$f":"IF(DATA_INPUT!AE86<>\"\",$V84,\"\")","v":""},{"$f":"IF(DATA_INPUT!AF86<>\"\",$V84*8,\"\")","v":""},{"$f":"IF(DATA_INPUT!AG86<>\"\",$V84*15,\"\")","v":""},{"$f":"IF(DATA_INPUT!AH86<>\"\",$V84*15,\"\")","v":""},{"$f":"IF(DATA_INPUT!AI86<>\"\",$V84,\"\")","v":""},{"$f":"IF(DATA_INPUT!AJ86<>\"\",$V84,\"\")","v":""},{"$f":"IF(DATA_INPUT!AK86<>\"\",$V84,\"\")","v":""},{"$f":"IF(DATA_INPUT!AL86<>\"\",$V84*7.6*DATA_INPUT!AL86,\"\")","v":""},{"$f":"IF(DATA_INPUT!AM86<>\"\",$V84*9*DATA_INPUT!AM86,\"\")","v":""},{"$f":"IF(DATA_INPUT!AN86<>\"\",$V84*10.8*DATA_INPUT!AN86,\"\")","v":""},{"$f":"IF(DATA_INPUT!AO86<>\"\",$V84*14.6*DATA_INPUT!AO86,\"\")","v":""},{"$f":"IF(DATA_INPUT!AP86<>\"\",$V84,\"\")","v":""},{"$f":"IF(DATA_INPUT!AQ86<>\"\",$V84,\"\")","v":""},{"$f":"IF(DATA_INPUT!AR86<>\"\",DATA_INPUT!AR86,\"\")","v":""},{"$f":"IF(DATA_INPUT!AS86<>\"\",DATA_INPUT!AS86,\"\")","v":""},{"$f":"IF(DATA_INPUT!AT86<>\"\",DATA_INPUT!AT86,\"\")","v":""},{"$f":"IF(DATA_INPUT!AU86<>\"\",DATA_INPUT!AU86,\"\")","v":""},{"$f":"IF(DATA_INPUT!AV86<>\"\",DATA_INPUT!AV86,\"\")","v":""},{"$f":"IF(DATA_INPUT!AW86<>\"\",DATA_INPUT!AW86,\"\")","v":"X"},{"$f":"IF(DATA_INPUT!AX86<>\"\",DATA_INPUT!AX86+Directions!$D$24-1,\"\")","v":""},{"$f":"IF(DATA_INPUT!AY86<>\"\",DATA_INPUT!AY86,\"\")","v":""},{"$f":"IF(DATA_INPUT!G86<>\"\",2,IF(DATA_INPUT!N86>2,2,IF(DATA_INPUT!N86=2,3,4)))","v":2},{"$f":"IF(OR(DATA_INPUT!S86<>\"\",DATA_INPUT!T86<>\"\"),H84,\"\")","v":""},{"$f":"IF(DATA_INPUT!T86<>\"\",\"X\",\"\")","v":""}]
[{"$f":"IF(DATA_INPUT!F87<>\"\",DATA_INPUT!F87,\"\")","v":""},{"$f":"IF(DATA_INPUT!G87<>\"\",DATA_INPUT!G87,\"\")","v":""},{"$f":"IF(DATA_INPUT!H87<>\"\",DATA_INPUT!H87,\"\")","v":""},{"$f":"IF(DATA_INPUT!I87<>\"\",DATA_INPUT!I87,\"\")","v":""},{"$f":"IF(DATA_INPUT!J87<>\"\",DATA_INPUT!J87,\"\")","v":"M6-3P"},{"$f":"IF(DATA_INPUT!L87<>\"\",DATA_INPUT!L87,IF(DATA_INPUT!K87<>\"\",DATA_INPUT!K87,\"\"))","v":"(multisign image continues)"},{"$f":"IF(DATA_INPUT!O87<>\"\",DATA_INPUT!O87,\"\")","v":""},{"$f":"IF(DATA_INPUT!P87<>\"\",DATA_INPUT!P87,\"\")","v":2},{"$f":"IF(DATA_INPUT!Q87<>\"\",DATA_INPUT!Q87,\"\")","v":21},{"$f":"IF(DATA_INPUT!R87<>\"\",DATA_INPUT!R87,\"\")","v":15},{"$f":"IF(DATA_INPUT!S87<>\"\",IF(DATA_INPUT!AZ87<>\"\",DATA_INPUT!AZ87,H85*I85*J85/144)*IF(G85<>\"\",3/2,1),\"\")","v":""},{"$f":"IF(DATA_INPUT!T87<>\"\",IF(DATA_INPUT!AZ87<>\"\",DATA_INPUT!AZ87,H85*I85*J85/144)*IF(G85<>\"\",3/2,1),\"\")","v":""},{"$f":"IF(DATA_INPUT!U87<>\"\",$H85,\"\")","v":""},{"$f":"IF(DATA_INPUT!V87<>\"\",$H85,\"\")","v":""},{"$f":"IF(DATA_INPUT!W87<>\"\",$H85,\"\")","v":""},{"$f":"IF(DATA_INPUT!X87<>\"\",$H85,\"\")","v":2},{"$f":"IF(DATA_INPUT!Y87<>\"\",$H85,\"\")","v":""},{"$f":"IF(DATA_INPUT!Z87<>\"\",DATA_INPUT!Z87,\"\")","v":""},{"$f":"IF(DATA_INPUT!AA87<>\"\",DATA_INPUT!AA87,\"\")","v":""},{"$f":"IF(DATA_INPUT!AB87<>\"\",DATA_INPUT!AB87,\"\")","v":""},{"$f":"IF(DATA_INPUT!AC87<>\"\",DATA_INPUT!AC87,\"\")","v":""},{"$f":"IF(DATA_INPUT!AD87<>\"\",DATA_INPUT!AD87,\"\")","v":""},{"$f":"IF(DATA_INPUT!AE87<>\"\",$V85,\"\")","v":""},{"$f":"IF(DATA_INPUT!AF87<>\"\",$V85*8,\"\")","v":""},{"$f":"IF(DATA_INPUT!AG87<>\"\",$V85*15,\"\")","v":""},{"$f":"IF(DATA_INPUT!AH87<>\"\",$V85*15,\"\")","v":""},{"$f":"IF(DATA_INPUT!AI87<>\"\",$V85,\"\")","v":""},{"$f":"IF(DATA_INPUT!AJ87<>\"\",$V85,\"\")","v":""},{"$f":"IF(DATA_INPUT!AK87<>\"\",$V85,\"\")","v":""},{"$f":"IF(DATA_INPUT!AL87<>\"\",$V85*7.6*DATA_INPUT!AL87,\"\")","v":""},{"$f":"IF(DATA_INPUT!AM87<>\"\",$V85*9*DATA_INPUT!AM87,\"\")","v":""},{"$f":"IF(DATA_INPUT!AN87<>\"\",$V85*10.8*DATA_INPUT!AN87,\"\")","v":""},{"$f":"IF(DATA_INPUT!AO87<>\"\",$V85*14.6*DATA_INPUT!AO87,\"\")","v":""},{"$f":"IF(DATA_INPUT!AP87<>\"\",$V85,\"\")","v":""},{"$f":"IF(DATA_INPUT!AQ87<>\"\",$V85,\"\")","v":""},{"$f":"IF(DATA_INPUT!AR87<>\"\",DATA_INPUT!AR87,\"\")","v":""},{"$f":"IF(DATA_INPUT!AS87<>\"\",DATA_INPUT!AS87,\"\")","v":""},{"$f":"IF(DATA_INPUT!AT87<>\"\",DATA_INPUT!AT87,\"\")","v":""},{"$f":"IF(DATA_INPUT!AU87<>\"\",DATA_INPUT!AU87,\"\")","v":""},{"$f":"IF(DATA_INPUT!AV87<>\"\",DATA_INPUT!AV87,\"\")","v":""},{"$f":"IF(DATA_INPUT!AW87<>\"\",DATA_INPUT!AW87,\"\")","v":"X"},{"$f":"IF(DATA_INPUT!AX87<>\"\",DATA_INPUT!AX87+Directions!$D$24-1,\"\")","v":""},{"$f":"IF(DATA_INPUT!AY87<>\"\",DATA_INPUT!AY87,\"\")","v":""},{"$f":"IF(DATA_INPUT!G87<>\"\",2,IF(DATA_INPUT!N87>2,2,IF(DATA_INPUT!N87=2,3,4)))","v":2},{"$f":"IF(OR(DATA_INPUT!S87<>\"\",DATA_INPUT!T87<>\"\"),H85,\"\")","v":""},{"$f":"IF(DATA_INPUT!T87<>\"\",\"X\",\"\")","v":""}]
[{"$f":"IF(DATA_INPUT!F88<>\"\",DATA_INPUT!F88,\"\")","v":""},{"$f":"IF(DATA_INPUT!G88<>\"\",DATA_INPUT!G88,\"\")","v":""},{"$f":"IF(DATA_INPUT!H88<>\"\",DATA_INPUT!H88,\"\")","v":""},{"$f":"IF(DATA_INPUT!I88<>\"\",DATA_INPUT!I88,\"\")","v":""},{"$f":"IF(DATA_INPUT!J88<>\"\",DATA_INPUT!J88,\"\")","v":"M6-1PR"},{"$f":"IF(DATA_INPUT!L88<>\"\",DATA_INPUT!L88,IF(DATA_INPUT!K88<>\"\",DATA_INPUT!K88,\"\"))","v":"(multisign image continues)"},{"$f":"IF(DATA_INPUT!O88<>\"\",DATA_INPUT!O88,\"\")","v":""},{"$f":"IF(DATA_INPUT!P88<>\"\",DATA_INPUT!P88,\"\")","v":1},{"$f":"IF(DATA_INPUT!Q88<>\"\",DATA_INPUT!Q88,\"\")","v":21},{"$f":"IF(DATA_INPUT!R88<>\"\",DATA_INPUT!R88,\"\")","v":15},{"$f":"IF(DATA_INPUT!S88<>\"\",IF(DATA_INPUT!AZ88<>\"\",DATA_INPUT!AZ88,H86*I86*J86/144)*IF(G86<>\"\",3/2,1),\"\")","v":""},{"$f":"IF(DATA_INPUT!T88<>\"\",IF(DATA_INPUT!AZ88<>\"\",DATA_INPUT!AZ88,H86*I86*J86/144)*IF(G86<>\"\",3/2,1),\"\")","v":""},{"$f":"IF(DATA_INPUT!U88<>\"\",$H86,\"\")","v":""},{"$f":"IF(DATA_INPUT!V88<>\"\",$H86,\"\")","v":""},{"$f":"IF(DATA_INPUT!W88<>\"\",$H86,\"\")","v":""},{"$f":"IF(DATA_INPUT!X88<>\"\",$H86,\"\")","v":1},{"$f":"IF(DATA_INPUT!Y88<>\"\",$H86,\"\")","v":""},{"$f":"IF(DATA_INPUT!Z88<>\"\",DATA_INPUT!Z88,\"\")","v":""},{"$f":"IF(DATA_INPUT!AA88<>\"\",DATA_INPUT!AA88,\"\")","v":""},{"$f":"IF(DATA_INPUT!AB88<>\"\",DATA_INPUT!AB88,\"\")","v":""},{"$f":"IF(DATA_INPUT!AC88<>\"\",DATA_INPUT!AC88,\"\")","v":""},{"$f":"IF(DATA_INPUT!AD88<>\"\",DATA_INPUT!AD88,\"\")","v":""},{"$f":"IF(DATA_INPUT!AE88<>\"\",$V86,\"\")","v":""},{"$f":"IF(DATA_INPUT!AF88<>\"\",$V86*8,\"\")","v":""},{"$f":"IF(DATA_INPUT!AG88<>\"\",$V86*15,\"\")","v":""},{"$f":"IF(DATA_INPUT!AH88<>\"\",$V86*15,\"\")","v":""},{"$f":"IF(DATA_INPUT!AI88<>\"\",$V86,\"\")","v":""},{"$f":"IF(DATA_INPUT!AJ88<>\"\",$V86,\"\")","v":""},{"$f":"IF(DATA_INPUT!AK88<>\"\",$V86,\"\")","v":""},{"$f":"IF(DATA_INPUT!AL88<>\"\",$V86*7.6*DATA_INPUT!AL88,\"\")","v":""},{"$f":"IF(DATA_INPUT!AM88<>\"\",$V86*9*DATA_INPUT!AM88,\"\")","v":""},{"$f":"IF(DATA_INPUT!AN88<>\"\",$V86*10.8*DATA_INPUT!AN88,\"\")","v":""},{"$f":"IF(DATA_INPUT!AO88<>\"\",$V86*14.6*DATA_INPUT!AO88,\"\")","v":""},{"$f":"IF(DATA_INPUT!AP88<>\"\",$V86,\"\")","v":""},{"$f":"IF(DATA_INPUT!AQ88<>\"\",$V86,\"\")","v":""},{"$f":"IF(DATA_INPUT!AR88<>\"\",DATA_INPUT!AR88,\"\")","v":""},{"$f":"IF(DATA_INPUT!AS88<>\"\",DATA_INPUT!AS88,\"\")","v":""},{"$f":"IF(DATA_INPUT!AT88<>\"\",DATA_INPUT!AT88,\"\")","v":""},{"$f":"IF(DATA_INPUT!AU88<>\"\",DATA_INPUT!AU88,\"\")","v":""},{"$f":"IF(DATA_INPUT!AV88<>\"\",DATA_INPUT!AV88,\"\")","v":""},{"$f":"IF(DATA_INPUT!AW88<>\"\",DATA_INPUT!AW88,\"\")","v":"X"},{"$f":"IF(DATA_INPUT!AX88<>\"\",DATA_INPUT!AX88+Directions!$D$24-1,\"\")","v":""},{"$f":"IF(DATA_INPUT!AY88<>\"\",DATA_INPUT!AY88,\"\")","v":""},{"$f":"IF(DATA_INPUT!G88<>\"\",2,IF(DATA_INPUT!N88>2,2,IF(DATA_INPUT!N88=2,3,4)))","v":2},{"$f":"IF(OR(DATA_INPUT!S88<>\"\",DATA_INPUT!T88<>\"\"),H86,\"\")","v":""},{"$f":"IF(DATA_INPUT!T88<>\"\",\"X\",\"\")","v":""}]
[{"$f":"IF(DATA_INPUT!F89<>\"\",DATA_INPUT!F89,\"\")","v":""},{"$f":"IF(DATA_INPUT!G89<>\"\",DATA_INPUT!G89,\"\")","v":""},{"$f":"IF(DATA_INPUT!H89<>\"\",DATA_INPUT!H89,\"\")","v":"STA. 107 +64.00"},{"$f":"IF(DATA_INPUT!I89<>\"\",DATA_INPUT!I89,\"\")","v":"F"},{"$f":"IF(DATA_INPUT!J89<>\"\",DATA_INPUT!J89,\"\")","v":"VR-934"},{"$f":"IF(DATA_INPUT!L89<>\"\",DATA_INPUT!L89,IF(DATA_INPUT!K89<>\"\",DATA_INPUT!K89,\"\"))","v":{"$error":"#VALUE!"}},{"$f":"IF(DATA_INPUT!O89<>\"\",DATA_INPUT!O89,\"\")","v":""},{"$f":"IF(DATA_INPUT!P89<>\"\",DATA_INPUT!P89,\"\")","v":1},{"$f":"IF(DATA_INPUT!Q89<>\"\",DATA_INPUT!Q89,\"\")","v":30},{"$f":"IF(DATA_INPUT!R89<>\"\",DATA_INPUT!R89,\"\")","v":48},{"$f":"IF(DATA_INPUT!S89<>\"\",IF(DATA_INPUT!AZ89<>\"\",DATA_INPUT!AZ89,H87*I87*J87/144)*IF(G87<>\"\",3/2,1),\"\")","v":10},{"$f":"IF(DATA_INPUT!T89<>\"\",IF(DATA_INPUT!AZ89<>\"\",DATA_INPUT!AZ89,H87*I87*J87/144)*IF(G87<>\"\",3/2,1),\"\")","v":""},{"$f":"IF(DATA_INPUT!U89<>\"\",$H87,\"\")","v":""},{"$f":"IF(DATA_INPUT!V89<>\"\",$H87,\"\")","v":""},{"$f":"IF(DATA_INPUT!W89<>\"\",$H87,\"\")","v":""},{"$f":"IF(DATA_INPUT!X89<>\"\",$H87,\"\")","v":""},{"$f":"IF(DATA_INPUT!Y89<>\"\",$H87,\"\")","v":""},{"$f":"IF(DATA_INPUT!Z89<>\"\",DATA_INPUT!Z89,\"\")","v":""},{"$f":"IF(DATA_INPUT!AA89<>\"\",DATA_INPUT!AA89,\"\")","v":""},{"$f":"IF(DATA_INPUT!AB89<>\"\",DATA_INPUT!AB89,\"\")","v":""},{"$f":"IF(DATA_INPUT!AC89<>\"\",DATA_INPUT!AC89,\"\")","v":""},{"$f":"IF(DATA_INPUT!AD89<>\"\",DATA_INPUT!AD89,\"\")","v":2},{"$f":"IF(DATA_INPUT!AE89<>\"\",$V87,\"\")","v":""},{"$f":"IF(DATA_INPUT!AF89<>\"\",$V87*8,\"\")","v":""},{"$f":"IF(DATA_INPUT!AG89<>\"\",$V87*15,\"\")","v":30},{"$f":"IF(DATA_INPUT!AH89<>\"\",$V87*15,\"\")","v":""},{"$f":"IF(DATA_INPUT!AI89<>\"\",$V87,\"\")","v":2},{"$f":"IF(DATA_INPUT!AJ89<>\"\",$V87,\"\")","v":""},{"$f":"IF(DATA_INPUT!AK89<>\"\",$V87,\"\")","v":""},{"$f":"IF(DATA_INPUT!AL89<>\"\",$V87*7.6*DATA_INPUT!AL89,\"\")","v":""},{"$f":"IF(DATA_INPUT!AM89<>\"\",$V87*9*DATA_INPUT!AM89,\"\")","v":""},{"$f":"IF(DATA_INPUT!AN89<>\"\",$V87*10.8*DATA_INPUT!AN89,\"\")","v":""},{"$f":"IF(DATA_INPUT!AO89<>\"\",$V87*14.6*DATA_INPUT!AO89,\"\")","v":""},{"$f":"IF(DATA_INPUT!AP89<>\"\",$V87,\"\")","v":""},{"$f":"IF(DATA_INPUT!AQ89<>\"\",$V87,\"\")","v":""},{"$f":"IF(DATA_INPUT!AR89<>\"\",DATA_INPUT!AR89,\"\")","v":""},{"$f":"IF(DATA_INPUT!AS89<>\"\",DATA_INPUT!AS89,\"\")","v":""},{"$f":"IF(DATA_INPUT!AT89<>\"\",DATA_INPUT!AT89,\"\")","v":""},{"$f":"IF(DATA_INPUT!AU89<>\"\",DATA_INPUT!AU89,\"\")","v":""},{"$f":"IF(DATA_INPUT!AV89<>\"\",DATA_INPUT!AV89,\"\")","v":""},{"$f":"IF(DATA_INPUT!AW89<>\"\",DATA_INPUT!AW89,\"\")","v":""},{"$f":"IF(DATA_INPUT!AX89<>\"\",DATA_INPUT!AX89+Directions!$D$24-1,\"\")","v":""},{"$f":"IF(DATA_INPUT!AY89<>\"\",DATA_INPUT!AY89,\"\")","v":"T-145"},{"$f":"IF(DATA_INPUT!G89<>\"\",2,IF(DATA_INPUT!N89>2,2,IF(DATA_INPUT!N89=2,3,4)))","v":4},{"$f":"IF(OR(DATA_INPUT!S89<>\"\",DATA_INPUT!T89<>\"\"),H87,\"\")","v":1},{"$f":"IF(DATA_INPUT!T89<>\"\",\"X\",\"\")","v":""}]
[{"$f":"IF(DATA_INPUT!F90<>\"\",DATA_INPUT!F90,\"\")","v":""},{"$f":"IF(DATA_INPUT!G90<>\"\",DATA_INPUT!G90,\"\")","v":""},{"$f":"IF(DATA_INPUT!H90<>\"\",DATA_INPUT!H90,\"\")","v":"STA. 108 +50.00"},{"$f":"IF(DATA_INPUT!I90<>\"\",DATA_INPUT!I90,\"\")","v":"A"},{"$f":"IF(DATA_INPUT!J90<>\"\",DATA_INPUT!J90,\"\")","v":"R2-1"},{"$f":"IF(DATA_INPUT!L90<>\"\",DATA_INPUT!L90,IF(DATA_INPUT!K90<>\"\",DATA_INPUT!K90,\"\"))","v":{"$error":"#VALUE!"}},{"$f":"IF(DATA_INPUT!O90<>\"\",DATA_INPUT!O90,\"\")","v":""},{"$f":"IF(DATA_INPUT!P90<>\"\",DATA_INPUT!P90,\"\")","v":1},{"$f":"IF(DATA_INPUT!Q90<>\"\",DATA_INPUT!Q90,\"\")","v":24},{"$f":"IF(DATA_INPUT!R90<>\"\",DATA_INPUT!R90,\"\")","v":30},{"$f":"IF(DATA_INPUT!S90<>\"\",IF(DATA_INPUT!AZ90<>\"\",DATA_INPUT!AZ90,H88*I88*J88/144)*IF(G88<>\"\",3/2,1),\"\")","v":""},{"$f":"IF(DATA_INPUT!T90<>\"\",IF(DATA_INPUT!AZ90<>\"\",DATA_INPUT!AZ90,H88*I88*J88/144)*IF(G88<>\"\",3/2,1),\"\")","v":""},{"$f":"IF(DATA_INPUT!U90<>\"\",$H88,\"\")","v":""},{"$f":"IF(DATA_INPUT!V90<>\"\",$H88,\"\")","v":""},{"$f":"IF(DATA_INPUT!W90<>\"\",$H88,\"\")","v":""},{"$f":"IF(DATA_INPUT!X90<>\"\",$H88,\"\")","v":1},{"$f":"IF(DATA_INPUT!Y90<>\"\",$H88,\"\")","v":""},{"$f":"IF(DATA_INPUT!Z90<>\"\",DATA_INPUT!Z90,\"\")","v":""},{"$f":"IF(DATA_INPUT!AA90<>\"\",DATA_INPUT!AA90,\"\")","v":""},{"$f":"IF(DATA_INPUT!AB90<>\"\",DATA_INPUT!AB90,\"\")","v":""},{"$f":"IF(DATA_INPUT!AC90<>\"\",DATA_INPUT!AC90,\"\")","v":1},{"$f":"IF(DATA_INPUT!AD90<>\"\",DATA_INPUT!AD90,\"\")","v":""},{"$f":"IF(DATA_INPUT!AE90<>\"\",$V88,\"\")","v":""},{"$f":"IF(DATA_INPUT!AF90<>\"\",$V88*8,\"\")","v":""},{"$f":"IF(DATA_INPUT!AG90<>\"\",$V88*15,\"\")","v":""},{"$f":"IF(DATA_INPUT!AH90<>\"\",$V88*15,\"\")","v":""},{"$f":"IF(DATA_INPUT!AI90<>\"\",$V88,\"\")","v":""},{"$f":"IF(DATA_INPUT!AJ90<>\"\",$V88,\"\")","v":""},{"$f":"IF(DATA_INPUT!AK90<>\"\",$V88,\"\")","v":""},{"$f":"IF(DATA_INPUT!AL90<>\"\",$V88*7.6*DATA_INPUT!AL90,\"\")","v":""},{"$f":"IF(DATA_INPUT!AM90<>\"\",$V88*9*DATA_INPUT!AM90,\"\")","v":""},{"$f":"IF(DATA_INPUT!AN90<>\"\",$V88*10.8*DATA_INPUT!AN90,\"\")","v":""},{"$f":"IF(DATA_INPUT!AO90<>\"\",$V88*14.6*DATA_INPUT!AO90,\"\")","v":""},{"$f":"IF(DATA_INPUT!AP90<>\"\",$V88,\"\")","v":""},{"$f":"IF(DATA_INPUT!AQ90<>\"\",$V88,\"\")","v":""},{"$f":"IF(DATA_INPUT!AR90<>\"\",DATA_INPUT!AR90,\"\")","v":""},{"$f":"IF(DATA_INPUT!AS90<>\"\",DATA_INPUT!AS90,\"\")","v":""},{"$f":"IF(DATA_INPUT!AT90<>\"\",DATA_INPUT!AT90,\"\")","v":""},{"$f":"IF(DATA_INPUT!AU90<>\"\",DATA_INPUT!AU90,\"\")","v":""},{"$f":"IF(DATA_INPUT!AV90<>\"\",DATA_INPUT!AV90,\"\")","v":""},{"$f":"IF(DATA_INPUT!AW90<>\"\",DATA_INPUT!AW90,\"\")","v":""},{"$f":"IF(DATA_INPUT!AX90<>\"\",DATA_INPUT!AX90+Directions!$D$24-1,\"\")","v":""},{"$f":"IF(DATA_INPUT!AY90<>\"\",DATA_INPUT!AY90,\"\")","v":""},{"$f":"IF(DATA_INPUT!G90<>\"\",2,IF(DATA_INPUT!N90>2,2,IF(DATA_INPUT!N90=2,3,4)))","v":4},{"$f":"IF(OR(DATA_INPUT!S90<>\"\",DATA_INPUT!T90<>\"\"),H88,\"\")","v":""},{"$f":"IF(DATA_INPUT!T90<>\"\",\"X\",\"\")","v":""}]
[{"$f":"IF(DATA_INPUT!F91<>\"\",DATA_INPUT!F91,\"\")","v":""},{"$f":"IF(DATA_INPUT!G91<>\"\",DATA_INPUT!G91,\"\")","v":""},{"$f":"IF(DATA_INPUT!H91<>\"\",DATA_INPUT!H91,\"\")","v":"STA. 108 +50.00"},{"$f":"IF(DATA_INPUT!I91<>\"\",DATA_INPUT!I91,\"\")","v":"A"},{"$f":"IF(DATA_INPUT!J91<>\"\",DATA_INPUT!J91,\"\")","v":"R2-1"},{"$f":"IF(DATA_INPUT!L91<>\"\",DATA_INPUT!L91,IF(DATA_INPUT!K91<>\"\",DATA_INPUT!K91,\"\"))","v":{"$error":"#VALUE!"}},{"$f":"IF(DATA_INPUT!O91<>\"\",DATA_INPUT!O91,\"\")","v":""},{"$f":"IF(DATA_INPUT!P91<>\"\",DATA_INPUT!P91,\"\")","v":1},{"$f":"IF(DATA_INPUT!Q91<>\"\",DATA_INPUT!Q91,\"\")","v":24},{"$f":"IF(DATA_INPUT!R91<>\"\",DATA_INPUT!R91,\"\")","v":30},{"$f":"IF(DATA_INPUT!S91<>\"\",IF(DATA_INPUT!AZ91<>\"\",DATA_INPUT!AZ91,H89*I89*J89/144)*IF(G89<>\"\",3/2,1),\"\")","v":5},{"$f":"IF(DATA_INPUT!T91<>\"\",IF(DATA_INPUT!AZ91<>\"\",DATA_INPUT!AZ91,H89*I89*J89/144)*IF(G89<>\"\",3/2,1),\"\")","v":""},{"$f":"IF(DATA_INPUT!U91<>\"\",$H89,\"\")","v":""},{"$f":"IF(DATA_INPUT!V91<>\"\",$H89,\"\")","v":""},{"$f":"IF(DATA_INPUT!W91<>\"\",$H89,\"\")","v":""},{"$f":"IF(DATA_INPUT!X91<>\"\",$H89,\"\")","v":""},{"$f":"IF(DATA_INPUT!Y91<>\"\",$H89,\"\")","v":""},{"$f":"IF(DATA_INPUT!Z91<>\"\",DATA_INPUT!Z91,\"\")","v":""},{"$f":"IF(DATA_INPUT!AA91<>\"\",DATA_INPUT!AA91,\"\")","v":""},{"$f":"IF(DATA_INPUT!AB91<>\"\",DATA_INPUT!AB91,\"\")","v":""},{"$f":"IF(DATA_INPUT!AC91<>\"\",DATA_INPUT!AC91,\"\")","v":""},{"$f":"IF(DATA_INPUT!AD91<>\"\",DATA_INPUT!AD91,\"\")","v":1},{"$f":"IF(DATA_INPUT!AE91<>\"\",$V89,\"\")","v":""},{"$f":"IF(DATA_INPUT!AF91<>\"\",$V89*8,\"\")","v":""},{"$f":"IF(DATA_INPUT!AG91<>\"\",$V89*15,\"\")","v":15},{"$f":"IF(DATA_INPUT!AH91<>\"\",$V89*15,\"\")","v":""},{"$f":"IF(DATA_INPUT!AI91<>\"\",$V89,\"\")","v":1},{"$f":"IF(DATA_INPUT!AJ91<>\"\",$V89,\"\")","v":""},{"$f":"IF(DATA_INPUT!AK91<>\"\",$V89,\"\")","v":""},{"$f":"IF(DATA_INPUT!AL91<>\"\",$V89*7.6*DATA_INPUT!AL91,\"\")","v":""},{"$f":"IF(DATA_INPUT!AM91<>\"\",$V89*9*DATA_INPUT!AM91,\"\")","v":""},{"$f":"IF(DATA_INPUT!AN91<>\"\",$V89*10.8*DATA_INPUT!AN91,\"\")","v":""},{"$f":"IF(DATA_INPUT!AO91<>\"\",$V89*14.6*DATA_INPUT!AO91,\"\")","v":""},{"$f":"IF(DATA_INPUT!AP91<>\"\",$V89,\"\")","v":""},{"$f":"IF(DATA_INPUT!AQ91<>\"\",$V89,\"\")","v":""},{"$f":"IF(DATA_INPUT!AR91<>\"\",DATA_INPUT!AR91,\"\")","v":""},{"$f":"IF(DATA_INPUT!AS91<>\"\",DATA_INPUT!AS91,\"\")","v":""},{"$f":"IF(DATA_INPUT!AT91<>\"\",DATA_INPUT!AT91,\"\")","v":""},{"$f":"IF(DATA_INPUT!AU91<>\"\",DATA_INPUT!AU91,\"\")","v":""},{"$f":"IF(DATA_INPUT!AV91<>\"\",DATA_INPUT!AV91,\"\")","v":""},{"$f":"IF(DATA_INPUT!AW91<>\"\",DATA_INPUT!AW91,\"\")","v":"X"},{"$f":"IF(DATA_INPUT!AX91<>\"\",DATA_INPUT!AX91+Directions!$D$24-1,\"\")","v":""},{"$f":"IF(DATA_INPUT!AY91<>\"\",DATA_INPUT!AY91,\"\")","v":""},{"$f":"IF(DATA_INPUT!G91<>\"\",2,IF(DATA_INPUT!N91>2,2,IF(DATA_INPUT!N91=2,3,4)))","v":4},{"$f":"IF(OR(DATA_INPUT!S91<>\"\",DATA_INPUT!T91<>\"\"),H89,\"\")","v":1},{"$f":"IF(DATA_INPUT!T91<>\"\",\"X\",\"\")","v":""}]
[{"$f":"IF(DATA_INPUT!F92<>\"\",DATA_INPUT!F92,\"\")","v":""},{"$f":"IF(DATA_INPUT!G92<>\"\",DATA_INPUT!G92,\"\")","v":""},{"$f":"IF(DATA_INPUT!H92<>\"\",DATA_INPUT!H92,\"\")","v":"STA. 110 +0.00"},{"$f":"IF(DATA_INPUT!I92<>\"\",DATA_INPUT!I92,\"\")","v":"F"},{"$f":"IF(DATA_INPUT!J92<>\"\",DATA_INPUT!J92,\"\")","v":"M3-2P"},{"$f":"IF(DATA_INPUT!L92<>\"\",DATA_INPUT!L92,IF(DATA_INPUT!K92<>\"\",DATA_INPUT!K92,\"\"))","v":{"$error":"#VALUE!"}},{"$f":"IF(DATA_INPUT!O92<>\"\",DATA_INPUT!O92,\"\")","v":""},{"$f":"IF(DATA_INPUT!P92<>\"\",DATA_INPUT!P92,\"\")","v":1},{"$f":"IF(DATA_INPUT!Q92<>\"\",DATA_INPUT!Q92,\"\")","v":24},{"$f":"IF(DATA_INPUT!R92<>\"\",DATA_INPUT!R92,\"\")","v":12},{"$f":"IF(DATA_INPUT!S92<>\"\",IF(DATA_INPUT!AZ92<>\"\",DATA_INPUT!AZ92,H90*I90*J90/144)*IF(G90<>\"\",3/2,1),\"\")","v":2},{"$f":"IF(DATA_INPUT!T92<>\"\",IF(DATA_INPUT!AZ92<>\"\",DATA_INPUT!AZ92,H90*I90*J90/144)*IF(G90<>\"\",3/2,1),\"\")","v":""},{"$f":"IF(DATA_INPUT!U92<>\"\",$H90,\"\")","v":""},{"$f":"IF(DATA_INPUT!V92<>\"\",$H90,\"\")","v":""},{"$f":"IF(DATA_INPUT!W92<>\"\",$H90,\"\")","v":""},{"$f":"IF(DATA_INPUT!X92<>\"\",$H90,\"\")","v":""},{"$f":"IF(DATA_INPUT!Y92<>\"\",$H90,\"\")","v":""},{"$f":"IF(DATA_INPUT!Z92<>\"\",DATA_INPUT!Z92,\"\")","v":""},{"$f":"IF(DATA_INPUT!AA92<>\"\",DATA_INPUT!AA92,\"\")","v":""},{"$f":"IF(DATA_INPUT!AB92<>\"\",DATA_INPUT!AB92,\"\")","v":""},{"$f":"IF(DATA_INPUT!AC92<>\"\",DATA_INPUT!AC92,\"\")","v":""},{"$f":"IF(DATA_INPUT!AD92<>\"\",DATA_INPUT!AD92,\"\")","v":2},{"$f":"IF(DATA_INPUT!AE92<>\"\",$V90,\"\")","v":""},{"$f":"IF(DATA_INPUT!AF92<>\"\",$V90*8,\"\")","v":""},{"$f":"IF(DATA_INPUT!AG92<>\"\",$V90*15,\"\")","v":""},{"$f":"IF(DATA_INPUT!AH92<>\"\",$V90*15,\"\")","v":30},{"$f":"IF(DATA_INPUT!AI92<>\"\",$V90,\"\")","v":2},{"$f":"IF(DATA_INPUT!AJ92<>\"\",$V90,\"\")","v":""},{"$f":"IF(DATA_INPUT!AK92<>\"\",$V90,\"\")","v":""},{"$f":"IF(DATA_INPUT!AL92<>\"\",$V90*7.6*DATA_INPUT!AL92,\"\")","v":""},{"$f":"IF(DATA_INPUT!AM92<>\"\",$V90*9*DATA_INPUT!AM92,\"\")","v":""},{"$f":"IF(DATA_INPUT!AN92<>\"\",$V90*10.8*DATA_INPUT!AN92,\"\")","v":""},{"$f":"IF(DATA_INPUT!AO92<>\"\",$V90*14.6*DATA_INPUT!AO92,\"\")","v":""},{"$f":"IF(DATA_INPUT!AP92<>\"\",$V90,\"\")","v":""},{"$f":"IF(DATA_INPUT!AQ92<>\"\",$V90,\"\")","v":""},{"$f":"IF(DATA_INPUT!AR92<>\"\",DATA_INPUT!AR92,\"\")","v":""},{"$f":"IF(DATA_INPUT!AS92<>\"\",DATA_INPUT!AS92,\"\")","v":""},{"$f":"IF(DATA_INPUT!AT92<>\"\",DATA_INPUT!AT92,\"\")","v":"X"},{"$f":"IF(DATA_INPUT!AU92<>\"\",DATA_INPUT!AU92,\"\")","v":""},{"$f":"IF(DATA_INPUT!AV92<>\"\",DATA_INPUT!AV92,\"\")","v":"BLACK ON WHITE"},{"$f":"IF(DATA_INPUT!AW92<>\"\",DATA_INPUT!AW92,\"\")","v":"X"},{"$f":"IF(DATA_INPUT!AX92<>\"\",DATA_INPUT!AX92+Directions!$D$24-1,\"\")","v":""},{"$f":"IF(DATA_INPUT!AY92<>\"\",DATA_INPUT!AY92,\"\")","v":""},{"$f":"IF(DATA_INPUT!G92<>\"\",2,IF(DATA_INPUT!N92>2,2,IF(DATA_INPUT!N92=2,3,4)))","v":2},{"$f":"IF(OR(DATA_INPUT!S92<>\"\",DATA_INPUT!T92<>\"\"),H90,\"\")","v":1},{"$f":"IF(DATA_INPUT!T92<>\"\",\"X\",\"\")","v":""}]
[{"$f":"IF(DATA_INPUT!F93<>\"\",DATA_INPUT!F93,\"\")","v":""},{"$f":"IF(DATA_INPUT!G93<>\"\",DATA_INPUT!G93,\"\")","v":""},{"$f":"IF(DATA_INPUT!H93<>\"\",DATA_INPUT!H93,\"\")","v":""},{"$f":"IF(DATA_INPUT!I93<>\"\",DATA_INPUT!I93,\"\")","v":""},{"$f":"IF(DATA_INPUT!J93<>\"\",DATA_INPUT!J93,\"\")","v":"M3-3P"},{"$f":"IF(DATA_INPUT!L93<>\"\",DATA_INPUT!L93,IF(DATA_INPUT!K93<>\"\",DATA_INPUT!K93,\"\"))","v":"(multisign image continues)"},{"$f":"IF(DATA_INPUT!O93<>\"\",DATA_INPUT!O93,\"\")","v":""},{"$f":"IF(DATA_INPUT!P93<>\"\",DATA_INPUT!P93,\"\")","v":2},{"$f":"IF(DATA_INPUT!Q93<>\"\",DATA_INPUT!Q93,\"\")","v":24},{"$f":"IF(DATA_INPUT!R93<>\"\",DATA_INPUT!R93,\"\")","v":12},{"$f":"IF(DATA_INPUT!S93<>\"\",IF(DATA_INPUT!AZ93<>\"\",DATA_INPUT!AZ93,H91*I91*J91/144)*IF(G91<>\"\",3/2,1),\"\")","v":4},{"$f":"IF(DATA_INPUT!T93<>\"\",IF(DATA_INPUT!AZ93<>\"\",DATA_INPUT!AZ93,H91*I91*J91/144)*IF(G91<>\"\",3/2,1),\"\")","v":""},{"$f":"IF(DATA_INPUT!U93<>\"\",$H91,\"\")","v":""},{"$f":"IF(DATA_INPUT!V93<>\"\",$H91,\"\")","v":""},{"$f":"IF(DATA_INPUT!W93<>\"\",$H91,\"\")","v":""},{"$f":"IF(DATA_INPUT!X93<>\"\",$H91,\"\")","v":""},{"$f":"IF(DATA_INPUT!Y93<>\"\",$H91,\"\")","v":""},{"$f":"IF(DATA_INPUT!Z93<>\"\",DATA_INPUT!Z93,\"\")","v":""},{"$f":"IF(DATA_INPUT!AA93<>\"\",DATA_INPUT!AA93,\"\")","v":""},{"$f":"IF(DATA_INPUT!AB93<>\"\",DATA_INPUT!AB93,\"\")","v":""},{"$f":"IF(DATA_INPUT!AC93<>\"\",DATA_INPUT!AC93,\"\")","v":""},{"$f":"IF(DATA_INPUT!AD93<>\"\",DATA_INPUT!AD93,\"\")","v":""},{"$f":"IF(DATA_INPUT!AE93<>\"\",$V91,\"\")","v":""},{"$f":"IF(DATA_INPUT!AF93<>\"\",$V91*8,\"\")","v":""},{"$f":"IF(DATA_INPUT!AG93<>\"\",$V91*15,\"\")","v":""},{"$f":"IF(DATA_INPUT!AH93<>\"\",$V91*15,\"\")","v":""},{"$f":"IF(DATA_INPUT!AI93<>\"\",$V91,\"\")","v":""},{"$f":"IF(DATA_INPUT!AJ93<>\"\",$V91,\"\")","v":""},{"$f":"IF(DATA_INPUT!AK93<>\"\",$V91,\"\")","v":""},{"$f":"IF(DATA_INPUT!AL93<>\"\",$V91*7.6*DATA_INPUT!AL93,\"\")","v":""},{"$f":"IF(DATA_INPUT!AM93<>\"\",$V91*9*DATA_INPUT!AM93,\"\")","v":""},{"$f":"IF(DATA_INPUT!AN93<>\"\",$V91*10.8*DATA_INPUT!AN93,\"\")","v":""},{"$f":"IF(DATA_INPUT!AO93<>\"\",$V91*14.6*DATA_INPUT!AO93,\"\")","v":""},{"$f":"IF(DATA_INPUT!AP93<>\"\",$V91,\"\")","v":""},{"$f":"IF(DATA_INPUT!AQ93<>\"\",$V91,\"\")","v":""},{"$f":"IF(DATA_INPUT!AR93<>\"\",DATA_INPUT!AR93,\"\")","v":""},{"$f":"IF(DATA_INPUT!AS93<>\"\",DATA_INPUT!AS93,\"\")","v":""},{"$f":"IF(DATA_INPUT!AT93<>\"\",DATA_INPUT!AT93,\"\")","v":""},{"$f":"IF(DATA_INPUT!AU93<>\"\",DATA_INPUT!AU93,\"\")","v":""},{"$f":"IF(DATA_INPUT!AV93<>\"\",DATA_INPUT!AV93,\"\")","v":"BLACK ON WHITE"},{"$f":"IF(DATA_INPUT!AW93<>\"\",DATA_INPUT!AW93,\"\")","v":"X"},{"$f":"IF(DATA_INPUT!AX93<>\"\",DATA_INPUT!AX93+Directions!$D$24-1,\"\")","v":""},{"$f":"IF(DATA_INPUT!AY93<>\"\",DATA_INPUT!AY93,\"\")","v":""},{"$f":"IF(DATA_INPUT!G93<>\"\",2,IF(DATA_INPUT!N93>2,2,IF(DATA_INPUT!N93=2,3,4)))","v":2},{"$f":"IF(OR(DATA_INPUT!S93<>\"\",DATA_INPUT!T93<>\"\"),H91,\"\")","v":2},{"$f":"IF(DATA_INPUT!T93<>\"\",\"X\",\"\")","v":""}]
[{"$f":"IF(DATA_INPUT!F94<>\"\",DATA_INPUT!F94,\"\")","v":""},{"$f":"IF(DATA_INPUT!G94<>\"\",DATA_INPUT!G94,\"\")","v":""},{"$f":"IF(DATA_INPUT!H94<>\"\",DATA_INPUT!H94,\"\")","v":""},{"$f":"IF(DATA_INPUT!I94<>\"\",DATA_INPUT!I94,\"\")","v":""},{"$f":"IF(DATA_INPUT!J94<>\"\",DATA_INPUT!J94,\"\")","v":"M1-4"},{"$f":"IF(DATA_INPUT!L94<>\"\",DATA_INPUT!L94,IF(DATA_INPUT!K94<>\"\",DATA_INPUT!K94,\"\"))","v":"(multisign image continues)"},{"$f":"IF(DATA_INPUT!O94<>\"\",DATA_INPUT!O94,\"\")","v":""},{"$f":"IF(DATA_INPUT!P94<>\"\",DATA_INPUT!P94,\"\")","v":1},{"$f":"IF(DATA_INPUT!Q94<>\"\",DATA_INPUT!Q94,\"\")","v":24},{"$f":"IF(DATA_INPUT!R94<>\"\",DATA_INPUT!R94,\"\")","v":24},{"$f":"IF(DATA_INPUT!S94<>\"\",IF(DATA_INPUT!AZ94<>\"\",DATA_INPUT!AZ94,H92*I92*J92/144)*IF(G92<>\"\",3/2,1),\"\")","v":4},{"$f":"IF(DATA_INPUT!T94<>\"\",IF(DATA_INPUT!AZ94<>\"\",DATA_INPUT!AZ94,H92*I92*J92/144)*IF(G92<>\"\",3/2,1),\"\")","v":""},{"$f":"IF(DATA_INPUT!U94<>\"\",$H92,\"\")","v":""},{"$f":"IF(DATA_INPUT!V94<>\"\",$H92,\"\")","v":""},{"$f":"IF(DATA_INPUT!W94<>\"\",$H92,\"\")","v":""},{"$f":"IF(DATA_INPUT!X94<>\"\",$H92,\"\")","v":""},{"$f":"IF(DATA_INPUT!Y94<>\"\",$H92,\"\")","v":""},{"$f":"IF(DATA_INPUT!Z94<>\"\",DATA_INPUT!Z94,\"\")","v":""},{"$f":"IF(DATA_INPUT!AA94<>\"\",DATA_INPUT!AA94,\"\")","v":""},{"$f":"IF(DATA_INPUT!AB94<>\"\",DATA_INPUT!AB94,\"\")","v":""},{"$f":"IF(DATA_INPUT!AC94<>\"\",DATA_INPUT!AC94,\"\")","v":""},{"$f":"IF(DATA_INPUT!AD94<>\"\",DATA_INPUT!AD94,\"\")","v":""},{"$f":"IF(DATA_INPUT!AE94<>\"\",$V92,\"\")","v":""},{"$f":"IF(DATA_INPUT!AF94<>\"\",$V92*8,\"\")","v":""},{"$f":"IF(DATA_INPUT!AG94<>\"\",$V92*15,\"\")","v":""},{"$f":"IF(DATA_INPUT!AH94<>\"\",$V92*15,\"\")","v":""},{"$f":"IF(DATA_INPUT!AI94<>\"\",$V92,\"\")","v":""},{"$f":"IF(DATA_INPUT!AJ94<>\"\",$V92,\"\")","v":""},{"$f":"IF(DATA_INPUT!AK94<>\"\",$V92,\"\")","v":""},{"$f":"IF(DATA_INPUT!AL94<>\"\",$V92*7.6*DATA_INPUT!AL94,\"\")","v":""},{"$f":"IF(DATA_INPUT!AM94<>\"\",$V92*9*DATA_INPUT!AM94,\"\")","v":""},{"$f":"IF(DATA_INPUT!AN94<>\"\",$V92*10.8*DATA_INPUT!AN94,\"\")","v":""},{"$f":"IF(DATA_INPUT!AO94<>\"\",$V92*14.6*DATA_INPUT!AO94,\"\")","v":""},{"$f":"IF(DATA_INPUT!AP94<>\"\",$V92,\"\")","v":""},{"$f":"IF(DATA_INPUT!AQ94<>\"\",$V92,\"\")","v":""},{"$f":"IF(DATA_INPUT!AR94<>\"\",DATA_INPUT!AR94,\"\")","v":""},{"$f":"IF(DATA_INPUT!AS94<>\"\",DATA_INPUT!AS94,\"\")","v":""},{"$f":"IF(DATA_INPUT!AT94<>\"\",DATA_INPUT!AT94,\"\")","v":""},{"$f":"IF(DATA_INPUT!AU94<>\"\",DATA_INPUT!AU94,\"\")","v":""},{"$f":"IF(DATA_INPUT!AV94<>\"\",DATA_INPUT!AV94,\"\")","v":""},{"$f":"IF(DATA_INPUT!AW94<>\"\",DATA_INPUT!AW94,\"\")","v":"X"},{"$f":"IF(DATA_INPUT!AX94<>\"\",DATA_INPUT!AX94+Directions!$D$24-1,\"\")","v":""},{"$f":"IF(DATA_INPUT!AY94<>\"\",DATA_INPUT!AY94,\"\")","v":""},{"$f":"IF(DATA_INPUT!G94<>\"\",2,IF(DATA_INPUT!N94>2,2,IF(DATA_INPUT!N94=2,3,4)))","v":2},{"$f":"IF(OR(DATA_INPUT!S94<>\"\",DATA_INPUT!T94<>\"\"),H92,\"\")","v":1},{"$f":"IF(DATA_INPUT!T94<>\"\",\"X\",\"\")","v":""}]
[{"$f":"IF(DATA_INPUT!F95<>\"\",DATA_INPUT!F95,\"\")","v":""},{"$f":"IF(DATA_INPUT!G95<>\"\",DATA_INPUT!G95,\"\")","v":""},{"$f":"IF(DATA_INPUT!H95<>\"\",DATA_INPUT!H95,\"\")","v":""},{"$f":"IF(DATA_INPUT!I95<>\"\",DATA_INPUT!I95,\"\")","v":""},{"$f":"IF(DATA_INPUT!J95<>\"\",DATA_INPUT!J95,\"\")","v":"M1-4"},{"$f":"IF(DATA_INPUT!L95<>\"\",DATA_INPUT!L95,IF(DATA_INPUT!K95<>\"\",DATA_INPUT!K95,\"\"))","v":"(multisign image continues)"},{"$f":"IF(DATA_INPUT!O95<>\"\",DATA_INPUT!O95,\"\")","v":""},{"$f":"IF(DATA_INPUT!P95<>\"\",DATA_INPUT!P95,\"\")","v":1},{"$f":"IF(DATA_INPUT!Q95<>\"\",DATA_INPUT!Q95,\"\")","v":24},{"$f":"IF(DATA_INPUT!R95<>\"\",DATA_INPUT!R95,\"\")","v":24},{"$f":"IF(DATA_INPUT!S95<>\"\",IF(DATA_INPUT!AZ95<>\"\",DATA_INPUT!AZ95,H93*I93*J93/144)*IF(G93<>\"\",3/2,1),\"\")","v":4},{"$f":"IF(DATA_INPUT!T95<>\"\",IF(DATA_INPUT!AZ95<>\"\",DATA_INPUT!AZ95,H93*I93*J93/144)*IF(G93<>\"\",3/2,1),\"\")","v":""},{"$f":"IF(DATA_INPUT!U95<>\"\",$H93,\"\")","v":""},{"$f":"IF(DATA_INPUT!V95<>\"\",$H93,\"\")","v":""},{"$f":"IF(DATA_INPUT!W95<>\"\",$H93,\"\")","v":""},{"$f":"IF(DATA_INPUT!X95<>\"\",$H93,\"\")","v":""},{"$f":"IF(DATA_INPUT!Y95<>\"\",$H93,\"\")","v":""},{"$f":"IF(DATA_INPUT!Z95<>\"\",DATA_INPUT!Z95,\"\")","v":""},{"$f":"IF(DATA_INPUT!AA95<>\"\",DATA_INPUT!AA95,\"\")","v":""},{"$f":"IF(DATA_INPUT!AB95<>\"\",DATA_INPUT!AB95,\"\")","v":""},{"$f":"IF(DATA_INPUT!AC95<>\"\",DATA_INPUT!AC95,\"\")","v":""},{"$f":"IF(DATA_INPUT!AD95<>\"\",DATA_INPUT!AD95,\"\")","v":""},{"$f":"IF(DATA_INPUT!AE95<>\"\",$V93,\"\")","v":""},{"$f":"IF(DATA_INPUT!AF95<>\"\",$V93*8,\"\")","v":""},{"$f":"IF(DATA_INPUT!AG95<>\"\",$V93*15,\"\")","v":""},{"$f":"IF(DATA_INPUT!AH95<>\"\",$V93*15,\"\")","v":""},{"$f":"IF(DATA_INPUT!AI95<>\"\",$V93,\"\")","v":""},{"$f":"IF(DATA_INPUT!AJ95<>\"\",$V93,\"\")","v":""},{"$f":"IF(DATA_INPUT!AK95<>\"\",$V93,\"\")","v":""},{"$f":"IF(DATA_INPUT!AL95<>\"\",$V93*7.6*DATA_INPUT!AL95,\"\")","v":""},{"$f":"IF(DATA_INPUT!AM95<>\"\",$V93*9*DATA_INPUT!AM95,\"\")","v":""},{"$f":"IF(DATA_INPUT!AN95<>\"\",$V93*10.8*DATA_INPUT!AN95,\"\")","v":""},{"$f":"IF(DATA_INPUT!AO95<>\"\",$V93*14.6*DATA_INPUT!AO95,\"\")","v":""},{"$f":"IF(DATA_INPUT!AP95<>\"\",$V93,\"\")","v":""},{"$f":"IF(DATA_INPUT!AQ95<>\"\",$V93,\"\")","v":""},{"$f":"IF(DATA_INPUT!AR95<>\"\",DATA_INPUT!AR95,\"\")","v":""},{"$f":"IF(DATA_INPUT!AS95<>\"\",DATA_INPUT!AS95,\"\")","v":""},{"$f":"IF(DATA_INPUT!AT95<>\"\",DATA_INPUT!AT95,\"\")","v":""},{"$f":"IF(DATA_INPUT!AU95<>\"\",DATA_INPUT!AU95,\"\")","v":""},{"$f":"IF(DATA_INPUT!AV95<>\"\",DATA_INPUT!AV95,\"\")","v":""},{"$f":"IF(DATA_INPUT!AW95<>\"\",DATA_INPUT!AW95,\"\")","v":"X"},{"$f":"IF(DATA_INPUT!AX95<>\"\",DATA_INPUT!AX95+Directions!$D$24-1,\"\")","v":""},{"$f":"IF(DATA_INPUT!AY95<>\"\",DATA_INPUT!AY95,\"\")","v":""},{"$f":"IF(DATA_INPUT!G95<>\"\",2,IF(DATA_INPUT!N95>2,2,IF(DATA_INPUT!N95=2,3,4)))","v":2},{"$f":"IF(OR(DATA_INPUT!S95<>\"\",DATA_INPUT!T95<>\"\"),H93,\"\")","v":1},{"$f":"IF(DATA_INPUT!T95<>\"\",\"X\",\"\")","v":""}]
[{"$f":"IF(DATA_INPUT!F96<>\"\",DATA_INPUT!F96,\"\")","v":""},{"$f":"IF(DATA_INPUT!G96<>\"\",DATA_INPUT!G96,\"\")","v":""},{"$f":"IF(DATA_INPUT!H96<>\"\",DATA_INPUT!H96,\"\")","v":""},{"$f":"IF(DATA_INPUT!I96<>\"\",DATA_INPUT!I96,\"\")","v":""},{"$f":"IF(DATA_INPUT!J96<>\"\",DATA_INPUT!J96,\"\")","v":"M1-5"},{"$f":"IF(DATA_INPUT!L96<>\"\",DATA_INPUT!L96,IF(DATA_INPUT!K96<>\"\",DATA_INPUT!K96,\"\"))","v":"(multisign image continues)"},{"$f":"IF(DATA_INPUT!O96<>\"\",DATA_INPUT!O96,\"\")","v":""},{"$f":"IF(DATA_INPUT!P96<>\"\",DATA_INPUT!P96,\"\")","v":1},{"$f":"IF(DATA_INPUT!Q96<>\"\",DATA_INPUT!Q96,\"\")","v":30},{"$f":"IF(DATA_INPUT!R96<>\"\",DATA_INPUT!R96,\"\")","v":24},{"$f":"IF(DATA_INPUT!S96<>\"\",IF(DATA_INPUT!AZ96<>\"\",DATA_INPUT!AZ96,H94*I94*J94/144)*IF(G94<>\"\",3/2,1),\"\")","v":5},{"$f":"IF(DATA_INPUT!T96<>\"\",IF(DATA_INPUT!AZ96<>\"\",DATA_INPUT!AZ96,H94*I94*J94/144)*IF(G94<>\"\",3/2,1),\"\")","v":""},{"$f":"IF(DATA_INPUT!U96<>\"\",$H94,\"\")","v":""},{"$f":"IF(DATA_INPUT!V96<>\"\",$H94,\"\")","v":""},{"$f":"IF(DATA_INPUT!W96<>\"\",$H94,\"\")","v":""},{"$f":"IF(DATA_INPUT!X96<>\"\",$H94,\"\")","v":""},{"$f":"IF(DATA_INPUT!Y96<>\"\",$H94,\"\")","v":""},{"$f":"IF(DATA_INPUT!Z96<>\"\",DATA_INPUT!Z96,\"\")","v":""},{"$f":"IF(DATA_INPUT!AA96<>\"\",DATA_INPUT!AA96,\"\")","v":""},{"$f":"IF(DATA_INPUT!AB96<>\"\",DATA_INPUT!AB96,\"\")","v":""},{"$f":"IF(DATA_INPUT!AC96<>\"\",DATA_INPUT!AC96,\"\")","v":""},{"$f":"IF(DATA_INPUT!AD96<>\"\",DATA_INPUT!AD96,\"\")","v":""},{"$f":"IF(DATA_INPUT!AE96<>\"\",$V94,\"\")","v":""},{"$f":"IF(DATA_INPUT!AF96<>\"\",$V94*8,\"\")","v":""},{"$f":"IF(DATA_INPUT!AG96<>\"\",$V94*15,\"\")","v":""},{"$f":"IF(DATA_INPUT!AH96<>\"\",$V94*15,\"\")","v":""},{"$f":"IF(DATA_INPUT!AI96<>\"\",$V94,\"\")","v":""},{"$f":"IF(DATA_INPUT!AJ96<>\"\",$V94,\"\")","v":""},{"$f":"IF(DATA_INPUT!AK96<>\"\",$V94,\"\")","v":""},{"$f":"IF(DATA_INPUT!AL96<>\"\",$V94*7.6*DATA_INPUT!AL96,\"\")","v":""},{"$f":"IF(DATA_INPUT!AM96<>\"\",$V94*9*DATA_INPUT!AM96,\"\")","v":""},{"$f":"IF(DATA_INPUT!AN96<>\"\",$V94*10.8*DATA_INPUT!AN96,\"\")","v":""},{"$f":"IF(DATA_INPUT!AO96<>\"\",$V94*14.6*DATA_INPUT!AO96,\"\")","v":""},{"$f":"IF(DATA_INPUT!AP96<>\"\",$V94,\"\")","v":""},{"$f":"IF(DATA_INPUT!AQ96<>\"\",$V94,\"\")","v":""},{"$f":"IF(DATA_INPUT!AR96<>\"\",DATA_INPUT!AR96,\"\")","v":""},{"$f":"IF(DATA_INPUT!AS96<>\"\",DATA_INPUT!AS96,\"\")","v":""},{"$f":"IF(DATA_INPUT!AT96<>\"\",DATA_INPUT!AT96,\"\")","v":""},{"$f":"IF(DATA_INPUT!AU96<>\"\",DATA_INPUT!AU96,\"\")","v":""},{"$f":"IF(DATA_INPUT!AV96<>\"\",DATA_INPUT!AV96,\"\")","v":""},{"$f":"IF(DATA_INPUT!AW96<>\"\",DATA_INPUT!AW96,\"\")","v":"X"},{"$f":"IF(DATA_INPUT!AX96<>\"\",DATA_INPUT!AX96+Directions!$D$24-1,\"\")","v":""},{"$f":"IF(DATA_INPUT!AY96<>\"\",DATA_INPUT!AY96,\"\")","v":""},{"$f":"IF(DATA_INPUT!G96<>\"\",2,IF(DATA_INPUT!N96>2,2,IF(DATA_INPUT!N96=2,3,4)))","v":2},{"$f":"IF(OR(DATA_INPUT!S96<>\"\",DATA_INPUT!T96<>\"\"),H94,\"\")","v":1},{"$f":"IF(DATA_INPUT!T96<>\"\",\"X\",\"\")","v":""}]
[{"$f":"IF(DATA_INPUT!F97<>\"\",DATA_INPUT!F97,\"\")","v":""},{"$f":"IF(DATA_INPUT!G97<>\"\",DATA_INPUT!G97,\"\")","v":""},{"$f":"IF(DATA_INPUT!H97<>\"\",DATA_INPUT!H97,\"\")","v":""},{"$f":"IF(DATA_INPUT!I97<>\"\",DATA_INPUT!I97,\"\")","v":""},{"$f":"IF(DATA_INPUT!J97<>\"\",DATA_INPUT!J97,\"\")","v":"M6-3P"},{"$f":"IF(DATA_INPUT!L97<>\"\",DATA_INPUT!L97,IF(DATA_INPUT!K97<>\"\",DATA_INPUT!K97,\"\"))","v":"(multisign image continues)"},{"$f":"IF(DATA_INPUT!O97<>\"\",DATA_INPUT!O97,\"\")","v":""},{"$f":"IF(DATA_INPUT!P97<>\"\",DATA_INPUT!P97,\"\")","v":2},{"$f":"IF(DATA_INPUT!Q97<>\"\",DATA_INPUT!Q97,\"\")","v":21},{"$f":"IF(DATA_INPUT!R97<>\"\",DATA_INPUT!R97,\"\")","v":15},{"$f":"IF(DATA_INPUT!S97<>\"\",IF(DATA_INPUT!AZ97<>\"\",DATA_INPUT!AZ97,H95*I95*J95/144)*IF(G95<>\"\",3/2,1),\"\")","v":4.375},{"$f":"IF(DATA_INPUT!T97<>\"\",IF(DATA_INPUT!AZ97<>\"\",DATA_INPUT!AZ97,H95*I95*J95/144)*IF(G95<>\"\",3/2,1),\"\")","v":""},{"$f":"IF(DATA_INPUT!U97<>\"\",$H95,\"\")","v":""},{"$f":"IF(DATA_INPUT!V97<>\"\",$H95,\"\")","v":""},{"$f":"IF(DATA_INPUT!W97<>\"\",$H95,\"\")","v":""},{"$f":"IF(DATA_INPUT!X97<>\"\",$H95,\"\")","v":""},{"$f":"IF(DATA_INPUT!Y97<>\"\",$H95,\"\")","v":""},{"$f":"IF(DATA_INPUT!Z97<>\"\",DATA_INPUT!Z97,\"\")","v":""},{"$f":"IF(DATA_INPUT!AA97<>\"\",DATA_INPUT!AA97,\"\")","v":""},{"$f":"IF(DATA_INPUT!AB97<>\"\",DATA_INPUT!AB97,\"\")","v":""},{"$f":"IF(DATA_INPUT!AC97<>\"\",DATA_INPUT!AC97,\"\")","v":""},{"$f":"IF(DATA_INPUT!AD97<>\"\",DATA_INPUT!AD97,\"\")","v":""},{"$f":"IF(DATA_INPUT!AE97<>\"\",$V95,\"\")","v":""},{"$f":"IF(DATA_INPUT!AF97<>\"\",$V95*8,\"\")","v":""},{"$f":"IF(DATA_INPUT!AG97<>\"\",$V95*15,\"\")","v":""},{"$f":"IF(DATA_INPUT!AH97<>\"\",$V95*15,\"\")","v":""},{"$f":"IF(DATA_INPUT!AI97<>\"\",$V95,\"\")","v":""},{"$f":"IF(DATA_INPUT!AJ97<>\"\",$V95,\"\")","v":""},{"$f":"IF(DATA_INPUT!AK97<>\"\",$V95,\"\")","v":""},{"$f":"IF(DATA_INPUT!AL97<>\"\",$V95*7.6*DATA_INPUT!AL97,\"\")","v":""},{"$f":"IF(DATA_INPUT!AM97<>\"\",$V95*9*DATA_INPUT!AM97,\"\")","v":""},{"$f":"IF(DATA_INPUT!AN97<>\"\",$V95*10.8*DATA_INPUT!AN97,\"\")","v":""},{"$f":"IF(DATA_INPUT!AO97<>\"\",$V95*14.6*DATA_INPUT!AO97,\"\")","v":""},{"$f":"IF(DATA_INPUT!AP97<>\"\",$V95,\"\")","v":""},{"$f":"IF(DATA_INPUT!AQ97<>\"\",$V95,\"\")","v":""},{"$f":"IF(DATA_INPUT!AR97<>\"\",DATA_INPUT!AR97,\"\")","v":""},{"$f":"IF(DATA_INPUT!AS97<>\"\",DATA_INPUT!AS97,\"\")","v":""},{"$f":"IF(DATA_INPUT!AT97<>\"\",DATA_INPUT!AT97,\"\")","v":""},{"$f":"IF(DATA_INPUT!AU97<>\"\",DATA_INPUT!AU97,\"\")","v":""},{"$f":"IF(DATA_INPUT!AV97<>\"\",DATA_INPUT!AV97,\"\")","v":"BLACK ON WHITE"},{"$f":"IF(DATA_INPUT!AW97<>\"\",DATA_INPUT!AW97,\"\")","v":"X"},{"$f":"IF(DATA_INPUT!AX97<>\"\",DATA_INPUT!AX97+Directions!$D$24-1,\"\")","v":""},{"$f":"IF(DATA_INPUT!AY97<>\"\",DATA_INPUT!AY97,\"\")","v":""},{"$f":"IF(DATA_INPUT!G97<>\"\",2,IF(DATA_INPUT!N97>2,2,IF(DATA_INPUT!N97=2,3,4)))","v":2},{"$f":"IF(OR(DATA_INPUT!S97<>\"\",DATA_INPUT!T97<>\"\"),H95,\"\")","v":2},{"$f":"IF(DATA_INPUT!T97<>\"\",\"X\",\"\")","v":""}]
[{"$f":"IF(DATA_INPUT!F98<>\"\",DATA_INPUT!F98,\"\")","v":""},{"$f":"IF(DATA_INPUT!G98<>\"\",DATA_INPUT!G98,\"\")","v":""},{"$f":"IF(DATA_INPUT!H98<>\"\",DATA_INPUT!H98,\"\")","v":""},{"$f":"IF(DATA_INPUT!I98<>\"\",DATA_INPUT!I98,\"\")","v":""},{"$f":"IF(DATA_INPUT!J98<>\"\",DATA_INPUT!J98,\"\")","v":"M6-1PR"},{"$f":"IF(DATA_INPUT!L98<>\"\",DATA_INPUT!L98,IF(DATA_INPUT!K98<>\"\",DATA_INPUT!K98,\"\"))","v":"(multisign image continues)"},{"$f":"IF(DATA_INPUT!O98<>\"\",DATA_INPUT!O98,\"\")","v":""},{"$f":"IF(DATA_INPUT!P98<>\"\",DATA_INPUT!P98,\"\")","v":1},{"$f":"IF(DATA_INPUT!Q98<>\"\",DATA_INPUT!Q98,\"\")","v":21},{"$f":"IF(DATA_INPUT!R98<>\"\",DATA_INPUT!R98,\"\")","v":15},{"$f":"IF(DATA_INPUT!S98<>\"\",IF(DATA_INPUT!AZ98<>\"\",DATA_INPUT!AZ98,H96*I96*J96/144)*IF(G96<>\"\",3/2,1),\"\")","v":2.1875},{"$f":"IF(DATA_INPUT!T98<>\"\",IF(DATA_INPUT!AZ98<>\"\",DATA_INPUT!AZ98,H96*I96*J96/144)*IF(G96<>\"\",3/2,1),\"\")","v":""},{"$f":"IF(DATA_INPUT!U98<>\"\",$H96,\"\")","v":""},{"$f":"IF(DATA_INPUT!V98<>\"\",$H96,\"\")","v":""},{"$f":"IF(DATA_INPUT!W98<>\"\",$H96,\"\")","v":""},{"$f":"IF(DATA_INPUT!X98<>\"\",$H96,\"\")","v":""},{"$f":"IF(DATA_INPUT!Y98<>\"\",$H96,\"\")","v":""},{"$f":"IF(DATA_INPUT!Z98<>\"\",DATA_INPUT!Z98,\"\")","v":""},{"$f":"IF(DATA_INPUT!AA98<>\"\",DATA_INPUT!AA98,\"\")","v":""},{"$f":"IF(DATA_INPUT!AB98<>\"\",DATA_INPUT!AB98,\"\")","v":""},{"$f":"IF(DATA_INPUT!AC98<>\"\",DATA_INPUT!AC98,\"\")","v":""},{"$f":"IF(DATA_INPUT!AD98<>\"\",DATA_INPUT!AD98,\"\")","v":""},{"$f":"IF(DATA_INPUT!AE98<>\"\",$V96,\"\")","v":""},{"$f":"IF(DATA_INPUT!AF98<>\"\",$V96*8,\"\")","v":""},{"$f":"IF(DATA_INPUT!AG98<>\"\",$V96*15,\"\")","v":""},{"$f":"IF(DATA_INPUT!AH98<>\"\",$V96*15,\"\")","v":""},{"$f":"IF(DATA_INPUT!AI98<>\"\",$V96,\"\")","v":""},{"$f":"IF(DATA_INPUT!AJ98<>\"\",$V96,\"\")","v":""},{"$f":"IF(DATA_INPUT!AK98<>\"\",$V96,\"\")","v":""},{"$f":"IF(DATA_INPUT!AL98<>\"\",$V96*7.6*DATA_INPUT!AL98,\"\")","v":""},{"$f":"IF(DATA_INPUT!AM98<>\"\",$V96*9*DATA_INPUT!AM98,\"\")","v":""},{"$f":"IF(DATA_INPUT!AN98<>\"\",$V96*10.8*DATA_INPUT!AN98,\"\")","v":""},{"$f":"IF(DATA_INPUT!AO98<>\"\",$V96*14.6*DATA_INPUT!AO98,\"\")","v":""},{"$f":"IF(DATA_INPUT!AP98<>\"\",$V96,\"\")","v":""},{"$f":"IF(DATA_INPUT!AQ98<>\"\",$V96,\"\")","v":""},{"$f":"IF(DATA_INPUT!AR98<>\"\",DATA_INPUT!AR98,\"\")","v":""},{"$f":"IF(DATA_INPUT!AS98<>\"\",DATA_INPUT!AS98,\"\")","v":""},{"$f":"IF(DATA_INPUT!AT98<>\"\",DATA_INPUT!AT98,\"\")","v":""},{"$f":"IF(DATA_INPUT!AU98<>\"\",DATA_INPUT!AU98,\"\")","v":""},{"$f":"IF(DATA_INPUT!AV98<>\"\",DATA_INPUT!AV98,\"\")","v":"BLACK ON WHITE"},{"$f":"IF(DATA_INPUT!AW98<>\"\",DATA_INPUT!AW98,\"\")","v":"X"},{"$f":"IF(DATA_INPUT!AX98<>\"\",DATA_INPUT!AX98+Directions!$D$24-1,\"\")","v":""},{"$f":"IF(DATA_INPUT!AY98<>\"\",DATA_INPUT!AY98,\"\")","v":""},{"$f":"IF(DATA_INPUT!G98<>\"\",2,IF(DATA_INPUT!N98>2,2,IF(DATA_INPUT!N98=2,3,4)))","v":2},{"$f":"IF(OR(DATA_INPUT!S98<>\"\",DATA_INPUT!T98<>\"\"),H96,\"\")","v":1},{"$f":"IF(DATA_INPUT!T98<>\"\",\"X\",\"\")","v":""}]
[{"$f":"IF(DATA_INPUT!F99<>\"\",DATA_INPUT!F99,\"\")","v":""},{"$f":"IF(DATA_INPUT!G99<>\"\",DATA_INPUT!G99,\"\")","v":""},{"$f":"IF(DATA_INPUT!H99<>\"\",DATA_INPUT!H99,\"\")","v":"STA. 112 +24.00"},{"$f":"IF(DATA_INPUT!I99<>\"\",DATA_INPUT!I99,\"\")","v":"F"},{"$f":"IF(DATA_INPUT!J99<>\"\",DATA_INPUT!J99,\"\")","v":"W3-3"},{"$f":"IF(DATA_INPUT!L99<>\"\",DATA_INPUT!L99,IF(DATA_INPUT!K99<>\"\",DATA_INPUT!K99,\"\"))","v":{"$error":"#VALUE!"}},{"$f":"IF(DATA_INPUT!O99<>\"\",DATA_INPUT!O99,\"\")","v":""},{"$f":"IF(DATA_INPUT!P99<>\"\",DATA_INPUT!P99,\"\")","v":1},{"$f":"IF(DATA_INPUT!Q99<>\"\",DATA_INPUT!Q99,\"\")","v":30},{"$f":"IF(DATA_INPUT!R99<>\"\",DATA_INPUT!R99,\"\")","v":30},{"$f":"IF(DATA_INPUT!S99<>\"\",IF(DATA_INPUT!AZ99<>\"\",DATA_INPUT!AZ99,H97*I97*J97/144)*IF(G97<>\"\",3/2,1),\"\")","v":""},{"$f":"IF(DATA_INPUT!T99<>\"\",IF(DATA_INPUT!AZ99<>\"\",DATA_INPUT!AZ99,H97*I97*J97/144)*IF(G97<>\"\",3/2,1),\"\")","v":""},{"$f":"IF(DATA_INPUT!U99<>\"\",$H97,\"\")","v":""},{"$f":"IF(DATA_INPUT!V99<>\"\",$H97,\"\")","v":""},{"$f":"IF(DATA_INPUT!W99<>\"\",$H97,\"\")","v":""},{"$f":"IF(DATA_INPUT!X99<>\"\",$H97,\"\")","v":1},{"$f":"IF(DATA_INPUT!Y99<>\"\",$H97,\"\")","v":""},{"$f":"IF(DATA_INPUT!Z99<>\"\",DATA_INPUT!Z99,\"\")","v":""},{"$f":"IF(DATA_INPUT!AA99<>\"\",DATA_INPUT!AA99,\"\")","v":""},{"$f":"IF(DATA_INPUT!AB99<>\"\",DATA_INPUT!AB99,\"\")","v":""},{"$f":"IF(DATA_INPUT!AC99<>\"\",DATA_INPUT!AC99,\"\")","v":2},{"$f":"IF(DATA_INPUT!AD99<>\"\",DATA_INPUT!AD99,\"\")","v":""},{"$f":"IF(DATA_INPUT!AE99<>\"\",$V97,\"\")","v":""},{"$f":"IF(DATA_INPUT!AF99<>\"\",$V97*8,\"\")","v":""},{"$f":"IF(DATA_INPUT!AG99<>\"\",$V97*15,\"\")","v":""},{"$f":"IF(DATA_INPUT!AH99<>\"\",$V97*15,\"\")","v":""},{"$f":"IF(DATA_INPUT!AI99<>\"\",$V97,\"\")","v":""},{"$f":"IF(DATA_INPUT!AJ99<>\"\",$V97,\"\")","v":""},{"$f":"IF(DATA_INPUT!AK99<>\"\",$V97,\"\")","v":""},{"$f":"IF(DATA_INPUT!AL99<>\"\",$V97*7.6*DATA_INPUT!AL99,\"\")","v":""},{"$f":"IF(DATA_INPUT!AM99<>\"\",$V97*9*DATA_INPUT!AM99,\"\")","v":""},{"$f":"IF(DATA_INPUT!AN99<>\"\",$V97*10.8*DATA_INPUT!AN99,\"\")","v":""},{"$f":"IF(DATA_INPUT!AO99<>\"\",$V97*14.6*DATA_INPUT!AO99,\"\")","v":""},{"$f":"IF(DATA_INPUT!AP99<>\"\",$V97,\"\")","v":""},{"$f":"IF(DATA_INPUT!AQ99<>\"\",$V97,\"\")","v":""},{"$f":"IF(DATA_INPUT!AR99<>\"\",DATA_INPUT!AR99,\"\")","v":""},{"$f":"IF(DATA_INPUT!AS99<>\"\",DATA_INPUT!AS99,\"\")","v":""},{"$f":"IF(DATA_INPUT!AT99<>\"\",DATA_INPUT!AT99,\"\")","v":""},{"$f":"IF(DATA_INPUT!AU99<>\"\",DATA_INPUT!AU99,\"\")","v":""},{"$f":"IF(DATA_INPUT!AV99<>\"\",DATA_INPUT!AV99,\"\")","v":""},{"$f":"IF(DATA_INPUT!AW99<>\"\",DATA_INPUT!AW99,\"\")","v":""},{"$f":"IF(DATA_INPUT!AX99<>\"\",DATA_INPUT!AX99+Directions!$D$24-1,\"\")","v":""},{"$f":"IF(DATA_INPUT!AY99<>\"\",DATA_INPUT!AY99,\"\")","v":""},{"$f":"IF(DATA_INPUT!G99<>\"\",2,IF(DATA_INPUT!N99>2,2,IF(DATA_INPUT!N99=2,3,4)))","v":4},{"$f":"IF(OR(DATA_INPUT!S99<>\"\",DATA_INPUT!T99<>\"\"),H97,\"\")","v":""},{"$f":"IF(DATA_INPUT!T99<>\"\",\"X\",\"\")","v":""}]
[{"$f":"IF(DATA_INPUT!F100<>\"\",DATA_INPUT!F100,\"\")","v":""},{"$f":"IF(DATA_INPUT!G100<>\"\",DATA_INPUT!G100,\"\")","v":""},{"$f":"IF(DATA_INPUT!H100<>\"\",DATA_INPUT!H100,\"\")","v":"STA. 112 +24.00"},{"$f":"IF(DATA_INPUT!I100<>\"\",DATA_INPUT!I100,\"\")","v":"F"},{"$f":"IF(DATA_INPUT!J100<>\"\",DATA_INPUT!J100,\"\")","v":"W3-3"},{"$f":"IF(DATA_INPUT!L100<>\"\",DATA_INPUT!L100,IF(DATA_INPUT!K100<>\"\",DATA_INPUT!K100,\"\"))","v":{"$error":"#VALUE!"}},{"$f":"IF(DATA_INPUT!O100<>\"\",DATA_INPUT!O100,\"\")","v":""},{"$f":"IF(DATA_INPUT!P100<>\"\",DATA_INPUT!P100,\"\")","v":1},{"$f":"IF(DATA_INPUT!Q100<>\"\",DATA_INPUT!Q100,\"\")","v":30},{"$f":"IF(DATA_INPUT!R100<>\"\",DATA_INPUT!R100,\"\")","v":30},{"$f":"IF(DATA_INPUT!S100<>\"\",IF(DATA_INPUT!AZ100<>\"\",DATA_INPUT!AZ100,H98*I98*J98/144)*IF(G98<>\"\",3/2,1),\"\")","v":6.25},{"$f":"IF(DATA_INPUT!T100<>\"\",IF(DATA_INPUT!AZ100<>\"\",DATA_INPUT!AZ100,H98*I98*J98/144)*IF(G98<>\"\",3/2,1),\"\")","v":""},{"$f":"IF(DATA_INPUT!U100<>\"\",$H98,\"\")","v":""},{"$f":"IF(DATA_INPUT!V100<>\"\",$H98,\"\")","v":""},{"$f":"IF(DATA_INPUT!W100<>\"\",$H98,\"\")","v":""},{"$f":"IF(DATA_INPUT!X100<>\"\",$H98,\"\")","v":""},{"$f":"IF(DATA_INPUT!Y100<>\"\",$H98,\"\")","v":""},{"$f":"IF(DATA_INPUT!Z100<>\"\",DATA_INPUT!Z100,\"\")","v":""},{"$f":"IF(DATA_INPUT!AA100<>\"\",DATA_INPUT!AA100,\"\")","v":""},{"$f":"IF(DATA_INPUT!AB100<>\"\",DATA_INPUT!AB100,\"\")","v":""},{"$f":"IF(DATA_INPUT!AC100<>\"\",DATA_INPUT!AC100,\"\")","v":""},{"$f":"IF(DATA_INPUT!AD100<>\"\",DATA_INPUT!AD100,\"\")","v":1},{"$f":"IF(DATA_INPUT!AE100<>\"\",$V98,\"\")","v":""},{"$f":"IF(DATA_INPUT!AF100<>\"\",$V98*8,\"\")","v":""},{"$f":"IF(DATA_INPUT!AG100<>\"\",$V98*15,\"\")","v":15},{"$f":"IF(DATA_INPUT!AH100<>\"\",$V98*15,\"\")","v":""},{"$f":"IF(DATA_INPUT!AI100<>\"\",$V98,\"\")","v":1},{"$f":"IF(DATA_INPUT!AJ100<>\"\",$V98,\"\")","v":""},{"$f":"IF(DATA_INPUT!AK100<>\"\",$V98,\"\")","v":""},{"$f":"IF(DATA_INPUT!AL100<>\"\",$V98*7.6*DATA_INPUT!AL100,\"\")","v":""},{"$f":"IF(DATA_INPUT!AM100<>\"\",$V98*9*DATA_INPUT!AM100,\"\")","v":""},{"$f":"IF(DATA_INPUT!AN100<>\"\",$V98*10.8*DATA_INPUT!AN100,\"\")","v":""},{"$f":"IF(DATA_INPUT!AO100<>\"\",$V98*14.6*DATA_INPUT!AO100,\"\")","v":""},{"$f":"IF(DATA_INPUT!AP100<>\"\",$V98,\"\")","v":""},{"$f":"IF(DATA_INPUT!AQ100<>\"\",$V98,\"\")","v":""},{"$f":"IF(DATA_INPUT!AR100<>\"\",DATA_INPUT!AR100,\"\")","v":""},{"$f":"IF(DATA_INPUT!AS100<>\"\",DATA_INPUT!AS100,\"\")","v":""},{"$f":"IF(DATA_INPUT!AT100<>\"\",DATA_INPUT!AT100,\"\")","v":""},{"$f":"IF(DATA_INPUT!AU100<>\"\",DATA_INPUT!AU100,\"\")","v":""},{"$f":"IF(DATA_INPUT!AV100<>\"\",DATA_INPUT!AV100,\"\")","v":" YELLOW"},{"$f":"IF(DATA_INPUT!AW100<>\"\",DATA_INPUT!AW100,\"\")","v":"X"},{"$f":"IF(DATA_INPUT!AX100<>\"\",DATA_INPUT!AX100+Directions!$D$24-1,\"\")","v":""},{"$f":"IF(DATA_INPUT!AY100<>\"\",DATA_INPUT!AY100,\"\")","v":""},{"$f":"IF(DATA_INPUT!G100<>\"\",2,IF(DATA_INPUT!N100>2,2,IF(DATA_INPUT!N100=2,3,4)))","v":4},{"$f":"IF(OR(DATA_INPUT!S100<>\"\",DATA_INPUT!T100<>\"\"),H98,\"\")","v":1},{"$f":"IF(DATA_INPUT!T100<>\"\",\"X\",\"\")","v":""}]
[{"$f":"IF(DATA_INPUT!F101<>\"\",DATA_INPUT!F101,\"\")","v":""},{"$f":"IF(DATA_INPUT!G101<>\"\",DATA_INPUT!G101,\"\")","v":""},{"$f":"IF(DATA_INPUT!H101<>\"\",DATA_INPUT!H101,\"\")","v":"STA. 114 +06.00"},{"$f":"IF(DATA_INPUT!I101<>\"\",DATA_INPUT!I101,\"\")","v":"A"},{"$f":"IF(DATA_INPUT!J101<>\"\",DATA_INPUT!J101,\"\")","v":"W11-3"},{"$f":"IF(DATA_INPUT!L101<>\"\",DATA_INPUT!L101,IF(DATA_INPUT!K101<>\"\",DATA_INPUT!K101,\"\"))","v":{"$error":"#VALUE!"}},{"$f":"IF(DATA_INPUT!O101<>\"\",DATA_INPUT!O101,\"\")","v":""},{"$f":"IF(DATA_INPUT!P101<>\"\",DATA_INPUT!P101,\"\")","v":1},{"$f":"IF(DATA_INPUT!Q101<>\"\",DATA_INPUT!Q101,\"\")","v":30},{"$f":"IF(DATA_INPUT!R101<>\"\",DATA_INPUT!R101,\"\")","v":30},{"$f":"IF(DATA_INPUT!S101<>\"\",IF(DATA_INPUT!AZ101<>\"\",DATA_INPUT!AZ101,H99*I99*J99/144)*IF(G99<>\"\",3/2,1),\"\")","v":""},{"$f":"IF(DATA_INPUT!T101<>\"\",IF(DATA_INPUT!AZ101<>\"\",DATA_INPUT!AZ101,H99*I99*J99/144)*IF(G99<>\"\",3/2,1),\"\")","v":""},{"$f":"IF(DATA_INPUT!U101<>\"\",$H99,\"\")","v":""},{"$f":"IF(DATA_INPUT!V101<>\"\",$H99,\"\")","v":""},{"$f":"IF(DATA_INPUT!W101<>\"\",$H99,\"\")","v":""},{"$f":"IF(DATA_INPUT!X101<>\"\",$H99,\"\")","v":1},{"$f":"IF(DATA_INPUT!Y101<>\"\",$H99,\"\")","v":""},{"$f":"IF(DATA_INPUT!Z101<>\"\",DATA_INPUT!Z101,\"\")","v":""},{"$f":"IF(DATA_INPUT!AA101<>\"\",DATA_INPUT!AA101,\"\")","v":""},{"$f":"IF(DATA_INPUT!AB101<>\"\",DATA_INPUT!AB101,\"\")","v":""},{"$f":"IF(DATA_INPUT!AC101<>\"\",DATA_INPUT!AC101,\"\")","v":1},{"$f":"IF(DATA_INPUT!AD101<>\"\",DATA_INPUT!AD101,\"\")","v":""},{"$f":"IF(DATA_INPUT!AE101<>\"\",$V99,\"\")","v":""},{"$f":"IF(DATA_INPUT!AF101<>\"\",$V99*8,\"\")","v":""},{"$f":"IF(DATA_INPUT!AG101<>\"\",$V99*15,\"\")","v":""},{"$f":"IF(DATA_INPUT!AH101<>\"\",$V99*15,\"\")","v":""},{"$f":"IF(DATA_INPUT!AI101<>\"\",$V99,\"\")","v":""},{"$f":"IF(DATA_INPUT!AJ101<>\"\",$V99,\"\")","v":""},{"$f":"IF(DATA_INPUT!AK101<>\"\",$V99,\"\")","v":""},{"$f":"IF(DATA_INPUT!AL101<>\"\",$V99*7.6*DATA_INPUT!AL101,\"\")","v":""},{"$f":"IF(DATA_INPUT!AM101<>\"\",$V99*9*DATA_INPUT!AM101,\"\")","v":""},{"$f":"IF(DATA_INPUT!AN101<>\"\",$V99*10.8*DATA_INPUT!AN101,\"\")","v":""},{"$f":"IF(DATA_INPUT!AO101<>\"\",$V99*14.6*DATA_INPUT!AO101,\"\")","v":""},{"$f":"IF(DATA_INPUT!AP101<>\"\",$V99,\"\")","v":""},{"$f":"IF(DATA_INPUT!AQ101<>\"\",$V99,\"\")","v":""},{"$f":"IF(DATA_INPUT!AR101<>\"\",DATA_INPUT!AR101,\"\")","v":""},{"$f":"IF(DATA_INPUT!AS101<>\"\",DATA_INPUT!AS101,\"\")","v":""},{"$f":"IF(DATA_INPUT!AT101<>\"\",DATA_INPUT!AT101,\"\")","v":""},{"$f":"IF(DATA_INPUT!AU101<>\"\",DATA_INPUT!AU101,\"\")","v":""},{"$f":"IF(DATA_INPUT!AV101<>\"\",DATA_INPUT!AV101,\"\")","v":""},{"$f":"IF(DATA_INPUT!AW101<>\"\",DATA_INPUT!AW101,\"\")","v":""},{"$f":"IF(DATA_INPUT!AX101<>\"\",DATA_INPUT!AX101+Directions!$D$24-1,\"\")","v":""},{"$f":"IF(DATA_INPUT!AY101<>\"\",DATA_INPUT!AY101,\"\")","v":""},{"$f":"IF(DATA_INPUT!G101<>\"\",2,IF(DATA_INPUT!N101>2,2,IF(DATA_INPUT!N101=2,3,4)))","v":3},{"$f":"IF(OR(DATA_INPUT!S101<>\"\",DATA_INPUT!T101<>\"\"),H99,\"\")","v":""},{"$f":"IF(DATA_INPUT!T101<>\"\",\"X\",\"\")","v":""}]
[{"$f":"IF(DATA_INPUT!F102<>\"\",DATA_INPUT!F102,\"\")","v":""},{"$f":"IF(DATA_INPUT!G102<>\"\",DATA_INPUT!G102,\"\")","v":""},{"$f":"IF(DATA_INPUT!H102<>\"\",DATA_INPUT!H102,\"\")","v":""},{"$f":"IF(DATA_INPUT!I102<>\"\",DATA_INPUT!I102,\"\")","v":"A"},{"$f":"IF(DATA_INPUT!J102<>\"\",DATA_INPUT!J102,\"\")","v":"W7-3AP"},{"$f":"IF(DATA_INPUT!L102<>\"\",DATA_INPUT!L102,IF(DATA_INPUT!K102<>\"\",DATA_INPUT!K102,\"\"))","v":"(multisign image continues)"},{"$f":"IF(DATA_INPUT!O102<>\"\",DATA_INPUT!O102,\"\")","v":""},{"$f":"IF(DATA_INPUT!P102<>\"\",DATA_INPUT!P102,\"\")","v":1},{"$f":"IF(DATA_INPUT!Q102<>\"\",DATA_INPUT!Q102,\"\")","v":24},{"$f":"IF(DATA_INPUT!R102<>\"\",DATA_INPUT!R102,\"\")","v":18},{"$f":"IF(DATA_INPUT!S102<>\"\",IF(DATA_INPUT!AZ102<>\"\",DATA_INPUT!AZ102,H100*I100*J100/144)*IF(G100<>\"\",3/2,1),\"\")","v":""},{"$f":"IF(DATA_INPUT!T102<>\"\",IF(DATA_INPUT!AZ102<>\"\",DATA_INPUT!AZ102,H100*I100*J100/144)*IF(G100<>\"\",3/2,1),\"\")","v":""},{"$f":"IF(DATA_INPUT!U102<>\"\",$H100,\"\")","v":""},{"$f":"IF(DATA_INPUT!V102<>\"\",$H100,\"\")","v":""},{"$f":"IF(DATA_INPUT!W102<>\"\",$H100,\"\")","v":""},{"$f":"IF(DATA_INPUT!X102<>\"\",$H100,\"\")","v":1},{"$f":"IF(DATA_INPUT!Y102<>\"\",$H100,\"\")","v":""},{"$f":"IF(DATA_INPUT!Z102<>\"\",DATA_INPUT!Z102,\"\")","v":""},{"$f":"IF(DATA_INPUT!AA102<>\"\",DATA_INPUT!AA102,\"\")","v":""},{"$f":"IF(DATA_INPUT!AB102<>\"\",DATA_INPUT!AB102,\"\")","v":""},{"$f":"IF(DATA_INPUT!AC102<>\"\",DATA_INPUT!AC102,\"\")","v":""},{"$f":"IF(DATA_INPUT!AD102<>\"\",DATA_INPUT!AD102,\"\")","v":""},{"$f":"IF(DATA_INPUT!AE102<>\"\",$V100,\"\")","v":""},{"$f":"IF(DATA_INPUT!AF102<>\"\",$V100*8,\"\")","v":""},{"$f":"IF(DATA_INPUT!AG102<>\"\",$V100*15,\"\")","v":""},{"$f":"IF(DATA_INPUT!AH102<>\"\",$V100*15,\"\")","v":""},{"$f":"IF(DATA_INPUT!AI102<>\"\",$V100,\"\")","v":""},{"$f":"IF(DATA_INPUT!AJ102<>\"\",$V100,\"\")","v":""},{"$f":"IF(DATA_INPUT!AK102<>\"\",$V100,\"\")","v":""},{"$f":"IF(DATA_INPUT!AL102<>\"\",$V100*7.6*DATA_INPUT!AL102,\"\")","v":""},{"$f":"IF(DATA_INPUT!AM102<>\"\",$V100*9*DATA_INPUT!AM102,\"\")","v":""},{"$f":"IF(DATA_INPUT!AN102<>\"\",$V100*10.8*DATA_INPUT!AN102,\"\")","v":""},{"$f":"IF(DATA_INPUT!AO102<>\"\",$V100*14.6*DATA_INPUT!AO102,\"\")","v":""},{"$f":"IF(DATA_INPUT!AP102<>\"\",$V100,\"\")","v":""},{"$f":"IF(DATA_INPUT!AQ102<>\"\",$V100,\"\")","v":""},{"$f":"IF(DATA_INPUT!AR102<>\"\",DATA_INPUT!AR102,\"\")","v":""},{"$f":"IF(DATA_INPUT!AS102<>\"\",DATA_INPUT!AS102,\"\")","v":""},{"$f":"IF(DATA_INPUT!AT102<>\"\",DATA_INPUT!AT102,\"\")","v":""},{"$f":"IF(DATA_INPUT!AU102<>\"\",DATA_INPUT!AU102,\"\")","v":""},{"$f":"IF(DATA_INPUT!AV102<>\"\",DATA_INPUT!AV102,\"\")","v":""},{"$f":"IF(DATA_INPUT!AW102<>\"\",DATA_INPUT!AW102,\"\")","v":""},{"$f":"IF(DATA_INPUT!AX102<>\"\",DATA_INPUT!AX102+Directions!$D$24-1,\"\")","v":""},{"$f":"IF(DATA_INPUT!AY102<>\"\",DATA_INPUT!AY102,\"\")","v":""},{"$f":"IF(DATA_INPUT!G102<>\"\",2,IF(DATA_INPUT!N102>2,2,IF(DATA_INPUT!N102=2,3,4)))","v":3},{"$f":"IF(OR(DATA_INPUT!S102<>\"\",DATA_INPUT!T102<>\"\"),H100,\"\")","v":""},{"$f":"IF(DATA_INPUT!T102<>\"\",\"X\",\"\")","v":""}]
[{"$f":"IF(DATA_INPUT!F103<>\"\",DATA_INPUT!F103,\"\")","v":""},{"$f":"IF(DATA_INPUT!G103<>\"\",DATA_INPUT!G103,\"\")","v":""},{"$f":"IF(DATA_INPUT!H103<>\"\",DATA_INPUT!H103,\"\")","v":"STA. 114 +06.00"},{"$f":"IF(DATA_INPUT!I103<>\"\",DATA_INPUT!I103,\"\")","v":"A"},{"$f":"IF(DATA_INPUT!J103<>\"\",DATA_INPUT!J103,\"\")","v":"W11-3"},{"$f":"IF(DATA_INPUT!L103<>\"\",DATA_INPUT!L103,IF(DATA_INPUT!K103<>\"\",DATA_INPUT!K103,\"\"))","v":{"$error":"#VALUE!"}},{"$f":"IF(DATA_INPUT!O103<>\"\",DATA_INPUT!O103,\"\")","v":""},{"$f":"IF(DATA_INPUT!P103<>\"\",DATA_INPUT!P103,\"\")","v":1},{"$f":"IF(DATA_INPUT!Q103<>\"\",DATA_INPUT!Q103,\"\")","v":30},{"$f":"IF(DATA_INPUT!R103<>\"\",DATA_INPUT!R103,\"\")","v":30},{"$f":"IF(DATA_INPUT!S103<>\"\",IF(DATA_INPUT!AZ103<>\"\",DATA_INPUT!AZ103,H101*I101*J101/144)*IF(G101<>\"\",3/2,1),\"\")","v":6.25},{"$f":"IF(DATA_INPUT!T103<>\"\",IF(DATA_INPUT!AZ103<>\"\",DATA_INPUT!AZ103,H101*I101*J101/144)*IF(G101<>\"\",3/2,1),\"\")","v":""},{"$f":"IF(DATA_INPUT!U103<>\"\",$H101,\"\")","v":""},{"$f":"IF(DATA_INPUT!V103<>\"\",$H101,\"\")","v":""},{"$f":"IF(DATA_INPUT!W103<>\"\",$H101,\"\")","v":""},{"$f":"IF(DATA_INPUT!X103<>\"\",$H101,\"\")","v":""},{"$f":"IF(DATA_INPUT!Y103<>\"\",$H101,\"\")","v":""},{"$f":"IF(DATA_INPUT!Z103<>\"\",DATA_INPUT!Z103,\"\")","v":""},{"$f":"IF(DATA_INPUT!AA103<>\"\",DATA_INPUT!AA103,\"\")","v":""},{"$f":"IF(DATA_INPUT!AB103<>\"\",DATA_INPUT!AB103,\"\")","v":""},{"$f":"IF(DATA_INPUT!AC103<>\"\",DATA_INPUT!AC103,\"\")","v":""},{"$f":"IF(DATA_INPUT!AD103<>\"\",DATA_INPUT!AD103,\"\")","v":1},{"$f":"IF(DATA_INPUT!AE103<>\"\",$V101,\"\")","v":""},{"$f":"IF(DATA_INPUT!AF103<>\"\",$V101*8,\"\")","v":""},{"$f":"IF(DATA_INPUT!AG103<>\"\",$V101*15,\"\")","v":15},{"$f":"IF(DATA_INPUT!AH103<>\"\",$V101*15,\"\")","v":""},{"$f":"IF(DATA_INPUT!AI103<>\"\",$V101,\"\")","v":1},{"$f":"IF(DATA_INPUT!AJ103<>\"\",$V101,\"\")","v":""},{"$f":"IF(DATA_INPUT!AK103<>\"\",$V101,\"\")","v":""},{"$f":"IF(DATA_INPUT!AL103<>\"\",$V101*7.6*DATA_INPUT!AL103,\"\")","v":""},{"$f":"IF(DATA_INPUT!AM103<>\"\",$V101*9*DATA_INPUT!AM103,\"\")","v":""},{"$f":"IF(DATA_INPUT!AN103<>\"\",$V101*10.8*DATA_INPUT!AN103,\"\")","v":""},{"$f":"IF(DATA_INPUT!AO103<>\"\",$V101*14.6*DATA_INPUT!AO103,\"\")","v":""},{"$f":"IF(DATA_INPUT!AP103<>\"\",$V101,\"\")","v":""},{"$f":"IF(DATA_INPUT!AQ103<>\"\",$V101,\"\")","v":""},{"$f":"IF(DATA_INPUT!AR103<>\"\",DATA_INPUT!AR103,\"\")","v":""},{"$f":"IF(DATA_INPUT!AS103<>\"\",DATA_INPUT!AS103,\"\")","v":""},{"$f":"IF(DATA_INPUT!AT103<>\"\",DATA_INPUT!AT103,\"\")","v":""},{"$f":"IF(DATA_INPUT!AU103<>\"\",DATA_INPUT!AU103,\"\")","v":""},{"$f":"IF(DATA_INPUT!AV103<>\"\",DATA_INPUT!AV103,\"\")","v":""},{"$f":"IF(DATA_INPUT!AW103<>\"\",DATA_INPUT!AW103,\"\")","v":"X"},{"$f":"IF(DATA_INPUT!AX103<>\"\",DATA_INPUT!AX103+Directions!$D$24-1,\"\")","v":""},{"$f":"IF(DATA_INPUT!AY103<>\"\",DATA_INPUT!AY103,\"\")","v":""},{"$f":"IF(DATA_INPUT!G103<>\"\",2,IF(DATA_INPUT!N103>2,2,IF(DATA_INPUT!N103=2,3,4)))","v":3},{"$f":"IF(OR(DATA_INPUT!S103<>\"\",DATA_INPUT!T103<>\"\"),H101,\"\")","v":1},{"$f":"IF(DATA_INPUT!T103<>\"\",\"X\",\"\")","v":""}]
[{"$f":"IF(DATA_INPUT!F104<>\"\",DATA_INPUT!F104,\"\")","v":""},{"$f":"IF(DATA_INPUT!G104<>\"\",DATA_INPUT!G104,\"\")","v":""},{"$f":"IF(DATA_INPUT!H104<>\"\",DATA_INPUT!H104,\"\")","v":""},{"$f":"IF(DATA_INPUT!I104<>\"\",DATA_INPUT!I104,\"\")","v":"A"},{"$f":"IF(DATA_INPUT!J104<>\"\",DATA_INPUT!J104,\"\")","v":"W7-3AP"},{"$f":"IF(DATA_INPUT!L104<>\"\",DATA_INPUT!L104,IF(DATA_INPUT!K104<>\"\",DATA_INPUT!K104,\"\"))","v":"(multisign image continues)"},{"$f":"IF(DATA_INPUT!O104<>\"\",DATA_INPUT!O104,\"\")","v":""},{"$f":"IF(DATA_INPUT!P104<>\"\",DATA_INPUT!P104,\"\")","v":1},{"$f":"IF(DATA_INPUT!Q104<>\"\",DATA_INPUT!Q104,\"\")","v":24},{"$f":"IF(DATA_INPUT!R104<>\"\",DATA_INPUT!R104,\"\")","v":18},{"$f":"IF(DATA_INPUT!S104<>\"\",IF(DATA_INPUT!AZ104<>\"\",DATA_INPUT!AZ104,H102*I102*J102/144)*IF(G102<>\"\",3/2,1),\"\")","v":3},{"$f":"IF(DATA_INPUT!T104<>\"\",IF(DATA_INPUT!AZ104<>\"\",DATA_INPUT!AZ104,H102*I102*J102/144)*IF(G102<>\"\",3/2,1),\"\")","v":""},{"$f":"IF(DATA_INPUT!U104<>\"\",$H102,\"\")","v":""},{"$f":"IF(DATA_INPUT!V104<>\"\",$H102,\"\")","v":""},{"$f":"IF(DATA_INPUT!W104<>\"\",$H102,\"\")","v":""},{"$f":"IF(DATA_INPUT!X104<>\"\",$H102,\"\")","v":""},{"$f":"IF(DATA_INPUT!Y104<>\"\",$H102,\"\")","v":""},{"$f":"IF(DATA_INPUT!Z104<>\"\",DATA_INPUT!Z104,\"\")","v":""},{"$f":"IF(DATA_INPUT!AA104<>\"\",DATA_INPUT!AA104,\"\")","v":""},{"$f":"IF(DATA_INPUT!AB104<>\"\",DATA_INPUT!AB104,\"\")","v":""},{"$f":"IF(DATA_INPUT!AC104<>\"\",DATA_INPUT!AC104,\"\")","v":""},{"$f":"IF(DATA_INPUT!AD104<>\"\",DATA_INPUT!AD104,\"\")","v":""},{"$f":"IF(DATA_INPUT!AE104<>\"\",$V102,\"\")","v":""},{"$f":"IF(DATA_INPUT!AF104<>\"\",$V102*8,\"\")","v":""},{"$f":"IF(DATA_INPUT!AG104<>\"\",$V102*15,\"\")","v":""},{"$f":"IF(DATA_INPUT!AH104<>\"\",$V102*15,\"\")","v":""},{"$f":"IF(DATA_INPUT!AI104<>\"\",$V102,\"\")","v":""},{"$f":"IF(DATA_INPUT!AJ104<>\"\",$V102,\"\")","v":""},{"$f":"IF(DATA_INPUT!AK104<>\"\",$V102,\"\")","v":""},{"$f":"IF(DATA_INPUT!AL104<>\"\",$V102*7.6*DATA_INPUT!AL104,\"\")","v":""},{"$f":"IF(DATA_INPUT!AM104<>\"\",$V102*9*DATA_INPUT!AM104,\"\")","v":""},{"$f":"IF(DATA_INPUT!AN104<>\"\",$V102*10.8*DATA_INPUT!AN104,\"\")","v":""},{"$f":"IF(DATA_INPUT!AO104<>\"\",$V102*14.6*DATA_INPUT!AO104,\"\")","v":""},{"$f":"IF(DATA_INPUT!AP104<>\"\",$V102,\"\")","v":""},{"$f":"IF(DATA_INPUT!AQ104<>\"\",$V102,\"\")","v":""},{"$f":"IF(DATA_INPUT!AR104<>\"\",DATA_INPUT!AR104,\"\")","v":""},{"$f":"IF(DATA_INPUT!AS104<>\"\",DATA_INPUT!AS104,\"\")","v":""},{"$f":"IF(DATA_INPUT!AT104<>\"\",DATA_INPUT!AT104,\"\")","v":""},{"$f":"IF(DATA_INPUT!AU104<>\"\",DATA_INPUT!AU104,\"\")","v":""},{"$f":"IF(DATA_INPUT!AV104<>\"\",DATA_INPUT!AV104,\"\")","v":""},{"$f":"IF(DATA_INPUT!AW104<>\"\",DATA_INPUT!AW104,\"\")","v":"X"},{"$f":"IF(DATA_INPUT!AX104<>\"\",DATA_INPUT!AX104+Directions!$D$24-1,\"\")","v":""},{"$f":"IF(DATA_INPUT!AY104<>\"\",DATA_INPUT!AY104,\"\")","v":""},{"$f":"IF(DATA_INPUT!G104<>\"\",2,IF(DATA_INPUT!N104>2,2,IF(DATA_INPUT!N104=2,3,4)))","v":3},{"$f":"IF(OR(DATA_INPUT!S104<>\"\",DATA_INPUT!T104<>\"\"),H102,\"\")","v":1},{"$f":"IF(DATA_INPUT!T104<>\"\",\"X\",\"\")","v":""}]
[{"$f":"IF(DATA_INPUT!F105<>\"\",DATA_INPUT!F105,\"\")","v":""},{"$f":"IF(DATA_INPUT!G105<>\"\",DATA_INPUT!G105,\"\")","v":""},{"$f":"IF(DATA_INPUT!H105<>\"\",DATA_INPUT!H105,\"\")","v":"STA. 115 +90.00"},{"$f":"IF(DATA_INPUT!I105<>\"\",DATA_INPUT!I105,\"\")","v":"F"},{"$f":"IF(DATA_INPUT!J105<>\"\",DATA_INPUT!J105,\"\")","v":"M2-1P"},{"$f":"IF(DATA_INPUT!L105<>\"\",DATA_INPUT!L105,IF(DATA_INPUT!K105<>\"\",DATA_INPUT!K105,\"\"))","v":{"$error":"#VALUE!"}},{"$f":"IF(DATA_INPUT!O105<>\"\",DATA_INPUT!O105,\"\")","v":""},{"$f":"IF(DATA_INPUT!P105<>\"\",DATA_INPUT!P105,\"\")","v":1},{"$f":"IF(DATA_INPUT!Q105<>\"\",DATA_INPUT!Q105,\"\")","v":21},{"$f":"IF(DATA_INPUT!R105<>\"\",DATA_INPUT!R105,\"\")","v":15},{"$f":"IF(DATA_INPUT!S105<>\"\",IF(DATA_INPUT!AZ105<>\"\",DATA_INPUT!AZ105,H103*I103*J103/144)*IF(G103<>\"\",3/2,1),\"\")","v":""},{"$f":"IF(DATA_INPUT!T105<>\"\",IF(DATA_INPUT!AZ105<>\"\",DATA_INPUT!AZ105,H103*I103*J103/144)*IF(G103<>\"\",3/2,1),\"\")","v":""},{"$f":"IF(DATA_INPUT!U105<>\"\",$H103,\"\")","v":""},{"$f":"IF(DATA_INPUT!V105<>\"\",$H103,\"\")","v":""},{"$f":"IF(DATA_INPUT!W105<>\"\",$H103,\"\")","v":""},{"$f":"IF(DATA_INPUT!X105<>\"\",$H103,\"\")","v":1},{"$f":"IF(DATA_INPUT!Y105<>\"\",$H103,\"\")","v":""},{"$f":"IF(DATA_INPUT!Z105<>\"\",DATA_INPUT!Z105,\"\")","v":""},{"$f":"IF(DATA_INPUT!AA105<>\"\",DATA_INPUT!AA105,\"\")","v":""},{"$f":"IF(DATA_INPUT!AB105<>\"\",DATA_INPUT!AB105,\"\")","v":""},{"$f":"IF(DATA_INPUT!AC105<>\"\",DATA_INPUT!AC105,\"\")","v":1},{"$f":"IF(DATA_INPUT!AD105<>\"\",DATA_INPUT!AD105,\"\")","v":""},{"$f":"IF(DATA_INPUT!AE105<>\"\",$V103,\"\")","v":""},{"$f":"IF(DATA_INPUT!AF105<>\"\",$V103*8,\"\")","v":""},{"$f":"IF(DATA_INPUT!AG105<>\"\",$V103*15,\"\")","v":""},{"$f":"IF(DATA_INPUT!AH105<>\"\",$V103*15,\"\")","v":""},{"$f":"IF(DATA_INPUT!AI105<>\"\",$V103,\"\")","v":""},{"$f":"IF(DATA_INPUT!AJ105<>\"\",$V103,\"\")","v":""},{"$f":"IF(DATA_INPUT!AK105<>\"\",$V103,\"\")","v":""},{"$f":"IF(DATA_INPUT!AL105<>\"\",$V103*7.6*DATA_INPUT!AL105,\"\")","v":""},{"$f":"IF(DATA_INPUT!AM105<>\"\",$V103*9*DATA_INPUT!AM105,\"\")","v":""},{"$f":"IF(DATA_INPUT!AN105<>\"\",$V103*10.8*DATA_INPUT!AN105,\"\")","v":""},{"$f":"IF(DATA_INPUT!AO105<>\"\",$V103*14.6*DATA_INPUT!AO105,\"\")","v":""},{"$f":"IF(DATA_INPUT!AP105<>\"\",$V103,\"\")","v":""},{"$f":"IF(DATA_INPUT!AQ105<>\"\",$V103,\"\")","v":""},{"$f":"IF(DATA_INPUT!AR105<>\"\",DATA_INPUT!AR105,\"\")","v":""},{"$f":"IF(DATA_INPUT!AS105<>\"\",DATA_INPUT!AS105,\"\")","v":""},{"$f":"IF(DATA_INPUT!AT105<>\"\",DATA_INPUT!AT105,\"\")","v":""},{"$f":"IF(DATA_INPUT!AU105<>\"\",DATA_INPUT!AU105,\"\")","v":""},{"$f":"IF(DATA_INPUT!AV105<>\"\",DATA_INPUT!AV105,\"\")","v":""},{"$f":"IF(DATA_INPUT!AW105<>\"\",DATA_INPUT!AW105,\"\")","v":""},{"$f":"IF(DATA_INPUT!AX105<>\"\",DATA_INPUT!AX105+Directions!$D$24-1,\"\")","v":""},{"$f":"IF(DATA_INPUT!AY105<>\"\",DATA_INPUT!AY105,\"\")","v":""},{"$f":"IF(DATA_INPUT!G105<>\"\",2,IF(DATA_INPUT!N105>2,2,IF(DATA_INPUT!N105=2,3,4)))","v":3},{"$f":"IF(OR(DATA_INPUT!S105<>\"\",DATA_INPUT!T105<>\"\"),H103,\"\")","v":""},{"$f":"IF(DATA_INPUT!T105<>\"\",\"X\",\"\")","v":""}]
[{"$f":"IF(DATA_INPUT!F106<>\"\",DATA_INPUT!F106,\"\")","v":""},{"$f":"IF(DATA_INPUT!G106<>\"\",DATA_INPUT!G106,\"\")","v":""},{"$f":"IF(DATA_INPUT!H106<>\"\",DATA_INPUT!H106,\"\")","v":""},{"$f":"IF(DATA_INPUT!I106<>\"\",DATA_INPUT!I106,\"\")","v":"F"},{"$f":"IF(DATA_INPUT!J106<>\"\",DATA_INPUT!J106,\"\")","v":"M1-5"},{"$f":"IF(DATA_INPUT!L106<>\"\",DATA_INPUT!L106,IF(DATA_INPUT!K106<>\"\",DATA_INPUT!K106,\"\"))","v":"(multisign image continues)"},{"$f":"IF(DATA_INPUT!O106<>\"\",DATA_INPUT!O106,\"\")","v":""},{"$f":"IF(DATA_INPUT!P106<>\"\",DATA_INPUT!P106,\"\")","v":1},{"$f":"IF(DATA_INPUT!Q106<>\"\",DATA_INPUT!Q106,\"\")","v":30},{"$f":"IF(DATA_INPUT!R106<>\"\",DATA_INPUT!R106,\"\")","v":24},{"$f":"IF(DATA_INPUT!S106<>\"\",IF(DATA_INPUT!AZ106<>\"\",DATA_INPUT!AZ106,H104*I104*J104/144)*IF(G104<>\"\",3/2,1),\"\")","v":""},{"$f":"IF(DATA_INPUT!T106<>\"\",IF(DATA_INPUT!AZ106<>\"\",DATA_INPUT!AZ106,H104*I104*J104/144)*IF(G104<>\"\",3/2,1),\"\")","v":""},{"$f":"IF(DATA_INPUT!U106<>\"\",$H104,\"\")","v":""},{"$f":"IF(DATA_INPUT!V106<>\"\",$H104,\"\")","v":""},{"$f":"IF(DATA_INPUT!W106<>\"\",$H104,\"\")","v":""},{"$f":"IF(DATA_INPUT!X106<>\"\",$H104,\"\")","v":1},{"$f":"IF(DATA_INPUT!Y106<>\"\",$H104,\"\")","v":""},{"$f":"IF(DATA_INPUT!Z106<>\"\",DATA_INPUT!Z106,\"\")","v":""},{"$f":"IF(DATA_INPUT!AA106<>\"\",DATA_INPUT!AA106,\"\")","v":""},{"$f":"IF(DATA_INPUT!AB106<>\"\",DATA_INPUT!AB106,\"\")","v":""},{"$f":"IF(DATA_INPUT!AC106<>\"\",DATA_INPUT!AC106,\"\")","v":""},{"$f":"IF(DATA_INPUT!AD106<>\"\",DATA_INPUT!AD106,\"\")","v":""},{"$f":"IF(DATA_INPUT!AE106<>\"\",$V104,\"\")","v":""},{"$f":"IF(DATA_INPUT!AF106<>\"\",$V104*8,\"\")","v":""},{"$f":"IF(DATA_INPUT!AG106<>\"\",$V104*15,\"\")","v":""},{"$f":"IF(DATA_INPUT!AH106<>\"\",$V104*15,\"\")","v":""},{"$f":"IF(DATA_INPUT!AI106<>\"\",$V104,\"\")","v":""},{"$f":"IF(DATA_INPUT!AJ106<>\"\",$V104,\"\")","v":""},{"$f":"IF(DATA_INPUT!AK106<>\"\",$V104,\"\")","v":""},{"$f":"IF(DATA_INPUT!AL106<>\"\",$V104*7.6*DATA_INPUT!AL106,\"\")","v":""},{"$f":"IF(DATA_INPUT!AM106<>\"\",$V104*9*DATA_INPUT!AM106,\"\")","v":""},{"$f":"IF(DATA_INPUT!AN106<>\"\",$V104*10.8*DATA_INPUT!AN106,\"\")","v":""},{"$f":"IF(DATA_INPUT!AO106<>\"\",$V104*14.6*DATA_INPUT!AO106,\"\")","v":""},{"$f":"IF(DATA_INPUT!AP106<>\"\",$V104,\"\")","v":""},{"$f":"IF(DATA_INPUT!AQ106<>\"\",$V104,\"\")","v":""},{"$f":"IF(DATA_INPUT!AR106<>\"\",DATA_INPUT!AR106,\"\")","v":""},{"$f":"IF(DATA_INPUT!AS106<>\"\",DATA_INPUT!AS106,\"\")","v":""},{"$f":"IF(DATA_INPUT!AT106<>\"\",DATA_INPUT!AT106,\"\")","v":""},{"$f":"IF(DATA_INPUT!AU106<>\"\",DATA_INPUT!AU106,\"\")","v":""},{"$f":"IF(DATA_INPUT!AV106<>\"\",DATA_INPUT!AV106,\"\")","v":""},{"$f":"IF(DATA_INPUT!AW106<>\"\",DATA_INPUT!AW106,\"\")","v":""},{"$f":"IF(DATA_INPUT!AX106<>\"\",DATA_INPUT!AX106+Directions!$D$24-1,\"\")","v":""},{"$f":"IF(DATA_INPUT!AY106<>\"\",DATA_INPUT!AY106,\"\")","v":""},{"$f":"IF(DATA_INPUT!G106<>\"\",2,IF(DATA_INPUT!N106>2,2,IF(DATA_INPUT!N106=2,3,4)))","v":3},{"$f":"IF(OR(DATA_INPUT!S106<>\"\",DATA_INPUT!T106<>\"\"),H104,\"\")","v":""},{"$f":"IF(DATA_INPUT!T106<>\"\",\"X\",\"\")","v":""}]
[{"$f":"IF(DATA_INPUT!F107<>\"\",DATA_INPUT!F107,\"\")","v":""},{"$f":"IF(DATA_INPUT!G107<>\"\",DATA_INPUT!G107,\"\")","v":""},{"$f":"IF(DATA_INPUT!H107<>\"\",DATA_INPUT!H107,\"\")","v":"STA. 115 +90.00"},{"$f":"IF(DATA_INPUT!I107<>\"\",DATA_INPUT!I107,\"\")","v":"F"},{"$f":"IF(DATA_INPUT!J107<>\"\",DATA_INPUT!J107,\"\")","v":"M2-1P"},{"$f":"IF(DATA_INPUT!L107<>\"\",DATA_INPUT!L107,IF(DATA_INPUT!K107<>\"\",DATA_INPUT!K107,\"\"))","v":{"$error":"#VALUE!"}},{"$f":"IF(DATA_INPUT!O107<>\"\",DATA_INPUT!O107,\"\")","v":""},{"$f":"IF(DATA_INPUT!P107<>\"\",DATA_INPUT!P107,\"\")","v":1},{"$f":"IF(DATA_INPUT!Q107<>\"\",DATA_INPUT!Q107,\"\")","v":21},{"$f":"IF(DATA_INPUT!R107<>\"\",DATA_INPUT!R107,\"\")","v":15},{"$f":"IF(DATA_INPUT!S107<>\"\",IF(DATA_INPUT!AZ107<>\"\",DATA_INPUT!AZ107,H105*I105*J105/144)*IF(G105<>\"\",3/2,1),\"\")","v":2.1875},{"$f":"IF(DATA_INPUT!T107<>\"\",IF(DATA_INPUT!AZ107<>\"\",DATA_INPUT!AZ107,H105*I105*J105/144)*IF(G105<>\"\",3/2,1),\"\")","v":""},{"$f":"IF(DATA_INPUT!U107<>\"\",$H105,\"\")","v":""},{"$f":"IF(DATA_INPUT!V107<>\"\",$H105,\"\")","v":""},{"$f":"IF(DATA_INPUT!W107<>\"\",$H105,\"\")","v":""},{"$f":"IF(DATA_INPUT!X107<>\"\",$H105,\"\")","v":""},{"$f":"IF(DATA_INPUT!Y107<>\"\",$H105,\"\")","v":""},{"$f":"IF(DATA_INPUT!Z107<>\"\",DATA_INPUT!Z107,\"\")","v":""},{"$f":"IF(DATA_INPUT!AA107<>\"\",DATA_INPUT!AA107,\"\")","v":""},{"$f":"IF(DATA_INPUT!AB107<>\"\",DATA_INPUT!AB107,\"\")","v":""},{"$f":"IF(DATA_INPUT!AC107<>\"\",DATA_INPUT!AC107,\"\")","v":""},{"$f":"IF(DATA_INPUT!AD107<>\"\",DATA_INPUT!AD107,\"\")","v":1},{"$f":"IF(DATA_INPUT!AE107<>\"\",$V105,\"\")","v":""},{"$f":"IF(DATA_INPUT!AF107<>\"\",$V105*8,\"\")","v":""},{"$f":"IF(DATA_INPUT!AG107<>\"\",$V105*15,\"\")","v":15},{"$f":"IF(DATA_INPUT!AH107<>\"\",$V105*15,\"\")","v":""},{"$f":"IF(DATA_INPUT!AI107<>\"\",$V105,\"\")","v":1},{"$f":"IF(DATA_INPUT!AJ107<>\"\",$V105,\"\")","v":""},{"$f":"IF(DATA_INPUT!AK107<>\"\",$V105,\"\")","v":""},{"$f":"IF(DATA_INPUT!AL107<>\"\",$V105*7.6*DATA_INPUT!AL107,\"\")","v":""},{"$f":"IF(DATA_INPUT!AM107<>\"\",$V105*9*DATA_INPUT!AM107,\"\")","v":""},{"$f":"IF(DATA_INPUT!AN107<>\"\",$V105*10.8*DATA_INPUT!AN107,\"\")","v":""},{"$f":"IF(DATA_INPUT!AO107<>\"\",$V105*14.6*DATA_INPUT!AO107,\"\")","v":""},{"$f":"IF(DATA_INPUT!AP107<>\"\",$V105,\"\")","v":""},{"$f":"IF(DATA_INPUT!AQ107<>\"\",$V105,\"\")","v":""},{"$f":"IF(DATA_INPUT!AR107<>\"\",DATA_INPUT!AR107,\"\")","v":""},{"$f":"IF(DATA_INPUT!AS107<>\"\",DATA_INPUT!AS107,\"\")","v":""},{"$f":"IF(DATA_INPUT!AT107<>\"\",DATA_INPUT!AT107,\"\")","v":""},{"$f":"IF(DATA_INPUT!AU107<>\"\",DATA_INPUT!AU107,\"\")","v":""},{"$f":"IF(DATA_INPUT!AV107<>\"\",DATA_INPUT!AV107,\"\")","v":"BLACK ON WHITE"},{"$f":"IF(DATA_INPUT!AW107<>\"\",DATA_INPUT!AW107,\"\")","v":"X"},{"$f":"IF(DATA_INPUT!AX107<>\"\",DATA_INPUT!AX107+Directions!$D$24-1,\"\")","v":""},{"$f":"IF(DATA_INPUT!AY107<>\"\",DATA_INPUT!AY107,\"\")","v":""},{"$f":"IF(DATA_INPUT!G107<>\"\",2,IF(DATA_INPUT!N107>2,2,IF(DATA_INPUT!N107=2,3,4)))","v":3},{"$f":"IF(OR(DATA_INPUT!S107<>\"\",DATA_INPUT!T107<>\"\"),H105,\"\")","v":1},{"$f":"IF(DATA_INPUT!T107<>\"\",\"X\",\"\")","v":""}]
[{"$f":"IF(DATA_INPUT!F108<>\"\",DATA_INPUT!F108,\"\")","v":""},{"$f":"IF(DATA_INPUT!G108<>\"\",DATA_INPUT!G108,\"\")","v":""},{"$f":"IF(DATA_INPUT!H108<>\"\",DATA_INPUT!H108,\"\")","v":""},{"$f":"IF(DATA_INPUT!I108<>\"\",DATA_INPUT!I108,\"\")","v":"F"},{"$f":"IF(DATA_INPUT!J108<>\"\",DATA_INPUT!J108,\"\")","v":"M1-5"},{"$f":"IF(DATA_INPUT!L108<>\"\",DATA_INPUT!L108,IF(DATA_INPUT!K108<>\"\",DATA_INPUT!K108,\"\"))","v":"(multisign image continues)"},{"$f":"IF(DATA_INPUT!O108<>\"\",DATA_INPUT!O108,\"\")","v":""},{"$f":"IF(DATA_INPUT!P108<>\"\",DATA_INPUT!P108,\"\")","v":1},{"$f":"IF(DATA_INPUT!Q108<>\"\",DATA_INPUT!Q108,\"\")","v":30},{"$f":"IF(DATA_INPUT!R108<>\"\",DATA_INPUT!R108,\"\")","v":24},{"$f":"IF(DATA_INPUT!S108<>\"\",IF(DATA_INPUT!AZ108<>\"\",DATA_INPUT!AZ108,H106*I106*J106/144)*IF(G106<>\"\",3/2,1),\"\")","v":5},{"$f":"IF(DATA_INPUT!T108<>\"\",IF(DATA_INPUT!AZ108<>\"\",DATA_INPUT!AZ108,H106*I106*J106/144)*IF(G106<>\"\",3/2,1),\"\")","v":""},{"$f":"IF(DATA_INPUT!U108<>\"\",$H106,\"\")","v":""},{"$f":"IF(DATA_INPUT!V108<>\"\",$H106,\"\")","v":""},{"$f":"IF(DATA_INPUT!W108<>\"\",$H106,\"\")","v":""},{"$f":"IF(DATA_INPUT!X108<>\"\",$H106,\"\")","v":""},{"$f":"IF(DATA_INPUT!Y108<>\"\",$H106,\"\")","v":""},{"$f":"IF(DATA_INPUT!Z108<>\"\",DATA_INPUT!Z108,\"\")","v":""},{"$f":"IF(DATA_INPUT!AA108<>\"\",DATA_INPUT!AA108,\"\")","v":""},{"$f":"IF(DATA_INPUT!AB108<>\"\",DATA_INPUT!AB108,\"\")","v":""},{"$f":"IF(DATA_INPUT!AC108<>\"\",DATA_INPUT!AC108,\"\")","v":""},{"$f":"IF(DATA_INPUT!AD108<>\"\",DATA_INPUT!AD108,\"\")","v":""},{"$f":"IF(DATA_INPUT!AE108<>\"\",$V106,\"\")","v":""},{"$f":"IF(DATA_INPUT!AF108<>\"\",$V106*8,\"\")","v":""},{"$f":"IF(DATA_INPUT!AG108<>\"\",$V106*15,\"\")","v":""},{"$f":"IF(DATA_INPUT!AH108<>\"\",$V106*15,\"\")","v":""},{"$f":"IF(DATA_INPUT!AI108<>\"\",$V106,\"\")","v":""},{"$f":"IF(DATA_INPUT!AJ108<>\"\",$V106,\"\")","v":""},{"$f":"IF(DATA_INPUT!AK108<>\"\",$V106,\"\")","v":""},{"$f":"IF(DATA_INPUT!AL108<>\"\",$V106*7.6*DATA_INPUT!AL108,\"\")","v":""},{"$f":"IF(DATA_INPUT!AM108<>\"\",$V106*9*DATA_INPUT!AM108,\"\")","v":""},{"$f":"IF(DATA_INPUT!AN108<>\"\",$V106*10.8*DATA_INPUT!AN108,\"\")","v":""},{"$f":"IF(DATA_INPUT!AO108<>\"\",$V106*14.6*DATA_INPUT!AO108,\"\")","v":""},{"$f":"IF(DATA_INPUT!AP108<>\"\",$V106,\"\")","v":""},{"$f":"IF(DATA_INPUT!AQ108<>\"\",$V106,\"\")","v":""},{"$f":"IF(DATA_INPUT!AR108<>\"\",DATA_INPUT!AR108,\"\")","v":""},{"$f":"IF(DATA_INPUT!AS108<>\"\",DATA_INPUT!AS108,\"\")","v":""},{"$f":"IF(DATA_INPUT!AT108<>\"\",DATA_INPUT!AT108,\"\")","v":""},{"$f":"IF(DATA_INPUT!AU108<>\"\",DATA_INPUT!AU108,\"\")","v":""},{"$f":"IF(DATA_INPUT!AV108<>\"\",DATA_INPUT!AV108,\"\")","v":""},{"$f":"IF(DATA_INPUT!AW108<>\"\",DATA_INPUT!AW108,\"\")","v":"X"},{"$f":"IF(DATA_INPUT!AX108<>\"\",DATA_INPUT!AX108+Directions!$D$24-1,\"\")","v":""},{"$f":"IF(DATA_INPUT!AY108<>\"\",DATA_INPUT!AY108,\"\")","v":""},{"$f":"IF(DATA_INPUT!G108<>\"\",2,IF(DATA_INPUT!N108>2,2,IF(DATA_INPUT!N108=2,3,4)))","v":3},{"$f":"IF(OR(DATA_INPUT!S108<>\"\",DATA_INPUT!T108<>\"\"),H106,\"\")","v":1},{"$f":"IF(DATA_INPUT!T108<>\"\",\"X\",\"\")","v":""}]
[{"$f":"IF(DATA_INPUT!F109<>\"\",DATA_INPUT!F109,\"\")","v":""},{"$f":"IF(DATA_INPUT!G109<>\"\",DATA_INPUT!G109,\"\")","v":""},{"$f":"IF(DATA_INPUT!H109<>\"\",DATA_INPUT!H109,\"\")","v":"STA.120 +30.00"},{"$f":"IF(DATA_INPUT!I109<>\"\",DATA_INPUT!I109,\"\")","v":"F"},{"$f":"IF(DATA_INPUT!J109<>\"\",DATA_INPUT!J109,\"\")","v":"W3-3"},{"$f":"IF(DATA_INPUT!L109<>\"\",DATA_INPUT!L109,IF(DATA_INPUT!K109<>\"\",DATA_INPUT!K109,\"\"))","v":{"$error":"#VALUE!"}},{"$f":"IF(DATA_INPUT!O109<>\"\",DATA_INPUT!O109,\"\")","v":""},{"$f":"IF(DATA_INPUT!P109<>\"\",DATA_INPUT!P109,\"\")","v":1},{"$f":"IF(DATA_INPUT!Q109<>\"\",DATA_INPUT!Q109,\"\")","v":30},{"$f":"IF(DATA_INPUT!R109<>\"\",DATA_INPUT!R109,\"\")","v":30},{"$f":"IF(DATA_INPUT!S109<>\"\",IF(DATA_INPUT!AZ109<>\"\",DATA_INPUT!AZ109,H107*I107*J107/144)*IF(G107<>\"\",3/2,1),\"\")","v":""},{"$f":"IF(DATA_INPUT!T109<>\"\",IF(DATA_INPUT!AZ109<>\"\",DATA_INPUT!AZ109,H107*I107*J107/144)*IF(G107<>\"\",3/2,1),\"\")","v":""},{"$f":"IF(DATA_INPUT!U109<>\"\",$H107,\"\")","v":""},{"$f":"IF(DATA_INPUT!V109<>\"\",$H107,\"\")","v":""},{"$f":"IF(DATA_INPUT!W109<>\"\",$H107,\"\")","v":""},{"$f":"IF(DATA_INPUT!X109<>\"\",$H107,\"\")","v":1},{"$f":"IF(DATA_INPUT!Y109<>\"\",$H107,\"\")","v":""},{"$f":"IF(DATA_INPUT!Z109<>\"\",DATA_INPUT!Z109,\"\")","v":""},{"$f":"IF(DATA_INPUT!AA109<>\"\",DATA_INPUT!AA109,\"\")","v":""},{"$f":"IF(DATA_INPUT!AB109<>\"\",DATA_INPUT!AB109,\"\")","v":""},{"$f":"IF(DATA_INPUT!AC109<>\"\",DATA_INPUT!AC109,\"\")","v":2},{"$f":"IF(DATA_INPUT!AD109<>\"\",DATA_INPUT!AD109,\"\")","v":""},{"$f":"IF(DATA_INPUT!AE109<>\"\",$V107,\"\")","v":""},{"$f":"IF(DATA_INPUT!AF109<>\"\",$V107*8,\"\")","v":""},{"$f":"IF(DATA_INPUT!AG109<>\"\",$V107*15,\"\")","v":""},{"$f":"IF(DATA_INPUT!AH109<>\"\",$V107*15,\"\")","v":""},{"$f":"IF(DATA_INPUT!AI109<>\"\",$V107,\"\")","v":""},{"$f":"IF(DATA_INPUT!AJ109<>\"\",$V107,\"\")","v":""},{"$f":"IF(DATA_INPUT!AK109<>\"\",$V107,\"\")","v":""},{"$f":"IF(DATA_INPUT!AL109<>\"\",$V107*7.6*DATA_INPUT!AL109,\"\")","v":""},{"$f":"IF(DATA_INPUT!AM109<>\"\",$V107*9*DATA_INPUT!AM109,\"\")","v":""},{"$f":"IF(DATA_INPUT!AN109<>\"\",$V107*10.8*DATA_INPUT!AN109,\"\")","v":""},{"$f":"IF(DATA_INPUT!AO109<>\"\",$V107*14.6*DATA_INPUT!AO109,\"\")","v":""},{"$f":"IF(DATA_INPUT!AP109<>\"\",$V107,\"\")","v":""},{"$f":"IF(DATA_INPUT!AQ109<>\"\",$V107,\"\")","v":""},{"$f":"IF(DATA_INPUT!AR109<>\"\",DATA_INPUT!AR109,\"\")","v":""},{"$f":"IF(DATA_INPUT!AS109<>\"\",DATA_INPUT!AS109,\"\")","v":""},{"$f":"IF(DATA_INPUT!AT109<>\"\",DATA_INPUT!AT109,\"\")","v":""},{"$f":"IF(DATA_INPUT!AU109<>\"\",DATA_INPUT!AU109,\"\")","v":""},{"$f":"IF(DATA_INPUT!AV109<>\"\",DATA_INPUT!AV109,\"\")","v":""},{"$f":"IF(DATA_INPUT!AW109<>\"\",DATA_INPUT!AW109,\"\")","v":""},{"$f":"IF(DATA_INPUT!AX109<>\"\",DATA_INPUT!AX109+Directions!$D$24-1,\"\")","v":""},{"$f":"IF(DATA_INPUT!AY109<>\"\",DATA_INPUT!AY109,\"\")","v":""},{"$f":"IF(DATA_INPUT!G109<>\"\",2,IF(DATA_INPUT!N109>2,2,IF(DATA_INPUT!N109=2,3,4)))","v":3},{"$f":"IF(OR(DATA_INPUT!S109<>\"\",DATA_INPUT!T109<>\"\"),H107,\"\")","v":""},{"$f":"IF(DATA_INPUT!T109<>\"\",\"X\",\"\")","v":""}]
[{"$f":"IF(DATA_INPUT!F110<>\"\",DATA_INPUT!F110,\"\")","v":""},{"$f":"IF(DATA_INPUT!G110<>\"\",DATA_INPUT!G110,\"\")","v":""},{"$f":"IF(DATA_INPUT!H110<>\"\",DATA_INPUT!H110,\"\")","v":""},{"$f":"IF(DATA_INPUT!I110<>\"\",DATA_INPUT!I110,\"\")","v":"F"},{"$f":"IF(DATA_INPUT!J110<>\"\",DATA_INPUT!J110,\"\")","v":"W16-2P"},{"$f":"IF(DATA_INPUT!L110<>\"\",DATA_INPUT!L110,IF(DATA_INPUT!K110<>\"\",DATA_INPUT!K110,\"\"))","v":"(multisign image continues)"},{"$f":"IF(DATA_INPUT!O110<>\"\",DATA_INPUT!O110,\"\")","v":""},{"$f":"IF(DATA_INPUT!P110<>\"\",DATA_INPUT!P110,\"\")","v":1},{"$f":"IF(DATA_INPUT!Q110<>\"\",DATA_INPUT!Q110,\"\")","v":24},{"$f":"IF(DATA_INPUT!R110<>\"\",DATA_INPUT!R110,\"\")","v":18},{"$f":"IF(DATA_INPUT!S110<>\"\",IF(DATA_INPUT!AZ110<>\"\",DATA_INPUT!AZ110,H108*I108*J108/144)*IF(G108<>\"\",3/2,1),\"\")","v":""},{"$f":"IF(DATA_INPUT!T110<>\"\",IF(DATA_INPUT!AZ110<>\"\",DATA_INPUT!AZ110,H108*I108*J108/144)*IF(G108<>\"\",3/2,1),\"\")","v":""},{"$f":"IF(DATA_INPUT!U110<>\"\",$H108,\"\")","v":""},{"$f":"IF(DATA_INPUT!V110<>\"\",$H108,\"\")","v":""},{"$f":"IF(DATA_INPUT!W110<>\"\",$H108,\"\")","v":""},{"$f":"IF(DATA_INPUT!X110<>\"\",$H108,\"\")","v":1},{"$f":"IF(DATA_INPUT!Y110<>\"\",$H108,\"\")","v":""},{"$f":"IF(DATA_INPUT!Z110<>\"\",DATA_INPUT!Z110,\"\")","v":""},{"$f":"IF(DATA_INPUT!AA110<>\"\",DATA_INPUT!AA110,\"\")","v":""},{"$f":"IF(DATA_INPUT!AB110<>\"\",DATA_INPUT!AB110,\"\")","v":""},{"$f":"IF(DATA_INPUT!AC110<>\"\",DATA_INPUT!AC110,\"\")","v":""},{"$f":"IF(DATA_INPUT!AD110<>\"\",DATA_INPUT!AD110,\"\")","v":""},{"$f":"IF(DATA_INPUT!AE110<>\"\",$V108,\"\")","v":""},{"$f":"IF(DATA_INPUT!AF110<>\"\",$V108*8,\"\")","v":""},{"$f":"IF(DATA_INPUT!AG110<>\"\",$V108*15,\"\")","v":""},{"$f":"IF(DATA_INPUT!AH110<>\"\",$V108*15,\"\")","v":""},{"$f":"IF(DATA_INPUT!AI110<>\"\",$V108,\"\")","v":""},{"$f":"IF(DATA_INPUT!AJ110<>\"\",$V108,\"\")","v":""},{"$f":"IF(DATA_INPUT!AK110<>\"\",$V108,\"\")","v":""},{"$f":"IF(DATA_INPUT!AL110<>\"\",$V108*7.6*DATA_INPUT!AL110,\"\")","v":""},{"$f":"IF(DATA_INPUT!AM110<>\"\",$V108*9*DATA_INPUT!AM110,\"\")","v":""},{"$f":"IF(DATA_INPUT!AN110<>\"\",$V108*10.8*DATA_INPUT!AN110,\"\")","v":""},{"$f":"IF(DATA_INPUT!AO110<>\"\",$V108*14.6*DATA_INPUT!AO110,\"\")","v":""},{"$f":"IF(DATA_INPUT!AP110<>\"\",$V108,\"\")","v":""},{"$f":"IF(DATA_INPUT!AQ110<>\"\",$V108,\"\")","v":""},{"$f":"IF(DATA_INPUT!AR110<>\"\",DATA_INPUT!AR110,\"\")","v":""},{"$f":"IF(DATA_INPUT!AS110<>\"\",DATA_INPUT!AS110,\"\")","v":""},{"$f":"IF(DATA_INPUT!AT110<>\"\",DATA_INPUT!AT110,\"\")","v":""},{"$f":"IF(DATA_INPUT!AU110<>\"\",DATA_INPUT!AU110,\"\")","v":""},{"$f":"IF(DATA_INPUT!AV110<>\"\",DATA_INPUT!AV110,\"\")","v":""},{"$f":"IF(DATA_INPUT!AW110<>\"\",DATA_INPUT!AW110,\"\")","v":""},{"$f":"IF(DATA_INPUT!AX110<>\"\",DATA_INPUT!AX110+Directions!$D$24-1,\"\")","v":""},{"$f":"IF(DATA_INPUT!AY110<>\"\",DATA_INPUT!AY110,\"\")","v":""},{"$f":"IF(DATA_INPUT!G110<>\"\",2,IF(DATA_INPUT!N110>2,2,IF(DATA_INPUT!N110=2,3,4)))","v":3},{"$f":"IF(OR(DATA_INPUT!S110<>\"\",DATA_INPUT!T110<>\"\"),H108,\"\")","v":""},{"$f":"IF(DATA_INPUT!T110<>\"\",\"X\",\"\")","v":""}]
[{"$f":"IF(DATA_INPUT!F111<>\"\",DATA_INPUT!F111,\"\")","v":""},{"$f":"IF(DATA_INPUT!G111<>\"\",DATA_INPUT!G111,\"\")","v":""},{"$f":"IF(DATA_INPUT!H111<>\"\",DATA_INPUT!H111,\"\")","v":"STA.120 +30.00"},{"$f":"IF(DATA_INPUT!I111<>\"\",DATA_INPUT!I111,\"\")","v":"F"},{"$f":"IF(DATA_INPUT!J111<>\"\",DATA_INPUT!J111,\"\")","v":"W3-3"},{"$f":"IF(DATA_INPUT!L111<>\"\",DATA_INPUT!L111,IF(DATA_INPUT!K111<>\"\",DATA_INPUT!K111,\"\"))","v":{"$error":"#VALUE!"}},{"$f":"IF(DATA_INPUT!O111<>\"\",DATA_INPUT!O111,\"\")","v":""},{"$f":"IF(DATA_INPUT!P111<>\"\",DATA_INPUT!P111,\"\")","v":1},{"$f":"IF(DATA_INPUT!Q111<>\"\",DATA_INPUT!Q111,\"\")","v":30},{"$f":"IF(DATA_INPUT!R111<>\"\",DATA_INPUT!R111,\"\")","v":30},{"$f":"IF(DATA_INPUT!S111<>\"\",IF(DATA_INPUT!AZ111<>\"\",DATA_INPUT!AZ111,H109*I109*J109/144)*IF(G109<>\"\",3/2,1),\"\")","v":6.25},{"$f":"IF(DATA_INPUT!T111<>\"\",IF(DATA_INPUT!AZ111<>\"\",DATA_INPUT!AZ111,H109*I109*J109/144)*IF(G109<>\"\",3/2,1),\"\")","v":""},{"$f":"IF(DATA_INPUT!U111<>\"\",$H109,\"\")","v":""},{"$f":"IF(DATA_INPUT!V111<>\"\",$H109,\"\")","v":""},{"$f":"IF(DATA_INPUT!W111<>\"\",$H109,\"\")","v":""},{"$f":"IF(DATA_INPUT!X111<>\"\",$H109,\"\")","v":""},{"$f":"IF(DATA_INPUT!Y111<>\"\",$H109,\"\")","v":""},{"$f":"IF(DATA_INPUT!Z111<>\"\",DATA_INPUT!Z111,\"\")","v":""},{"$f":"IF(DATA_INPUT!AA111<>\"\",DATA_INPUT!AA111,\"\")","v":""},{"$f":"IF(DATA_INPUT!AB111<>\"\",DATA_INPUT!AB111,\"\")","v":""},{"$f":"IF(DATA_INPUT!AC111<>\"\",DATA_INPUT!AC111,\"\")","v":""},{"$f":"IF(DATA_INPUT!AD111<>\"\",DATA_INPUT!AD111,\"\")","v":1},{"$f":"IF(DATA_INPUT!AE111<>\"\",$V109,\"\")","v":""},{"$f":"IF(DATA_INPUT!AF111<>\"\",$V109*8,\"\")","v":""},{"$f":"IF(DATA_INPUT!AG111<>\"\",$V109*15,\"\")","v":15},{"$f":"IF(DATA_INPUT!AH111<>\"\",$V109*15,\"\")","v":""},{"$f":"IF(DATA_INPUT!AI111<>\"\",$V109,\"\")","v":1},{"$f":"IF(DATA_INPUT!AJ111<>\"\",$V109,\"\")","v":""},{"$f":"IF(DATA_INPUT!AK111<>\"\",$V109,\"\")","v":""},{"$f":"IF(DATA_INPUT!AL111<>\"\",$V109*7.6*DATA_INPUT!AL111,\"\")","v":""},{"$f":"IF(DATA_INPUT!AM111<>\"\",$V109*9*DATA_INPUT!AM111,\"\")","v":""},{"$f":"IF(DATA_INPUT!AN111<>\"\",$V109*10.8*DATA_INPUT!AN111,\"\")","v":""},{"$f":"IF(DATA_INPUT!AO111<>\"\",$V109*14.6*DATA_INPUT!AO111,\"\")","v":""},{"$f":"IF(DATA_INPUT!AP111<>\"\",$V109,\"\")","v":""},{"$f":"IF(DATA_INPUT!AQ111<>\"\",$V109,\"\")","v":""},{"$f":"IF(DATA_INPUT!AR111<>\"\",DATA_INPUT!AR111,\"\")","v":""},{"$f":"IF(DATA_INPUT!AS111<>\"\",DATA_INPUT!AS111,\"\")","v":""},{"$f":"IF(DATA_INPUT!AT111<>\"\",DATA_INPUT!AT111,\"\")","v":""},{"$f":"IF(DATA_INPUT!AU111<>\"\",DATA_INPUT!AU111,\"\")","v":""},{"$f":"IF(DATA_INPUT!AV111<>\"\",DATA_INPUT!AV111,\"\")","v":" YELLOW"},{"$f":"IF(DATA_INPUT!AW111<>\"\",DATA_INPUT!AW111,\"\")","v":"X"},{"$f":"IF(DATA_INPUT!AX111<>\"\",DATA_INPUT!AX111+Directions!$D$24-1,\"\")","v":""},{"$f":"IF(DATA_INPUT!AY111<>\"\",DATA_INPUT!AY111,\"\")","v":""},{"$f":"IF(DATA_INPUT!G111<>\"\",2,IF(DATA_INPUT!N111>2,2,IF(DATA_INPUT!N111=2,3,4)))","v":3},{"$f":"IF(OR(DATA_INPUT!S111<>\"\",DATA_INPUT!T111<>\"\"),H109,\"\")","v":1},{"$f":"IF(DATA_INPUT!T111<>\"\",\"X\",\"\")","v":""}]
[{"$f":"IF(DATA_INPUT!F112<>\"\",DATA_INPUT!F112,\"\")","v":""},{"$f":"IF(DATA_INPUT!G112<>\"\",DATA_INPUT!G112,\"\")","v":""},{"$f":"IF(DATA_INPUT!H112<>\"\",DATA_INPUT!H112,\"\")","v":""},{"$f":"IF(DATA_INPUT!I112<>\"\",DATA_INPUT!I112,\"\")","v":"F"},{"$f":"IF(DATA_INPUT!J112<>\"\",DATA_INPUT!J112,\"\")","v":"W16-2P"},{"$f":"IF(DATA_INPUT!L112<>\"\",DATA_INPUT!L112,IF(DATA_INPUT!K112<>\"\",DATA_INPUT!K112,\"\"))","v":"(multisign image continues)"},{"$f":"IF(DATA_INPUT!O112<>\"\",DATA_INPUT!O112,\"\")","v":""},{"$f":"IF(DATA_INPUT!P112<>\"\",DATA_INPUT!P112,\"\")","v":1},{"$f":"IF(DATA_INPUT!Q112<>\"\",DATA_INPUT!Q112,\"\")","v":24},{"$f":"IF(DATA_INPUT!R112<>\"\",DATA_INPUT!R112,\"\")","v":18},{"$f":"IF(DATA_INPUT!S112<>\"\",IF(DATA_INPUT!AZ112<>\"\",DATA_INPUT!AZ112,H110*I110*J110/144)*IF(G110<>\"\",3/2,1),\"\")","v":3},{"$f":"IF(DATA_INPUT!T112<>\"\",IF(DATA_INPUT!AZ112<>\"\",DATA_INPUT!AZ112,H110*I110*J110/144)*IF(G110<>\"\",3/2,1),\"\")","v":""},{"$f":"IF(DATA_INPUT!U112<>\"\",$H110,\"\")","v":""},{"$f":"IF(DATA_INPUT!V112<>\"\",$H110,\"\")","v":""},{"$f":"IF(DATA_INPUT!W112<>\"\",$H110,\"\")","v":""},{"$f":"IF(DATA_INPUT!X112<>\"\",$H110,\"\")","v":""},{"$f":"IF(DATA_INPUT!Y112<>\"\",$H110,\"\")","v":""},{"$f":"IF(DATA_INPUT!Z112<>\"\",DATA_INPUT!Z112,\"\")","v":""},{"$f":"IF(DATA_INPUT!AA112<>\"\",DATA_INPUT!AA112,\"\")","v":""},{"$f":"IF(DATA_INPUT!AB112<>\"\",DATA_INPUT!AB112,\"\")","v":""},{"$f":"IF(DATA_INPUT!AC112<>\"\",DATA_INPUT!AC112,\"\")","v":""},{"$f":"IF(DATA_INPUT!AD112<>\"\",DATA_INPUT!AD112,\"\")","v":""},{"$f":"IF(DATA_INPUT!AE112<>\"\",$V110,\"\")","v":""},{"$f":"IF(DATA_INPUT!AF112<>\"\",$V110*8,\"\")","v":""},{"$f":"IF(DATA_INPUT!AG112<>\"\",$V110*15,\"\")","v":""},{"$f":"IF(DATA_INPUT!AH112<>\"\",$V110*15,\"\")","v":""},{"$f":"IF(DATA_INPUT!AI112<>\"\",$V110,\"\")","v":""},{"$f":"IF(DATA_INPUT!AJ112<>\"\",$V110,\"\")","v":""},{"$f":"IF(DATA_INPUT!AK112<>\"\",$V110,\"\")","v":""},{"$f":"IF(DATA_INPUT!AL112<>\"\",$V110*7.6*DATA_INPUT!AL112,\"\")","v":""},{"$f":"IF(DATA_INPUT!AM112<>\"\",$V110*9*DATA_INPUT!AM112,\"\")","v":""},{"$f":"IF(DATA_INPUT!AN112<>\"\",$V110*10.8*DATA_INPUT!AN112,\"\")","v":""},{"$f":"IF(DATA_INPUT!AO112<>\"\",$V110*14.6*DATA_INPUT!AO112,\"\")","v":""},{"$f":"IF(DATA_INPUT!AP112<>\"\",$V110,\"\")","v":""},{"$f":"IF(DATA_INPUT!AQ112<>\"\",$V110,\"\")","v":""},{"$f":"IF(DATA_INPUT!AR112<>\"\",DATA_INPUT!AR112,\"\")","v":""},{"$f":"IF(DATA_INPUT!AS112<>\"\",DATA_INPUT!AS112,\"\")","v":""},{"$f":"IF(DATA_INPUT!AT112<>\"\",DATA_INPUT!AT112,\"\")","v":""},{"$f":"IF(DATA_INPUT!AU112<>\"\",DATA_INPUT!AU112,\"\")","v":""},{"$f":"IF(DATA_INPUT!AV112<>\"\",DATA_INPUT!AV112,\"\")","v":"BLACK ON YELLOW"},{"$f":"IF(DATA_INPUT!AW112<>\"\",DATA_INPUT!AW112,\"\")","v":"X"},{"$f":"IF(DATA_INPUT!AX112<>\"\",DATA_INPUT!AX112+Directions!$D$24-1,\"\")","v":""},{"$f":"IF(DATA_INPUT!AY112<>\"\",DATA_INPUT!AY112,\"\")","v":""},{"$f":"IF(DATA_INPUT!G112<>\"\",2,IF(DATA_INPUT!N112>2,2,IF(DATA_INPUT!N112=2,3,4)))","v":3},{"$f":"IF(OR(DATA_INPUT!S112<>\"\",DATA_INPUT!T112<>\"\"),H110,\"\")","v":1},{"$f":"IF(DATA_INPUT!T112<>\"\",\"X\",\"\")","v":""}]
[{"$f":"IF(DATA_INPUT!F113<>\"\",DATA_INPUT!F113,\"\")","v":""},{"$f":"IF(DATA_INPUT!G113<>\"\",DATA_INPUT!G113,\"\")","v":"SEVERANCE RD"},{"$f":"IF(DATA_INPUT!H113<>\"\",DATA_INPUT!H113,\"\")","v":""},{"$f":"IF(DATA_INPUT!I113<>\"\",DATA_INPUT!I113,\"\")","v":""},{"$f":"IF(DATA_INPUT!J113<>\"\",DATA_INPUT!J113,\"\")","v":""},{"$f":"IF(DATA_INPUT!L113<>\"\",DATA_INPUT!L113,IF(DATA_INPUT!K113<>\"\",DATA_INPUT!K113,\"\"))","v":""},{"$f":"IF(DATA_INPUT!O113<>\"\",DATA_INPUT!O113,\"\")","v":""},{"$f":"IF(DATA_INPUT!P113<>\"\",DATA_INPUT!P113,\"\")","v":""},{"$f":"IF(DATA_INPUT!Q113<>\"\",DATA_INPUT!Q113,\"\")","v":""},{"$f":"IF(DATA_INPUT!R113<>\"\",DATA_INPUT!R113,\"\")","v":""},{"$f":"IF(DATA_INPUT!S113<>\"\",IF(DATA_INPUT!AZ113<>\"\",DATA_INPUT!AZ113,H111*I111*J111/144)*IF(G111<>\"\",3/2,1),\"\")","v":""},{"$f":"IF(DATA_INPUT!T113<>\"\",IF(DATA_INPUT!AZ113<>\"\",DATA_INPUT!AZ113,H111*I111*J111/144)*IF(G111<>\"\",3/2,1),\"\")","v":""},{"$f":"IF(DATA_INPUT!U113<>\"\",$H111,\"\")","v":""},{"$f":"IF(DATA_INPUT!V113<>\"\",$H111,\"\")","v":""},{"$f":"IF(DATA_INPUT!W113<>\"\",$H111,\"\")","v":""},{"$f":"IF(DATA_INPUT!X113<>\"\",$H111,\"\")","v":""},{"$f":"IF(DATA_INPUT!Y113<>\"\",$H111,\"\")","v":""},{"$f":"IF(DATA_INPUT!Z113<>\"\",DATA_INPUT!Z113,\"\")","v":""},{"$f":"IF(DATA_INPUT!AA113<>\"\",DATA_INPUT!AA113,\"\")","v":""},{"$f":"IF(DATA_INPUT!AB113<>\"\",DATA_INPUT!AB113,\"\")","v":""},{"$f":"IF(DATA_INPUT!AC113<>\"\",DATA_INPUT!AC113,\"\")","v":""},{"$f":"IF(DATA_INPUT!AD113<>\"\",DATA_INPUT!AD113,\"\")","v":""},{"$f":"IF(DATA_INPUT!AE113<>\"\",$V111,\"\")","v":""},{"$f":"IF(DATA_INPUT!AF113<>\"\",$V111*8,\"\")","v":""},{"$f":"IF(DATA_INPUT!AG113<>\"\",$V111*15,\"\")","v":""},{"$f":"IF(DATA_INPUT!AH113<>\"\",$V111*15,\"\")","v":""},{"$f":"IF(DATA_INPUT!AI113<>\"\",$V111,\"\")","v":""},{"$f":"IF(DATA_INPUT!AJ113<>\"\",$V111,\"\")","v":""},{"$f":"IF(DATA_INPUT!AK113<>\"\",$V111,\"\")","v":""},{"$f":"IF(DATA_INPUT!AL113<>\"\",$V111*7.6*DATA_INPUT!AL113,\"\")","v":""},{"$f":"IF(DATA_INPUT!AM113<>\"\",$V111*9*DATA_INPUT!AM113,\"\")","v":""},{"$f":"IF(DATA_INPUT!AN113<>\"\",$V111*10.8*DATA_INPUT!AN113,\"\")","v":""},{"$f":"IF(DATA_INPUT!AO113<>\"\",$V111*14.6*DATA_INPUT!AO113,\"\")","v":""},{"$f":"IF(DATA_INPUT!AP113<>\"\",$V111,\"\")","v":""},{"$f":"IF(DATA_INPUT!AQ113<>\"\",$V111,\"\")","v":""},{"$f":"IF(DATA_INPUT!AR113<>\"\",DATA_INPUT!AR113,\"\")","v":""},{"$f":"IF(DATA_INPUT!AS113<>\"\",DATA_INPUT!AS113,\"\")","v":""},{"$f":"IF(DATA_INPUT!AT113<>\"\",DATA_INPUT!AT113,\"\")","v":""},{"$f":"IF(DATA_INPUT!AU113<>\"\",DATA_INPUT!AU113,\"\")","v":""},{"$f":"IF(DATA_INPUT!AV113<>\"\",DATA_INPUT!AV113,\"\")","v":""},{"$f":"IF(DATA_INPUT!AW113<>\"\",DATA_INPUT!AW113,\"\")","v":""},{"$f":"IF(DATA_INPUT!AX113<>\"\",DATA_INPUT!AX113+Directions!$D$24-1,\"\")","v":""},{"$f":"IF(DATA_INPUT!AY113<>\"\",DATA_INPUT!AY113,\"\")","v":""},{"$f":"IF(DATA_INPUT!G113<>\"\",2,IF(DATA_INPUT!N113>2,2,IF(DATA_INPUT!N113=2,3,4)))","v":2},{"$f":"IF(OR(DATA_INPUT!S113<>\"\",DATA_INPUT!T113<>\"\"),H111,\"\")","v":""},{"$f":"IF(DATA_INPUT!T113<>\"\",\"X\",\"\")","v":""}]
[{"$f":"IF(DATA_INPUT!F114<>\"\",DATA_INPUT!F114,\"\")","v":""},{"$f":"IF(DATA_INPUT!G114<>\"\",DATA_INPUT!G114,\"\")","v":""},{"$f":"IF(DATA_INPUT!H114<>\"\",DATA_INPUT!H114,\"\")","v":"STA. 200 +79.00"},{"$f":"IF(DATA_INPUT!I114<>\"\",DATA_INPUT!I114,\"\")","v":"A"},{"$f":"IF(DATA_INPUT!J114<>\"\",DATA_INPUT!J114,\"\")","v":"VR-017"},{"$f":"IF(DATA_INPUT!L114<>\"\",DATA_INPUT!L114,IF(DATA_INPUT!K114<>\"\",DATA_INPUT!K114,\"\"))","v":{"$error":"#VALUE!"}},{"$f":"IF(DATA_INPUT!O114<>\"\",DATA_INPUT!O114,\"\")","v":""},{"$f":"IF(DATA_INPUT!P114<>\"\",DATA_INPUT!P114,\"\")","v":1},{"$f":"IF(DATA_INPUT!Q114<>\"\",DATA_INPUT!Q114,\"\")","v":24},{"$f":"IF(DATA_INPUT!R114<>\"\",DATA_INPUT!R114,\"\")","v":30},{"$f":"IF(DATA_INPUT!S114<>\"\",IF(DATA_INPUT!AZ114<>\"\",DATA_INPUT!AZ114,H112*I112*J112/144)*IF(G112<>\"\",3/2,1),\"\")","v":5},{"$f":"IF(DATA_INPUT!T114<>\"\",IF(DATA_INPUT!AZ114<>\"\",DATA_INPUT!AZ114,H112*I112*J112/144)*IF(G112<>\"\",3/2,1),\"\")","v":""},{"$f":"IF(DATA_INPUT!U114<>\"\",$H112,\"\")","v":""},{"$f":"IF(DATA_INPUT!V114<>\"\",$H112,\"\")","v":""},{"$f":"IF(DATA_INPUT!W114<>\"\",$H112,\"\")","v":""},{"$f":"IF(DATA_INPUT!X114<>\"\",$H112,\"\")","v":""},{"$f":"IF(DATA_INPUT!Y114<>\"\",$H112,\"\")","v":""},{"$f":"IF(DATA_INPUT!Z114<>\"\",DATA_INPUT!Z114,\"\")","v":""},{"$f":"IF(DATA_INPUT!AA114<>\"\",DATA_INPUT!AA114,\"\")","v":""},{"$f":"IF(DATA_INPUT!AB114<>\"\",DATA_INPUT!AB114,\"\")","v":""},{"$f":"IF(DATA_INPUT!AC114<>\"\",DATA_INPUT!AC114,\"\")","v":""},{"$f":"IF(DATA_INPUT!AD114<>\"\",DATA_INPUT!AD114,\"\")","v":1},{"$f":"IF(DATA_INPUT!AE114<>\"\",$V112,\"\")","v":""},{"$f":"IF(DATA_INPUT!AF114<>\"\",$V112*8,\"\")","v":""},{"$f":"IF(DATA_INPUT!AG114<>\"\",$V112*15,\"\")","v":15},{"$f":"IF(DATA_INPUT!AH114<>\"\",$V112*15,\"\")","v":""},{"$f":"IF(DATA_INPUT!AI114<>\"\",$V112,\"\")","v":1},{"$f":"IF(DATA_INPUT!AJ114<>\"\",$V112,\"\")","v":""},{"$f":"IF(DATA_INPUT!AK114<>\"\",$V112,\"\")","v":""},{"$f":"IF(DATA_INPUT!AL114<>\"\",$V112*7.6*DATA_INPUT!AL114,\"\")","v":""},{"$f":"IF(DATA_INPUT!AM114<>\"\",$V112*9*DATA_INPUT!AM114,\"\")","v":""},{"$f":"IF(DATA_INPUT!AN114<>\"\",$V112*10.8*DATA_INPUT!AN114,\"\")","v":""},{"$f":"IF(DATA_INPUT!AO114<>\"\",$V112*14.6*DATA_INPUT!AO114,\"\")","v":""},{"$f":"IF(DATA_INPUT!AP114<>\"\",$V112,\"\")","v":""},{"$f":"IF(DATA_INPUT!AQ114<>\"\",$V112,\"\")","v":""},{"$f":"IF(DATA_INPUT!AR114<>\"\",DATA_INPUT!AR114,\"\")","v":""},{"$f":"IF(DATA_INPUT!AS114<>\"\",DATA_INPUT!AS114,\"\")","v":""},{"$f":"IF(DATA_INPUT!AT114<>\"\",DATA_INPUT!AT114,\"\")","v":""},{"$f":"IF(DATA_INPUT!AU114<>\"\",DATA_INPUT!AU114,\"\")","v":""},{"$f":"IF(DATA_INPUT!AV114<>\"\",DATA_INPUT!AV114,\"\")","v":""},{"$f":"IF(DATA_INPUT!AW114<>\"\",DATA_INPUT!AW114,\"\")","v":""},{"$f":"IF(DATA_INPUT!AX114<>\"\",DATA_INPUT!AX114+Directions!$D$24-1,\"\")","v":""},{"$f":"IF(DATA_INPUT!AY114<>\"\",DATA_INPUT!AY114,\"\")","v":"T-70"},{"$f":"IF(DATA_INPUT!G114<>\"\",2,IF(DATA_INPUT!N114>2,2,IF(DATA_INPUT!N114=2,3,4)))","v":4},{"$f":"IF(OR(DATA_INPUT!S114<>\"\",DATA_INPUT!T114<>\"\"),H112,\"\")","v":1},{"$f":"IF(DATA_INPUT!T114<>\"\",\"X\",\"\")","v":""}]
[{"$f":"IF(DATA_INPUT!F115<>\"\",DATA_INPUT!F115,\"\")","v":""},{"$f":"IF(DATA_INPUT!G115<>\"\",DATA_INPUT!G115,\"\")","v":""},{"$f":"IF(DATA_INPUT!H115<>\"\",DATA_INPUT!H115,\"\")","v":""},{"$f":"IF(DATA_INPUT!I115<>\"\",DATA_INPUT!I115,\"\")","v":"A"},{"$f":"IF(DATA_INPUT!J115<>\"\",DATA_INPUT!J115,\"\")","v":"VR-017"},{"$f":"IF(DATA_INPUT!L115<>\"\",DATA_INPUT!L115,IF(DATA_INPUT!K115<>\"\",DATA_INPUT!K115,\"\"))","v":{"$error":"#VALUE!"}},{"$f":"IF(DATA_INPUT!O115<>\"\",DATA_INPUT!O115,\"\")","v":""},{"$f":"IF(DATA_INPUT!P115<>\"\",DATA_INPUT!P115,\"\")","v":1},{"$f":"IF(DATA_INPUT!Q115<>\"\",DATA_INPUT!Q115,\"\")","v":24},{"$f":"IF(DATA_INPUT!R115<>\"\",DATA_INPUT!R115,\"\")","v":30},{"$f":"IF(DATA_INPUT!S115<>\"\",IF(DATA_INPUT!AZ115<>\"\",DATA_INPUT!AZ115,H113*I113*J113/144)*IF(G113<>\"\",3/2,1),\"\")","v":""},{"$f":"IF(DATA_INPUT!T115<>\"\",IF(DATA_INPUT!AZ115<>\"\",DATA_INPUT!AZ115,H113*I113*J113/144)*IF(G113<>\"\",3/2,1),\"\")","v":""},{"$f":"IF(DATA_INPUT!U115<>\"\",$H113,\"\")","v":""},{"$f":"IF(DATA_INPUT!V115<>\"\",$H113,\"\")","v":""},{"$f":"IF(DATA_INPUT!W115<>\"\",$H113,\"\")","v":""},{"$f":"IF(DATA_INPUT!X115<>\"\",$H113,\"\")","v":1},{"$f":"IF(DATA_INPUT!Y115<>\"\",$H113,\"\")","v":""},{"$f":"IF(DATA_INPUT!Z115<>\"\",DATA_INPUT!Z115,\"\")","v":""},{"$f":"IF(DATA_INPUT!AA115<>\"\",DATA_INPUT!AA115,\"\")","v":""},{"$f":"IF(DATA_INPUT!AB115<>\"\",DATA_INPUT!AB115,\"\")","v":""},{"$f":"IF(DATA_INPUT!AC115<>\"\",DATA_INPUT!AC115,\"\")","v":1},{"$f":"IF(DATA_INPUT!AD115<>\"\",DATA_INPUT!AD115,\"\")","v":""},{"$f":"IF(DATA_INPUT!AE115<>\"\",$V113,\"\")","v":""},{"$f":"IF(DATA_INPUT!AF115<>\"\",$V113*8,\"\")","v":""},{"$f":"IF(DATA_INPUT!AG115<>\"\",$V113*15,\"\")","v":""},{"$f":"IF(DATA_INPUT!AH115<>\"\",$V113*15,\"\")","v":""},{"$f":"IF(DATA_INPUT!AI115<>\"\",$V113,\"\")","v":""},{"$f":"IF(DATA_INPUT!AJ115<>\"\",$V113,\"\")","v":""},{"$f":"IF(DATA_INPUT!AK115<>\"\",$V113,\"\")","v":""},{"$f":"IF(DATA_INPUT!AL115<>\"\",$V113*7.6*DATA_INPUT!AL115,\"\")","v":""},{"$f":"IF(DATA_INPUT!AM115<>\"\",$V113*9*DATA_INPUT!AM115,\"\")","v":""},{"$f":"IF(DATA_INPUT!AN115<>\"\",$V113*10.8*DATA_INPUT!AN115,\"\")","v":""},{"$f":"IF(DATA_INPUT!AO115<>\"\",$V113*14.6*DATA_INPUT!AO115,\"\")","v":""},{"$f":"IF(DATA_INPUT!AP115<>\"\",$V113,\"\")","v":""},{"$f":"IF(DATA_INPUT!AQ115<>\"\",$V113,\"\")","v":""},{"$f":"IF(DATA_INPUT!AR115<>\"\",DATA_INPUT!AR115,\"\")","v":""},{"$f":"IF(DATA_INPUT!AS115<>\"\",DATA_INPUT!AS115,\"\")","v":""},{"$f":"IF(DATA_INPUT!AT115<>\"\",DATA_INPUT!AT115,\"\")","v":""},{"$f":"IF(DATA_INPUT!AU115<>\"\",DATA_INPUT!AU115,\"\")","v":""},{"$f":"IF(DATA_INPUT!AV115<>\"\",DATA_INPUT!AV115,\"\")","v":""},{"$f":"IF(DATA_INPUT!AW115<>\"\",DATA_INPUT!AW115,\"\")","v":""},{"$f":"IF(DATA_INPUT!AX115<>\"\",DATA_INPUT!AX115+Directions!$D$24-1,\"\")","v":""},{"$f":"IF(DATA_INPUT!AY115<>\"\",DATA_INPUT!AY115,\"\")","v":"T-70"},{"$f":"IF(DATA_INPUT!G115<>\"\",2,IF(DATA_INPUT!N115>2,2,IF(DATA_INPUT!N115=2,3,4)))","v":4},{"$f":"IF(OR(DATA_INPUT!S115<>\"\",DATA_INPUT!T115<>\"\"),H113,\"\")","v":""},{"$f":"IF(DATA_INPUT!T115<>\"\",\"X\",\"\")","v":""}]
[{"$f":"IF(DATA_INPUT!F116<>\"\",DATA_INPUT!F116,\"\")","v":""},{"$f":"IF(DATA_INPUT!G116<>\"\",DATA_INPUT!G116,\"\")","v":""},{"$f":"IF(DATA_INPUT!H116<>\"\",DATA_INPUT!H116,\"\")","v":"STA. 201+05.00"},{"$f":"IF(DATA_INPUT!I116<>\"\",DATA_INPUT!I116,\"\")","v":"F"},{"$f":"IF(DATA_INPUT!J116<>\"\",DATA_INPUT!J116,\"\")","v":"VR-922"},{"$f":"IF(DATA_INPUT!L116<>\"\",DATA_INPUT!L116,IF(DATA_INPUT!K116<>\"\",DATA_INPUT!K116,\"\"))","v":"(LT,Thru/RT) LANE ASSIGNMENT"},{"$f":"IF(DATA_INPUT!O116<>\"\",DATA_INPUT!O116,\"\")","v":""},{"$f":"IF(DATA_INPUT!P116<>\"\",DATA_INPUT!P116,\"\")","v":1},{"$f":"IF(DATA_INPUT!Q116<>\"\",DATA_INPUT!Q116,\"\")","v":30},{"$f":"IF(DATA_INPUT!R116<>\"\",DATA_INPUT!R116,\"\")","v":36},{"$f":"IF(DATA_INPUT!S116<>\"\",IF(DATA_INPUT!AZ116<>\"\",DATA_INPUT!AZ116,H114*I114*J114/144)*IF(G114<>\"\",3/2,1),\"\")","v":""},{"$f":"IF(DATA_INPUT!T116<>\"\",IF(DATA_INPUT!AZ116<>\"\",DATA_INPUT!AZ116,H114*I114*J114/144)*IF(G114<>\"\",3/2,1),\"\")","v":""},{"$f":"IF(DATA_INPUT!U116<>\"\",$H114,\"\")","v":""},{"$f":"IF(DATA_INPUT!V116<>\"\",$H114,\"\")","v":""},{"$f":"IF(DATA_INPUT!W116<>\"\",$H114,\"\")","v":""},{"$f":"IF(DATA_INPUT!X116<>\"\",$H114,\"\")","v":1},{"$f":"IF(DATA_INPUT!Y116<>\"\",$H114,\"\")","v":""},{"$f":"IF(DATA_INPUT!Z116<>\"\",DATA_INPUT!Z116,\"\")","v":""},{"$f":"IF(DATA_INPUT!AA116<>\"\",DATA_INPUT!AA116,\"\")","v":""},{"$f":"IF(DATA_INPUT!AB116<>\"\",DATA_INPUT!AB116,\"\")","v":""},{"$f":"IF(DATA_INPUT!AC116<>\"\",DATA_INPUT!AC116,\"\")","v":1},{"$f":"IF(DATA_INPUT!AD116<>\"\",DATA_INPUT!AD116,\"\")","v":""},{"$f":"IF(DATA_INPUT!AE116<>\"\",$V114,\"\")","v":""},{"$f":"IF(DATA_INPUT!AF116<>\"\",$V114*8,\"\")","v":""},{"$f":"IF(DATA_INPUT!AG116<>\"\",$V114*15,\"\")","v":""},{"$f":"IF(DATA_INPUT!AH116<>\"\",$V114*15,\"\")","v":""},{"$f":"IF(DATA_INPUT!AI116<>\"\",$V114,\"\")","v":""},{"$f":"IF(DATA_INPUT!AJ116<>\"\",$V114,\"\")","v":""},{"$f":"IF(DATA_INPUT!AK116<>\"\",$V114,\"\")","v":""},{"$f":"IF(DATA_INPUT!AL116<>\"\",$V114*7.6*DATA_INPUT!AL116,\"\")","v":""},{"$f":"IF(DATA_INPUT!AM116<>\"\",$V114*9*DATA_INPUT!AM116,\"\")","v":""},{"$f":"IF(DATA_INPUT!AN116<>\"\",$V114*10.8*DATA_INPUT!AN116,\"\")","v":""},{"$f":"IF(DATA_INPUT!AO116<>\"\",$V114*14.6*DATA_INPUT!AO116,\"\")","v":""},{"$f":"IF(DATA_INPUT!AP116<>\"\",$V114,\"\")","v":""},{"$f":"IF(DATA_INPUT!AQ116<>\"\",$V114,\"\")","v":""},{"$f":"IF(DATA_INPUT!AR116<>\"\",DATA_INPUT!AR116,\"\")","v":""},{"$f":"IF(DATA_INPUT!AS116<>\"\",DATA_INPUT!AS116,\"\")","v":""},{"$f":"IF(DATA_INPUT!AT116<>\"\",DATA_INPUT!AT116,\"\")","v":""},{"$f":"IF(DATA_INPUT!AU116<>\"\",DATA_INPUT!AU116,\"\")","v":""},{"$f":"IF(DATA_INPUT!AV116<>\"\",DATA_INPUT!AV116,\"\")","v":""},{"$f":"IF(DATA_INPUT!AW116<>\"\",DATA_INPUT!AW116,\"\")","v":""},{"$f":"IF(DATA_INPUT!AX116<>\"\",DATA_INPUT!AX116+Directions!$D$24-1,\"\")","v":""},{"$f":"IF(DATA_INPUT!AY116<>\"\",DATA_INPUT!AY116,\"\")","v":""},{"$f":"IF(DATA_INPUT!G116<>\"\",2,IF(DATA_INPUT!N116>2,2,IF(DATA_INPUT!N116=2,3,4)))","v":4},{"$f":"IF(OR(DATA_INPUT!S116<>\"\",DATA_INPUT!T116<>\"\"),H114,\"\")","v":""},{"$f":"IF(DATA_INPUT!T116<>\"\",\"X\",\"\")","v":""}]
[{"$f":"IF(DATA_INPUT!F117<>\"\",DATA_INPUT!F117,\"\")","v":""},{"$f":"IF(DATA_INPUT!G117<>\"\",DATA_INPUT!G117,\"\")","v":""},{"$f":"IF(DATA_INPUT!H117<>\"\",DATA_INPUT!H117,\"\")","v":"STA. 203 +85.00"},{"$f":"IF(DATA_INPUT!I117<>\"\",DATA_INPUT!I117,\"\")","v":"F"},{"$f":"IF(DATA_INPUT!J117<>\"\",DATA_INPUT!J117,\"\")","v":"CUSTOM"},{"$f":"IF(DATA_INPUT!L117<>\"\",DATA_INPUT!L117,IF(DATA_INPUT!K117<>\"\",DATA_INPUT!K117,\"\"))","v":"(LT,LT,Thru,RT) LANE ASSIGNMENT"},{"$f":"IF(DATA_INPUT!O117<>\"\",DATA_INPUT!O117,\"\")","v":""},{"$f":"IF(DATA_INPUT!P117<>\"\",DATA_INPUT!P117,\"\")","v":1},{"$f":"IF(DATA_INPUT!Q117<>\"\",DATA_INPUT!Q117,\"\")","v":60},{"$f":"IF(DATA_INPUT!R117<>\"\",DATA_INPUT!R117,\"\")","v":30},{"$f":"IF(DATA_INPUT!S117<>\"\",IF(DATA_INPUT!AZ117<>\"\",DATA_INPUT!AZ117,H115*I115*J115/144)*IF(G115<>\"\",3/2,1),\"\")","v":12.5},{"$f":"IF(DATA_INPUT!T117<>\"\",IF(DATA_INPUT!AZ117<>\"\",DATA_INPUT!AZ117,H115*I115*J115/144)*IF(G115<>\"\",3/2,1),\"\")","v":""},{"$f":"IF(DATA_INPUT!U117<>\"\",$H115,\"\")","v":""},{"$f":"IF(DATA_INPUT!V117<>\"\",$H115,\"\")","v":""},{"$f":"IF(DATA_INPUT!W117<>\"\",$H115,\"\")","v":""},{"$f":"IF(DATA_INPUT!X117<>\"\",$H115,\"\")","v":""},{"$f":"IF(DATA_INPUT!Y117<>\"\",$H115,\"\")","v":""},{"$f":"IF(DATA_INPUT!Z117<>\"\",DATA_INPUT!Z117,\"\")","v":""},{"$f":"IF(DATA_INPUT!AA117<>\"\",DATA_INPUT!AA117,\"\")","v":""},{"$f":"IF(DATA_INPUT!AB117<>\"\",DATA_INPUT!AB117,\"\")","v":""},{"$f":"IF(DATA_INPUT!AC117<>\"\",DATA_INPUT!AC117,\"\")","v":""},{"$f":"IF(DATA_INPUT!AD117<>\"\",DATA_INPUT!AD117,\"\")","v":2},{"$f":"IF(DATA_INPUT!AE117<>\"\",$V115,\"\")","v":""},{"$f":"IF(DATA_INPUT!AF117<>\"\",$V115*8,\"\")","v":""},{"$f":"IF(DATA_INPUT!AG117<>\"\",$V115*15,\"\")","v":30},{"$f":"IF(DATA_INPUT!AH117<>\"\",$V115*15,\"\")","v":""},{"$f":"IF(DATA_INPUT!AI117<>\"\",$V115,\"\")","v":2},{"$f":"IF(DATA_INPUT!AJ117<>\"\",$V115,\"\")","v":""},{"$f":"IF(DATA_INPUT!AK117<>\"\",$V115,\"\")","v":""},{"$f":"IF(DATA_INPUT!AL117<>\"\",$V115*7.6*DATA_INPUT!AL117,\"\")","v":""},{"$f":"IF(DATA_INPUT!AM117<>\"\",$V115*9*DATA_INPUT!AM117,\"\")","v":""},{"$f":"IF(DATA_INPUT!AN117<>\"\",$V115*10.8*DATA_INPUT!AN117,\"\")","v":""},{"$f":"IF(DATA_INPUT!AO117<>\"\",$V115*14.6*DATA_INPUT!AO117,\"\")","v":""},{"$f":"IF(DATA_INPUT!AP117<>\"\",$V115,\"\")","v":""},{"$f":"IF(DATA_INPUT!AQ117<>\"\",$V115,\"\")","v":""},{"$f":"IF(DATA_INPUT!AR117<>\"\",DATA_INPUT!AR117,\"\")","v":""},{"$f":"IF(DATA_INPUT!AS117<>\"\",DATA_INPUT!AS117,\"\")","v":""},{"$f":"IF(DATA_INPUT!AT117<>\"\",DATA_INPUT!AT117,\"\")","v":""},{"$f":"IF(DATA_INPUT!AU117<>\"\",DATA_INPUT!AU117,\"\")","v":""},{"$f":"IF(DATA_INPUT!AV117<>\"\",DATA_INPUT!AV117,\"\")","v":""},{"$f":"IF(DATA_INPUT!AW117<>\"\",DATA_INPUT!AW117,\"\")","v":""},{"$f":"IF(DATA_INPUT!AX117<>\"\",DATA_INPUT!AX117+Directions!$D$24-1,\"\")","v":1},{"$f":"IF(DATA_INPUT!AY117<>\"\",DATA_INPUT!AY117,\"\")","v":""},{"$f":"IF(DATA_INPUT!G117<>\"\",2,IF(DATA_INPUT!N117>2,2,IF(DATA_INPUT!N117=2,3,4)))","v":4},{"$f":"IF(OR(DATA_INPUT!S117<>\"\",DATA_INPUT!T117<>\"\"),H115,\"\")","v":1},{"$f":"IF(DATA_INPUT!T117<>\"\",\"X\",\"\")","v":""}]
[{"$f":"IF(DATA_INPUT!F118<>\"\",DATA_INPUT!F118,\"\")","v":""},{"$f":"IF(DATA_INPUT!G118<>\"\",DATA_INPUT!G118,\"\")","v":"VT-127/ BLAKELY RD"},{"$f":"IF(DATA_INPUT!H118<>\"\",DATA_INPUT!H118,\"\")","v":""},{"$f":"IF(DATA_INPUT!I118<>\"\",DATA_INPUT!I118,\"\")","v":""},{"$f":"IF(DATA_INPUT!J118<>\"\",DATA_INPUT!J118,\"\")","v":""},{"$f":"IF(DATA_INPUT!L118<>\"\",DATA_INPUT!L118,IF(DATA_INPUT!K118<>\"\",DATA_INPUT!K118,\"\"))","v":""},{"$f":"IF(DATA_INPUT!O118<>\"\",DATA_INPUT!O118,\"\")","v":""},{"$f":"IF(DATA_INPUT!P118<>\"\",DATA_INPUT!P118,\"\")","v":""},{"$f":"IF(DATA_INPUT!Q118<>\"\",DATA_INPUT!Q118,\"\")","v":""},{"$f":"IF(DATA_INPUT!R118<>\"\",DATA_INPUT!R118,\"\")","v":""},{"$f":"IF(DATA_INPUT!S118<>\"\",IF(DATA_INPUT!AZ118<>\"\",DATA_INPUT!AZ118,H116*I116*J116/144)*IF(G116<>\"\",3/2,1),\"\")","v":""},{"$f":"IF(DATA_INPUT!T118<>\"\",IF(DATA_INPUT!AZ118<>\"\",DATA_INPUT!AZ118,H116*I116*J116/144)*IF(G116<>\"\",3/2,1),\"\")","v":""},{"$f":"IF(DATA_INPUT!U118<>\"\",$H116,\"\")","v":""},{"$f":"IF(DATA_INPUT!V118<>\"\",$H116,\"\")","v":""},{"$f":"IF(DATA_INPUT!W118<>\"\",$H116,\"\")","v":""},{"$f":"IF(DATA_INPUT!X118<>\"\",$H116,\"\")","v":""},{"$f":"IF(DATA_INPUT!Y118<>\"\",$H116,\"\")","v":""},{"$f":"IF(DATA_INPUT!Z118<>\"\",DATA_INPUT!Z118,\"\")","v":""},{"$f":"IF(DATA_INPUT!AA118<>\"\",DATA_INPUT!AA118,\"\")","v":""},{"$f":"IF(DATA_INPUT!AB118<>\"\",DATA_INPUT!AB118,\"\")","v":""},{"$f":"IF(DATA_INPUT!AC118<>\"\",DATA_INPUT!AC118,\"\")","v":""},{"$f":"IF(DATA_INPUT!AD118<>\"\",DATA_INPUT!AD118,\"\")","v":""},{"$f":"IF(DATA_INPUT!AE118<>\"\",$V116,\"\")","v":""},{"$f":"IF(DATA_INPUT!AF118<>\"\",$V116*8,\"\")","v":""},{"$f":"IF(DATA_INPUT!AG118<>\"\",$V116*15,\"\")","v":""},{"$f":"IF(DATA_INPUT!AH118<>\"\",$V116*15,\"\")","v":""},{"$f":"IF(DATA_INPUT!AI118<>\"\",$V116,\"\")","v":""},{"$f":"IF(DATA_INPUT!AJ118<>\"\",$V116,\"\")","v":""},{"$f":"IF(DATA_INPUT!AK118<>\"\",$V116,\"\")","v":""},{"$f":"IF(DATA_INPUT!AL118<>\"\",$V116*7.6*DATA_INPUT!AL118,\"\")","v":""},{"$f":"IF(DATA_INPUT!AM118<>\"\",$V116*9*DATA_INPUT!AM118,\"\")","v":""},{"$f":"IF(DATA_INPUT!AN118<>\"\",$V116*10.8*DATA_INPUT!AN118,\"\")","v":""},{"$f":"IF(DATA_INPUT!AO118<>\"\",$V116*14.6*DATA_INPUT!AO118,\"\")","v":""},{"$f":"IF(DATA_INPUT!AP118<>\"\",$V116,\"\")","v":""},{"$f":"IF(DATA_INPUT!AQ118<>\"\",$V116,\"\")","v":""},{"$f":"IF(DATA_INPUT!AR118<>\"\",DATA_INPUT!AR118,\"\")","v":""},{"$f":"IF(DATA_INPUT!AS118<>\"\",DATA_INPUT!AS118,\"\")","v":""},{"$f":"IF(DATA_INPUT!AT118<>\"\",DATA_INPUT!AT118,\"\")","v":""},{"$f":"IF(DATA_INPUT!AU118<>\"\",DATA_INPUT!AU118,\"\")","v":""},{"$f":"IF(DATA_INPUT!AV118<>\"\",DATA_INPUT!AV118,\"\")","v":""},{"$f":"IF(DATA_INPUT!AW118<>\"\",DATA_INPUT!AW118,\"\")","v":""},{"$f":"IF(DATA_INPUT!AX118<>\"\",DATA_INPUT!AX118+Directions!$D$24-1,\"\")","v":""},{"$f":"IF(DATA_INPUT!AY118<>\"\",DATA_INPUT!AY118,\"\")","v":""},{"$f":"IF(DATA_INPUT!G118<>\"\",2,IF(DATA_INPUT!N118>2,2,IF(DATA_INPUT!N118=2,3,4)))","v":2},{"$f":"IF(OR(DATA_INPUT!S118<>\"\",DATA_INPUT!T118<>\"\"),H116,\"\")","v":""},{"$f":"IF(DATA_INPUT!T118<>\"\",\"X\",\"\")","v":""}]
[{"$f":"IF(DATA_INPUT!F119<>\"\",DATA_INPUT!F119,\"\")","v":""},{"$f":"IF(DATA_INPUT!G119<>\"\",DATA_INPUT!G119,\"\")","v":""},{"$f":"IF(DATA_INPUT!H119<>\"\",DATA_INPUT!H119,\"\")","v":"STA. 296 +20.00"},{"$f":"IF(DATA_INPUT!I119<>\"\",DATA_INPUT!I119,\"\")","v":"A"},{"$f":"IF(DATA_INPUT!J119<>\"\",DATA_INPUT!J119,\"\")","v":"W3-3"},{"$f":"IF(DATA_INPUT!L119<>\"\",DATA_INPUT!L119,IF(DATA_INPUT!K119<>\"\",DATA_INPUT!K119,\"\"))","v":{"$error":"#VALUE!"}},{"$f":"IF(DATA_INPUT!O119<>\"\",DATA_INPUT!O119,\"\")","v":""},{"$f":"IF(DATA_INPUT!P119<>\"\",DATA_INPUT!P119,\"\")","v":1},{"$f":"IF(DATA_INPUT!Q119<>\"\",DATA_INPUT!Q119,\"\")","v":30},{"$f":"IF(DATA_INPUT!R119<>\"\",DATA_INPUT!R119,\"\")","v":30},{"$f":"IF(DATA_INPUT!S119<>\"\",IF(DATA_INPUT!AZ119<>\"\",DATA_INPUT!AZ119,H117*I117*J117/144)*IF(G117<>\"\",3/2,1),\"\")","v":""},{"$f":"IF(DATA_INPUT!T119<>\"\",IF(DATA_INPUT!AZ119<>\"\",DATA_INPUT!AZ119,H117*I117*J117/144)*IF(G117<>\"\",3/2,1),\"\")","v":""},{"$f":"IF(DATA_INPUT!U119<>\"\",$H117,\"\")","v":""},{"$f":"IF(DATA_INPUT!V119<>\"\",$H117,\"\")","v":""},{"$f":"IF(DATA_INPUT!W119<>\"\",$H117,\"\")","v":""},{"$f":"IF(DATA_INPUT!X119<>\"\",$H117,\"\")","v":1},{"$f":"IF(DATA_INPUT!Y119<>\"\",$H117,\"\")","v":""},{"$f":"IF(DATA_INPUT!Z119<>\"\",DATA_INPUT!Z119,\"\")","v":""},{"$f":"IF(DATA_INPUT!AA119<>\"\",DATA_INPUT!AA119,\"\")","v":""},{"$f":"IF(DATA_INPUT!AB119<>\"\",DATA_INPUT!AB119,\"\")","v":""},{"$f":"IF(DATA_INPUT!AC119<>\"\",DATA_INPUT!AC119,\"\")","v":1},{"$f":"IF(DATA_INPUT!AD119<>\"\",DATA_INPUT!AD119,\"\")","v":""},{"$f":"IF(DATA_INPUT!AE119<>\"\",$V117,\"\")","v":""},{"$f":"IF(DATA_INPUT!AF119<>\"\",$V117*8,\"\")","v":""},{"$f":"IF(DATA_INPUT!AG119<>\"\",$V117*15,\"\")","v":""},{"$f":"IF(DATA_INPUT!AH119<>\"\",$V117*15,\"\")","v":""},{"$f":"IF(DATA_INPUT!AI119<>\"\",$V117,\"\")","v":""},{"$f":"IF(DATA_INPUT!AJ119<>\"\",$V117,\"\")","v":""},{"$f":"IF(DATA_INPUT!AK119<>\"\",$V117,\"\")","v":""},{"$f":"IF(DATA_INPUT!AL119<>\"\",$V117*7.6*DATA_INPUT!AL119,\"\")","v":""},{"$f":"IF(DATA_INPUT!AM119<>\"\",$V117*9*DATA_INPUT!AM119,\"\")","v":""},{"$f":"IF(DATA_INPUT!AN119<>\"\",$V117*10.8*DATA_INPUT!AN119,\"\")","v":""},{"$f":"IF(DATA_INPUT!AO119<>\"\",$V117*14.6*DATA_INPUT!AO119,\"\")","v":""},{"$f":"IF(DATA_INPUT!AP119<>\"\",$V117,\"\")","v":""},{"$f":"IF(DATA_INPUT!AQ119<>\"\",$V117,\"\")","v":""},{"$f":"IF(DATA_INPUT!AR119<>\"\",DATA_INPUT!AR119,\"\")","v":""},{"$f":"IF(DATA_INPUT!AS119<>\"\",DATA_INPUT!AS119,\"\")","v":""},{"$f":"IF(DATA_INPUT!AT119<>\"\",DATA_INPUT!AT119,\"\")","v":""},{"$f":"IF(DATA_INPUT!AU119<>\"\",DATA_INPUT!AU119,\"\")","v":""},{"$f":"IF(DATA_INPUT!AV119<>\"\",DATA_INPUT!AV119,\"\")","v":""},{"$f":"IF(DATA_INPUT!AW119<>\"\",DATA_INPUT!AW119,\"\")","v":"X"},{"$f":"IF(DATA_INPUT!AX119<>\"\",DATA_INPUT!AX119+Directions!$D$24-1,\"\")","v":""},{"$f":"IF(DATA_INPUT!AY119<>\"\",DATA_INPUT!AY119,\"\")","v":""},{"$f":"IF(DATA_INPUT!G119<>\"\",2,IF(DATA_INPUT!N119>2,2,IF(DATA_INPUT!N119=2,3,4)))","v":4},{"$f":"IF(OR(DATA_INPUT!S119<>\"\",DATA_INPUT!T119<>\"\"),H117,\"\")","v":""},{"$f":"IF(DATA_INPUT!T119<>\"\",\"X\",\"\")","v":""}]
[{"$f":"IF(DATA_INPUT!F120<>\"\",DATA_INPUT!F120,\"\")","v":""},{"$f":"IF(DATA_INPUT!G120<>\"\",DATA_INPUT!G120,\"\")","v":""},{"$f":"IF(DATA_INPUT!H120<>\"\",DATA_INPUT!H120,\"\")","v":""},{"$f":"IF(DATA_INPUT!I120<>\"\",DATA_INPUT!I120,\"\")","v":"A"},{"$f":"IF(DATA_INPUT!J120<>\"\",DATA_INPUT!J120,\"\")","v":"W3-3"},{"$f":"IF(DATA_INPUT!L120<>\"\",DATA_INPUT!L120,IF(DATA_INPUT!K120<>\"\",DATA_INPUT!K120,\"\"))","v":{"$error":"#VALUE!"}},{"$f":"IF(DATA_INPUT!O120<>\"\",DATA_INPUT!O120,\"\")","v":""},{"$f":"IF(DATA_INPUT!P120<>\"\",DATA_INPUT!P120,\"\")","v":1},{"$f":"IF(DATA_INPUT!Q120<>\"\",DATA_INPUT!Q120,\"\")","v":30},{"$f":"IF(DATA_INPUT!R120<>\"\",DATA_INPUT!R120,\"\")","v":30},{"$f":"IF(DATA_INPUT!S120<>\"\",IF(DATA_INPUT!AZ120<>\"\",DATA_INPUT!AZ120,H118*I118*J118/144)*IF(G118<>\"\",3/2,1),\"\")","v":6.25},{"$f":"IF(DATA_INPUT!T120<>\"\",IF(DATA_INPUT!AZ120<>\"\",DATA_INPUT!AZ120,H118*I118*J118/144)*IF(G118<>\"\",3/2,1),\"\")","v":""},{"$f":"IF(DATA_INPUT!U120<>\"\",$H118,\"\")","v":""},{"$f":"IF(DATA_INPUT!V120<>\"\",$H118,\"\")","v":""},{"$f":"IF(DATA_INPUT!W120<>\"\",$H118,\"\")","v":""},{"$f":"IF(DATA_INPUT!X120<>\"\",$H118,\"\")","v":""},{"$f":"IF(DATA_INPUT!Y120<>\"\",$H118,\"\")","v":""},{"$f":"IF(DATA_INPUT!Z120<>\"\",DATA_INPUT!Z120,\"\")","v":""},{"$f":"IF(DATA_INPUT!AA120<>\"\",DATA_INPUT!AA120,\"\")","v":""},{"$f":"IF(DATA_INPUT!AB120<>\"\",DATA_INPUT!AB120,\"\")","v":""},{"$f":"IF(DATA_INPUT!AC120<>\"\",DATA_INPUT!AC120,\"\")","v":""},{"$f":"IF(DATA_INPUT!AD120<>\"\",DATA_INPUT!AD120,\"\")","v":1},{"$f":"IF(DATA_INPUT!AE120<>\"\",$V118,\"\")","v":""},{"$f":"IF(DATA_INPUT!AF120<>\"\",$V118*8,\"\")","v":""},{"$f":"IF(DATA_INPUT!AG120<>\"\",$V118*15,\"\")","v":15},{"$f":"IF(DATA_INPUT!AH120<>\"\",$V118*15,\"\")","v":""},{"$f":"IF(DATA_INPUT!AI120<>\"\",$V118,\"\")","v":1},{"$f":"IF(DATA_INPUT!AJ120<>\"\",$V118,\"\")","v":""},{"$f":"IF(DATA_INPUT!AK120<>\"\",$V118,\"\")","v":""},{"$f":"IF(DATA_INPUT!AL120<>\"\",$V118*7.6*DATA_INPUT!AL120,\"\")","v":""},{"$f":"IF(DATA_INPUT!AM120<>\"\",$V118*9*DATA_INPUT!AM120,\"\")","v":""},{"$f":"IF(DATA_INPUT!AN120<>\"\",$V118*10.8*DATA_INPUT!AN120,\"\")","v":""},{"$f":"IF(DATA_INPUT!AO120<>\"\",$V118*14.6*DATA_INPUT!AO120,\"\")","v":""},{"$f":"IF(DATA_INPUT!AP120<>\"\",$V118,\"\")","v":""},{"$f":"IF(DATA_INPUT!AQ120<>\"\",$V118,\"\")","v":""},{"$f":"IF(DATA_INPUT!AR120<>\"\",DATA_INPUT!AR120,\"\")","v":""},{"$f":"IF(DATA_INPUT!AS120<>\"\",DATA_INPUT!AS120,\"\")","v":""},{"$f":"IF(DATA_INPUT!AT120<>\"\",DATA_INPUT!AT120,\"\")","v":""},{"$f":"IF(DATA_INPUT!AU120<>\"\",DATA_INPUT!AU120,\"\")","v":""},{"$f":"IF(DATA_INPUT!AV120<>\"\",DATA_INPUT!AV120,\"\")","v":"YELLOW"},{"$f":"IF(DATA_INPUT!AW120<>\"\",DATA_INPUT!AW120,\"\")","v":"X"},{"$f":"IF(DATA_INPUT!AX120<>\"\",DATA_INPUT!AX120+Directions!$D$24-1,\"\")","v":""},{"$f":"IF(DATA_INPUT!AY120<>\"\",DATA_INPUT!AY120,\"\")","v":""},{"$f":"IF(DATA_INPUT!G120<>\"\",2,IF(DATA_INPUT!N120>2,2,IF(DATA_INPUT!N120=2,3,4)))","v":4},{"$f":"IF(OR(DATA_INPUT!S120<>\"\",DATA_INPUT!T120<>\"\"),H118,\"\")","v":1},{"$f":"IF(DATA_INPUT!T120<>\"\",\"X\",\"\")","v":""}]
[{"$f":"IF(DATA_INPUT!F121<>\"\",DATA_INPUT!F121,\"\")","v":""},{"$f":"IF(DATA_INPUT!G121<>\"\",DATA_INPUT!G121,\"\")","v":""},{"$f":"IF(DATA_INPUT!H121<>\"\",DATA_INPUT!H121,\"\")","v":"STA. 299+47.00"},{"$f":"IF(DATA_INPUT!I121<>\"\",DATA_INPUT!I121,\"\")","v":"F"},{"$f":"IF(DATA_INPUT!J121<>\"\",DATA_INPUT!J121,\"\")","v":"R3-7L"},{"$f":"IF(DATA_INPUT!L121<>\"\",DATA_INPUT!L121,IF(DATA_INPUT!K121<>\"\",DATA_INPUT!K121,\"\"))","v":{"$error":"#VALUE!"}},{"$f":"IF(DATA_INPUT!O121<>\"\",DATA_INPUT!O121,\"\")","v":""},{"$f":"IF(DATA_INPUT!P121<>\"\",DATA_INPUT!P121,\"\")","v":1},{"$f":"IF(DATA_INPUT!Q121<>\"\",DATA_INPUT!Q121,\"\")","v":36},{"$f":"IF(DATA_INPUT!R121<>\"\",DATA_INPUT!R121,\"\")","v":36},{"$f":"IF(DATA_INPUT!S121<>\"\",IF(DATA_INPUT!AZ121<>\"\",DATA_INPUT!AZ121,H119*I119*J119/144)*IF(G119<>\"\",3/2,1),\"\")","v":""},{"$f":"IF(DATA_INPUT!T121<>\"\",IF(DATA_INPUT!AZ121<>\"\",DATA_INPUT!AZ121,H119*I119*J119/144)*IF(G119<>\"\",3/2,1),\"\")","v":""},{"$f":"IF(DATA_INPUT!U121<>\"\",$H119,\"\")","v":""},{"$f":"IF(DATA_INPUT!V121<>\"\",$H119,\"\")","v":""},{"$f":"IF(DATA_INPUT!W121<>\"\",$H119,\"\")","v":""},{"$f":"IF(DATA_INPUT!X121<>\"\",$H119,\"\")","v":1},{"$f":"IF(DATA_INPUT!Y121<>\"\",$H119,\"\")","v":""},{"$f":"IF(DATA_INPUT!Z121<>\"\",DATA_INPUT!Z121,\"\")","v":""},{"$f":"IF(DATA_INPUT!AA121<>\"\",DATA_INPUT!AA121,\"\")","v":""},{"$f":"IF(DATA_INPUT!AB121<>\"\",DATA_INPUT!AB121,\"\")","v":""},{"$f":"IF(DATA_INPUT!AC121<>\"\",DATA_INPUT!AC121,\"\")","v":1},{"$f":"IF(DATA_INPUT!AD121<>\"\",DATA_INPUT!AD121,\"\")","v":""},{"$f":"IF(DATA_INPUT!AE121<>\"\",$V119,\"\")","v":""},{"$f":"IF(DATA_INPUT!AF121<>\"\",$V119*8,\"\")","v":""},{"$f":"IF(DATA_INPUT!AG121<>\"\",$V119*15,\"\")","v":""},{"$f":"IF(DATA_INPUT!AH121<>\"\",$V119*15,\"\")","v":""},{"$f":"IF(DATA_INPUT!AI121<>\"\",$V119,\"\")","v":""},{"$f":"IF(DATA_INPUT!AJ121<>\"\",$V119,\"\")","v":""},{"$f":"IF(DATA_INPUT!AK121<>\"\",$V119,\"\")","v":""},{"$f":"IF(DATA_INPUT!AL121<>\"\",$V119*7.6*DATA_INPUT!AL121,\"\")","v":""},{"$f":"IF(DATA_INPUT!AM121<>\"\",$V119*9*DATA_INPUT!AM121,\"\")","v":""},{"$f":"IF(DATA_INPUT!AN121<>\"\",$V119*10.8*DATA_INPUT!AN121,\"\")","v":""},{"$f":"IF(DATA_INPUT!AO121<>\"\",$V119*14.6*DATA_INPUT!AO121,\"\")","v":""},{"$f":"IF(DATA_INPUT!AP121<>\"\",$V119,\"\")","v":""},{"$f":"IF(DATA_INPUT!AQ121<>\"\",$V119,\"\")","v":""},{"$f":"IF(DATA_INPUT!AR121<>\"\",DATA_INPUT!AR121,\"\")","v":""},{"$f":"IF(DATA_INPUT!AS121<>\"\",DATA_INPUT!AS121,\"\")","v":""},{"$f":"IF(DATA_INPUT!AT121<>\"\",DATA_INPUT!AT121,\"\")","v":""},{"$f":"IF(DATA_INPUT!AU121<>\"\",DATA_INPUT!AU121,\"\")","v":""},{"$f":"IF(DATA_INPUT!AV121<>\"\",DATA_INPUT!AV121,\"\")","v":""},{"$f":"IF(DATA_INPUT!AW121<>\"\",DATA_INPUT!AW121,\"\")","v":"X"},{"$f":"IF(DATA_INPUT!AX121<>\"\",DATA_INPUT!AX121+Directions!$D$24-1,\"\")","v":""},{"$f":"IF(DATA_INPUT!AY121<>\"\",DATA_INPUT!AY121,\"\")","v":""},{"$f":"IF(DATA_INPUT!G121<>\"\",2,IF(DATA_INPUT!N121>2,2,IF(DATA_INPUT!N121=2,3,4)))","v":4},{"$f":"IF(OR(DATA_INPUT!S121<>\"\",DATA_INPUT!T121<>\"\"),H119,\"\")","v":""},{"$f":"IF(DATA_INPUT!T121<>\"\",\"X\",\"\")","v":""}]
[{"$f":"IF(DATA_INPUT!F122<>\"\",DATA_INPUT!F122,\"\")","v":""},{"$f":"IF(DATA_INPUT!G122<>\"\",DATA_INPUT!G122,\"\")","v":""},{"$f":"IF(DATA_INPUT!H122<>\"\",DATA_INPUT!H122,\"\")","v":""},{"$f":"IF(DATA_INPUT!I122<>\"\",DATA_INPUT!I122,\"\")","v":"F"},{"$f":"IF(DATA_INPUT!J122<>\"\",DATA_INPUT!J122,\"\")","v":"R3-7L"},{"$f":"IF(DATA_INPUT!L122<>\"\",DATA_INPUT!L122,IF(DATA_INPUT!K122<>\"\",DATA_INPUT!K122,\"\"))","v":{"$error":"#VALUE!"}},{"$f":"IF(DATA_INPUT!O122<>\"\",DATA_INPUT!O122,\"\")","v":""},{"$f":"IF(DATA_INPUT!P122<>\"\",DATA_INPUT!P122,\"\")","v":1},{"$f":"IF(DATA_INPUT!Q122<>\"\",DATA_INPUT!Q122,\"\")","v":36},{"$f":"IF(DATA_INPUT!R122<>\"\",DATA_INPUT!R122,\"\")","v":36},{"$f":"IF(DATA_INPUT!S122<>\"\",IF(DATA_INPUT!AZ122<>\"\",DATA_INPUT!AZ122,H120*I120*J120/144)*IF(G120<>\"\",3/2,1),\"\")","v":9},{"$f":"IF(DATA_INPUT!T122<>\"\",IF(DATA_INPUT!AZ122<>\"\",DATA_INPUT!AZ122,H120*I120*J120/144)*IF(G120<>\"\",3/2,1),\"\")","v":""},{"$f":"IF(DATA_INPUT!U122<>\"\",$H120,\"\")","v":""},{"$f":"IF(DATA_INPUT!V122<>\"\",$H120,\"\")","v":""},{"$f":"IF(DATA_INPUT!W122<>\"\",$H120,\"\")","v":""},{"$f":"IF(DATA_INPUT!X122<>\"\",$H120,\"\")","v":""},{"$f":"IF(DATA_INPUT!Y122<>\"\",$H120,\"\")","v":""},{"$f":"IF(DATA_INPUT!Z122<>\"\",DATA_INPUT!Z122,\"\")","v":""},{"$f":"IF(DATA_INPUT!AA122<>\"\",DATA_INPUT!AA122,\"\")","v":""},{"$f":"IF(DATA_INPUT!AB122<>\"\",DATA_INPUT!AB122,\"\")","v":""},{"$f":"IF(DATA_INPUT!AC122<>\"\",DATA_INPUT!AC122,\"\")","v":""},{"$f":"IF(DATA_INPUT!AD122<>\"\",DATA_INPUT!AD122,\"\")","v":1},{"$f":"IF(DATA_INPUT!AE122<>\"\",$V120,\"\")","v":""},{"$f":"IF(DATA_INPUT!AF122<>\"\",$V120*8,\"\")","v":""},{"$f":"IF(DATA_INPUT!AG122<>\"\",$V120*15,\"\")","v":15},{"$f":"IF(DATA_INPUT!AH122<>\"\",$V120*15,\"\")","v":""},{"$f":"IF(DATA_INPUT!AI122<>\"\",$V120,\"\")","v":1},{"$f":"IF(DATA_INPUT!AJ122<>\"\",$V120,\"\")","v":""},{"$f":"IF(DATA_INPUT!AK122<>\"\",$V120,\"\")","v":""},{"$f":"IF(DATA_INPUT!AL122<>\"\",$V120*7.6*DATA_INPUT!AL122,\"\")","v":""},{"$f":"IF(DATA_INPUT!AM122<>\"\",$V120*9*DATA_INPUT!AM122,\"\")","v":""},{"$f":"IF(DATA_INPUT!AN122<>\"\",$V120*10.8*DATA_INPUT!AN122,\"\")","v":""},{"$f":"IF(DATA_INPUT!AO122<>\"\",$V120*14.6*DATA_INPUT!AO122,\"\")","v":""},{"$f":"IF(DATA_INPUT!AP122<>\"\",$V120,\"\")","v":""},{"$f":"IF(DATA_INPUT!AQ122<>\"\",$V120,\"\")","v":""},{"$f":"IF(DATA_INPUT!AR122<>\"\",DATA_INPUT!AR122,\"\")","v":""},{"$f":"IF(DATA_INPUT!AS122<>\"\",DATA_INPUT!AS122,\"\")","v":""},{"$f":"IF(DATA_INPUT!AT122<>\"\",DATA_INPUT!AT122,\"\")","v":""},{"$f":"IF(DATA_INPUT!AU122<>\"\",DATA_INPUT!AU122,\"\")","v":""},{"$f":"IF(DATA_INPUT!AV122<>\"\",DATA_INPUT!AV122,\"\")","v":""},{"$f":"IF(DATA_INPUT!AW122<>\"\",DATA_INPUT!AW122,\"\")","v":"X"},{"$f":"IF(DATA_INPUT!AX122<>\"\",DATA_INPUT!AX122+Directions!$D$24-1,\"\")","v":""},{"$f":"IF(DATA_INPUT!AY122<>\"\",DATA_INPUT!AY122,\"\")","v":""},{"$f":"IF(DATA_INPUT!G122<>\"\",2,IF(DATA_INPUT!N122>2,2,IF(DATA_INPUT!N122=2,3,4)))","v":4},{"$f":"IF(OR(DATA_INPUT!S122<>\"\",DATA_INPUT!T122<>\"\"),H120,\"\")","v":1},{"$f":"IF(DATA_INPUT!T122<>\"\",\"X\",\"\")","v":""}]
[{"$f":"IF(DATA_INPUT!F123<>\"\",DATA_INPUT!F123,\"\")","v":""},{"$f":"IF(DATA_INPUT!G123<>\"\",DATA_INPUT!G123,\"\")","v":""},{"$f":"IF(DATA_INPUT!H123<>\"\",DATA_INPUT!H123,\"\")","v":"STA. 300 +20.00"},{"$f":"IF(DATA_INPUT!I123<>\"\",DATA_INPUT!I123,\"\")","v":"F"},{"$f":"IF(DATA_INPUT!J123<>\"\",DATA_INPUT!J123,\"\")","v":"TIS"},{"$f":"IF(DATA_INPUT!L123<>\"\",DATA_INPUT!L123,IF(DATA_INPUT!K123<>\"\",DATA_INPUT!K123,\"\"))","v":"(Travel Information Signs)"},{"$f":"IF(DATA_INPUT!O123<>\"\",DATA_INPUT!O123,\"\")","v":""},{"$f":"IF(DATA_INPUT!P123<>\"\",DATA_INPUT!P123,\"\")","v":1},{"$f":"IF(DATA_INPUT!Q123<>\"\",DATA_INPUT!Q123,\"\")","v":""},{"$f":"IF(DATA_INPUT!R123<>\"\",DATA_INPUT!R123,\"\")","v":""},{"$f":"IF(DATA_INPUT!S123<>\"\",IF(DATA_INPUT!AZ123<>\"\",DATA_INPUT!AZ123,H121*I121*J121/144)*IF(G121<>\"\",3/2,1),\"\")","v":""},{"$f":"IF(DATA_INPUT!T123<>\"\",IF(DATA_INPUT!AZ123<>\"\",DATA_INPUT!AZ123,H121*I121*J121/144)*IF(G121<>\"\",3/2,1),\"\")","v":""},{"$f":"IF(DATA_INPUT!U123<>\"\",$H121,\"\")","v":1},{"$f":"IF(DATA_INPUT!V123<>\"\",$H121,\"\")","v":""},{"$f":"IF(DATA_INPUT!W123<>\"\",$H121,\"\")","v":""},{"$f":"IF(DATA_INPUT!X123<>\"\",$H121,\"\")","v":""},{"$f":"IF(DATA_INPUT!Y123<>\"\",$H121,\"\")","v":""},{"$f":"IF(DATA_INPUT!Z123<>\"\",DATA_INPUT!Z123,\"\")","v":2},{"$f":"IF(DATA_INPUT!AA123<>\"\",DATA_INPUT!AA123,\"\")","v":""},{"$f":"IF(DATA_INPUT!AB123<>\"\",DATA_INPUT!AB123,\"\")","v":""},{"$f":"IF(DATA_INPUT!AC123<>\"\",DATA_INPUT!AC123,\"\")","v":""},{"$f":"IF(DATA_INPUT!AD123<>\"\",DATA_INPUT!AD123,\"\")","v":""},{"$f":"IF(DATA_INPUT!AE123<>\"\",$V121,\"\")","v":""},{"$f":"IF(DATA_INPUT!AF123<>\"\",$V121*8,\"\")","v":""},{"$f":"IF(DATA_INPUT!AG123<>\"\",$V121*15,\"\")","v":""},{"$f":"IF(DATA_INPUT!AH123<>\"\",$V121*15,\"\")","v":""},{"$f":"IF(DATA_INPUT!AI123<>\"\",$V121,\"\")","v":""},{"$f":"IF(DATA_INPUT!AJ123<>\"\",$V121,\"\")","v":""},{"$f":"IF(DATA_INPUT!AK123<>\"\",$V121,\"\")","v":""},{"$f":"IF(DATA_INPUT!AL123<>\"\",$V121*7.6*DATA_INPUT!AL123,\"\")","v":""},{"$f":"IF(DATA_INPUT!AM123<>\"\",$V121*9*DATA_INPUT!AM123,\"\")","v":""},{"$f":"IF(DATA_INPUT!AN123<>\"\",$V121*10.8*DATA_INPUT!AN123,\"\")","v":""},{"$f":"IF(DATA_INPUT!AO123<>\"\",$V121*14.6*DATA_INPUT!AO123,\"\")","v":""},{"$f":"IF(DATA_INPUT!AP123<>\"\",$V121,\"\")","v":""},{"$f":"IF(DATA_INPUT!AQ123<>\"\",$V121,\"\")","v":""},{"$f":"IF(DATA_INPUT!AR123<>\"\",DATA_INPUT!AR123,\"\")","v":""},{"$f":"IF(DATA_INPUT!AS123<>\"\",DATA_INPUT!AS123,\"\")","v":""},{"$f":"IF(DATA_INPUT!AT123<>\"\",DATA_INPUT!AT123,\"\")","v":""},{"$f":"IF(DATA_INPUT!AU123<>\"\",DATA_INPUT!AU123,\"\")","v":""},{"$f":"IF(DATA_INPUT!AV123<>\"\",DATA_INPUT!AV123,\"\")","v":""},{"$f":"IF(DATA_INPUT!AW123<>\"\",DATA_INPUT!AW123,\"\")","v":""},{"$f":"IF(DATA_INPUT!AX123<>\"\",DATA_INPUT!AX123+Directions!$D$24-1,\"\")","v":""},{"$f":"IF(DATA_INPUT!AY123<>\"\",DATA_INPUT!AY123,\"\")","v":""},{"$f":"IF(DATA_INPUT!G123<>\"\",2,IF(DATA_INPUT!N123>2,2,IF(DATA_INPUT!N123=2,3,4)))","v":4},{"$f":"IF(OR(DATA_INPUT!S123<>\"\",DATA_INPUT!T123<>\"\"),H121,\"\")","v":""},{"$f":"IF(DATA_INPUT!T123<>\"\",\"X\",\"\")","v":""}]
[{"$f":"IF(DATA_INPUT!F124<>\"\",DATA_INPUT!F124,\"\")","v":""},{"$f":"IF(DATA_INPUT!G124<>\"\",DATA_INPUT!G124,\"\")","v":""},{"$f":"IF(DATA_INPUT!H124<>\"\",DATA_INPUT!H124,\"\")","v":"STA. 301 +34.00"},{"$f":"IF(DATA_INPUT!I124<>\"\",DATA_INPUT!I124,\"\")","v":"F"},{"$f":"IF(DATA_INPUT!J124<>\"\",DATA_INPUT!J124,\"\")","v":"VR-921"},{"$f":"IF(DATA_INPUT!L124<>\"\",DATA_INPUT!L124,IF(DATA_INPUT!K124<>\"\",DATA_INPUT!K124,\"\"))","v":"(LT, THRU) LANE ASSIGNMENT"},{"$f":"IF(DATA_INPUT!O124<>\"\",DATA_INPUT!O124,\"\")","v":""},{"$f":"IF(DATA_INPUT!P124<>\"\",DATA_INPUT!P124,\"\")","v":1},{"$f":"IF(DATA_INPUT!Q124<>\"\",DATA_INPUT!Q124,\"\")","v":30},{"$f":"IF(DATA_INPUT!R124<>\"\",DATA_INPUT!R124,\"\")","v":30},{"$f":"IF(DATA_INPUT!S124<>\"\",IF(DATA_INPUT!AZ124<>\"\",DATA_INPUT!AZ124,H122*I122*J122/144)*IF(G122<>\"\",3/2,1),\"\")","v":""},{"$f":"IF(DATA_INPUT!T124<>\"\",IF(DATA_INPUT!AZ124<>\"\",DATA_INPUT!AZ124,H122*I122*J122/144)*IF(G122<>\"\",3/2,1),\"\")","v":""},{"$f":"IF(DATA_INPUT!U124<>\"\",$H122,\"\")","v":""},{"$f":"IF(DATA_INPUT!V124<>\"\",$H122,\"\")","v":""},{"$f":"IF(DATA_INPUT!W124<>\"\",$H122,\"\")","v":""},{"$f":"IF(DATA_INPUT!X124<>\"\",$H122,\"\")","v":""},{"$f":"IF(DATA_INPUT!Y124<>\"\",$H122,\"\")","v":""},{"$f":"IF(DATA_INPUT!Z124<>\"\",DATA_INPUT!Z124,\"\")","v":1},{"$f":"IF(DATA_INPUT!AA124<>\"\",DATA_INPUT!AA124,\"\")","v":""},{"$f":"IF(DATA_INPUT!AB124<>\"\",DATA_INPUT!AB124,\"\")","v":""},{"$f":"IF(DATA_INPUT!AC124<>\"\",DATA_INPUT!AC124,\"\")","v":""},{"$f":"IF(DATA_INPUT!AD124<>\"\",DATA_INPUT!AD124,\"\")","v":""},{"$f":"IF(DATA_INPUT!AE124<>\"\",$V122,\"\")","v":""},{"$f":"IF(DATA_INPUT!AF124<>\"\",$V122*8,\"\")","v":""},{"$f":"IF(DATA_INPUT!AG124<>\"\",$V122*15,\"\")","v":""},{"$f":"IF(DATA_INPUT!AH124<>\"\",$V122*15,\"\")","v":""},{"$f":"IF(DATA_INPUT!AI124<>\"\",$V122,\"\")","v":""},{"$f":"IF(DATA_INPUT!AJ124<>\"\",$V122,\"\")","v":""},{"$f":"IF(DATA_INPUT!AK124<>\"\",$V122,\"\")","v":""},{"$f":"IF(DATA_INPUT!AL124<>\"\",$V122*7.6*DATA_INPUT!AL124,\"\")","v":""},{"$f":"IF(DATA_INPUT!AM124<>\"\",$V122*9*DATA_INPUT!AM124,\"\")","v":""},{"$f":"IF(DATA_INPUT!AN124<>\"\",$V122*10.8*DATA_INPUT!AN124,\"\")","v":""},{"$f":"IF(DATA_INPUT!AO124<>\"\",$V122*14.6*DATA_INPUT!AO124,\"\")","v":""},{"$f":"IF(DATA_INPUT!AP124<>\"\",$V122,\"\")","v":""},{"$f":"IF(DATA_INPUT!AQ124<>\"\",$V122,\"\")","v":""},{"$f":"IF(DATA_INPUT!AR124<>\"\",DATA_INPUT!AR124,\"\")","v":""},{"$f":"IF(DATA_INPUT!AS124<>\"\",DATA_INPUT!AS124,\"\")","v":""},{"$f":"IF(DATA_INPUT!AT124<>\"\",DATA_INPUT!AT124,\"\")","v":""},{"$f":"IF(DATA_INPUT!AU124<>\"\",DATA_INPUT!AU124,\"\")","v":""},{"$f":"IF(DATA_INPUT!AV124<>\"\",DATA_INPUT!AV124,\"\")","v":""},{"$f":"IF(DATA_INPUT!AW124<>\"\",DATA_INPUT!AW124,\"\")","v":""},{"$f":"IF(DATA_INPUT!AX124<>\"\",DATA_INPUT!AX124+Directions!$D$24-1,\"\")","v":1},{"$f":"IF(DATA_INPUT!AY124<>\"\",DATA_INPUT!AY124,\"\")","v":"T-145"},{"$f":"IF(DATA_INPUT!G124<>\"\",2,IF(DATA_INPUT!N124>2,2,IF(DATA_INPUT!N124=2,3,4)))","v":4},{"$f":"IF(OR(DATA_INPUT!S124<>\"\",DATA_INPUT!T124<>\"\"),H122,\"\")","v":""},{"$f":"IF(DATA_INPUT!T124<>\"\",\"X\",\"\")","v":""}]
[{"$f":"IF(DATA_INPUT!F125<>\"\",DATA_INPUT!F125,\"\")","v":""},{"$f":"IF(DATA_INPUT!G125<>\"\",DATA_INPUT!G125,\"\")","v":""},{"$f":"IF(DATA_INPUT!H125<>\"\",DATA_INPUT!H125,\"\")","v":"STA. 304 +16.00"},{"$f":"IF(DATA_INPUT!I125<>\"\",DATA_INPUT!I125,\"\")","v":"F"},{"$f":"IF(DATA_INPUT!J125<>\"\",DATA_INPUT!J125,\"\")","v":"R3-17"},{"$f":"IF(DATA_INPUT!L125<>\"\",DATA_INPUT!L125,IF(DATA_INPUT!K125<>\"\",DATA_INPUT!K125,\"\"))","v":{"$error":"#VALUE!"}},{"$f":"IF(DATA_INPUT!O125<>\"\",DATA_INPUT!O125,\"\")","v":""},{"$f":"IF(DATA_INPUT!P125<>\"\",DATA_INPUT!P125,\"\")","v":1},{"$f":"IF(DATA_INPUT!Q125<>\"\",DATA_INPUT!Q125,\"\")","v":24},{"$f":"IF(DATA_INPUT!R125<>\"\",DATA_INPUT!R125,\"\")","v":18},{"$f":"IF(DATA_INPUT!S125<>\"\",IF(DATA_INPUT!AZ125<>\"\",DATA_INPUT!AZ125,H123*I123*J123/144)*IF(G123<>\"\",3/2,1),\"\")","v":3},{"$f":"IF(DATA_INPUT!T125<>\"\",IF(DATA_INPUT!AZ125<>\"\",DATA_INPUT!AZ125,H123*I123*J123/144)*IF(G123<>\"\",3/2,1),\"\")","v":""},{"$f":"IF(DATA_INPUT!U125<>\"\",$H123,\"\")","v":""},{"$f":"IF(DATA_INPUT!V125<>\"\",$H123,\"\")","v":""},{"$f":"IF(DATA_INPUT!W125<>\"\",$H123,\"\")","v":""},{"$f":"IF(DATA_INPUT!X125<>\"\",$H123,\"\")","v":""},{"$f":"IF(DATA_INPUT!Y125<>\"\",$H123,\"\")","v":""},{"$f":"IF(DATA_INPUT!Z125<>\"\",DATA_INPUT!Z125,\"\")","v":""},{"$f":"IF(DATA_INPUT!AA125<>\"\",DATA_INPUT!AA125,\"\")","v":""},{"$f":"IF(DATA_INPUT!AB125<>\"\",DATA_INPUT!AB125,\"\")","v":""},{"$f":"IF(DATA_INPUT!AC125<>\"\",DATA_INPUT!AC125,\"\")","v":""},{"$f":"IF(DATA_INPUT!AD125<>\"\",DATA_INPUT!AD125,\"\")","v":1},{"$f":"IF(DATA_INPUT!AE125<>\"\",$V123,\"\")","v":""},{"$f":"IF(DATA_INPUT!AF125<>\"\",$V123*8,\"\")","v":""},{"$f":"IF(DATA_INPUT!AG125<>\"\",$V123*15,\"\")","v":15},{"$f":"IF(DATA_INPUT!AH125<>\"\",$V123*15,\"\")","v":""},{"$f":"IF(DATA_INPUT!AI125<>\"\",$V123,\"\")","v":1},{"$f":"IF(DATA_INPUT!AJ125<>\"\",$V123,\"\")","v":""},{"$f":"IF(DATA_INPUT!AK125<>\"\",$V123,\"\")","v":""},{"$f":"IF(DATA_INPUT!AL125<>\"\",$V123*7.6*DATA_INPUT!AL125,\"\")","v":""},{"$f":"IF(DATA_INPUT!AM125<>\"\",$V123*9*DATA_INPUT!AM125,\"\")","v":""},{"$f":"IF(DATA_INPUT!AN125<>\"\",$V123*10.8*DATA_INPUT!AN125,\"\")","v":""},{"$f":"IF(DATA_INPUT!AO125<>\"\",$V123*14.6*DATA_INPUT!AO125,\"\")","v":""},{"$f":"IF(DATA_INPUT!AP125<>\"\",$V123,\"\")","v":""},{"$f":"IF(DATA_INPUT!AQ125<>\"\",$V123,\"\")","v":""},{"$f":"IF(DATA_INPUT!AR125<>\"\",DATA_INPUT!AR125,\"\")","v":""},{"$f":"IF(DATA_INPUT!AS125<>\"\",DATA_INPUT!AS125,\"\")","v":""},{"$f":"IF(DATA_INPUT!AT125<>\"\",DATA_INPUT!AT125,\"\")","v":""},{"$f":"IF(DATA_INPUT!AU125<>\"\",DATA_INPUT!AU125,\"\")","v":""},{"$f":"IF(DATA_INPUT!AV125<>\"\",DATA_INPUT!AV125,\"\")","v":""},{"$f":"IF(DATA_INPUT!AW125<>\"\",DATA_INPUT!AW125,\"\")","v":"X"},{"$f":"IF(DATA_INPUT!AX125<>\"\",DATA_INPUT!AX125+Directions!$D$24-1,\"\")","v":""},{"$f":"IF(DATA_INPUT!AY125<>\"\",DATA_INPUT!AY125,\"\")","v":""},{"$f":"IF(DATA_INPUT!G125<>\"\",2,IF(DATA_INPUT!N125>2,2,IF(DATA_INPUT!N125=2,3,4)))","v":3},{"$f":"IF(OR(DATA_INPUT!S125<>\"\",DATA_INPUT!T125<>\"\"),H123,\"\")","v":1},{"$f":"IF(DATA_INPUT!T125<>\"\",\"X\",\"\")","v":""}]
[{"$f":"IF(DATA_INPUT!F126<>\"\",DATA_INPUT!F126,\"\")","v":""},{"$f":"IF(DATA_INPUT!G126<>\"\",DATA_INPUT!G126,\"\")","v":""},{"$f":"IF(DATA_INPUT!H126<>\"\",DATA_INPUT!H126,\"\")","v":""},{"$f":"IF(DATA_INPUT!I126<>\"\",DATA_INPUT!I126,\"\")","v":""},{"$f":"IF(DATA_INPUT!J126<>\"\",DATA_INPUT!J126,\"\")","v":"R3-17BP"},{"$f":"IF(DATA_INPUT!L126<>\"\",DATA_INPUT!L126,IF(DATA_INPUT!K126<>\"\",DATA_INPUT!K126,\"\"))","v":"(multisign image continues)"},{"$f":"IF(DATA_INPUT!O126<>\"\",DATA_INPUT!O126,\"\")","v":""},{"$f":"IF(DATA_INPUT!P126<>\"\",DATA_INPUT!P126,\"\")","v":1},{"$f":"IF(DATA_INPUT!Q126<>\"\",DATA_INPUT!Q126,\"\")","v":24},{"$f":"IF(DATA_INPUT!R126<>\"\",DATA_INPUT!R126,\"\")","v":9},{"$f":"IF(DATA_INPUT!S126<>\"\",IF(DATA_INPUT!AZ126<>\"\",DATA_INPUT!AZ126,H124*I124*J124/144)*IF(G124<>\"\",3/2,1),\"\")","v":1.5},{"$f":"IF(DATA_INPUT!T126<>\"\",IF(DATA_INPUT!AZ126<>\"\",DATA_INPUT!AZ126,H124*I124*J124/144)*IF(G124<>\"\",3/2,1),\"\")","v":""},{"$f":"IF(DATA_INPUT!U126<>\"\",$H124,\"\")","v":""},{"$f":"IF(DATA_INPUT!V126<>\"\",$H124,\"\")","v":""},{"$f":"IF(DATA_INPUT!W126<>\"\",$H124,\"\")","v":""},{"$f":"IF(DATA_INPUT!X126<>\"\",$H124,\"\")","v":""},{"$f":"IF(DATA_INPUT!Y126<>\"\",$H124,\"\")","v":""},{"$f":"IF(DATA_INPUT!Z126<>\"\",DATA_INPUT!Z126,\"\")","v":""},{"$f":"IF(DATA_INPUT!AA126<>\"\",DATA_INPUT!AA126,\"\")","v":""},{"$f":"IF(DATA_INPUT!AB126<>\"\",DATA_INPUT!AB126,\"\")","v":""},{"$f":"IF(DATA_INPUT!AC126<>\"\",DATA_INPUT!AC126,\"\")","v":""},{"$f":"IF(DATA_INPUT!AD126<>\"\",DATA_INPUT!AD126,\"\")","v":""},{"$f":"IF(DATA_INPUT!AE126<>\"\",$V124,\"\")","v":""},{"$f":"IF(DATA_INPUT!AF126<>\"\",$V124*8,\"\")","v":""},{"$f":"IF(DATA_INPUT!AG126<>\"\",$V124*15,\"\")","v":""},{"$f":"IF(DATA_INPUT!AH126<>\"\",$V124*15,\"\")","v":""},{"$f":"IF(DATA_INPUT!AI126<>\"\",$V124,\"\")","v":""},{"$f":"IF(DATA_INPUT!AJ126<>\"\",$V124,\"\")","v":""},{"$f":"IF(DATA_INPUT!AK126<>\"\",$V124,\"\")","v":""},{"$f":"IF(DATA_INPUT!AL126<>\"\",$V124*7.6*DATA_INPUT!AL126,\"\")","v":""},{"$f":"IF(DATA_INPUT!AM126<>\"\",$V124*9*DATA_INPUT!AM126,\"\")","v":""},{"$f":"IF(DATA_INPUT!AN126<>\"\",$V124*10.8*DATA_INPUT!AN126,\"\")","v":""},{"$f":"IF(DATA_INPUT!AO126<>\"\",$V124*14.6*DATA_INPUT!AO126,\"\")","v":""},{"$f":"IF(DATA_INPUT!AP126<>\"\",$V124,\"\")","v":""},{"$f":"IF(DATA_INPUT!AQ126<>\"\",$V124,\"\")","v":""},{"$f":"IF(DATA_INPUT!AR126<>\"\",DATA_INPUT!AR126,\"\")","v":""},{"$f":"IF(DATA_INPUT!AS126<>\"\",DATA_INPUT!AS126,\"\")","v":""},{"$f":"IF(DATA_INPUT!AT126<>\"\",DATA_INPUT!AT126,\"\")","v":""},{"$f":"IF(DATA_INPUT!AU126<>\"\",DATA_INPUT!AU126,\"\")","v":""},{"$f":"IF(DATA_INPUT!AV126<>\"\",DATA_INPUT!AV126,\"\")","v":""},{"$f":"IF(DATA_INPUT!AW126<>\"\",DATA_INPUT!AW126,\"\")","v":"X"},{"$f":"IF(DATA_INPUT!AX126<>\"\",DATA_INPUT!AX126+Directions!$D$24-1,\"\")","v":""},{"$f":"IF(DATA_INPUT!AY126<>\"\",DATA_INPUT!AY126,\"\")","v":""},{"$f":"IF(DATA_INPUT!G126<>\"\",2,IF(DATA_INPUT!N126>2,2,IF(DATA_INPUT!N126=2,3,4)))","v":3},{"$f":"IF(OR(DATA_INPUT!S126<>\"\",DATA_INPUT!T126<>\"\"),H124,\"\")","v":1},{"$f":"IF(DATA_INPUT!T126<>\"\",\"X\",\"\")","v":""}]
[{"$f":"IF(DATA_INPUT!F127<>\"\",DATA_INPUT!F127,\"\")","v":""},{"$f":"IF(DATA_INPUT!G127<>\"\",DATA_INPUT!G127,\"\")","v":""},{"$f":"IF(DATA_INPUT!H127<>\"\",DATA_INPUT!H127,\"\")","v":"STA. 304 +37.00"},{"$f":"IF(DATA_INPUT!I127<>\"\",DATA_INPUT!I127,\"\")","v":"G"},{"$f":"IF(DATA_INPUT!J127<>\"\",DATA_INPUT!J127,\"\")","v":"VD-700"},{"$f":"IF(DATA_INPUT!L127<>\"\",DATA_INPUT!L127,IF(DATA_INPUT!K127<>\"\",DATA_INPUT!K127,\"\"))","v":{"$error":"#VALUE!"}},{"$f":"IF(DATA_INPUT!O127<>\"\",DATA_INPUT!O127,\"\")","v":""},{"$f":"IF(DATA_INPUT!P127<>\"\",DATA_INPUT!P127,\"\")","v":1},{"$f":"IF(DATA_INPUT!Q127<>\"\",DATA_INPUT!Q127,\"\")","v":6},{"$f":"IF(DATA_INPUT!R127<>\"\",DATA_INPUT!R127,\"\")","v":10},{"$f":"IF(DATA_INPUT!S127<>\"\",IF(DATA_INPUT!AZ127<>\"\",DATA_INPUT!AZ127,H125*I125*J125/144)*IF(G125<>\"\",3/2,1),\"\")","v":""},{"$f":"IF(DATA_INPUT!T127<>\"\",IF(DATA_INPUT!AZ127<>\"\",DATA_INPUT!AZ127,H125*I125*J125/144)*IF(G125<>\"\",3/2,1),\"\")","v":""},{"$f":"IF(DATA_INPUT!U127<>\"\",$H125,\"\")","v":""},{"$f":"IF(DATA_INPUT!V127<>\"\",$H125,\"\")","v":""},{"$f":"IF(DATA_INPUT!W127<>\"\",$H125,\"\")","v":""},{"$f":"IF(DATA_INPUT!X127<>\"\",$H125,\"\")","v":1},{"$f":"IF(DATA_INPUT!Y127<>\"\",$H125,\"\")","v":""},{"$f":"IF(DATA_INPUT!Z127<>\"\",DATA_INPUT!Z127,\"\")","v":""},{"$f":"IF(DATA_INPUT!AA127<>\"\",DATA_INPUT!AA127,\"\")","v":""},{"$f":"IF(DATA_INPUT!AB127<>\"\",DATA_INPUT!AB127,\"\")","v":""},{"$f":"IF(DATA_INPUT!AC127<>\"\",DATA_INPUT!AC127,\"\")","v":"X"},{"$f":"IF(DATA_INPUT!AD127<>\"\",DATA_INPUT!AD127,\"\")","v":""},{"$f":"IF(DATA_INPUT!AE127<>\"\",$V125,\"\")","v":""},{"$f":"IF(DATA_INPUT!AF127<>\"\",$V125*8,\"\")","v":""},{"$f":"IF(DATA_INPUT!AG127<>\"\",$V125*15,\"\")","v":""},{"$f":"IF(DATA_INPUT!AH127<>\"\",$V125*15,\"\")","v":""},{"$f":"IF(DATA_INPUT!AI127<>\"\",$V125,\"\")","v":""},{"$f":"IF(DATA_INPUT!AJ127<>\"\",$V125,\"\")","v":""},{"$f":"IF(DATA_INPUT!AK127<>\"\",$V125,\"\")","v":""},{"$f":"IF(DATA_INPUT!AL127<>\"\",$V125*7.6*DATA_INPUT!AL127,\"\")","v":""},{"$f":"IF(DATA_INPUT!AM127<>\"\",$V125*9*DATA_INPUT!AM127,\"\")","v":""},{"$f":"IF(DATA_INPUT!AN127<>\"\",$V125*10.8*DATA_INPUT!AN127,\"\")","v":""},{"$f":"IF(DATA_INPUT!AO127<>\"\",$V125*14.6*DATA_INPUT!AO127,\"\")","v":""},{"$f":"IF(DATA_INPUT!AP127<>\"\",$V125,\"\")","v":""},{"$f":"IF(DATA_INPUT!AQ127<>\"\",$V125,\"\")","v":""},{"$f":"IF(DATA_INPUT!AR127<>\"\",DATA_INPUT!AR127,\"\")","v":""},{"$f":"IF(DATA_INPUT!AS127<>\"\",DATA_INPUT!AS127,\"\")","v":""},{"$f":"IF(DATA_INPUT!AT127<>\"\",DATA_INPUT!AT127,\"\")","v":""},{"$f":"IF(DATA_INPUT!AU127<>\"\",DATA_INPUT!AU127,\"\")","v":""},{"$f":"IF(DATA_INPUT!AV127<>\"\",DATA_INPUT!AV127,\"\")","v":""},{"$f":"IF(DATA_INPUT!AW127<>\"\",DATA_INPUT!AW127,\"\")","v":""},{"$f":"IF(DATA_INPUT!AX127<>\"\",DATA_INPUT!AX127+Directions!$D$24-1,\"\")","v":""},{"$f":"IF(DATA_INPUT!AY127<>\"\",DATA_INPUT!AY127,\"\")","v":"T-44"},{"$f":"IF(DATA_INPUT!G127<>\"\",2,IF(DATA_INPUT!N127>2,2,IF(DATA_INPUT!N127=2,3,4)))","v":4},{"$f":"IF(OR(DATA_INPUT!S127<>\"\",DATA_INPUT!T127<>\"\"),H125,\"\")","v":""},{"$f":"IF(DATA_INPUT!T127<>\"\",\"X\",\"\")","v":""}]
[{"$f":"IF(DATA_INPUT!F128<>\"\",DATA_INPUT!F128,\"\")","v":""},{"$f":"IF(DATA_INPUT!G128<>\"\",DATA_INPUT!G128,\"\")","v":""},{"$f":"IF(DATA_INPUT!H128<>\"\",DATA_INPUT!H128,\"\")","v":""},{"$f":"IF(DATA_INPUT!I128<>\"\",DATA_INPUT!I128,\"\")","v":"G"},{"$f":"IF(DATA_INPUT!J128<>\"\",DATA_INPUT!J128,\"\")","v":"VD-700"},{"$f":"IF(DATA_INPUT!L128<>\"\",DATA_INPUT!L128,IF(DATA_INPUT!K128<>\"\",DATA_INPUT!K128,\"\"))","v":{"$error":"#VALUE!"}},{"$f":"IF(DATA_INPUT!O128<>\"\",DATA_INPUT!O128,\"\")","v":""},{"$f":"IF(DATA_INPUT!P128<>\"\",DATA_INPUT!P128,\"\")","v":1},{"$f":"IF(DATA_INPUT!Q128<>\"\",DATA_INPUT!Q128,\"\")","v":6},{"$f":"IF(DATA_INPUT!R128<>\"\",DATA_INPUT!R128,\"\")","v":10},{"$f":"IF(DATA_INPUT!S128<>\"\",IF(DATA_INPUT!AZ128<>\"\",DATA_INPUT!AZ128,H126*I126*J126/144)*IF(G126<>\"\",3/2,1),\"\")","v":0.41666666666666669},{"$f":"IF(DATA_INPUT!T128<>\"\",IF(DATA_INPUT!AZ128<>\"\",DATA_INPUT!AZ128,H126*I126*J126/144)*IF(G126<>\"\",3/2,1),\"\")","v":""},{"$f":"IF(DATA_INPUT!U128<>\"\",$H126,\"\")","v":""},{"$f":"IF(DATA_INPUT!V128<>\"\",$H126,\"\")","v":""},{"$f":"IF(DATA_INPUT!W128<>\"\",$H126,\"\")","v":""},{"$f":"IF(DATA_INPUT!X128<>\"\",$H126,\"\")","v":""},{"$f":"IF(DATA_INPUT!Y128<>\"\",$H126,\"\")","v":""},{"$f":"IF(DATA_INPUT!Z128<>\"\",DATA_INPUT!Z128,\"\")","v":""},{"$f":"IF(DATA_INPUT!AA128<>\"\",DATA_INPUT!AA128,\"\")","v":""},{"$f":"IF(DATA_INPUT!AB128<>\"\",DATA_INPUT!AB128,\"\")","v":""},{"$f":"IF(DATA_INPUT!AC128<>\"\",DATA_INPUT!AC128,\"\")","v":""},{"$f":"IF(DATA_INPUT!AD128<>\"\",DATA_INPUT!AD128,\"\")","v":1},{"$f":"IF(DATA_INPUT!AE128<>\"\",$V126,\"\")","v":""},{"$f":"IF(DATA_INPUT!AF128<>\"\",$V126*8,\"\")","v":""},{"$f":"IF(DATA_INPUT!AG128<>\"\",$V126*15,\"\")","v":15},{"$f":"IF(DATA_INPUT!AH128<>\"\",$V126*15,\"\")","v":""},{"$f":"IF(DATA_INPUT!AI128<>\"\",$V126,\"\")","v":1},{"$f":"IF(DATA_INPUT!AJ128<>\"\",$V126,\"\")","v":""},{"$f":"IF(DATA_INPUT!AK128<>\"\",$V126,\"\")","v":""},{"$f":"IF(DATA_INPUT!AL128<>\"\",$V126*7.6*DATA_INPUT!AL128,\"\")","v":""},{"$f":"IF(DATA_INPUT!AM128<>\"\",$V126*9*DATA_INPUT!AM128,\"\")","v":""},{"$f":"IF(DATA_INPUT!AN128<>\"\",$V126*10.8*DATA_INPUT!AN128,\"\")","v":""},{"$f":"IF(DATA_INPUT!AO128<>\"\",$V126*14.6*DATA_INPUT!AO128,\"\")","v":""},{"$f":"IF(DATA_INPUT!AP128<>\"\",$V126,\"\")","v":""},{"$f":"IF(DATA_INPUT!AQ128<>\"\",$V126,\"\")","v":""},{"$f":"IF(DATA_INPUT!AR128<>\"\",DATA_INPUT!AR128,\"\")","v":""},{"$f":"IF(DATA_INPUT!AS128<>\"\",DATA_INPUT!AS128,\"\")","v":""},{"$f":"IF(DATA_INPUT!AT128<>\"\",DATA_INPUT!AT128,\"\")","v":""},{"$f":"IF(DATA_INPUT!AU128<>\"\",DATA_INPUT!AU128,\"\")","v":""},{"$f":"IF(DATA_INPUT!AV128<>\"\",DATA_INPUT!AV128,\"\")","v":""},{"$f":"IF(DATA_INPUT!AW128<>\"\",DATA_INPUT!AW128,\"\")","v":""},{"$f":"IF(DATA_INPUT!AX128<>\"\",DATA_INPUT!AX128+Directions!$D$24-1,\"\")","v":""},{"$f":"IF(DATA_INPUT!AY128<>\"\",DATA_INPUT!AY128,\"\")","v":"T-44"},{"$f":"IF(DATA_INPUT!G128<>\"\",2,IF(DATA_INPUT!N128>2,2,IF(DATA_INPUT!N128=2,3,4)))","v":4},{"$f":"IF(OR(DATA_INPUT!S128<>\"\",DATA_INPUT!T128<>\"\"),H126,\"\")","v":1},{"$f":"IF(DATA_INPUT!T128<>\"\",\"X\",\"\")","v":""}]
[{"$f":"IF(DATA_INPUT!F129<>\"\",DATA_INPUT!F129,\"\")","v":""},{"$f":"IF(DATA_INPUT!G129<>\"\",DATA_INPUT!G129,\"\")","v":""},{"$f":"IF(DATA_INPUT!H129<>\"\",DATA_INPUT!H129,\"\")","v":"STA. 304 +59.00"},{"$f":"IF(DATA_INPUT!I129<>\"\",DATA_INPUT!I129,\"\")","v":"A"},{"$f":"IF(DATA_INPUT!J129<>\"\",DATA_INPUT!J129,\"\")","v":"VR-932"},{"$f":"IF(DATA_INPUT!L129<>\"\",DATA_INPUT!L129,IF(DATA_INPUT!K129<>\"\",DATA_INPUT!K129,\"\"))","v":{"$error":"#VALUE!"}},{"$f":"IF(DATA_INPUT!O129<>\"\",DATA_INPUT!O129,\"\")","v":""},{"$f":"IF(DATA_INPUT!P129<>\"\",DATA_INPUT!P129,\"\")","v":1},{"$f":"IF(DATA_INPUT!Q129<>\"\",DATA_INPUT!Q129,\"\")","v":30},{"$f":"IF(DATA_INPUT!R129<>\"\",DATA_INPUT!R129,\"\")","v":48},{"$f":"IF(DATA_INPUT!S129<>\"\",IF(DATA_INPUT!AZ129<>\"\",DATA_INPUT!AZ129,H127*I127*J127/144)*IF(G127<>\"\",3/2,1),\"\")","v":""},{"$f":"IF(DATA_INPUT!T129<>\"\",IF(DATA_INPUT!AZ129<>\"\",DATA_INPUT!AZ129,H127*I127*J127/144)*IF(G127<>\"\",3/2,1),\"\")","v":""},{"$f":"IF(DATA_INPUT!U129<>\"\",$H127,\"\")","v":""},{"$f":"IF(DATA_INPUT!V129<>\"\",$H127,\"\")","v":""},{"$f":"IF(DATA_INPUT!W129<>\"\",$H127,\"\")","v":""},{"$f":"IF(DATA_INPUT!X129<>\"\",$H127,\"\")","v":1},{"$f":"IF(DATA_INPUT!Y129<>\"\",$H127,\"\")","v":""},{"$f":"IF(DATA_INPUT!Z129<>\"\",DATA_INPUT!Z129,\"\")","v":""},{"$f":"IF(DATA_INPUT!AA129<>\"\",DATA_INPUT!AA129,\"\")","v":""},{"$f":"IF(DATA_INPUT!AB129<>\"\",DATA_INPUT!AB129,\"\")","v":""},{"$f":"IF(DATA_INPUT!AC129<>\"\",DATA_INPUT!AC129,\"\")","v":2},{"$f":"IF(DATA_INPUT!AD129<>\"\",DATA_INPUT!AD129,\"\")","v":""},{"$f":"IF(DATA_INPUT!AE129<>\"\",$V127,\"\")","v":""},{"$f":"IF(DATA_INPUT!AF129<>\"\",$V127*8,\"\")","v":""},{"$f":"IF(DATA_INPUT!AG129<>\"\",$V127*15,\"\")","v":""},{"$f":"IF(DATA_INPUT!AH129<>\"\",$V127*15,\"\")","v":""},{"$f":"IF(DATA_INPUT!AI129<>\"\",$V127,\"\")","v":""},{"$f":"IF(DATA_INPUT!AJ129<>\"\",$V127,\"\")","v":""},{"$f":"IF(DATA_INPUT!AK129<>\"\",$V127,\"\")","v":""},{"$f":"IF(DATA_INPUT!AL129<>\"\",$V127*7.6*DATA_INPUT!AL129,\"\")","v":""},{"$f":"IF(DATA_INPUT!AM129<>\"\",$V127*9*DATA_INPUT!AM129,\"\")","v":""},{"$f":"IF(DATA_INPUT!AN129<>\"\",$V127*10.8*DATA_INPUT!AN129,\"\")","v":""},{"$f":"IF(DATA_INPUT!AO129<>\"\",$V127*14.6*DATA_INPUT!AO129,\"\")","v":""},{"$f":"IF(DATA_INPUT!AP129<>\"\",$V127,\"\")","v":""},{"$f":"IF(DATA_INPUT!AQ129<>\"\",$V127,\"\")","v":""},{"$f":"IF(DATA_INPUT!AR129<>\"\",DATA_INPUT!AR129,\"\")","v":""},{"$f":"IF(DATA_INPUT!AS129<>\"\",DATA_INPUT!AS129,\"\")","v":""},{"$f":"IF(DATA_INPUT!AT129<>\"\",DATA_INPUT!AT129,\"\")","v":""},{"$f":"IF(DATA_INPUT!AU129<>\"\",DATA_INPUT!AU129,\"\")","v":""},{"$f":"IF(DATA_INPUT!AV129<>\"\",DATA_INPUT!AV129,\"\")","v":""},{"$f":"IF(DATA_INPUT!AW129<>\"\",DATA_INPUT!AW129,\"\")","v":""},{"$f":"IF(DATA_INPUT!AX129<>\"\",DATA_INPUT!AX129+Directions!$D$24-1,\"\")","v":""},{"$f":"IF(DATA_INPUT!AY129<>\"\",DATA_INPUT!AY129,\"\")","v":"T-145"},{"$f":"IF(DATA_INPUT!G129<>\"\",2,IF(DATA_INPUT!N129>2,2,IF(DATA_INPUT!N129=2,3,4)))","v":4},{"$f":"IF(OR(DATA_INPUT!S129<>\"\",DATA_INPUT!T129<>\"\"),H127,\"\")","v":""},{"$f":"IF(DATA_INPUT!T129<>\"\",\"X\",\"\")","v":""}]
[{"$f":"IF(DATA_INPUT!F130<>\"\",DATA_INPUT!F130,\"\")","v":""},{"$f":"IF(DATA_INPUT!G130<>\"\",DATA_INPUT!G130,\"\")","v":""},{"$f":"IF(DATA_INPUT!H130<>\"\",DATA_INPUT!H130,\"\")","v":"STA. 305 +00.00"},{"$f":"IF(DATA_INPUT!I130<>\"\",DATA_INPUT!I130,\"\")","v":"F"},{"$f":"IF(DATA_INPUT!J130<>\"\",DATA_INPUT!J130,\"\")","v":"R2-1"},{"$f":"IF(DATA_INPUT!L130<>\"\",DATA_INPUT!L130,IF(DATA_INPUT!K130<>\"\",DATA_INPUT!K130,\"\"))","v":{"$error":"#VALUE!"}},{"$f":"IF(DATA_INPUT!O130<>\"\",DATA_INPUT!O130,\"\")","v":""},{"$f":"IF(DATA_INPUT!P130<>\"\",DATA_INPUT!P130,\"\")","v":1},{"$f":"IF(DATA_INPUT!Q130<>\"\",DATA_INPUT!Q130,\"\")","v":24},{"$f":"IF(DATA_INPUT!R130<>\"\",DATA_INPUT!R130,\"\")","v":30},{"$f":"IF(DATA_INPUT!S130<>\"\",IF(DATA_INPUT!AZ130<>\"\",DATA_INPUT!AZ130,H128*I128*J128/144)*IF(G128<>\"\",3/2,1),\"\")","v":5},{"$f":"IF(DATA_INPUT!T130<>\"\",IF(DATA_INPUT!AZ130<>\"\",DATA_INPUT!AZ130,H128*I128*J128/144)*IF(G128<>\"\",3/2,1),\"\")","v":""},{"$f":"IF(DATA_INPUT!U130<>\"\",$H128,\"\")","v":""},{"$f":"IF(DATA_INPUT!V130<>\"\",$H128,\"\")","v":""},{"$f":"IF(DATA_INPUT!W130<>\"\",$H128,\"\")","v":""},{"$f":"IF(DATA_INPUT!X130<>\"\",$H128,\"\")","v":""},{"$f":"IF(DATA_INPUT!Y130<>\"\",$H128,\"\")","v":""},{"$f":"IF(DATA_INPUT!Z130<>\"\",DATA_INPUT!Z130,\"\")","v":""},{"$f":"IF(DATA_INPUT!AA130<>\"\",DATA_INPUT!AA130,\"\")","v":""},{"$f":"IF(DATA_INPUT!AB130<>\"\",DATA_INPUT!AB130,\"\")","v":""},{"$f":"IF(DATA_INPUT!AC130<>\"\",DATA_INPUT!AC130,\"\")","v":""},{"$f":"IF(DATA_INPUT!AD130<>\"\",DATA_INPUT!AD130,\"\")","v":1},{"$f":"IF(DATA_INPUT!AE130<>\"\",$V128,\"\")","v":""},{"$f":"IF(DATA_INPUT!AF130<>\"\",$V128*8,\"\")","v":""},{"$f":"IF(DATA_INPUT!AG130<>\"\",$V128*15,\"\")","v":15},{"$f":"IF(DATA_INPUT!AH130<>\"\",$V128*15,\"\")","v":""},{"$f":"IF(DATA_INPUT!AI130<>\"\",$V128,\"\")","v":1},{"$f":"IF(DATA_INPUT!AJ130<>\"\",$V128,\"\")","v":""},{"$f":"IF(DATA_INPUT!AK130<>\"\",$V128,\"\")","v":""},{"$f":"IF(DATA_INPUT!AL130<>\"\",$V128*7.6*DATA_INPUT!AL130,\"\")","v":""},{"$f":"IF(DATA_INPUT!AM130<>\"\",$V128*9*DATA_INPUT!AM130,\"\")","v":""},{"$f":"IF(DATA_INPUT!AN130<>\"\",$V128*10.8*DATA_INPUT!AN130,\"\")","v":""},{"$f":"IF(DATA_INPUT!AO130<>\"\",$V128*14.6*DATA_INPUT!AO130,\"\")","v":""},{"$f":"IF(DATA_INPUT!AP130<>\"\",$V128,\"\")","v":""},{"$f":"IF(DATA_INPUT!AQ130<>\"\",$V128,\"\")","v":""},{"$f":"IF(DATA_INPUT!AR130<>\"\",DATA_INPUT!AR130,\"\")","v":""},{"$f":"IF(DATA_INPUT!AS130<>\"\",DATA_INPUT!AS130,\"\")","v":""},{"$f":"IF(DATA_INPUT!AT130<>\"\",DATA_INPUT!AT130,\"\")","v":""},{"$f":"IF(DATA_INPUT!AU130<>\"\",DATA_INPUT!AU130,\"\")","v":""},{"$f":"IF(DATA_INPUT!AV130<>\"\",DATA_INPUT!AV130,\"\")","v":""},{"$f":"IF(DATA_INPUT!AW130<>\"\",DATA_INPUT!AW130,\"\")","v":"X"},{"$f":"IF(DATA_INPUT!AX130<>\"\",DATA_INPUT!AX130+Directions!$D$24-1,\"\")","v":""},{"$f":"IF(DATA_INPUT!AY130<>\"\",DATA_INPUT!AY130,\"\")","v":""},{"$f":"IF(DATA_INPUT!G130<>\"\",2,IF(DATA_INPUT!N130>2,2,IF(DATA_INPUT!N130=2,3,4)))","v":4},{"$f":"IF(OR(DATA_INPUT!S130<>\"\",DATA_INPUT!T130<>\"\"),H128,\"\")","v":1},{"$f":"IF(DATA_INPUT!T130<>\"\",\"X\",\"\")","v":""}]
[{"$f":"IF(DATA_INPUT!F131<>\"\",DATA_INPUT!F131,\"\")","v":""},{"$f":"IF(DATA_INPUT!G131<>\"\",DATA_INPUT!G131,\"\")","v":""},{"$f":"IF(DATA_INPUT!H131<>\"\",DATA_INPUT!H131,\"\")","v":"STA. 305 +63.00"},{"$f":"IF(DATA_INPUT!I131<>\"\",DATA_INPUT!I131,\"\")","v":"A"},{"$f":"IF(DATA_INPUT!J131<>\"\",DATA_INPUT!J131,\"\")","v":"M3-1P"},{"$f":"IF(DATA_INPUT!L131<>\"\",DATA_INPUT!L131,IF(DATA_INPUT!K131<>\"\",DATA_INPUT!K131,\"\"))","v":{"$error":"#VALUE!"}},{"$f":"IF(DATA_INPUT!O131<>\"\",DATA_INPUT!O131,\"\")","v":""},{"$f":"IF(DATA_INPUT!P131<>\"\",DATA_INPUT!P131,\"\")","v":1},{"$f":"IF(DATA_INPUT!Q131<>\"\",DATA_INPUT!Q131,\"\")","v":24},{"$f":"IF(DATA_INPUT!R131<>\"\",DATA_INPUT!R131,\"\")","v":12},{"$f":"IF(DATA_INPUT!S131<>\"\",IF(DATA_INPUT!AZ131<>\"\",DATA_INPUT!AZ131,H129*I129*J129/144)*IF(G129<>\"\",3/2,1),\"\")","v":""},{"$f":"IF(DATA_INPUT!T131<>\"\",IF(DATA_INPUT!AZ131<>\"\",DATA_INPUT!AZ131,H129*I129*J129/144)*IF(G129<>\"\",3/2,1),\"\")","v":""},{"$f":"IF(DATA_INPUT!U131<>\"\",$H129,\"\")","v":""},{"$f":"IF(DATA_INPUT!V131<>\"\",$H129,\"\")","v":""},{"$f":"IF(DATA_INPUT!W131<>\"\",$H129,\"\")","v":""},{"$f":"IF(DATA_INPUT!X131<>\"\",$H129,\"\")","v":1},{"$f":"IF(DATA_INPUT!Y131<>\"\",$H129,\"\")","v":""},{"$f":"IF(DATA_INPUT!Z131<>\"\",DATA_INPUT!Z131,\"\")","v":""},{"$f":"IF(DATA_INPUT!AA131<>\"\",DATA_INPUT!AA131,\"\")","v":""},{"$f":"IF(DATA_INPUT!AB131<>\"\",DATA_INPUT!AB131,\"\")","v":""},{"$f":"IF(DATA_INPUT!AC131<>\"\",DATA_INPUT!AC131,\"\")","v":2},{"$f":"IF(DATA_INPUT!AD131<>\"\",DATA_INPUT!AD131,\"\")","v":""},{"$f":"IF(DATA_INPUT!AE131<>\"\",$V129,\"\")","v":""},{"$f":"IF(DATA_INPUT!AF131<>\"\",$V129*8,\"\")","v":""},{"$f":"IF(DATA_INPUT!AG131<>\"\",$V129*15,\"\")","v":""},{"$f":"IF(DATA_INPUT!AH131<>\"\",$V129*15,\"\")","v":""},{"$f":"IF(DATA_INPUT!AI131<>\"\",$V129,\"\")","v":""},{"$f":"IF(DATA_INPUT!AJ131<>\"\",$V129,\"\")","v":""},{"$f":"IF(DATA_INPUT!AK131<>\"\",$V129,\"\")","v":""},{"$f":"IF(DATA_INPUT!AL131<>\"\",$V129*7.6*DATA_INPUT!AL131,\"\")","v":""},{"$f":"IF(DATA_INPUT!AM131<>\"\",$V129*9*DATA_INPUT!AM131,\"\")","v":""},{"$f":"IF(DATA_INPUT!AN131<>\"\",$V129*10.8*DATA_INPUT!AN131,\"\")","v":""},{"$f":"IF(DATA_INPUT!AO131<>\"\",$V129*14.6*DATA_INPUT!AO131,\"\")","v":""},{"$f":"IF(DATA_INPUT!AP131<>\"\",$V129,\"\")","v":""},{"$f":"IF(DATA_INPUT!AQ131<>\"\",$V129,\"\")","v":""},{"$f":"IF(DATA_INPUT!AR131<>\"\",DATA_INPUT!AR131,\"\")","v":""},{"$f":"IF(DATA_INPUT!AS131<>\"\",DATA_INPUT!AS131,\"\")","v":""},{"$f":"IF(DATA_INPUT!AT131<>\"\",DATA_INPUT!AT131,\"\")","v":""},{"$f":"IF(DATA_INPUT!AU131<>\"\",DATA_INPUT!AU131,\"\")","v":""},{"$f":"IF(DATA_INPUT!AV131<>\"\",DATA_INPUT!AV131,\"\")","v":""},{"$f":"IF(DATA_INPUT!AW131<>\"\",DATA_INPUT!AW131,\"\")","v":"X"},{"$f":"IF(DATA_INPUT!AX131<>\"\",DATA_INPUT!AX131+Directions!$D$24-1,\"\")","v":""},{"$f":"IF(DATA_INPUT!AY131<>\"\",DATA_INPUT!AY131,\"\")","v":""},{"$f":"IF(DATA_INPUT!G131<>\"\",2,IF(DATA_INPUT!N131>2,2,IF(DATA_INPUT!N131=2,3,4)))","v":2},{"$f":"IF(OR(DATA_INPUT!S131<>\"\",DATA_INPUT!T131<>\"\"),H129,\"\")","v":""},{"$f":"IF(DATA_INPUT!T131<>\"\",\"X\",\"\")","v":""}]
[{"$f":"IF(DATA_INPUT!F132<>\"\",DATA_INPUT!F132,\"\")","v":""},{"$f":"IF(DATA_INPUT!G132<>\"\",DATA_INPUT!G132,\"\")","v":""},{"$f":"IF(DATA_INPUT!H132<>\"\",DATA_INPUT!H132,\"\")","v":""},{"$f":"IF(DATA_INPUT!I132<>\"\",DATA_INPUT!I132,\"\")","v":""},{"$f":"IF(DATA_INPUT!J132<>\"\",DATA_INPUT!J132,\"\")","v":"M3-2P"},{"$f":"IF(DATA_INPUT!L132<>\"\",DATA_INPUT!L132,IF(DATA_INPUT!K132<>\"\",DATA_INPUT!K132,\"\"))","v":"(multisign image continues)"},{"$f":"IF(DATA_INPUT!O132<>\"\",DATA_INPUT!O132,\"\")","v":""},{"$f":"IF(DATA_INPUT!P132<>\"\",DATA_INPUT!P132,\"\")","v":1},{"$f":"IF(DATA_INPUT!Q132<>\"\",DATA_INPUT!Q132,\"\")","v":24},{"$f":"IF(DATA_INPUT!R132<>\"\",DATA_INPUT!R132,\"\")","v":12},{"$f":"IF(DATA_INPUT!S132<>\"\",IF(DATA_INPUT!AZ132<>\"\",DATA_INPUT!AZ132,H130*I130*J130/144)*IF(G130<>\"\",3/2,1),\"\")","v":""},{"$f":"IF(DATA_INPUT!T132<>\"\",IF(DATA_INPUT!AZ132<>\"\",DATA_INPUT!AZ132,H130*I130*J130/144)*IF(G130<>\"\",3/2,1),\"\")","v":""},{"$f":"IF(DATA_INPUT!U132<>\"\",$H130,\"\")","v":""},{"$f":"IF(DATA_INPUT!V132<>\"\",$H130,\"\")","v":""},{"$f":"IF(DATA_INPUT!W132<>\"\",$H130,\"\")","v":""},{"$f":"IF(DATA_INPUT!X132<>\"\",$H130,\"\")","v":1},{"$f":"IF(DATA_INPUT!Y132<>\"\",$H130,\"\")","v":""},{"$f":"IF(DATA_INPUT!Z132<>\"\",DATA_INPUT!Z132,\"\")","v":""},{"$f":"IF(DATA_INPUT!AA132<>\"\",DATA_INPUT!AA132,\"\")","v":""},{"$f":"IF(DATA_INPUT!AB132<>\"\",DATA_INPUT!AB132,\"\")","v":""},{"$f":"IF(DATA_INPUT!AC132<>\"\",DATA_INPUT!AC132,\"\")","v":""},{"$f":"IF(DATA_INPUT!AD132<>\"\",DATA_INPUT!AD132,\"\")","v":""},{"$f":"IF(DATA_INPUT!AE132<>\"\",$V130,\"\")","v":""},{"$f":"IF(DATA_INPUT!AF132<>\"\",$V130*8,\"\")","v":""},{"$f":"IF(DATA_INPUT!AG132<>\"\",$V130*15,\"\")","v":""},{"$f":"IF(DATA_INPUT!AH132<>\"\",$V130*15,\"\")","v":""},{"$f":"IF(DATA_INPUT!AI132<>\"\",$V130,\"\")","v":""},{"$f":"IF(DATA_INPUT!AJ132<>\"\",$V130,\"\")","v":""},{"$f":"IF(DATA_INPUT!AK132<>\"\",$V130,\"\")","v":""},{"$f":"IF(DATA_INPUT!AL132<>\"\",$V130*7.6*DATA_INPUT!AL132,\"\")","v":""},{"$f":"IF(DATA_INPUT!AM132<>\"\",$V130*9*DATA_INPUT!AM132,\"\")","v":""},{"$f":"IF(DATA_INPUT!AN132<>\"\",$V130*10.8*DATA_INPUT!AN132,\"\")","v":""},{"$f":"IF(DATA_INPUT!AO132<>\"\",$V130*14.6*DATA_INPUT!AO132,\"\")","v":""},{"$f":"IF(DATA_INPUT!AP132<>\"\",$V130,\"\")","v":""},{"$f":"IF(DATA_INPUT!AQ132<>\"\",$V130,\"\")","v":""},{"$f":"IF(DATA_INPUT!AR132<>\"\",DATA_INPUT!AR132,\"\")","v":""},{"$f":"IF(DATA_INPUT!AS132<>\"\",DATA_INPUT!AS132,\"\")","v":""},{"$f":"IF(DATA_INPUT!AT132<>\"\",DATA_INPUT!AT132,\"\")","v":""},{"$f":"IF(DATA_INPUT!AU132<>\"\",DATA_INPUT!AU132,\"\")","v":""},{"$f":"IF(DATA_INPUT!AV132<>\"\",DATA_INPUT!AV132,\"\")","v":""},{"$f":"IF(DATA_INPUT!AW132<>\"\",DATA_INPUT!AW132,\"\")","v":"X"},{"$f":"IF(DATA_INPUT!AX132<>\"\",DATA_INPUT!AX132+Directions!$D$24-1,\"\")","v":""},{"$f":"IF(DATA_INPUT!AY132<>\"\",DATA_INPUT!AY132,\"\")","v":""},{"$f":"IF(DATA_INPUT!G132<>\"\",2,IF(DATA_INPUT!N132>2,2,IF(DATA_INPUT!N132=2,3,4)))","v":2},{"$f":"IF(OR(DATA_INPUT!S132<>\"\",DATA_INPUT!T132<>\"\"),H130,\"\")","v":""},{"$f":"IF(DATA_INPUT!T132<>\"\",\"X\",\"\")","v":""}]
[{"$f":"IF(DATA_INPUT!F133<>\"\",DATA_INPUT!F133,\"\")","v":""},{"$f":"IF(DATA_INPUT!G133<>\"\",DATA_INPUT!G133,\"\")","v":""},{"$f":"IF(DATA_INPUT!H133<>\"\",DATA_INPUT!H133,\"\")","v":""},{"$f":"IF(DATA_INPUT!I133<>\"\",DATA_INPUT!I133,\"\")","v":""},{"$f":"IF(DATA_INPUT!J133<>\"\",DATA_INPUT!J133,\"\")","v":"M3-3P"},{"$f":"IF(DATA_INPUT!L133<>\"\",DATA_INPUT!L133,IF(DATA_INPUT!K133<>\"\",DATA_INPUT!K133,\"\"))","v":"(multisign image continues)"},{"$f":"IF(DATA_INPUT!O133<>\"\",DATA_INPUT!O133,\"\")","v":""},{"$f":"IF(DATA_INPUT!P133<>\"\",DATA_INPUT!P133,\"\")","v":1},{"$f":"IF(DATA_INPUT!Q133<>\"\",DATA_INPUT!Q133,\"\")","v":24},{"$f":"IF(DATA_INPUT!R133<>\"\",DATA_INPUT!R133,\"\")","v":12},{"$f":"IF(DATA_INPUT!S133<>\"\",IF(DATA_INPUT!AZ133<>\"\",DATA_INPUT!AZ133,H131*I131*J131/144)*IF(G131<>\"\",3/2,1),\"\")","v":""},{"$f":"IF(DATA_INPUT!T133<>\"\",IF(DATA_INPUT!AZ133<>\"\",DATA_INPUT!AZ133,H131*I131*J131/144)*IF(G131<>\"\",3/2,1),\"\")","v":""},{"$f":"IF(DATA_INPUT!U133<>\"\",$H131,\"\")","v":""},{"$f":"IF(DATA_INPUT!V133<>\"\",$H131,\"\")","v":""},{"$f":"IF(DATA_INPUT!W133<>\"\",$H131,\"\")","v":""},{"$f":"IF(DATA_INPUT!X133<>\"\",$H131,\"\")","v":1},{"$f":"IF(DATA_INPUT!Y133<>\"\",$H131,\"\")","v":""},{"$f":"IF(DATA_INPUT!Z133<>\"\",DATA_INPUT!Z133,\"\")","v":""},{"$f":"IF(DATA_INPUT!AA133<>\"\",DATA_INPUT!AA133,\"\")","v":""},{"$f":"IF(DATA_INPUT!AB133<>\"\",DATA_INPUT!AB133,\"\")","v":""},{"$f":"IF(DATA_INPUT!AC133<>\"\",DATA_INPUT!AC133,\"\")","v":""},{"$f":"IF(DATA_INPUT!AD133<>\"\",DATA_INPUT!AD133,\"\")","v":""},{"$f":"IF(DATA_INPUT!AE133<>\"\",$V131,\"\")","v":""},{"$f":"IF(DATA_INPUT!AF133<>\"\",$V131*8,\"\")","v":""},{"$f":"IF(DATA_INPUT!AG133<>\"\",$V131*15,\"\")","v":""},{"$f":"IF(DATA_INPUT!AH133<>\"\",$V131*15,\"\")","v":""},{"$f":"IF(DATA_INPUT!AI133<>\"\",$V131,\"\")","v":""},{"$f":"IF(DATA_INPUT!AJ133<>\"\",$V131,\"\")","v":""},{"$f":"IF(DATA_INPUT!AK133<>\"\",$V131,\"\")","v":""},{"$f":"IF(DATA_INPUT!AL133<>\"\",$V131*7.6*DATA_INPUT!AL133,\"\")","v":""},{"$f":"IF(DATA_INPUT!AM133<>\"\",$V131*9*DATA_INPUT!AM133,\"\")","v":""},{"$f":"IF(DATA_INPUT!AN133<>\"\",$V131*10.8*DATA_INPUT!AN133,\"\")","v":""},{"$f":"IF(DATA_INPUT!AO133<>\"\",$V131*14.6*DATA_INPUT!AO133,\"\")","v":""},{"$f":"IF(DATA_INPUT!AP133<>\"\",$V131,\"\")","v":""},{"$f":"IF(DATA_INPUT!AQ133<>\"\",$V131,\"\")","v":""},{"$f":"IF(DATA_INPUT!AR133<>\"\",DATA_INPUT!AR133,\"\")","v":""},{"$f":"IF(DATA_INPUT!AS133<>\"\",DATA_INPUT!AS133,\"\")","v":""},{"$f":"IF(DATA_INPUT!AT133<>\"\",DATA_INPUT!AT133,\"\")","v":""},{"$f":"IF(DATA_INPUT!AU133<>\"\",DATA_INPUT!AU133,\"\")","v":""},{"$f":"IF(DATA_INPUT!AV133<>\"\",DATA_INPUT!AV133,\"\")","v":""},{"$f":"IF(DATA_INPUT!AW133<>\"\",DATA_INPUT!AW133,\"\")","v":"X"},{"$f":"IF(DATA_INPUT!AX133<>\"\",DATA_INPUT!AX133+Directions!$D$24-1,\"\")","v":""},{"$f":"IF(DATA_INPUT!AY133<>\"\",DATA_INPUT!AY133,\"\")","v":""},{"$f":"IF(DATA_INPUT!G133<>\"\",2,IF(DATA_INPUT!N133>2,2,IF(DATA_INPUT!N133=2,3,4)))","v":2},{"$f":"IF(OR(DATA_INPUT!S133<>\"\",DATA_INPUT!T133<>\"\"),H131,\"\")","v":""},{"$f":"IF(DATA_INPUT!T133<>\"\",\"X\",\"\")","v":""}]
[{"$f":"IF(DATA_INPUT!F134<>\"\",DATA_INPUT!F134,\"\")","v":""},{"$f":"IF(DATA_INPUT!G134<>\"\",DATA_INPUT!G134,\"\")","v":""},{"$f":"IF(DATA_INPUT!H134<>\"\",DATA_INPUT!H134,\"\")","v":""},{"$f":"IF(DATA_INPUT!I134<>\"\",DATA_INPUT!I134,\"\")","v":""},{"$f":"IF(DATA_INPUT!J134<>\"\",DATA_INPUT!J134,\"\")","v":"M3-4P"},{"$f":"IF(DATA_INPUT!L134<>\"\",DATA_INPUT!L134,IF(DATA_INPUT!K134<>\"\",DATA_INPUT!K134,\"\"))","v":"(multisign image continues)"},{"$f":"IF(DATA_INPUT!O134<>\"\",DATA_INPUT!O134,\"\")","v":""},{"$f":"IF(DATA_INPUT!P134<>\"\",DATA_INPUT!P134,\"\")","v":1},{"$f":"IF(DATA_INPUT!Q134<>\"\",DATA_INPUT!Q134,\"\")","v":24},{"$f":"IF(DATA_INPUT!R134<>\"\",DATA_INPUT!R134,\"\")","v":12},{"$f":"IF(DATA_INPUT!S134<>\"\",IF(DATA_INPUT!AZ134<>\"\",DATA_INPUT!AZ134,H132*I132*J132/144)*IF(G132<>\"\",3/2,1),\"\")","v":""},{"$f":"IF(DATA_INPUT!T134<>\"\",IF(DATA_INPUT!AZ134<>\"\",DATA_INPUT!AZ134,H132*I132*J132/144)*IF(G132<>\"\",3/2,1),\"\")","v":""},{"$f":"IF(DATA_INPUT!U134<>\"\",$H132,\"\")","v":""},{"$f":"IF(DATA_INPUT!V134<>\"\",$H132,\"\")","v":""},{"$f":"IF(DATA_INPUT!W134<>\"\",$H132,\"\")","v":""},{"$f":"IF(DATA_INPUT!X134<>\"\",$H132,\"\")","v":1},{"$f":"IF(DATA_INPUT!Y134<>\"\",$H132,\"\")","v":""},{"$f":"IF(DATA_INPUT!Z134<>\"\",DATA_INPUT!Z134,\"\")","v":""},{"$f":"IF(DATA_INPUT!AA134<>\"\",DATA_INPUT!AA134,\"\")","v":""},{"$f":"IF(DATA_INPUT!AB134<>\"\",DATA_INPUT!AB134,\"\")","v":""},{"$f":"IF(DATA_INPUT!AC134<>\"\",DATA_INPUT!AC134,\"\")","v":""},{"$f":"IF(DATA_INPUT!AD134<>\"\",DATA_INPUT!AD134,\"\")","v":""},{"$f":"IF(DATA_INPUT!AE134<>\"\",$V132,\"\")","v":""},{"$f":"IF(DATA_INPUT!AF134<>\"\",$V132*8,\"\")","v":""},{"$f":"IF(DATA_INPUT!AG134<>\"\",$V132*15,\"\")","v":""},{"$f":"IF(DATA_INPUT!AH134<>\"\",$V132*15,\"\")","v":""},{"$f":"IF(DATA_INPUT!AI134<>\"\",$V132,\"\")","v":""},{"$f":"IF(DATA_INPUT!AJ134<>\"\",$V132,\"\")","v":""},{"$f":"IF(DATA_INPUT!AK134<>\"\",$V132,\"\")","v":""},{"$f":"IF(DATA_INPUT!AL134<>\"\",$V132*7.6*DATA_INPUT!AL134,\"\")","v":""},{"$f":"IF(DATA_INPUT!AM134<>\"\",$V132*9*DATA_INPUT!AM134,\"\")","v":""},{"$f":"IF(DATA_INPUT!AN134<>\"\",$V132*10.8*DATA_INPUT!AN134,\"\")","v":""},{"$f":"IF(DATA_INPUT!AO134<>\"\",$V132*14.6*DATA_INPUT!AO134,\"\")","v":""},{"$f":"IF(DATA_INPUT!AP134<>\"\",$V132,\"\")","v":""},{"$f":"IF(DATA_INPUT!AQ134<>\"\",$V132,\"\")","v":""},{"$f":"IF(DATA_INPUT!AR134<>\"\",DATA_INPUT!AR134,\"\")","v":""},{"$f":"IF(DATA_INPUT!AS134<>\"\",DATA_INPUT!AS134,\"\")","v":""},{"$f":"IF(DATA_INPUT!AT134<>\"\",DATA_INPUT!AT134,\"\")","v":""},{"$f":"IF(DATA_INPUT!AU134<>\"\",DATA_INPUT!AU134,\"\")","v":""},{"$f":"IF(DATA_INPUT!AV134<>\"\",DATA_INPUT!AV134,\"\")","v":""},{"$f":"IF(DATA_INPUT!AW134<>\"\",DATA_INPUT!AW134,\"\")","v":"X"},{"$f":"IF(DATA_INPUT!AX134<>\"\",DATA_INPUT!AX134+Directions!$D$24-1,\"\")","v":""},{"$f":"IF(DATA_INPUT!AY134<>\"\",DATA_INPUT!AY134,\"\")","v":""},{"$f":"IF(DATA_INPUT!G134<>\"\",2,IF(DATA_INPUT!N134>2,2,IF(DATA_INPUT!N134=2,3,4)))","v":2},{"$f":"IF(OR(DATA_INPUT!S134<>\"\",DATA_INPUT!T134<>\"\"),H132,\"\")","v":""},{"$f":"IF(DATA_INPUT!T134<>\"\",\"X\",\"\")","v":""}]
[{"$f":"IF(DATA_INPUT!F135<>\"\",DATA_INPUT!F135,\"\")","v":""},{"$f":"IF(DATA_INPUT!G135<>\"\",DATA_INPUT!G135,\"\")","v":""},{"$f":"IF(DATA_INPUT!H135<>\"\",DATA_INPUT!H135,\"\")","v":""},{"$f":"IF(DATA_INPUT!I135<>\"\",DATA_INPUT!I135,\"\")","v":""},{"$f":"IF(DATA_INPUT!J135<>\"\",DATA_INPUT!J135,\"\")","v":"M1-4"},{"$f":"IF(DATA_INPUT!L135<>\"\",DATA_INPUT!L135,IF(DATA_INPUT!K135<>\"\",DATA_INPUT!K135,\"\"))","v":"(multisign image continues)"},{"$f":"IF(DATA_INPUT!O135<>\"\",DATA_INPUT!O135,\"\")","v":""},{"$f":"IF(DATA_INPUT!P135<>\"\",DATA_INPUT!P135,\"\")","v":2},{"$f":"IF(DATA_INPUT!Q135<>\"\",DATA_INPUT!Q135,\"\")","v":24},{"$f":"IF(DATA_INPUT!R135<>\"\",DATA_INPUT!R135,\"\")","v":24},{"$f":"IF(DATA_INPUT!S135<>\"\",IF(DATA_INPUT!AZ135<>\"\",DATA_INPUT!AZ135,H133*I133*J133/144)*IF(G133<>\"\",3/2,1),\"\")","v":""},{"$f":"IF(DATA_INPUT!T135<>\"\",IF(DATA_INPUT!AZ135<>\"\",DATA_INPUT!AZ135,H133*I133*J133/144)*IF(G133<>\"\",3/2,1),\"\")","v":""},{"$f":"IF(DATA_INPUT!U135<>\"\",$H133,\"\")","v":""},{"$f":"IF(DATA_INPUT!V135<>\"\",$H133,\"\")","v":""},{"$f":"IF(DATA_INPUT!W135<>\"\",$H133,\"\")","v":""},{"$f":"IF(DATA_INPUT!X135<>\"\",$H133,\"\")","v":2},{"$f":"IF(DATA_INPUT!Y135<>\"\",$H133,\"\")","v":""},{"$f":"IF(DATA_INPUT!Z135<>\"\",DATA_INPUT!Z135,\"\")","v":""},{"$f":"IF(DATA_INPUT!AA135<>\"\",DATA_INPUT!AA135,\"\")","v":""},{"$f":"IF(DATA_INPUT!AB135<>\"\",DATA_INPUT!AB135,\"\")","v":""},{"$f":"IF(DATA_INPUT!AC135<>\"\",DATA_INPUT!AC135,\"\")","v":""},{"$f":"IF(DATA_INPUT!AD135<>\"\",DATA_INPUT!AD135,\"\")","v":""},{"$f":"IF(DATA_INPUT!AE135<>\"\",$V133,\"\")","v":""},{"$f":"IF(DATA_INPUT!AF135<>\"\",$V133*8,\"\")","v":""},{"$f":"IF(DATA_INPUT!AG135<>\"\",$V133*15,\"\")","v":""},{"$f":"IF(DATA_INPUT!AH135<>\"\",$V133*15,\"\")","v":""},{"$f":"IF(DATA_INPUT!AI135<>\"\",$V133,\"\")","v":""},{"$f":"IF(DATA_INPUT!AJ135<>\"\",$V133,\"\")","v":""},{"$f":"IF(DATA_INPUT!AK135<>\"\",$V133,\"\")","v":""},{"$f":"IF(DATA_INPUT!AL135<>\"\",$V133*7.6*DATA_INPUT!AL135,\"\")","v":""},{"$f":"IF(DATA_INPUT!AM135<>\"\",$V133*9*DATA_INPUT!AM135,\"\")","v":""},{"$f":"IF(DATA_INPUT!AN135<>\"\",$V133*10.8*DATA_INPUT!AN135,\"\")","v":""},{"$f":"IF(DATA_INPUT!AO135<>\"\",$V133*14.6*DATA_INPUT!AO135,\"\")","v":""},{"$f":"IF(DATA_INPUT!AP135<>\"\",$V133,\"\")","v":""},{"$f":"IF(DATA_INPUT!AQ135<>\"\",$V133,\"\")","v":""},{"$f":"IF(DATA_INPUT!AR135<>\"\",DATA_INPUT!AR135,\"\")","v":""},{"$f":"IF(DATA_INPUT!AS135<>\"\",DATA_INPUT!AS135,\"\")","v":""},{"$f":"IF(DATA_INPUT!AT135<>\"\",DATA_INPUT!AT135,\"\")","v":""},{"$f":"IF(DATA_INPUT!AU135<>\"\",DATA_INPUT!AU135,\"\")","v":""},{"$f":"IF(DATA_INPUT!AV135<>\"\",DATA_INPUT!AV135,\"\")","v":""},{"$f":"IF(DATA_INPUT!AW135<>\"\",DATA_INPUT!AW135,\"\")","v":"X"},{"$f":"IF(DATA_INPUT!AX135<>\"\",DATA_INPUT!AX135+Directions!$D$24-1,\"\")","v":""},{"$f":"IF(DATA_INPUT!AY135<>\"\",DATA_INPUT!AY135,\"\")","v":""},{"$f":"IF(DATA_INPUT!G135<>\"\",2,IF(DATA_INPUT!N135>2,2,IF(DATA_INPUT!N135=2,3,4)))","v":2},{"$f":"IF(OR(DATA_INPUT!S135<>\"\",DATA_INPUT!T135<>\"\"),H133,\"\")","v":""},{"$f":"IF(DATA_INPUT!T135<>\"\",\"X\",\"\")","v":""}]
[{"$f":"IF(DATA_INPUT!F136<>\"\",DATA_INPUT!F136,\"\")","v":""},{"$f":"IF(DATA_INPUT!G136<>\"\",DATA_INPUT!G136,\"\")","v":""},{"$f":"IF(DATA_INPUT!H136<>\"\",DATA_INPUT!H136,\"\")","v":""},{"$f":"IF(DATA_INPUT!I136<>\"\",DATA_INPUT!I136,\"\")","v":""},{"$f":"IF(DATA_INPUT!J136<>\"\",DATA_INPUT!J136,\"\")","v":"M1-4"},{"$f":"IF(DATA_INPUT!L136<>\"\",DATA_INPUT!L136,IF(DATA_INPUT!K136<>\"\",DATA_INPUT!K136,\"\"))","v":"(multisign image continues)"},{"$f":"IF(DATA_INPUT!O136<>\"\",DATA_INPUT!O136,\"\")","v":""},{"$f":"IF(DATA_INPUT!P136<>\"\",DATA_INPUT!P136,\"\")","v":2},{"$f":"IF(DATA_INPUT!Q136<>\"\",DATA_INPUT!Q136,\"\")","v":24},{"$f":"IF(DATA_INPUT!R136<>\"\",DATA_INPUT!R136,\"\")","v":24},{"$f":"IF(DATA_INPUT!S136<>\"\",IF(DATA_INPUT!AZ136<>\"\",DATA_INPUT!AZ136,H134*I134*J134/144)*IF(G134<>\"\",3/2,1),\"\")","v":""},{"$f":"IF(DATA_INPUT!T136<>\"\",IF(DATA_INPUT!AZ136<>\"\",DATA_INPUT!AZ136,H134*I134*J134/144)*IF(G134<>\"\",3/2,1),\"\")","v":""},{"$f":"IF(DATA_INPUT!U136<>\"\",$H134,\"\")","v":""},{"$f":"IF(DATA_INPUT!V136<>\"\",$H134,\"\")","v":""},{"$f":"IF(DATA_INPUT!W136<>\"\",$H134,\"\")","v":""},{"$f":"IF(DATA_INPUT!X136<>\"\",$H134,\"\")","v":2},{"$f":"IF(DATA_INPUT!Y136<>\"\",$H134,\"\")","v":""},{"$f":"IF(DATA_INPUT!Z136<>\"\",DATA_INPUT!Z136,\"\")","v":""},{"$f":"IF(DATA_INPUT!AA136<>\"\",DATA_INPUT!AA136,\"\")","v":""},{"$f":"IF(DATA_INPUT!AB136<>\"\",DATA_INPUT!AB136,\"\")","v":""},{"$f":"IF(DATA_INPUT!AC136<>\"\",DATA_INPUT!AC136,\"\")","v":""},{"$f":"IF(DATA_INPUT!AD136<>\"\",DATA_INPUT!AD136,\"\")","v":""},{"$f":"IF(DATA_INPUT!AE136<>\"\",$V134,\"\")","v":""},{"$f":"IF(DATA_INPUT!AF136<>\"\",$V134*8,\"\")","v":""},{"$f":"IF(DATA_INPUT!AG136<>\"\",$V134*15,\"\")","v":""},{"$f":"IF(DATA_INPUT!AH136<>\"\",$V134*15,\"\")","v":""},{"$f":"IF(DATA_INPUT!AI136<>\"\",$V134,\"\")","v":""},{"$f":"IF(DATA_INPUT!AJ136<>\"\",$V134,\"\")","v":""},{"$f":"IF(DATA_INPUT!AK136<>\"\",$V134,\"\")","v":""},{"$f":"IF(DATA_INPUT!AL136<>\"\",$V134*7.6*DATA_INPUT!AL136,\"\")","v":""},{"$f":"IF(DATA_INPUT!AM136<>\"\",$V134*9*DATA_INPUT!AM136,\"\")","v":""},{"$f":"IF(DATA_INPUT!AN136<>\"\",$V134*10.8*DATA_INPUT!AN136,\"\")","v":""},{"$f":"IF(DATA_INPUT!AO136<>\"\",$V134*14.6*DATA_INPUT!AO136,\"\")","v":""},{"$f":"IF(DATA_INPUT!AP136<>\"\",$V134,\"\")","v":""},{"$f":"IF(DATA_INPUT!AQ136<>\"\",$V134,\"\")","v":""},{"$f":"IF(DATA_INPUT!AR136<>\"\",DATA_INPUT!AR136,\"\")","v":""},{"$f":"IF(DATA_INPUT!AS136<>\"\",DATA_INPUT!AS136,\"\")","v":""},{"$f":"IF(DATA_INPUT!AT136<>\"\",DATA_INPUT!AT136,\"\")","v":""},{"$f":"IF(DATA_INPUT!AU136<>\"\",DATA_INPUT!AU136,\"\")","v":""},{"$f":"IF(DATA_INPUT!AV136<>\"\",DATA_INPUT!AV136,\"\")","v":""},{"$f":"IF(DATA_INPUT!AW136<>\"\",DATA_INPUT!AW136,\"\")","v":"X"},{"$f":"IF(DATA_INPUT!AX136<>\"\",DATA_INPUT!AX136+Directions!$D$24-1,\"\")","v":""},{"$f":"IF(DATA_INPUT!AY136<>\"\",DATA_INPUT!AY136,\"\")","v":""},{"$f":"IF(DATA_INPUT!G136<>\"\",2,IF(DATA_INPUT!N136>2,2,IF(DATA_INPUT!N136=2,3,4)))","v":2},{"$f":"IF(OR(DATA_INPUT!S136<>\"\",DATA_INPUT!T136<>\"\"),H134,\"\")","v":""},{"$f":"IF(DATA_INPUT!T136<>\"\",\"X\",\"\")","v":""}]
[{"$f":"IF(DATA_INPUT!F137<>\"\",DATA_INPUT!F137,\"\")","v":""},{"$f":"IF(DATA_INPUT!G137<>\"\",DATA_INPUT!G137,\"\")","v":""},{"$f":"IF(DATA_INPUT!H137<>\"\",DATA_INPUT!H137,\"\")","v":""},{"$f":"IF(DATA_INPUT!I137<>\"\",DATA_INPUT!I137,\"\")","v":""},{"$f":"IF(DATA_INPUT!J137<>\"\",DATA_INPUT!J137,\"\")","v":"M6-1PR"},{"$f":"IF(DATA_INPUT!L137<>\"\",DATA_INPUT!L137,IF(DATA_INPUT!K137<>\"\",DATA_INPUT!K137,\"\"))","v":"(multisign image continues)"},{"$f":"IF(DATA_INPUT!O137<>\"\",DATA_INPUT!O137,\"\")","v":""},{"$f":"IF(DATA_INPUT!P137<>\"\",DATA_INPUT!P137,\"\")","v":1},{"$f":"IF(DATA_INPUT!Q137<>\"\",DATA_INPUT!Q137,\"\")","v":21},{"$f":"IF(DATA_INPUT!R137<>\"\",DATA_INPUT!R137,\"\")","v":15},{"$f":"IF(DATA_INPUT!S137<>\"\",IF(DATA_INPUT!AZ137<>\"\",DATA_INPUT!AZ137,H135*I135*J135/144)*IF(G135<>\"\",3/2,1),\"\")","v":""},{"$f":"IF(DATA_INPUT!T137<>\"\",IF(DATA_INPUT!AZ137<>\"\",DATA_INPUT!AZ137,H135*I135*J135/144)*IF(G135<>\"\",3/2,1),\"\")","v":""},{"$f":"IF(DATA_INPUT!U137<>\"\",$H135,\"\")","v":""},{"$f":"IF(DATA_INPUT!V137<>\"\",$H135,\"\")","v":""},{"$f":"IF(DATA_INPUT!W137<>\"\",$H135,\"\")","v":""},{"$f":"IF(DATA_INPUT!X137<>\"\",$H135,\"\")","v":1},{"$f":"IF(DATA_INPUT!Y137<>\"\",$H135,\"\")","v":""},{"$f":"IF(DATA_INPUT!Z137<>\"\",DATA_INPUT!Z137,\"\")","v":""},{"$f":"IF(DATA_INPUT!AA137<>\"\",DATA_INPUT!AA137,\"\")","v":""},{"$f":"IF(DATA_INPUT!AB137<>\"\",DATA_INPUT!AB137,\"\")","v":""},{"$f":"IF(DATA_INPUT!AC137<>\"\",DATA_INPUT!AC137,\"\")","v":""},{"$f":"IF(DATA_INPUT!AD137<>\"\",DATA_INPUT!AD137,\"\")","v":""},{"$f":"IF(DATA_INPUT!AE137<>\"\",$V135,\"\")","v":""},{"$f":"IF(DATA_INPUT!AF137<>\"\",$V135*8,\"\")","v":""},{"$f":"IF(DATA_INPUT!AG137<>\"\",$V135*15,\"\")","v":""},{"$f":"IF(DATA_INPUT!AH137<>\"\",$V135*15,\"\")","v":""},{"$f":"IF(DATA_INPUT!AI137<>\"\",$V135,\"\")","v":""},{"$f":"IF(DATA_INPUT!AJ137<>\"\",$V135,\"\")","v":""},{"$f":"IF(DATA_INPUT!AK137<>\"\",$V135,\"\")","v":""},{"$f":"IF(DATA_INPUT!AL137<>\"\",$V135*7.6*DATA_INPUT!AL137,\"\")","v":""},{"$f":"IF(DATA_INPUT!AM137<>\"\",$V135*9*DATA_INPUT!AM137,\"\")","v":""},{"$f":"IF(DATA_INPUT!AN137<>\"\",$V135*10.8*DATA_INPUT!AN137,\"\")","v":""},{"$f":"IF(DATA_INPUT!AO137<>\"\",$V135*14.6*DATA_INPUT!AO137,\"\")","v":""},{"$f":"IF(DATA_INPUT!AP137<>\"\",$V135,\"\")","v":""},{"$f":"IF(DATA_INPUT!AQ137<>\"\",$V135,\"\")","v":""},{"$f":"IF(DATA_INPUT!AR137<>\"\",DATA_INPUT!AR137,\"\")","v":""},{"$f":"IF(DATA_INPUT!AS137<>\"\",DATA_INPUT!AS137,\"\")","v":""},{"$f":"IF(DATA_INPUT!AT137<>\"\",DATA_INPUT!AT137,\"\")","v":""},{"$f":"IF(DATA_INPUT!AU137<>\"\",DATA_INPUT!AU137,\"\")","v":""},{"$f":"IF(DATA_INPUT!AV137<>\"\",DATA_INPUT!AV137,\"\")","v":""},{"$f":"IF(DATA_INPUT!AW137<>\"\",DATA_INPUT!AW137,\"\")","v":"X"},{"$f":"IF(DATA_INPUT!AX137<>\"\",DATA_INPUT!AX137+Directions!$D$24-1,\"\")","v":""},{"$f":"IF(DATA_INPUT!AY137<>\"\",DATA_INPUT!AY137,\"\")","v":""},{"$f":"IF(DATA_INPUT!G137<>\"\",2,IF(DATA_INPUT!N137>2,2,IF(DATA_INPUT!N137=2,3,4)))","v":2},{"$f":"IF(OR(DATA_INPUT!S137<>\"\",DATA_INPUT!T137<>\"\"),H135,\"\")","v":""},{"$f":"IF(DATA_INPUT!T137<>\"\",\"X\",\"\")","v":""}]
[{"$f":"IF(DATA_INPUT!F138<>\"\",DATA_INPUT!F138,\"\")","v":""},{"$f":"IF(DATA_INPUT!G138<>\"\",DATA_INPUT!G138,\"\")","v":""},{"$f":"IF(DATA_INPUT!H138<>\"\",DATA_INPUT!H138,\"\")","v":""},{"$f":"IF(DATA_INPUT!I138<>\"\",DATA_INPUT!I138,\"\")","v":""},{"$f":"IF(DATA_INPUT!J138<>\"\",DATA_INPUT!J138,\"\")","v":"M6-1PL"},{"$f":"IF(DATA_INPUT!L138<>\"\",DATA_INPUT!L138,IF(DATA_INPUT!K138<>\"\",DATA_INPUT!K138,\"\"))","v":"(multisign image continues)"},{"$f":"IF(DATA_INPUT!O138<>\"\",DATA_INPUT!O138,\"\")","v":""},{"$f":"IF(DATA_INPUT!P138<>\"\",DATA_INPUT!P138,\"\")","v":1},{"$f":"IF(DATA_INPUT!Q138<>\"\",DATA_INPUT!Q138,\"\")","v":21},{"$f":"IF(DATA_INPUT!R138<>\"\",DATA_INPUT!R138,\"\")","v":15},{"$f":"IF(DATA_INPUT!S138<>\"\",IF(DATA_INPUT!AZ138<>\"\",DATA_INPUT!AZ138,H136*I136*J136/144)*IF(G136<>\"\",3/2,1),\"\")","v":""},{"$f":"IF(DATA_INPUT!T138<>\"\",IF(DATA_INPUT!AZ138<>\"\",DATA_INPUT!AZ138,H136*I136*J136/144)*IF(G136<>\"\",3/2,1),\"\")","v":""},{"$f":"IF(DATA_INPUT!U138<>\"\",$H136,\"\")","v":""},{"$f":"IF(DATA_INPUT!V138<>\"\",$H136,\"\")","v":""},{"$f":"IF(DATA_INPUT!W138<>\"\",$H136,\"\")","v":""},{"$f":"IF(DATA_INPUT!X138<>\"\",$H136,\"\")","v":1},{"$f":"IF(DATA_INPUT!Y138<>\"\",$H136,\"\")","v":""},{"$f":"IF(DATA_INPUT!Z138<>\"\",DATA_INPUT!Z138,\"\")","v":""},{"$f":"IF(DATA_INPUT!AA138<>\"\",DATA_INPUT!AA138,\"\")","v":""},{"$f":"IF(DATA_INPUT!AB138<>\"\",DATA_INPUT!AB138,\"\")","v":""},{"$f":"IF(DATA_INPUT!AC138<>\"\",DATA_INPUT!AC138,\"\")","v":""},{"$f":"IF(DATA_INPUT!AD138<>\"\",DATA_INPUT!AD138,\"\")","v":""},{"$f":"IF(DATA_INPUT!AE138<>\"\",$V136,\"\")","v":""},{"$f":"IF(DATA_INPUT!AF138<>\"\",$V136*8,\"\")","v":""},{"$f":"IF(DATA_INPUT!AG138<>\"\",$V136*15,\"\")","v":""},{"$f":"IF(DATA_INPUT!AH138<>\"\",$V136*15,\"\")","v":""},{"$f":"IF(DATA_INPUT!AI138<>\"\",$V136,\"\")","v":""},{"$f":"IF(DATA_INPUT!AJ138<>\"\",$V136,\"\")","v":""},{"$f":"IF(DATA_INPUT!AK138<>\"\",$V136,\"\")","v":""},{"$f":"IF(DATA_INPUT!AL138<>\"\",$V136*7.6*DATA_INPUT!AL138,\"\")","v":""},{"$f":"IF(DATA_INPUT!AM138<>\"\",$V136*9*DATA_INPUT!AM138,\"\")","v":""},{"$f":"IF(DATA_INPUT!AN138<>\"\",$V136*10.8*DATA_INPUT!AN138,\"\")","v":""},{"$f":"IF(DATA_INPUT!AO138<>\"\",$V136*14.6*DATA_INPUT!AO138,\"\")","v":""},{"$f":"IF(DATA_INPUT!AP138<>\"\",$V136,\"\")","v":""},{"$f":"IF(DATA_INPUT!AQ138<>\"\",$V136,\"\")","v":""},{"$f":"IF(DATA_INPUT!AR138<>\"\",DATA_INPUT!AR138,\"\")","v":""},{"$f":"IF(DATA_INPUT!AS138<>\"\",DATA_INPUT!AS138,\"\")","v":""},{"$f":"IF(DATA_INPUT!AT138<>\"\",DATA_INPUT!AT138,\"\")","v":""},{"$f":"IF(DATA_INPUT!AU138<>\"\",DATA_INPUT!AU138,\"\")","v":""},{"$f":"IF(DATA_INPUT!AV138<>\"\",DATA_INPUT!AV138,\"\")","v":""},{"$f":"IF(DATA_INPUT!AW138<>\"\",DATA_INPUT!AW138,\"\")","v":"X"},{"$f":"IF(DATA_INPUT!AX138<>\"\",DATA_INPUT!AX138+Directions!$D$24-1,\"\")","v":""},{"$f":"IF(DATA_INPUT!AY138<>\"\",DATA_INPUT!AY138,\"\")","v":""},{"$f":"IF(DATA_INPUT!G138<>\"\",2,IF(DATA_INPUT!N138>2,2,IF(DATA_INPUT!N138=2,3,4)))","v":2},{"$f":"IF(OR(DATA_INPUT!S138<>\"\",DATA_INPUT!T138<>\"\"),H136,\"\")","v":""},{"$f":"IF(DATA_INPUT!T138<>\"\",\"X\",\"\")","v":""}]
[{"$f":"IF(DATA_INPUT!F139<>\"\",DATA_INPUT!F139,\"\")","v":""},{"$f":"IF(DATA_INPUT!G139<>\"\",DATA_INPUT!G139,\"\")","v":""},{"$f":"IF(DATA_INPUT!H139<>\"\",DATA_INPUT!H139,\"\")","v":"STA. 305 +63.00"},{"$f":"IF(DATA_INPUT!I139<>\"\",DATA_INPUT!I139,\"\")","v":"A"},{"$f":"IF(DATA_INPUT!J139<>\"\",DATA_INPUT!J139,\"\")","v":"M3-1P"},{"$f":"IF(DATA_INPUT!L139<>\"\",DATA_INPUT!L139,IF(DATA_INPUT!K139<>\"\",DATA_INPUT!K139,\"\"))","v":{"$error":"#VALUE!"}},{"$f":"IF(DATA_INPUT!O139<>\"\",DATA_INPUT!O139,\"\")","v":""},{"$f":"IF(DATA_INPUT!P139<>\"\",DATA_INPUT!P139,\"\")","v":1},{"$f":"IF(DATA_INPUT!Q139<>\"\",DATA_INPUT!Q139,\"\")","v":24},{"$f":"IF(DATA_INPUT!R139<>\"\",DATA_INPUT!R139,\"\")","v":12},{"$f":"IF(DATA_INPUT!S139<>\"\",IF(DATA_INPUT!AZ139<>\"\",DATA_INPUT!AZ139,H137*I137*J137/144)*IF(G137<>\"\",3/2,1),\"\")","v":2},{"$f":"IF(DATA_INPUT!T139<>\"\",IF(DATA_INPUT!AZ139<>\"\",DATA_INPUT!AZ139,H137*I137*J137/144)*IF(G137<>\"\",3/2,1),\"\")","v":""},{"$f":"IF(DATA_INPUT!U139<>\"\",$H137,\"\")","v":""},{"$f":"IF(DATA_INPUT!V139<>\"\",$H137,\"\")","v":""},{"$f":"IF(DATA_INPUT!W139<>\"\",$H137,\"\")","v":""},{"$f":"IF(DATA_INPUT!X139<>\"\",$H137,\"\")","v":""},{"$f":"IF(DATA_INPUT!Y139<>\"\",$H137,\"\")","v":""},{"$f":"IF(DATA_INPUT!Z139<>\"\",DATA_INPUT!Z139,\"\")","v":""},{"$f":"IF(DATA_INPUT!AA139<>\"\",DATA_INPUT!AA139,\"\")","v":""},{"$f":"IF(DATA_INPUT!AB139<>\"\",DATA_INPUT!AB139,\"\")","v":""},{"$f":"IF(DATA_INPUT!AC139<>\"\",DATA_INPUT!AC139,\"\")","v":""},{"$f":"IF(DATA_INPUT!AD139<>\"\",DATA_INPUT!AD139,\"\")","v":2},{"$f":"IF(DATA_INPUT!AE139<>\"\",$V137,\"\")","v":""},{"$f":"IF(DATA_INPUT!AF139<>\"\",$V137*8,\"\")","v":""},{"$f":"IF(DATA_INPUT!AG139<>\"\",$V137*15,\"\")","v":""},{"$f":"IF(DATA_INPUT!AH139<>\"\",$V137*15,\"\")","v":30},{"$f":"IF(DATA_INPUT!AI139<>\"\",$V137,\"\")","v":2},{"$f":"IF(DATA_INPUT!AJ139<>\"\",$V137,\"\")","v":""},{"$f":"IF(DATA_INPUT!AK139<>\"\",$V137,\"\")","v":""},{"$f":"IF(DATA_INPUT!AL139<>\"\",$V137*7.6*DATA_INPUT!AL139,\"\")","v":""},{"$f":"IF(DATA_INPUT!AM139<>\"\",$V137*9*DATA_INPUT!AM139,\"\")","v":""},{"$f":"IF(DATA_INPUT!AN139<>\"\",$V137*10.8*DATA_INPUT!AN139,\"\")","v":""},{"$f":"IF(DATA_INPUT!AO139<>\"\",$V137*14.6*DATA_INPUT!AO139,\"\")","v":""},{"$f":"IF(DATA_INPUT!AP139<>\"\",$V137,\"\")","v":""},{"$f":"IF(DATA_INPUT!AQ139<>\"\",$V137,\"\")","v":""},{"$f":"IF(DATA_INPUT!AR139<>\"\",DATA_INPUT!AR139,\"\")","v":""},{"$f":"IF(DATA_INPUT!AS139<>\"\",DATA_INPUT!AS139,\"\")","v":""},{"$f":"IF(DATA_INPUT!AT139<>\"\",DATA_INPUT!AT139,\"\")","v":"X"},{"$f":"IF(DATA_INPUT!AU139<>\"\",DATA_INPUT!AU139,\"\")","v":""},{"$f":"IF(DATA_INPUT!AV139<>\"\",DATA_INPUT!AV139,\"\")","v":"BLACK ON WHITE"},{"$f":"IF(DATA_INPUT!AW139<>\"\",DATA_INPUT!AW139,\"\")","v":"X"},{"$f":"IF(DATA_INPUT!AX139<>\"\",DATA_INPUT!AX139+Directions!$D$24-1,\"\")","v":""},{"$f":"IF(DATA_INPUT!AY139<>\"\",DATA_INPUT!AY139,\"\")","v":""},{"$f":"IF(DATA_INPUT!G139<>\"\",2,IF(DATA_INPUT!N139>2,2,IF(DATA_INPUT!N139=2,3,4)))","v":2},{"$f":"IF(OR(DATA_INPUT!S139<>\"\",DATA_INPUT!T139<>\"\"),H137,\"\")","v":1},{"$f":"IF(DATA_INPUT!T139<>\"\",\"X\",\"\")","v":""}]
[{"$f":"IF(DATA_INPUT!F140<>\"\",DATA_INPUT!F140,\"\")","v":""},{"$f":"IF(DATA_INPUT!G140<>\"\",DATA_INPUT!G140,\"\")","v":""},{"$f":"IF(DATA_INPUT!H140<>\"\",DATA_INPUT!H140,\"\")","v":""},{"$f":"IF(DATA_INPUT!I140<>\"\",DATA_INPUT!I140,\"\")","v":""},{"$f":"IF(DATA_INPUT!J140<>\"\",DATA_INPUT!J140,\"\")","v":"M3-2P"},{"$f":"IF(DATA_INPUT!L140<>\"\",DATA_INPUT!L140,IF(DATA_INPUT!K140<>\"\",DATA_INPUT!K140,\"\"))","v":"(multisign image continues)"},{"$f":"IF(DATA_INPUT!O140<>\"\",DATA_INPUT!O140,\"\")","v":""},{"$f":"IF(DATA_INPUT!P140<>\"\",DATA_INPUT!P140,\"\")","v":1},{"$f":"IF(DATA_INPUT!Q140<>\"\",DATA_INPUT!Q140,\"\")","v":24},{"$f":"IF(DATA_INPUT!R140<>\"\",DATA_INPUT!R140,\"\")","v":12},{"$f":"IF(DATA_INPUT!S140<>\"\",IF(DATA_INPUT!AZ140<>\"\",DATA_INPUT!AZ140,H138*I138*J138/144)*IF(G138<>\"\",3/2,1),\"\")","v":2},{"$f":"IF(DATA_INPUT!T140<>\"\",IF(DATA_INPUT!AZ140<>\"\",DATA_INPUT!AZ140,H138*I138*J138/144)*IF(G138<>\"\",3/2,1),\"\")","v":""},{"$f":"IF(DATA_INPUT!U140<>\"\",$H138,\"\")","v":""},{"$f":"IF(DATA_INPUT!V140<>\"\",$H138,\"\")","v":""},{"$f":"IF(DATA_INPUT!W140<>\"\",$H138,\"\")","v":""},{"$f":"IF(DATA_INPUT!X140<>\"\",$H138,\"\")","v":""},{"$f":"IF(DATA_INPUT!Y140<>\"\",$H138,\"\")","v":""},{"$f":"IF(DATA_INPUT!Z140<>\"\",DATA_INPUT!Z140,\"\")","v":""},{"$f":"IF(DATA_INPUT!AA140<>\"\",DATA_INPUT!AA140,\"\")","v":""},{"$f":"IF(DATA_INPUT!AB140<>\"\",DATA_INPUT!AB140,\"\")","v":""},{"$f":"IF(DATA_INPUT!AC140<>\"\",DATA_INPUT!AC140,\"\")","v":""},{"$f":"IF(DATA_INPUT!AD140<>\"\",DATA_INPUT!AD140,\"\")","v":""},{"$f":"IF(DATA_INPUT!AE140<>\"\",$V138,\"\")","v":""},{"$f":"IF(DATA_INPUT!AF140<>\"\",$V138*8,\"\")","v":""},{"$f":"IF(DATA_INPUT!AG140<>\"\",$V138*15,\"\")","v":""},{"$f":"IF(DATA_INPUT!AH140<>\"\",$V138*15,\"\")","v":""},{"$f":"IF(DATA_INPUT!AI140<>\"\",$V138,\"\")","v":""},{"$f":"IF(DATA_INPUT!AJ140<>\"\",$V138,\"\")","v":""},{"$f":"IF(DATA_INPUT!AK140<>\"\",$V138,\"\")","v":""},{"$f":"IF(DATA_INPUT!AL140<>\"\",$V138*7.6*DATA_INPUT!AL140,\"\")","v":""},{"$f":"IF(DATA_INPUT!AM140<>\"\",$V138*9*DATA_INPUT!AM140,\"\")","v":""},{"$f":"IF(DATA_INPUT!AN140<>\"\",$V138*10.8*DATA_INPUT!AN140,\"\")","v":""},{"$f":"IF(DATA_INPUT!AO140<>\"\",$V138*14.6*DATA_INPUT!AO140,\"\")","v":""},{"$f":"IF(DATA_INPUT!AP140<>\"\",$V138,\"\")","v":""},{"$f":"IF(DATA_INPUT!AQ140<>\"\",$V138,\"\")","v":""},{"$f":"IF(DATA_INPUT!AR140<>\"\",DATA_INPUT!AR140,\"\")","v":""},{"$f":"IF(DATA_INPUT!AS140<>\"\",DATA_INPUT!AS140,\"\")","v":""},{"$f":"IF(DATA_INPUT!AT140<>\"\",DATA_INPUT!AT140,\"\")","v":""},{"$f":"IF(DATA_INPUT!AU140<>\"\",DATA_INPUT!AU140,\"\")","v":""},{"$f":"IF(DATA_INPUT!AV140<>\"\",DATA_INPUT!AV140,\"\")","v":"BLACK ON WHITE"},{"$f":"IF(DATA_INPUT!AW140<>\"\",DATA_INPUT!AW140,\"\")","v":"X"},{"$f":"IF(DATA_INPUT!AX140<>\"\",DATA_INPUT!AX140+Directions!$D$24-1,\"\")","v":""},{"$f":"IF(DATA_INPUT!AY140<>\"\",DATA_INPUT!AY140,\"\")","v":""},{"$f":"IF(DATA_INPUT!G140<>\"\",2,IF(DATA_INPUT!N140>2,2,IF(DATA_INPUT!N140=2,3,4)))","v":2},{"$f":"IF(OR(DATA_INPUT!S140<>\"\",DATA_INPUT!T140<>\"\"),H138,\"\")","v":1},{"$f":"IF(DATA_INPUT!T140<>\"\",\"X\",\"\")","v":""}]
[{"$f":"IF(DATA_INPUT!F141<>\"\",DATA_INPUT!F141,\"\")","v":""},{"$f":"IF(DATA_INPUT!G141<>\"\",DATA_INPUT!G141,\"\")","v":""},{"$f":"IF(DATA_INPUT!H141<>\"\",DATA_INPUT!H141,\"\")","v":""},{"$f":"IF(DATA_INPUT!I141<>\"\",DATA_INPUT!I141,\"\")","v":""},{"$f":"IF(DATA_INPUT!J141<>\"\",DATA_INPUT!J141,\"\")","v":"M3-3P"},{"$f":"IF(DATA_INPUT!L141<>\"\",DATA_INPUT!L141,IF(DATA_INPUT!K141<>\"\",DATA_INPUT!K141,\"\"))","v":"(multisign image continues)"},{"$f":"IF(DATA_INPUT!O141<>\"\",DATA_INPUT!O141,\"\")","v":""},{"$f":"IF(DATA_INPUT!P141<>\"\",DATA_INPUT!P141,\"\")","v":1},{"$f":"IF(DATA_INPUT!Q141<>\"\",DATA_INPUT!Q141,\"\")","v":24},{"$f":"IF(DATA_INPUT!R141<>\"\",DATA_INPUT!R141,\"\")","v":12},{"$f":"IF(DATA_INPUT!S141<>\"\",IF(DATA_INPUT!AZ141<>\"\",DATA_INPUT!AZ141,H139*I139*J139/144)*IF(G139<>\"\",3/2,1),\"\")","v":2},{"$f":"IF(DATA_INPUT!T141<>\"\",IF(DATA_INPUT!AZ141<>\"\",DATA_INPUT!AZ141,H139*I139*J139/144)*IF(G139<>\"\",3/2,1),\"\")","v":""},{"$f":"IF(DATA_INPUT!U141<>\"\",$H139,\"\")","v":""},{"$f":"IF(DATA_INPUT!V141<>\"\",$H139,\"\")","v":""},{"$f":"IF(DATA_INPUT!W141<>\"\",$H139,\"\")","v":""},{"$f":"IF(DATA_INPUT!X141<>\"\",$H139,\"\")","v":""},{"$f":"IF(DATA_INPUT!Y141<>\"\",$H139,\"\")","v":""},{"$f":"IF(DATA_INPUT!Z141<>\"\",DATA_INPUT!Z141,\"\")","v":""},{"$f":"IF(DATA_INPUT!AA141<>\"\",DATA_INPUT!AA141,\"\")","v":""},{"$f":"IF(DATA_INPUT!AB141<>\"\",DATA_INPUT!AB141,\"\")","v":""},{"$f":"IF(DATA_INPUT!AC141<>\"\",DATA_INPUT!AC141,\"\")","v":""},{"$f":"IF(DATA_INPUT!AD141<>\"\",DATA_INPUT!AD141,\"\")","v":""},{"$f":"IF(DATA_INPUT!AE141<>\"\",$V139,\"\")","v":""},{"$f":"IF(DATA_INPUT!AF141<>\"\",$V139*8,\"\")","v":""},{"$f":"IF(DATA_INPUT!AG141<>\"\",$V139*15,\"\")","v":""},{"$f":"IF(DATA_INPUT!AH141<>\"\",$V139*15,\"\")","v":""},{"$f":"IF(DATA_INPUT!AI141<>\"\",$V139,\"\")","v":""},{"$f":"IF(DATA_INPUT!AJ141<>\"\",$V139,\"\")","v":""},{"$f":"IF(DATA_INPUT!AK141<>\"\",$V139,\"\")","v":""},{"$f":"IF(DATA_INPUT!AL141<>\"\",$V139*7.6*DATA_INPUT!AL141,\"\")","v":""},{"$f":"IF(DATA_INPUT!AM141<>\"\",$V139*9*DATA_INPUT!AM141,\"\")","v":""},{"$f":"IF(DATA_INPUT!AN141<>\"\",$V139*10.8*DATA_INPUT!AN141,\"\")","v":""},{"$f":"IF(DATA_INPUT!AO141<>\"\",$V139*14.6*DATA_INPUT!AO141,\"\")","v":""},{"$f":"IF(DATA_INPUT!AP141<>\"\",$V139,\"\")","v":""},{"$f":"IF(DATA_INPUT!AQ141<>\"\",$V139,\"\")","v":""},{"$f":"IF(DATA_INPUT!AR141<>\"\",DATA_INPUT!AR141,\"\")","v":""},{"$f":"IF(DATA_INPUT!AS141<>\"\",DATA_INPUT!AS141,\"\")","v":""},{"$f":"IF(DATA_INPUT!AT141<>\"\",DATA_INPUT!AT141,\"\")","v":""},{"$f":"IF(DATA_INPUT!AU141<>\"\",DATA_INPUT!AU141,\"\")","v":""},{"$f":"IF(DATA_INPUT!AV141<>\"\",DATA_INPUT!AV141,\"\")","v":"BLACK ON WHITE"},{"$f":"IF(DATA_INPUT!AW141<>\"\",DATA_INPUT!AW141,\"\")","v":"X"},{"$f":"IF(DATA_INPUT!AX141<>\"\",DATA_INPUT!AX141+Directions!$D$24-1,\"\")","v":""},{"$f":"IF(DATA_INPUT!AY141<>\"\",DATA_INPUT!AY141,\"\")","v":""},{"$f":"IF(DATA_INPUT!G141<>\"\",2,IF(DATA_INPUT!N141>2,2,IF(DATA_INPUT!N141=2,3,4)))","v":2},{"$f":"IF(OR(DATA_INPUT!S141<>\"\",DATA_INPUT!T141<>\"\"),H139,\"\")","v":1},{"$f":"IF(DATA_INPUT!T141<>\"\",\"X\",\"\")","v":""}]
[{"$f":"IF(DATA_INPUT!F142<>\"\",DATA_INPUT!F142,\"\")","v":""},{"$f":"IF(DATA_INPUT!G142<>\"\",DATA_INPUT!G142,\"\")","v":""},{"$f":"IF(DATA_INPUT!H142<>\"\",DATA_INPUT!H142,\"\")","v":""},{"$f":"IF(DATA_INPUT!I142<>\"\",DATA_INPUT!I142,\"\")","v":""},{"$f":"IF(DATA_INPUT!J142<>\"\",DATA_INPUT!J142,\"\")","v":"M3-4P"},{"$f":"IF(DATA_INPUT!L142<>\"\",DATA_INPUT!L142,IF(DATA_INPUT!K142<>\"\",DATA_INPUT!K142,\"\"))","v":"(multisign image continues)"},{"$f":"IF(DATA_INPUT!O142<>\"\",DATA_INPUT!O142,\"\")","v":""},{"$f":"IF(DATA_INPUT!P142<>\"\",DATA_INPUT!P142,\"\")","v":1},{"$f":"IF(DATA_INPUT!Q142<>\"\",DATA_INPUT!Q142,\"\")","v":24},{"$f":"IF(DATA_INPUT!R142<>\"\",DATA_INPUT!R142,\"\")","v":12},{"$f":"IF(DATA_INPUT!S142<>\"\",IF(DATA_INPUT!AZ142<>\"\",DATA_INPUT!AZ142,H140*I140*J140/144)*IF(G140<>\"\",3/2,1),\"\")","v":2},{"$f":"IF(DATA_INPUT!T142<>\"\",IF(DATA_INPUT!AZ142<>\"\",DATA_INPUT!AZ142,H140*I140*J140/144)*IF(G140<>\"\",3/2,1),\"\")","v":""},{"$f":"IF(DATA_INPUT!U142<>\"\",$H140,\"\")","v":""},{"$f":"IF(DATA_INPUT!V142<>\"\",$H140,\"\")","v":""},{"$f":"IF(DATA_INPUT!W142<>\"\",$H140,\"\")","v":""},{"$f":"IF(DATA_INPUT!X142<>\"\",$H140,\"\")","v":""},{"$f":"IF(DATA_INPUT!Y142<>\"\",$H140,\"\")","v":""},{"$f":"IF(DATA_INPUT!Z142<>\"\",DATA_INPUT!Z142,\"\")","v":""},{"$f":"IF(DATA_INPUT!AA142<>\"\",DATA_INPUT!AA142,\"\")","v":""},{"$f":"IF(DATA_INPUT!AB142<>\"\",DATA_INPUT!AB142,\"\")","v":""},{"$f":"IF(DATA_INPUT!AC142<>\"\",DATA_INPUT!AC142,\"\")","v":""},{"$f":"IF(DATA_INPUT!AD142<>\"\",DATA_INPUT!AD142,\"\")","v":""},{"$f":"IF(DATA_INPUT!AE142<>\"\",$V140,\"\")","v":""},{"$f":"IF(DATA_INPUT!AF142<>\"\",$V140*8,\"\")","v":""},{"$f":"IF(DATA_INPUT!AG142<>\"\",$V140*15,\"\")","v":""},{"$f":"IF(DATA_INPUT!AH142<>\"\",$V140*15,\"\")","v":""},{"$f":"IF(DATA_INPUT!AI142<>\"\",$V140,\"\")","v":""},{"$f":"IF(DATA_INPUT!AJ142<>\"\",$V140,\"\")","v":""},{"$f":"IF(DATA_INPUT!AK142<>\"\",$V140,\"\")","v":""},{"$f":"IF(DATA_INPUT!AL142<>\"\",$V140*7.6*DATA_INPUT!AL142,\"\")","v":""},{"$f":"IF(DATA_INPUT!AM142<>\"\",$V140*9*DATA_INPUT!AM142,\"\")","v":""},{"$f":"IF(DATA_INPUT!AN142<>\"\",$V140*10.8*DATA_INPUT!AN142,\"\")","v":""},{"$f":"IF(DATA_INPUT!AO142<>\"\",$V140*14.6*DATA_INPUT!AO142,\"\")","v":""},{"$f":"IF(DATA_INPUT!AP142<>\"\",$V140,\"\")","v":""},{"$f":"IF(DATA_INPUT!AQ142<>\"\",$V140,\"\")","v":""},{"$f":"IF(DATA_INPUT!AR142<>\"\",DATA_INPUT!AR142,\"\")","v":""},{"$f":"IF(DATA_INPUT!AS142<>\"\",DATA_INPUT!AS142,\"\")","v":""},{"$f":"IF(DATA_INPUT!AT142<>\"\",DATA_INPUT!AT142,\"\")","v":""},{"$f":"IF(DATA_INPUT!AU142<>\"\",DATA_INPUT!AU142,\"\")","v":""},{"$f":"IF(DATA_INPUT!AV142<>\"\",DATA_INPUT!AV142,\"\")","v":"BLACK ON WHITE"},{"$f":"IF(DATA_INPUT!AW142<>\"\",DATA_INPUT!AW142,\"\")","v":"X"},{"$f":"IF(DATA_INPUT!AX142<>\"\",DATA_INPUT!AX142+Directions!$D$24-1,\"\")","v":""},{"$f":"IF(DATA_INPUT!AY142<>\"\",DATA_INPUT!AY142,\"\")","v":""},{"$f":"IF(DATA_INPUT!G142<>\"\",2,IF(DATA_INPUT!N142>2,2,IF(DATA_INPUT!N142=2,3,4)))","v":2},{"$f":"IF(OR(DATA_INPUT!S142<>\"\",DATA_INPUT!T142<>\"\"),H140,\"\")","v":1},{"$f":"IF(DATA_INPUT!T142<>\"\",\"X\",\"\")","v":""}]
[{"$f":"IF(DATA_INPUT!F143<>\"\",DATA_INPUT!F143,\"\")","v":""},{"$f":"IF(DATA_INPUT!G143<>\"\",DATA_INPUT!G143,\"\")","v":""},{"$f":"IF(DATA_INPUT!H143<>\"\",DATA_INPUT!H143,\"\")","v":""},{"$f":"IF(DATA_INPUT!I143<>\"\",DATA_INPUT!I143,\"\")","v":""},{"$f":"IF(DATA_INPUT!J143<>\"\",DATA_INPUT!J143,\"\")","v":"M1-4"},{"$f":"IF(DATA_INPUT!L143<>\"\",DATA_INPUT!L143,IF(DATA_INPUT!K143<>\"\",DATA_INPUT!K143,\"\"))","v":"(multisign image continues)"},{"$f":"IF(DATA_INPUT!O143<>\"\",DATA_INPUT!O143,\"\")","v":""},{"$f":"IF(DATA_INPUT!P143<>\"\",DATA_INPUT!P143,\"\")","v":2},{"$f":"IF(DATA_INPUT!Q143<>\"\",DATA_INPUT!Q143,\"\")","v":24},{"$f":"IF(DATA_INPUT!R143<>\"\",DATA_INPUT!R143,\"\")","v":24},{"$f":"IF(DATA_INPUT!S143<>\"\",IF(DATA_INPUT!AZ143<>\"\",DATA_INPUT!AZ143,H141*I141*J141/144)*IF(G141<>\"\",3/2,1),\"\")","v":8},{"$f":"IF(DATA_INPUT!T143<>\"\",IF(DATA_INPUT!AZ143<>\"\",DATA_INPUT!AZ143,H141*I141*J141/144)*IF(G141<>\"\",3/2,1),\"\")","v":""},{"$f":"IF(DATA_INPUT!U143<>\"\",$H141,\"\")","v":""},{"$f":"IF(DATA_INPUT!V143<>\"\",$H141,\"\")","v":""},{"$f":"IF(DATA_INPUT!W143<>\"\",$H141,\"\")","v":""},{"$f":"IF(DATA_INPUT!X143<>\"\",$H141,\"\")","v":""},{"$f":"IF(DATA_INPUT!Y143<>\"\",$H141,\"\")","v":""},{"$f":"IF(DATA_INPUT!Z143<>\"\",DATA_INPUT!Z143,\"\")","v":""},{"$f":"IF(DATA_INPUT!AA143<>\"\",DATA_INPUT!AA143,\"\")","v":""},{"$f":"IF(DATA_INPUT!AB143<>\"\",DATA_INPUT!AB143,\"\")","v":""},{"$f":"IF(DATA_INPUT!AC143<>\"\",DATA_INPUT!AC143,\"\")","v":""},{"$f":"IF(DATA_INPUT!AD143<>\"\",DATA_INPUT!AD143,\"\")","v":""},{"$f":"IF(DATA_INPUT!AE143<>\"\",$V141,\"\")","v":""},{"$f":"IF(DATA_INPUT!AF143<>\"\",$V141*8,\"\")","v":""},{"$f":"IF(DATA_INPUT!AG143<>\"\",$V141*15,\"\")","v":""},{"$f":"IF(DATA_INPUT!AH143<>\"\",$V141*15,\"\")","v":""},{"$f":"IF(DATA_INPUT!AI143<>\"\",$V141,\"\")","v":""},{"$f":"IF(DATA_INPUT!AJ143<>\"\",$V141,\"\")","v":""},{"$f":"IF(DATA_INPUT!AK143<>\"\",$V141,\"\")","v":""},{"$f":"IF(DATA_INPUT!AL143<>\"\",$V141*7.6*DATA_INPUT!AL143,\"\")","v":""},{"$f":"IF(DATA_INPUT!AM143<>\"\",$V141*9*DATA_INPUT!AM143,\"\")","v":""},{"$f":"IF(DATA_INPUT!AN143<>\"\",$V141*10.8*DATA_INPUT!AN143,\"\")","v":""},{"$f":"IF(DATA_INPUT!AO143<>\"\",$V141*14.6*DATA_INPUT!AO143,\"\")","v":""},{"$f":"IF(DATA_INPUT!AP143<>\"\",$V141,\"\")","v":""},{"$f":"IF(DATA_INPUT!AQ143<>\"\",$V141,\"\")","v":""},{"$f":"IF(DATA_INPUT!AR143<>\"\",DATA_INPUT!AR143,\"\")","v":""},{"$f":"IF(DATA_INPUT!AS143<>\"\",DATA_INPUT!AS143,\"\")","v":""},{"$f":"IF(DATA_INPUT!AT143<>\"\",DATA_INPUT!AT143,\"\")","v":""},{"$f":"IF(DATA_INPUT!AU143<>\"\",DATA_INPUT!AU143,\"\")","v":""},{"$f":"IF(DATA_INPUT!AV143<>\"\",DATA_INPUT!AV143,\"\")","v":""},{"$f":"IF(DATA_INPUT!AW143<>\"\",DATA_INPUT!AW143,\"\")","v":"X"},{"$f":"IF(DATA_INPUT!AX143<>\"\",DATA_INPUT!AX143+Directions!$D$24-1,\"\")","v":""},{"$f":"IF(DATA_INPUT!AY143<>\"\",DATA_INPUT!AY143,\"\")","v":""},{"$f":"IF(DATA_INPUT!G143<>\"\",2,IF(DATA_INPUT!N143>2,2,IF(DATA_INPUT!N143=2,3,4)))","v":2},{"$f":"IF(OR(DATA_INPUT!S143<>\"\",DATA_INPUT!T143<>\"\"),H141,\"\")","v":2},{"$f":"IF(DATA_INPUT!T143<>\"\",\"X\",\"\")","v":""}]
[{"$f":"IF(DATA_INPUT!F144<>\"\",DATA_INPUT!F144,\"\")","v":""},{"$f":"IF(DATA_INPUT!G144<>\"\",DATA_INPUT!G144,\"\")","v":""},{"$f":"IF(DATA_INPUT!H144<>\"\",DATA_INPUT!H144,\"\")","v":""},{"$f":"IF(DATA_INPUT!I144<>\"\",DATA_INPUT!I144,\"\")","v":""},{"$f":"IF(DATA_INPUT!J144<>\"\",DATA_INPUT!J144,\"\")","v":"M1-4"},{"$f":"IF(DATA_INPUT!L144<>\"\",DATA_INPUT!L144,IF(DATA_INPUT!K144<>\"\",DATA_INPUT!K144,\"\"))","v":"(multisign image continues)"},{"$f":"IF(DATA_INPUT!O144<>\"\",DATA_INPUT!O144,\"\")","v":""},{"$f":"IF(DATA_INPUT!P144<>\"\",DATA_INPUT!P144,\"\")","v":2},{"$f":"IF(DATA_INPUT!Q144<>\"\",DATA_INPUT!Q144,\"\")","v":24},{"$f":"IF(DATA_INPUT!R144<>\"\",DATA_INPUT!R144,\"\")","v":24},{"$f":"IF(DATA_INPUT!S144<>\"\",IF(DATA_INPUT!AZ144<>\"\",DATA_INPUT!AZ144,H142*I142*J142/144)*IF(G142<>\"\",3/2,1),\"\")","v":8},{"$f":"IF(DATA_INPUT!T144<>\"\",IF(DATA_INPUT!AZ144<>\"\",DATA_INPUT!AZ144,H142*I142*J142/144)*IF(G142<>\"\",3/2,1),\"\")","v":""},{"$f":"IF(DATA_INPUT!U144<>\"\",$H142,\"\")","v":""},{"$f":"IF(DATA_INPUT!V144<>\"\",$H142,\"\")","v":""},{"$f":"IF(DATA_INPUT!W144<>\"\",$H142,\"\")","v":""},{"$f":"IF(DATA_INPUT!X144<>\"\",$H142,\"\")","v":""},{"$f":"IF(DATA_INPUT!Y144<>\"\",$H142,\"\")","v":""},{"$f":"IF(DATA_INPUT!Z144<>\"\",DATA_INPUT!Z144,\"\")","v":""},{"$f":"IF(DATA_INPUT!AA144<>\"\",DATA_INPUT!AA144,\"\")","v":""},{"$f":"IF(DATA_INPUT!AB144<>\"\",DATA_INPUT!AB144,\"\")","v":""},{"$f":"IF(DATA_INPUT!AC144<>\"\",DATA_INPUT!AC144,\"\")","v":""},{"$f":"IF(DATA_INPUT!AD144<>\"\",DATA_INPUT!AD144,\"\")","v":""},{"$f":"IF(DATA_INPUT!AE144<>\"\",$V142,\"\")","v":""},{"$f":"IF(DATA_INPUT!AF144<>\"\",$V142*8,\"\")","v":""},{"$f":"IF(DATA_INPUT!AG144<>\"\",$V142*15,\"\")","v":""},{"$f":"IF(DATA_INPUT!AH144<>\"\",$V142*15,\"\")","v":""},{"$f":"IF(DATA_INPUT!AI144<>\"\",$V142,\"\")","v":""},{"$f":"IF(DATA_INPUT!AJ144<>\"\",$V142,\"\")","v":""},{"$f":"IF(DATA_INPUT!AK144<>\"\",$V142,\"\")","v":""},{"$f":"IF(DATA_INPUT!AL144<>\"\",$V142*7.6*DATA_INPUT!AL144,\"\")","v":""},{"$f":"IF(DATA_INPUT!AM144<>\"\",$V142*9*DATA_INPUT!AM144,\"\")","v":""},{"$f":"IF(DATA_INPUT!AN144<>\"\",$V142*10.8*DATA_INPUT!AN144,\"\")","v":""},{"$f":"IF(DATA_INPUT!AO144<>\"\",$V142*14.6*DATA_INPUT!AO144,\"\")","v":""},{"$f":"IF(DATA_INPUT!AP144<>\"\",$V142,\"\")","v":""},{"$f":"IF(DATA_INPUT!AQ144<>\"\",$V142,\"\")","v":""},{"$f":"IF(DATA_INPUT!AR144<>\"\",DATA_INPUT!AR144,\"\")","v":""},{"$f":"IF(DATA_INPUT!AS144<>\"\",DATA_INPUT!AS144,\"\")","v":""},{"$f":"IF(DATA_INPUT!AT144<>\"\",DATA_INPUT!AT144,\"\")","v":""},{"$f":"IF(DATA_INPUT!AU144<>\"\",DATA_INPUT!AU144,\"\")","v":""},{"$f":"IF(DATA_INPUT!AV144<>\"\",DATA_INPUT!AV144,\"\")","v":""},{"$f":"IF(DATA_INPUT!AW144<>\"\",DATA_INPUT!AW144,\"\")","v":"X"},{"$f":"IF(DATA_INPUT!AX144<>\"\",DATA_INPUT!AX144+Directions!$D$24-1,\"\")","v":""},{"$f":"IF(DATA_INPUT!AY144<>\"\",DATA_INPUT!AY144,\"\")","v":""},{"$f":"IF(DATA_INPUT!G144<>\"\",2,IF(DATA_INPUT!N144>2,2,IF(DATA_INPUT!N144=2,3,4)))","v":2},{"$f":"IF(OR(DATA_INPUT!S144<>\"\",DATA_INPUT!T144<>\"\"),H142,\"\")","v":2},{"$f":"IF(DATA_INPUT!T144<>\"\",\"X\",\"\")","v":""}]
[{"$f":"IF(DATA_INPUT!F145<>\"\",DATA_INPUT!F145,\"\")","v":""},{"$f":"IF(DATA_INPUT!G145<>\"\",DATA_INPUT!G145,\"\")","v":""},{"$f":"IF(DATA_INPUT!H145<>\"\",DATA_INPUT!H145,\"\")","v":""},{"$f":"IF(DATA_INPUT!I145<>\"\",DATA_INPUT!I145,\"\")","v":""},{"$f":"IF(DATA_INPUT!J145<>\"\",DATA_INPUT!J145,\"\")","v":"M6-1PR"},{"$f":"IF(DATA_INPUT!L145<>\"\",DATA_INPUT!L145,IF(DATA_INPUT!K145<>\"\",DATA_INPUT!K145,\"\"))","v":"(multisign image continues)"},{"$f":"IF(DATA_INPUT!O145<>\"\",DATA_INPUT!O145,\"\")","v":""},{"$f":"IF(DATA_INPUT!P145<>\"\",DATA_INPUT!P145,\"\")","v":1},{"$f":"IF(DATA_INPUT!Q145<>\"\",DATA_INPUT!Q145,\"\")","v":21},{"$f":"IF(DATA_INPUT!R145<>\"\",DATA_INPUT!R145,\"\")","v":15},{"$f":"IF(DATA_INPUT!S145<>\"\",IF(DATA_INPUT!AZ145<>\"\",DATA_INPUT!AZ145,H143*I143*J143/144)*IF(G143<>\"\",3/2,1),\"\")","v":2.1875},{"$f":"IF(DATA_INPUT!T145<>\"\",IF(DATA_INPUT!AZ145<>\"\",DATA_INPUT!AZ145,H143*I143*J143/144)*IF(G143<>\"\",3/2,1),\"\")","v":""},{"$f":"IF(DATA_INPUT!U145<>\"\",$H143,\"\")","v":""},{"$f":"IF(DATA_INPUT!V145<>\"\",$H143,\"\")","v":""},{"$f":"IF(DATA_INPUT!W145<>\"\",$H143,\"\")","v":""},{"$f":"IF(DATA_INPUT!X145<>\"\",$H143,\"\")","v":""},{"$f":"IF(DATA_INPUT!Y145<>\"\",$H143,\"\")","v":""},{"$f":"IF(DATA_INPUT!Z145<>\"\",DATA_INPUT!Z145,\"\")","v":""},{"$f":"IF(DATA_INPUT!AA145<>\"\",DATA_INPUT!AA145,\"\")","v":""},{"$f":"IF(DATA_INPUT!AB145<>\"\",DATA_INPUT!AB145,\"\")","v":""},{"$f":"IF(DATA_INPUT!AC145<>\"\",DATA_INPUT!AC145,\"\")","v":""},{"$f":"IF(DATA_INPUT!AD145<>\"\",DATA_INPUT!AD145,\"\")","v":""},{"$f":"IF(DATA_INPUT!AE145<>\"\",$V143,\"\")","v":""},{"$f":"IF(DATA_INPUT!AF145<>\"\",$V143*8,\"\")","v":""},{"$f":"IF(DATA_INPUT!AG145<>\"\",$V143*15,\"\")","v":""},{"$f":"IF(DATA_INPUT!AH145<>\"\",$V143*15,\"\")","v":""},{"$f":"IF(DATA_INPUT!AI145<>\"\",$V143,\"\")","v":""},{"$f":"IF(DATA_INPUT!AJ145<>\"\",$V143,\"\")","v":""},{"$f":"IF(DATA_INPUT!AK145<>\"\",$V143,\"\")","v":""},{"$f":"IF(DATA_INPUT!AL145<>\"\",$V143*7.6*DATA_INPUT!AL145,\"\")","v":""},{"$f":"IF(DATA_INPUT!AM145<>\"\",$V143*9*DATA_INPUT!AM145,\"\")","v":""},{"$f":"IF(DATA_INPUT!AN145<>\"\",$V143*10.8*DATA_INPUT!AN145,\"\")","v":""},{"$f":"IF(DATA_INPUT!AO145<>\"\",$V143*14.6*DATA_INPUT!AO145,\"\")","v":""},{"$f":"IF(DATA_INPUT!AP145<>\"\",$V143,\"\")","v":""},{"$f":"IF(DATA_INPUT!AQ145<>\"\",$V143,\"\")","v":""},{"$f":"IF(DATA_INPUT!AR145<>\"\",DATA_INPUT!AR145,\"\")","v":""},{"$f":"IF(DATA_INPUT!AS145<>\"\",DATA_INPUT!AS145,\"\")","v":""},{"$f":"IF(DATA_INPUT!AT145<>\"\",DATA_INPUT!AT145,\"\")","v":""},{"$f":"IF(DATA_INPUT!AU145<>\"\",DATA_INPUT!AU145,\"\")","v":""},{"$f":"IF(DATA_INPUT!AV145<>\"\",DATA_INPUT!AV145,\"\")","v":"BLACK ON WHITE"},{"$f":"IF(DATA_INPUT!AW145<>\"\",DATA_INPUT!AW145,\"\")","v":"X"},{"$f":"IF(DATA_INPUT!AX145<>\"\",DATA_INPUT!AX145+Directions!$D$24-1,\"\")","v":""},{"$f":"IF(DATA_INPUT!AY145<>\"\",DATA_INPUT!AY145,\"\")","v":""},{"$f":"IF(DATA_INPUT!G145<>\"\",2,IF(DATA_INPUT!N145>2,2,IF(DATA_INPUT!N145=2,3,4)))","v":2},{"$f":"IF(OR(DATA_INPUT!S145<>\"\",DATA_INPUT!T145<>\"\"),H143,\"\")","v":1},{"$f":"IF(DATA_INPUT!T145<>\"\",\"X\",\"\")","v":""}]
[{"$f":"IF(DATA_INPUT!F146<>\"\",DATA_INPUT!F146,\"\")","v":""},{"$f":"IF(DATA_INPUT!G146<>\"\",DATA_INPUT!G146,\"\")","v":""},{"$f":"IF(DATA_INPUT!H146<>\"\",DATA_INPUT!H146,\"\")","v":""},{"$f":"IF(DATA_INPUT!I146<>\"\",DATA_INPUT!I146,\"\")","v":""},{"$f":"IF(DATA_INPUT!J146<>\"\",DATA_INPUT!J146,\"\")","v":"M6-1PL"},{"$f":"IF(DATA_INPUT!L146<>\"\",DATA_INPUT!L146,IF(DATA_INPUT!K146<>\"\",DATA_INPUT!K146,\"\"))","v":"(multisign image continues)"},{"$f":"IF(DATA_INPUT!O146<>\"\",DATA_INPUT!O146,\"\")","v":""},{"$f":"IF(DATA_INPUT!P146<>\"\",DATA_INPUT!P146,\"\")","v":1},{"$f":"IF(DATA_INPUT!Q146<>\"\",DATA_INPUT!Q146,\"\")","v":21},{"$f":"IF(DATA_INPUT!R146<>\"\",DATA_INPUT!R146,\"\")","v":15},{"$f":"IF(DATA_INPUT!S146<>\"\",IF(DATA_INPUT!AZ146<>\"\",DATA_INPUT!AZ146,H144*I144*J144/144)*IF(G144<>\"\",3/2,1),\"\")","v":2.1875},{"$f":"IF(DATA_INPUT!T146<>\"\",IF(DATA_INPUT!AZ146<>\"\",DATA_INPUT!AZ146,H144*I144*J144/144)*IF(G144<>\"\",3/2,1),\"\")","v":""},{"$f":"IF(DATA_INPUT!U146<>\"\",$H144,\"\")","v":""},{"$f":"IF(DATA_INPUT!V146<>\"\",$H144,\"\")","v":""},{"$f":"IF(DATA_INPUT!W146<>\"\",$H144,\"\")","v":""},{"$f":"IF(DATA_INPUT!X146<>\"\",$H144,\"\")","v":""},{"$f":"IF(DATA_INPUT!Y146<>\"\",$H144,\"\")","v":""},{"$f":"IF(DATA_INPUT!Z146<>\"\",DATA_INPUT!Z146,\"\")","v":""},{"$f":"IF(DATA_INPUT!AA146<>\"\",DATA_INPUT!AA146,\"\")","v":""},{"$f":"IF(DATA_INPUT!AB146<>\"\",DATA_INPUT!AB146,\"\")","v":""},{"$f":"IF(DATA_INPUT!AC146<>\"\",DATA_INPUT!AC146,\"\")","v":""},{"$f":"IF(DATA_INPUT!AD146<>\"\",DATA_INPUT!AD146,\"\")","v":""},{"$f":"IF(DATA_INPUT!AE146<>\"\",$V144,\"\")","v":""},{"$f":"IF(DATA_INPUT!AF146<>\"\",$V144*8,\"\")","v":""},{"$f":"IF(DATA_INPUT!AG146<>\"\",$V144*15,\"\")","v":""},{"$f":"IF(DATA_INPUT!AH146<>\"\",$V144*15,\"\")","v":""},{"$f":"IF(DATA_INPUT!AI146<>\"\",$V144,\"\")","v":""},{"$f":"IF(DATA_INPUT!AJ146<>\"\",$V144,\"\")","v":""},{"$f":"IF(DATA_INPUT!AK146<>\"\",$V144,\"\")","v":""},{"$f":"IF(DATA_INPUT!AL146<>\"\",$V144*7.6*DATA_INPUT!AL146,\"\")","v":""},{"$f":"IF(DATA_INPUT!AM146<>\"\",$V144*9*DATA_INPUT!AM146,\"\")","v":""},{"$f":"IF(DATA_INPUT!AN146<>\"\",$V144*10.8*DATA_INPUT!AN146,\"\")","v":""},{"$f":"IF(DATA_INPUT!AO146<>\"\",$V144*14.6*DATA_INPUT!AO146,\"\")","v":""},{"$f":"IF(DATA_INPUT!AP146<>\"\",$V144,\"\")","v":""},{"$f":"IF(DATA_INPUT!AQ146<>\"\",$V144,\"\")","v":""},{"$f":"IF(DATA_INPUT!AR146<>\"\",DATA_INPUT!AR146,\"\")","v":""},{"$f":"IF(DATA_INPUT!AS146<>\"\",DATA_INPUT!AS146,\"\")","v":""},{"$f":"IF(DATA_INPUT!AT146<>\"\",DATA_INPUT!AT146,\"\")","v":""},{"$f":"IF(DATA_INPUT!AU146<>\"\",DATA_INPUT!AU146,\"\")","v":""},{"$f":"IF(DATA_INPUT!AV146<>\"\",DATA_INPUT!AV146,\"\")","v":"BLACK ON WHITE"},{"$f":"IF(DATA_INPUT!AW146<>\"\",DATA_INPUT!AW146,\"\")","v":"X"},{"$f":"IF(DATA_INPUT!AX146<>\"\",DATA_INPUT!AX146+Directions!$D$24-1,\"\")","v":""},{"$f":"IF(DATA_INPUT!AY146<>\"\",DATA_INPUT!AY146,\"\")","v":""},{"$f":"IF(DATA_INPUT!G146<>\"\",2,IF(DATA_INPUT!N146>2,2,IF(DATA_INPUT!N146=2,3,4)))","v":2},{"$f":"IF(OR(DATA_INPUT!S146<>\"\",DATA_INPUT!T146<>\"\"),H144,\"\")","v":1},{"$f":"IF(DATA_INPUT!T146<>\"\",\"X\",\"\")","v":""}]
[{"$f":"IF(DATA_INPUT!F147<>\"\",DATA_INPUT!F147,\"\")","v":""},{"$f":"IF(DATA_INPUT!G147<>\"\",DATA_INPUT!G147,\"\")","v":""},{"$f":"IF(DATA_INPUT!H147<>\"\",DATA_INPUT!H147,\"\")","v":"STA. 305 +90.00"},{"$f":"IF(DATA_INPUT!I147<>\"\",DATA_INPUT!I147,\"\")","v":"F"},{"$f":"IF(DATA_INPUT!J147<>\"\",DATA_INPUT!J147,\"\")","v":"W4-2R"},{"$f":"IF(DATA_INPUT!L147<>\"\",DATA_INPUT!L147,IF(DATA_INPUT!K147<>\"\",DATA_INPUT!K147,\"\"))","v":{"$error":"#VALUE!"}},{"$f":"IF(DATA_INPUT!O147<>\"\",DATA_INPUT!O147,\"\")","v":""},{"$f":"IF(DATA_INPUT!P147<>\"\",DATA_INPUT!P147,\"\")","v":1},{"$f":"IF(DATA_INPUT!Q147<>\"\",DATA_INPUT!Q147,\"\")","v":36},{"$f":"IF(DATA_INPUT!R147<>\"\",DATA_INPUT!R147,\"\")","v":36},{"$f":"IF(DATA_INPUT!S147<>\"\",IF(DATA_INPUT!AZ147<>\"\",DATA_INPUT!AZ147,H145*I145*J145/144)*IF(G145<>\"\",3/2,1),\"\")","v":9},{"$f":"IF(DATA_INPUT!T147<>\"\",IF(DATA_INPUT!AZ147<>\"\",DATA_INPUT!AZ147,H145*I145*J145/144)*IF(G145<>\"\",3/2,1),\"\")","v":""},{"$f":"IF(DATA_INPUT!U147<>\"\",$H145,\"\")","v":""},{"$f":"IF(DATA_INPUT!V147<>\"\",$H145,\"\")","v":""},{"$f":"IF(DATA_INPUT!W147<>\"\",$H145,\"\")","v":""},{"$f":"IF(DATA_INPUT!X147<>\"\",$H145,\"\")","v":""},{"$f":"IF(DATA_INPUT!Y147<>\"\",$H145,\"\")","v":""},{"$f":"IF(DATA_INPUT!Z147<>\"\",DATA_INPUT!Z147,\"\")","v":""},{"$f":"IF(DATA_INPUT!AA147<>\"\",DATA_INPUT!AA147,\"\")","v":""},{"$f":"IF(DATA_INPUT!AB147<>\"\",DATA_INPUT!AB147,\"\")","v":""},{"$f":"IF(DATA_INPUT!AC147<>\"\",DATA_INPUT!AC147,\"\")","v":""},{"$f":"IF(DATA_INPUT!AD147<>\"\",DATA_INPUT!AD147,\"\")","v":1},{"$f":"IF(DATA_INPUT!AE147<>\"\",$V145,\"\")","v":""},{"$f":"IF(DATA_INPUT!AF147<>\"\",$V145*8,\"\")","v":""},{"$f":"IF(DATA_INPUT!AG147<>\"\",$V145*15,\"\")","v":15},{"$f":"IF(DATA_INPUT!AH147<>\"\",$V145*15,\"\")","v":""},{"$f":"IF(DATA_INPUT!AI147<>\"\",$V145,\"\")","v":1},{"$f":"IF(DATA_INPUT!AJ147<>\"\",$V145,\"\")","v":""},{"$f":"IF(DATA_INPUT!AK147<>\"\",$V145,\"\")","v":""},{"$f":"IF(DATA_INPUT!AL147<>\"\",$V145*7.6*DATA_INPUT!AL147,\"\")","v":""},{"$f":"IF(DATA_INPUT!AM147<>\"\",$V145*9*DATA_INPUT!AM147,\"\")","v":""},{"$f":"IF(DATA_INPUT!AN147<>\"\",$V145*10.8*DATA_INPUT!AN147,\"\")","v":""},{"$f":"IF(DATA_INPUT!AO147<>\"\",$V145*14.6*DATA_INPUT!AO147,\"\")","v":""},{"$f":"IF(DATA_INPUT!AP147<>\"\",$V145,\"\")","v":""},{"$f":"IF(DATA_INPUT!AQ147<>\"\",$V145,\"\")","v":""},{"$f":"IF(DATA_INPUT!AR147<>\"\",DATA_INPUT!AR147,\"\")","v":""},{"$f":"IF(DATA_INPUT!AS147<>\"\",DATA_INPUT!AS147,\"\")","v":""},{"$f":"IF(DATA_INPUT!AT147<>\"\",DATA_INPUT!AT147,\"\")","v":""},{"$f":"IF(DATA_INPUT!AU147<>\"\",DATA_INPUT!AU147,\"\")","v":""},{"$f":"IF(DATA_INPUT!AV147<>\"\",DATA_INPUT!AV147,\"\")","v":"BLACK ON YELLOW"},{"$f":"IF(DATA_INPUT!AW147<>\"\",DATA_INPUT!AW147,\"\")","v":"X"},{"$f":"IF(DATA_INPUT!AX147<>\"\",DATA_INPUT!AX147+Directions!$D$24-1,\"\")","v":""},{"$f":"IF(DATA_INPUT!AY147<>\"\",DATA_INPUT!AY147,\"\")","v":""},{"$f":"IF(DATA_INPUT!G147<>\"\",2,IF(DATA_INPUT!N147>2,2,IF(DATA_INPUT!N147=2,3,4)))","v":4},{"$f":"IF(OR(DATA_INPUT!S147<>\"\",DATA_INPUT!T147<>\"\"),H145,\"\")","v":1},{"$f":"IF(DATA_INPUT!T147<>\"\",\"X\",\"\")","v":""}]
[{"$f":"IF(DATA_INPUT!F148<>\"\",DATA_INPUT!F148,\"\")","v":""},{"$f":"IF(DATA_INPUT!G148<>\"\",DATA_INPUT!G148,\"\")","v":""},{"$f":"IF(DATA_INPUT!H148<>\"\",DATA_INPUT!H148,\"\")","v":"STA. 306 +59.00"},{"$f":"IF(DATA_INPUT!I148<>\"\",DATA_INPUT!I148,\"\")","v":"A"},{"$f":"IF(DATA_INPUT!J148<>\"\",DATA_INPUT!J148,\"\")","v":"VR-932"},{"$f":"IF(DATA_INPUT!L148<>\"\",DATA_INPUT!L148,IF(DATA_INPUT!K148<>\"\",DATA_INPUT!K148,\"\"))","v":{"$error":"#VALUE!"}},{"$f":"IF(DATA_INPUT!O148<>\"\",DATA_INPUT!O148,\"\")","v":""},{"$f":"IF(DATA_INPUT!P148<>\"\",DATA_INPUT!P148,\"\")","v":1},{"$f":"IF(DATA_INPUT!Q148<>\"\",DATA_INPUT!Q148,\"\")","v":30},{"$f":"IF(DATA_INPUT!R148<>\"\",DATA_INPUT!R148,\"\")","v":48},{"$f":"IF(DATA_INPUT!S148<>\"\",IF(DATA_INPUT!AZ148<>\"\",DATA_INPUT!AZ148,H146*I146*J146/144)*IF(G146<>\"\",3/2,1),\"\")","v":10},{"$f":"IF(DATA_INPUT!T148<>\"\",IF(DATA_INPUT!AZ148<>\"\",DATA_INPUT!AZ148,H146*I146*J146/144)*IF(G146<>\"\",3/2,1),\"\")","v":""},{"$f":"IF(DATA_INPUT!U148<>\"\",$H146,\"\")","v":""},{"$f":"IF(DATA_INPUT!V148<>\"\",$H146,\"\")","v":""},{"$f":"IF(DATA_INPUT!W148<>\"\",$H146,\"\")","v":""},{"$f":"IF(DATA_INPUT!X148<>\"\",$H146,\"\")","v":""},{"$f":"IF(DATA_INPUT!Y148<>\"\",$H146,\"\")","v":""},{"$f":"IF(DATA_INPUT!Z148<>\"\",DATA_INPUT!Z148,\"\")","v":""},{"$f":"IF(DATA_INPUT!AA148<>\"\",DATA_INPUT!AA148,\"\")","v":""},{"$f":"IF(DATA_INPUT!AB148<>\"\",DATA_INPUT!AB148,\"\")","v":""},{"$f":"IF(DATA_INPUT!AC148<>\"\",DATA_INPUT!AC148,\"\")","v":""},{"$f":"IF(DATA_INPUT!AD148<>\"\",DATA_INPUT!AD148,\"\")","v":2},{"$f":"IF(DATA_INPUT!AE148<>\"\",$V146,\"\")","v":""},{"$f":"IF(DATA_INPUT!AF148<>\"\",$V146*8,\"\")","v":""},{"$f":"IF(DATA_INPUT!AG148<>\"\",$V146*15,\"\")","v":30},{"$f":"IF(DATA_INPUT!AH148<>\"\",$V146*15,\"\")","v":""},{"$f":"IF(DATA_INPUT!AI148<>\"\",$V146,\"\")","v":2},{"$f":"IF(DATA_INPUT!AJ148<>\"\",$V146,\"\")","v":""},{"$f":"IF(DATA_INPUT!AK148<>\"\",$V146,\"\")","v":""},{"$f":"IF(DATA_INPUT!AL148<>\"\",$V146*7.6*DATA_INPUT!AL148,\"\")","v":""},{"$f":"IF(DATA_INPUT!AM148<>\"\",$V146*9*DATA_INPUT!AM148,\"\")","v":""},{"$f":"IF(DATA_INPUT!AN148<>\"\",$V146*10.8*DATA_INPUT!AN148,\"\")","v":""},{"$f":"IF(DATA_INPUT!AO148<>\"\",$V146*14.6*DATA_INPUT!AO148,\"\")","v":""},{"$f":"IF(DATA_INPUT!AP148<>\"\",$V146,\"\")","v":""},{"$f":"IF(DATA_INPUT!AQ148<>\"\",$V146,\"\")","v":""},{"$f":"IF(DATA_INPUT!AR148<>\"\",DATA_INPUT!AR148,\"\")","v":""},{"$f":"IF(DATA_INPUT!AS148<>\"\",DATA_INPUT!AS148,\"\")","v":""},{"$f":"IF(DATA_INPUT!AT148<>\"\",DATA_INPUT!AT148,\"\")","v":""},{"$f":"IF(DATA_INPUT!AU148<>\"\",DATA_INPUT!AU148,\"\")","v":""},{"$f":"IF(DATA_INPUT!AV148<>\"\",DATA_INPUT!AV148,\"\")","v":""},{"$f":"IF(DATA_INPUT!AW148<>\"\",DATA_INPUT!AW148,\"\")","v":""},{"$f":"IF(DATA_INPUT!AX148<>\"\",DATA_INPUT!AX148+Directions!$D$24-1,\"\")","v":""},{"$f":"IF(DATA_INPUT!AY148<>\"\",DATA_INPUT!AY148,\"\")","v":"T-145"},{"$f":"IF(DATA_INPUT!G148<>\"\",2,IF(DATA_INPUT!N148>2,2,IF(DATA_INPUT!N148=2,3,4)))","v":4},{"$f":"IF(OR(DATA_INPUT!S148<>\"\",DATA_INPUT!T148<>\"\"),H146,\"\")","v":1},{"$f":"IF(DATA_INPUT!T148<>\"\",\"X\",\"\")","v":""}]
[{"$f":"IF(DATA_INPUT!F149<>\"\",DATA_INPUT!F149,\"\")","v":""},{"$f":"IF(DATA_INPUT!G149<>\"\",DATA_INPUT!G149,\"\")","v":""},{"$f":"IF(DATA_INPUT!H149<>\"\",DATA_INPUT!H149,\"\")","v":"STA. 307 +07.00"},{"$f":"IF(DATA_INPUT!I149<>\"\",DATA_INPUT!I149,\"\")","v":"F"},{"$f":"IF(DATA_INPUT!J149<>\"\",DATA_INPUT!J149,\"\")","v":"R2-1"},{"$f":"IF(DATA_INPUT!L149<>\"\",DATA_INPUT!L149,IF(DATA_INPUT!K149<>\"\",DATA_INPUT!K149,\"\"))","v":{"$error":"#VALUE!"}},{"$f":"IF(DATA_INPUT!O149<>\"\",DATA_INPUT!O149,\"\")","v":""},{"$f":"IF(DATA_INPUT!P149<>\"\",DATA_INPUT!P149,\"\")","v":1},{"$f":"IF(DATA_INPUT!Q149<>\"\",DATA_INPUT!Q149,\"\")","v":24},{"$f":"IF(DATA_INPUT!R149<>\"\",DATA_INPUT!R149,\"\")","v":30},{"$f":"IF(DATA_INPUT!S149<>\"\",IF(DATA_INPUT!AZ149<>\"\",DATA_INPUT!AZ149,H147*I147*J147/144)*IF(G147<>\"\",3/2,1),\"\")","v":""},{"$f":"IF(DATA_INPUT!T149<>\"\",IF(DATA_INPUT!AZ149<>\"\",DATA_INPUT!AZ149,H147*I147*J147/144)*IF(G147<>\"\",3/2,1),\"\")","v":""},{"$f":"IF(DATA_INPUT!U149<>\"\",$H147,\"\")","v":""},{"$f":"IF(DATA_INPUT!V149<>\"\",$H147,\"\")","v":""},{"$f":"IF(DATA_INPUT!W149<>\"\",$H147,\"\")","v":""},{"$f":"IF(DATA_INPUT!X149<>\"\",$H147,\"\")","v":1},{"$f":"IF(DATA_INPUT!Y149<>\"\",$H147,\"\")","v":""},{"$f":"IF(DATA_INPUT!Z149<>\"\",DATA_INPUT!Z149,\"\")","v":""},{"$f":"IF(DATA_INPUT!AA149<>\"\",DATA_INPUT!AA149,\"\")","v":""},{"$f":"IF(DATA_INPUT!AB149<>\"\",DATA_INPUT!AB149,\"\")","v":""},{"$f":"IF(DATA_INPUT!AC149<>\"\",DATA_INPUT!AC149,\"\")","v":1},{"$f":"IF(DATA_INPUT!AD149<>\"\",DATA_INPUT!AD149,\"\")","v":""},{"$f":"IF(DATA_INPUT!AE149<>\"\",$V147,\"\")","v":""},{"$f":"IF(DATA_INPUT!AF149<>\"\",$V147*8,\"\")","v":""},{"$f":"IF(DATA_INPUT!AG149<>\"\",$V147*15,\"\")","v":""},{"$f":"IF(DATA_INPUT!AH149<>\"\",$V147*15,\"\")","v":""},{"$f":"IF(DATA_INPUT!AI149<>\"\",$V147,\"\")","v":""},{"$f":"IF(DATA_INPUT!AJ149<>\"\",$V147,\"\")","v":""},{"$f":"IF(DATA_INPUT!AK149<>\"\",$V147,\"\")","v":""},{"$f":"IF(DATA_INPUT!AL149<>\"\",$V147*7.6*DATA_INPUT!AL149,\"\")","v":""},{"$f":"IF(DATA_INPUT!AM149<>\"\",$V147*9*DATA_INPUT!AM149,\"\")","v":""},{"$f":"IF(DATA_INPUT!AN149<>\"\",$V147*10.8*DATA_INPUT!AN149,\"\")","v":""},{"$f":"IF(DATA_INPUT!AO149<>\"\",$V147*14.6*DATA_INPUT!AO149,\"\")","v":""},{"$f":"IF(DATA_INPUT!AP149<>\"\",$V147,\"\")","v":""},{"$f":"IF(DATA_INPUT!AQ149<>\"\",$V147,\"\")","v":""},{"$f":"IF(DATA_INPUT!AR149<>\"\",DATA_INPUT!AR149,\"\")","v":""},{"$f":"IF(DATA_INPUT!AS149<>\"\",DATA_INPUT!AS149,\"\")","v":""},{"$f":"IF(DATA_INPUT!AT149<>\"\",DATA_INPUT!AT149,\"\")","v":""},{"$f":"IF(DATA_INPUT!AU149<>\"\",DATA_INPUT!AU149,\"\")","v":""},{"$f":"IF(DATA_INPUT!AV149<>\"\",DATA_INPUT!AV149,\"\")","v":""},{"$f":"IF(DATA_INPUT!AW149<>\"\",DATA_INPUT!AW149,\"\")","v":"X"},{"$f":"IF(DATA_INPUT!AX149<>\"\",DATA_INPUT!AX149+Directions!$D$24-1,\"\")","v":""},{"$f":"IF(DATA_INPUT!AY149<>\"\",DATA_INPUT!AY149,\"\")","v":""},{"$f":"IF(DATA_INPUT!G149<>\"\",2,IF(DATA_INPUT!N149>2,2,IF(DATA_INPUT!N149=2,3,4)))","v":4},{"$f":"IF(OR(DATA_INPUT!S149<>\"\",DATA_INPUT!T149<>\"\"),H147,\"\")","v":""},{"$f":"IF(DATA_INPUT!T149<>\"\",\"X\",\"\")","v":""}]
[{"$f":"IF(DATA_INPUT!F150<>\"\",DATA_INPUT!F150,\"\")","v":""},{"$f":"IF(DATA_INPUT!G150<>\"\",DATA_INPUT!G150,\"\")","v":""},{"$f":"IF(DATA_INPUT!H150<>\"\",DATA_INPUT!H150,\"\")","v":"STA. 308 +22.00"},{"$f":"IF(DATA_INPUT!I150<>\"\",DATA_INPUT!I150,\"\")","v":"A"},{"$f":"IF(DATA_INPUT!J150<>\"\",DATA_INPUT!J150,\"\")","v":"VR-932"},{"$f":"IF(DATA_INPUT!L150<>\"\",DATA_INPUT!L150,IF(DATA_INPUT!K150<>\"\",DATA_INPUT!K150,\"\"))","v":{"$error":"#VALUE!"}},{"$f":"IF(DATA_INPUT!O150<>\"\",DATA_INPUT!O150,\"\")","v":""},{"$f":"IF(DATA_INPUT!P150<>\"\",DATA_INPUT!P150,\"\")","v":1},{"$f":"IF(DATA_INPUT!Q150<>\"\",DATA_INPUT!Q150,\"\")","v":30},{"$f":"IF(DATA_INPUT!R150<>\"\",DATA_INPUT!R150,\"\")","v":48},{"$f":"IF(DATA_INPUT!S150<>\"\",IF(DATA_INPUT!AZ150<>\"\",DATA_INPUT!AZ150,H148*I148*J148/144)*IF(G148<>\"\",3/2,1),\"\")","v":""},{"$f":"IF(DATA_INPUT!T150<>\"\",IF(DATA_INPUT!AZ150<>\"\",DATA_INPUT!AZ150,H148*I148*J148/144)*IF(G148<>\"\",3/2,1),\"\")","v":""},{"$f":"IF(DATA_INPUT!U150<>\"\",$H148,\"\")","v":""},{"$f":"IF(DATA_INPUT!V150<>\"\",$H148,\"\")","v":""},{"$f":"IF(DATA_INPUT!W150<>\"\",$H148,\"\")","v":""},{"$f":"IF(DATA_INPUT!X150<>\"\",$H148,\"\")","v":1},{"$f":"IF(DATA_INPUT!Y150<>\"\",$H148,\"\")","v":""},{"$f":"IF(DATA_INPUT!Z150<>\"\",DATA_INPUT!Z150,\"\")","v":""},{"$f":"IF(DATA_INPUT!AA150<>\"\",DATA_INPUT!AA150,\"\")","v":""},{"$f":"IF(DATA_INPUT!AB150<>\"\",DATA_INPUT!AB150,\"\")","v":""},{"$f":"IF(DATA_INPUT!AC150<>\"\",DATA_INPUT!AC150,\"\")","v":1},{"$f":"IF(DATA_INPUT!AD150<>\"\",DATA_INPUT!AD150,\"\")","v":""},{"$f":"IF(DATA_INPUT!AE150<>\"\",$V148,\"\")","v":""},{"$f":"IF(DATA_INPUT!AF150<>\"\",$V148*8,\"\")","v":""},{"$f":"IF(DATA_INPUT!AG150<>\"\",$V148*15,\"\")","v":""},{"$f":"IF(DATA_INPUT!AH150<>\"\",$V148*15,\"\")","v":""},{"$f":"IF(DATA_INPUT!AI150<>\"\",$V148,\"\")","v":""},{"$f":"IF(DATA_INPUT!AJ150<>\"\",$V148,\"\")","v":""},{"$f":"IF(DATA_INPUT!AK150<>\"\",$V148,\"\")","v":""},{"$f":"IF(DATA_INPUT!AL150<>\"\",$V148*7.6*DATA_INPUT!AL150,\"\")","v":""},{"$f":"IF(DATA_INPUT!AM150<>\"\",$V148*9*DATA_INPUT!AM150,\"\")","v":""},{"$f":"IF(DATA_INPUT!AN150<>\"\",$V148*10.8*DATA_INPUT!AN150,\"\")","v":""},{"$f":"IF(DATA_INPUT!AO150<>\"\",$V148*14.6*DATA_INPUT!AO150,\"\")","v":""},{"$f":"IF(DATA_INPUT!AP150<>\"\",$V148,\"\")","v":""},{"$f":"IF(DATA_INPUT!AQ150<>\"\",$V148,\"\")","v":""},{"$f":"IF(DATA_INPUT!AR150<>\"\",DATA_INPUT!AR150,\"\")","v":""},{"$f":"IF(DATA_INPUT!AS150<>\"\",DATA_INPUT!AS150,\"\")","v":""},{"$f":"IF(DATA_INPUT!AT150<>\"\",DATA_INPUT!AT150,\"\")","v":""},{"$f":"IF(DATA_INPUT!AU150<>\"\",DATA_INPUT!AU150,\"\")","v":""},{"$f":"IF(DATA_INPUT!AV150<>\"\",DATA_INPUT!AV150,\"\")","v":""},{"$f":"IF(DATA_INPUT!AW150<>\"\",DATA_INPUT!AW150,\"\")","v":""},{"$f":"IF(DATA_INPUT!AX150<>\"\",DATA_INPUT!AX150+Directions!$D$24-1,\"\")","v":""},{"$f":"IF(DATA_INPUT!AY150<>\"\",DATA_INPUT!AY150,\"\")","v":"T-145"},{"$f":"IF(DATA_INPUT!G150<>\"\",2,IF(DATA_INPUT!N150>2,2,IF(DATA_INPUT!N150=2,3,4)))","v":4},{"$f":"IF(OR(DATA_INPUT!S150<>\"\",DATA_INPUT!T150<>\"\"),H148,\"\")","v":""},{"$f":"IF(DATA_INPUT!T150<>\"\",\"X\",\"\")","v":""}]
[{"$f":"IF(DATA_INPUT!F151<>\"\",DATA_INPUT!F151,\"\")","v":""},{"$f":"IF(DATA_INPUT!G151<>\"\",DATA_INPUT!G151,\"\")","v":""},{"$f":"IF(DATA_INPUT!H151<>\"\",DATA_INPUT!H151,\"\")","v":"STA. 308 +35.00"},{"$f":"IF(DATA_INPUT!I151<>\"\",DATA_INPUT!I151,\"\")","v":"F"},{"$f":"IF(DATA_INPUT!J151<>\"\",DATA_INPUT!J151,\"\")","v":"M3-3P"},{"$f":"IF(DATA_INPUT!L151<>\"\",DATA_INPUT!L151,IF(DATA_INPUT!K151<>\"\",DATA_INPUT!K151,\"\"))","v":{"$error":"#VALUE!"}},{"$f":"IF(DATA_INPUT!O151<>\"\",DATA_INPUT!O151,\"\")","v":""},{"$f":"IF(DATA_INPUT!P151<>\"\",DATA_INPUT!P151,\"\")","v":1},{"$f":"IF(DATA_INPUT!Q151<>\"\",DATA_INPUT!Q151,\"\")","v":24},{"$f":"IF(DATA_INPUT!R151<>\"\",DATA_INPUT!R151,\"\")","v":12},{"$f":"IF(DATA_INPUT!S151<>\"\",IF(DATA_INPUT!AZ151<>\"\",DATA_INPUT!AZ151,H149*I149*J149/144)*IF(G149<>\"\",3/2,1),\"\")","v":""},{"$f":"IF(DATA_INPUT!T151<>\"\",IF(DATA_INPUT!AZ151<>\"\",DATA_INPUT!AZ151,H149*I149*J149/144)*IF(G149<>\"\",3/2,1),\"\")","v":""},{"$f":"IF(DATA_INPUT!U151<>\"\",$H149,\"\")","v":""},{"$f":"IF(DATA_INPUT!V151<>\"\",$H149,\"\")","v":""},{"$f":"IF(DATA_INPUT!W151<>\"\",$H149,\"\")","v":""},{"$f":"IF(DATA_INPUT!X151<>\"\",$H149,\"\")","v":1},{"$f":"IF(DATA_INPUT!Y151<>\"\",$H149,\"\")","v":""},{"$f":"IF(DATA_INPUT!Z151<>\"\",DATA_INPUT!Z151,\"\")","v":""},{"$f":"IF(DATA_INPUT!AA151<>\"\",DATA_INPUT!AA151,\"\")","v":""},{"$f":"IF(DATA_INPUT!AB151<>\"\",DATA_INPUT!AB151,\"\")","v":""},{"$f":"IF(DATA_INPUT!AC151<>\"\",DATA_INPUT!AC151,\"\")","v":1},{"$f":"IF(DATA_INPUT!AD151<>\"\",DATA_INPUT!AD151,\"\")","v":""},{"$f":"IF(DATA_INPUT!AE151<>\"\",$V149,\"\")","v":""},{"$f":"IF(DATA_INPUT!AF151<>\"\",$V149*8,\"\")","v":""},{"$f":"IF(DATA_INPUT!AG151<>\"\",$V149*15,\"\")","v":""},{"$f":"IF(DATA_INPUT!AH151<>\"\",$V149*15,\"\")","v":""},{"$f":"IF(DATA_INPUT!AI151<>\"\",$V149,\"\")","v":""},{"$f":"IF(DATA_INPUT!AJ151<>\"\",$V149,\"\")","v":""},{"$f":"IF(DATA_INPUT!AK151<>\"\",$V149,\"\")","v":""},{"$f":"IF(DATA_INPUT!AL151<>\"\",$V149*7.6*DATA_INPUT!AL151,\"\")","v":""},{"$f":"IF(DATA_INPUT!AM151<>\"\",$V149*9*DATA_INPUT!AM151,\"\")","v":""},{"$f":"IF(DATA_INPUT!AN151<>\"\",$V149*10.8*DATA_INPUT!AN151,\"\")","v":""},{"$f":"IF(DATA_INPUT!AO151<>\"\",$V149*14.6*DATA_INPUT!AO151,\"\")","v":""},{"$f":"IF(DATA_INPUT!AP151<>\"\",$V149,\"\")","v":""},{"$f":"IF(DATA_INPUT!AQ151<>\"\",$V149,\"\")","v":""},{"$f":"IF(DATA_INPUT!AR151<>\"\",DATA_INPUT!AR151,\"\")","v":""},{"$f":"IF(DATA_INPUT!AS151<>\"\",DATA_INPUT!AS151,\"\")","v":""},{"$f":"IF(DATA_INPUT!AT151<>\"\",DATA_INPUT!AT151,\"\")","v":""},{"$f":"IF(DATA_INPUT!AU151<>\"\",DATA_INPUT!AU151,\"\")","v":""},{"$f":"IF(DATA_INPUT!AV151<>\"\",DATA_INPUT!AV151,\"\")","v":""},{"$f":"IF(DATA_INPUT!AW151<>\"\",DATA_INPUT!AW151,\"\")","v":"X"},{"$f":"IF(DATA_INPUT!AX151<>\"\",DATA_INPUT!AX151+Directions!$D$24-1,\"\")","v":""},{"$f":"IF(DATA_INPUT!AY151<>\"\",DATA_INPUT!AY151,\"\")","v":""},{"$f":"IF(DATA_INPUT!G151<>\"\",2,IF(DATA_INPUT!N151>2,2,IF(DATA_INPUT!N151=2,3,4)))","v":3},{"$f":"IF(OR(DATA_INPUT!S151<>\"\",DATA_INPUT!T151<>\"\"),H149,\"\")","v":""},{"$f":"IF(DATA_INPUT!T151<>\"\",\"X\",\"\")","v":""}]
[{"$f":"IF(DATA_INPUT!F152<>\"\",DATA_INPUT!F152,\"\")","v":""},{"$f":"IF(DATA_INPUT!G152<>\"\",DATA_INPUT!G152,\"\")","v":""},{"$f":"IF(DATA_INPUT!H152<>\"\",DATA_INPUT!H152,\"\")","v":""},{"$f":"IF(DATA_INPUT!I152<>\"\",DATA_INPUT!I152,\"\")","v":""},{"$f":"IF(DATA_INPUT!J152<>\"\",DATA_INPUT!J152,\"\")","v":"M1-5"},{"$f":"IF(DATA_INPUT!L152<>\"\",DATA_INPUT!L152,IF(DATA_INPUT!K152<>\"\",DATA_INPUT!K152,\"\"))","v":"(multisign image continues)"},{"$f":"IF(DATA_INPUT!O152<>\"\",DATA_INPUT!O152,\"\")","v":""},{"$f":"IF(DATA_INPUT!P152<>\"\",DATA_INPUT!P152,\"\")","v":1},{"$f":"IF(DATA_INPUT!Q152<>\"\",DATA_INPUT!Q152,\"\")","v":24},{"$f":"IF(DATA_INPUT!R152<>\"\",DATA_INPUT!R152,\"\")","v":24},{"$f":"IF(DATA_INPUT!S152<>\"\",IF(DATA_INPUT!AZ152<>\"\",DATA_INPUT!AZ152,H150*I150*J150/144)*IF(G150<>\"\",3/2,1),\"\")","v":""},{"$f":"IF(DATA_INPUT!T152<>\"\",IF(DATA_INPUT!AZ152<>\"\",DATA_INPUT!AZ152,H150*I150*J150/144)*IF(G150<>\"\",3/2,1),\"\")","v":""},{"$f":"IF(DATA_INPUT!U152<>\"\",$H150,\"\")","v":""},{"$f":"IF(DATA_INPUT!V152<>\"\",$H150,\"\")","v":""},{"$f":"IF(DATA_INPUT!W152<>\"\",$H150,\"\")","v":""},{"$f":"IF(DATA_INPUT!X152<>\"\",$H150,\"\")","v":1},{"$f":"IF(DATA_INPUT!Y152<>\"\",$H150,\"\")","v":""},{"$f":"IF(DATA_INPUT!Z152<>\"\",DATA_INPUT!Z152,\"\")","v":""},{"$f":"IF(DATA_INPUT!AA152<>\"\",DATA_INPUT!AA152,\"\")","v":""},{"$f":"IF(DATA_INPUT!AB152<>\"\",DATA_INPUT!AB152,\"\")","v":""},{"$f":"IF(DATA_INPUT!AC152<>\"\",DATA_INPUT!AC152,\"\")","v":""},{"$f":"IF(DATA_INPUT!AD152<>\"\",DATA_INPUT!AD152,\"\")","v":""},{"$f":"IF(DATA_INPUT!AE152<>\"\",$V150,\"\")","v":""},{"$f":"IF(DATA_INPUT!AF152<>\"\",$V150*8,\"\")","v":""},{"$f":"IF(DATA_INPUT!AG152<>\"\",$V150*15,\"\")","v":""},{"$f":"IF(DATA_INPUT!AH152<>\"\",$V150*15,\"\")","v":""},{"$f":"IF(DATA_INPUT!AI152<>\"\",$V150,\"\")","v":""},{"$f":"IF(DATA_INPUT!AJ152<>\"\",$V150,\"\")","v":""},{"$f":"IF(DATA_INPUT!AK152<>\"\",$V150,\"\")","v":""},{"$f":"IF(DATA_INPUT!AL152<>\"\",$V150*7.6*DATA_INPUT!AL152,\"\")","v":""},{"$f":"IF(DATA_INPUT!AM152<>\"\",$V150*9*DATA_INPUT!AM152,\"\")","v":""},{"$f":"IF(DATA_INPUT!AN152<>\"\",$V150*10.8*DATA_INPUT!AN152,\"\")","v":""},{"$f":"IF(DATA_INPUT!AO152<>\"\",$V150*14.6*DATA_INPUT!AO152,\"\")","v":""},{"$f":"IF(DATA_INPUT!AP152<>\"\",$V150,\"\")","v":""},{"$f":"IF(DATA_INPUT!AQ152<>\"\",$V150,\"\")","v":""},{"$f":"IF(DATA_INPUT!AR152<>\"\",DATA_INPUT!AR152,\"\")","v":""},{"$f":"IF(DATA_INPUT!AS152<>\"\",DATA_INPUT!AS152,\"\")","v":""},{"$f":"IF(DATA_INPUT!AT152<>\"\",DATA_INPUT!AT152,\"\")","v":""},{"$f":"IF(DATA_INPUT!AU152<>\"\",DATA_INPUT!AU152,\"\")","v":""},{"$f":"IF(DATA_INPUT!AV152<>\"\",DATA_INPUT!AV152,\"\")","v":""},{"$f":"IF(DATA_INPUT!AW152<>\"\",DATA_INPUT!AW152,\"\")","v":"X"},{"$f":"IF(DATA_INPUT!AX152<>\"\",DATA_INPUT!AX152+Directions!$D$24-1,\"\")","v":""},{"$f":"IF(DATA_INPUT!AY152<>\"\",DATA_INPUT!AY152,\"\")","v":""},{"$f":"IF(DATA_INPUT!G152<>\"\",2,IF(DATA_INPUT!N152>2,2,IF(DATA_INPUT!N152=2,3,4)))","v":3},{"$f":"IF(OR(DATA_INPUT!S152<>\"\",DATA_INPUT!T152<>\"\"),H150,\"\")","v":""},{"$f":"IF(DATA_INPUT!T152<>\"\",\"X\",\"\")","v":""}]
[{"$f":"IF(DATA_INPUT!F153<>\"\",DATA_INPUT!F153,\"\")","v":""},{"$f":"IF(DATA_INPUT!G153<>\"\",DATA_INPUT!G153,\"\")","v":""},{"$f":"IF(DATA_INPUT!H153<>\"\",DATA_INPUT!H153,\"\")","v":""},{"$f":"IF(DATA_INPUT!I153<>\"\",DATA_INPUT!I153,\"\")","v":"F"},{"$f":"IF(DATA_INPUT!J153<>\"\",DATA_INPUT!J153,\"\")","v":"M3-3P"},{"$f":"IF(DATA_INPUT!L153<>\"\",DATA_INPUT!L153,IF(DATA_INPUT!K153<>\"\",DATA_INPUT!K153,\"\"))","v":{"$error":"#VALUE!"}},{"$f":"IF(DATA_INPUT!O153<>\"\",DATA_INPUT!O153,\"\")","v":""},{"$f":"IF(DATA_INPUT!P153<>\"\",DATA_INPUT!P153,\"\")","v":1},{"$f":"IF(DATA_INPUT!Q153<>\"\",DATA_INPUT!Q153,\"\")","v":24},{"$f":"IF(DATA_INPUT!R153<>\"\",DATA_INPUT!R153,\"\")","v":12},{"$f":"IF(DATA_INPUT!S153<>\"\",IF(DATA_INPUT!AZ153<>\"\",DATA_INPUT!AZ153,H151*I151*J151/144)*IF(G151<>\"\",3/2,1),\"\")","v":2},{"$f":"IF(DATA_INPUT!T153<>\"\",IF(DATA_INPUT!AZ153<>\"\",DATA_INPUT!AZ153,H151*I151*J151/144)*IF(G151<>\"\",3/2,1),\"\")","v":""},{"$f":"IF(DATA_INPUT!U153<>\"\",$H151,\"\")","v":""},{"$f":"IF(DATA_INPUT!V153<>\"\",$H151,\"\")","v":""},{"$f":"IF(DATA_INPUT!W153<>\"\",$H151,\"\")","v":""},{"$f":"IF(DATA_INPUT!X153<>\"\",$H151,\"\")","v":""},{"$f":"IF(DATA_INPUT!Y153<>\"\",$H151,\"\")","v":""},{"$f":"IF(DATA_INPUT!Z153<>\"\",DATA_INPUT!Z153,\"\")","v":""},{"$f":"IF(DATA_INPUT!AA153<>\"\",DATA_INPUT!AA153,\"\")","v":""},{"$f":"IF(DATA_INPUT!AB153<>\"\",DATA_INPUT!AB153,\"\")","v":""},{"$f":"IF(DATA_INPUT!AC153<>\"\",DATA_INPUT!AC153,\"\")","v":""},{"$f":"IF(DATA_INPUT!AD153<>\"\",DATA_INPUT!AD153,\"\")","v":1},{"$f":"IF(DATA_INPUT!AE153<>\"\",$V151,\"\")","v":""},{"$f":"IF(DATA_INPUT!AF153<>\"\",$V151*8,\"\")","v":""},{"$f":"IF(DATA_INPUT!AG153<>\"\",$V151*15,\"\")","v":15},{"$f":"IF(DATA_INPUT!AH153<>\"\",$V151*15,\"\")","v":""},{"$f":"IF(DATA_INPUT!AI153<>\"\",$V151,\"\")","v":1},{"$f":"IF(DATA_INPUT!AJ153<>\"\",$V151,\"\")","v":""},{"$f":"IF(DATA_INPUT!AK153<>\"\",$V151,\"\")","v":""},{"$f":"IF(DATA_INPUT!AL153<>\"\",$V151*7.6*DATA_INPUT!AL153,\"\")","v":""},{"$f":"IF(DATA_INPUT!AM153<>\"\",$V151*9*DATA_INPUT!AM153,\"\")","v":""},{"$f":"IF(DATA_INPUT!AN153<>\"\",$V151*10.8*DATA_INPUT!AN153,\"\")","v":""},{"$f":"IF(DATA_INPUT!AO153<>\"\",$V151*14.6*DATA_INPUT!AO153,\"\")","v":""},{"$f":"IF(DATA_INPUT!AP153<>\"\",$V151,\"\")","v":""},{"$f":"IF(DATA_INPUT!AQ153<>\"\",$V151,\"\")","v":""},{"$f":"IF(DATA_INPUT!AR153<>\"\",DATA_INPUT!AR153,\"\")","v":""},{"$f":"IF(DATA_INPUT!AS153<>\"\",DATA_INPUT!AS153,\"\")","v":""},{"$f":"IF(DATA_INPUT!AT153<>\"\",DATA_INPUT!AT153,\"\")","v":""},{"$f":"IF(DATA_INPUT!AU153<>\"\",DATA_INPUT!AU153,\"\")","v":""},{"$f":"IF(DATA_INPUT!AV153<>\"\",DATA_INPUT!AV153,\"\")","v":"BLACK ON WHITE"},{"$f":"IF(DATA_INPUT!AW153<>\"\",DATA_INPUT!AW153,\"\")","v":"X"},{"$f":"IF(DATA_INPUT!AX153<>\"\",DATA_INPUT!AX153+Directions!$D$24-1,\"\")","v":""},{"$f":"IF(DATA_INPUT!AY153<>\"\",DATA_INPUT!AY153,\"\")","v":""},{"$f":"IF(DATA_INPUT!G153<>\"\",2,IF(DATA_INPUT!N153>2,2,IF(DATA_INPUT!N153=2,3,4)))","v":3},{"$f":"IF(OR(DATA_INPUT!S153<>\"\",DATA_INPUT!T153<>\"\"),H151,\"\")","v":1},{"$f":"IF(DATA_INPUT!T153<>\"\",\"X\",\"\")","v":""}]
[{"$f":"IF(DATA_INPUT!F154<>\"\",DATA_INPUT!F154,\"\")","v":""},{"$f":"IF(DATA_INPUT!G154<>\"\",DATA_INPUT!G154,\"\")","v":""},{"$f":"IF(DATA_INPUT!H154<>\"\",DATA_INPUT!H154,\"\")","v":""},{"$f":"IF(DATA_INPUT!I154<>\"\",DATA_INPUT!I154,\"\")","v":""},{"$f":"IF(DATA_INPUT!J154<>\"\",DATA_INPUT!J154,\"\")","v":"M1-5"},{"$f":"IF(DATA_INPUT!L154<>\"\",DATA_INPUT!L154,IF(DATA_INPUT!K154<>\"\",DATA_INPUT!K154,\"\"))","v":"(multisign image continues)"},{"$f":"IF(DATA_INPUT!O154<>\"\",DATA_INPUT!O154,\"\")","v":""},{"$f":"IF(DATA_INPUT!P154<>\"\",DATA_INPUT!P154,\"\")","v":1},{"$f":"IF(DATA_INPUT!Q154<>\"\",DATA_INPUT!Q154,\"\")","v":24},{"$f":"IF(DATA_INPUT!R154<>\"\",DATA_INPUT!R154,\"\")","v":24},{"$f":"IF(DATA_INPUT!S154<>\"\",IF(DATA_INPUT!AZ154<>\"\",DATA_INPUT!AZ154,H152*I152*J152/144)*IF(G152<>\"\",3/2,1),\"\")","v":4},{"$f":"IF(DATA_INPUT!T154<>\"\",IF(DATA_INPUT!AZ154<>\"\",DATA_INPUT!AZ154,H152*I152*J152/144)*IF(G152<>\"\",3/2,1),\"\")","v":""},{"$f":"IF(DATA_INPUT!U154<>\"\",$H152,\"\")","v":""},{"$f":"IF(DATA_INPUT!V154<>\"\",$H152,\"\")","v":""},{"$f":"IF(DATA_INPUT!W154<>\"\",$H152,\"\")","v":""},{"$f":"IF(DATA_INPUT!X154<>\"\",$H152,\"\")","v":""},{"$f":"IF(DATA_INPUT!Y154<>\"\",$H152,\"\")","v":""},{"$f":"IF(DATA_INPUT!Z154<>\"\",DATA_INPUT!Z154,\"\")","v":""},{"$f":"IF(DATA_INPUT!AA154<>\"\",DATA_INPUT!AA154,\"\")","v":""},{"$f":"IF(DATA_INPUT!AB154<>\"\",DATA_INPUT!AB154,\"\")","v":""},{"$f":"IF(DATA_INPUT!AC154<>\"\",DATA_INPUT!AC154,\"\")","v":""},{"$f":"IF(DATA_INPUT!AD154<>\"\",DATA_INPUT!AD154,\"\")","v":""},{"$f":"IF(DATA_INPUT!AE154<>\"\",$V152,\"\")","v":""},{"$f":"IF(DATA_INPUT!AF154<>\"\",$V152*8,\"\")","v":""},{"$f":"IF(DATA_INPUT!AG154<>\"\",$V152*15,\"\")","v":""},{"$f":"IF(DATA_INPUT!AH154<>\"\",$V152*15,\"\")","v":""},{"$f":"IF(DATA_INPUT!AI154<>\"\",$V152,\"\")","v":""},{"$f":"IF(DATA_INPUT!AJ154<>\"\",$V152,\"\")","v":""},{"$f":"IF(DATA_INPUT!AK154<>\"\",$V152,\"\")","v":""},{"$f":"IF(DATA_INPUT!AL154<>\"\",$V152*7.6*DATA_INPUT!AL154,\"\")","v":""},{"$f":"IF(DATA_INPUT!AM154<>\"\",$V152*9*DATA_INPUT!AM154,\"\")","v":""},{"$f":"IF(DATA_INPUT!AN154<>\"\",$V152*10.8*DATA_INPUT!AN154,\"\")","v":""},{"$f":"IF(DATA_INPUT!AO154<>\"\",$V152*14.6*DATA_INPUT!AO154,\"\")","v":""},{"$f":"IF(DATA_INPUT!AP154<>\"\",$V152,\"\")","v":""},{"$f":"IF(DATA_INPUT!AQ154<>\"\",$V152,\"\")","v":""},{"$f":"IF(DATA_INPUT!AR154<>\"\",DATA_INPUT!AR154,\"\")","v":""},{"$f":"IF(DATA_INPUT!AS154<>\"\",DATA_INPUT!AS154,\"\")","v":""},{"$f":"IF(DATA_INPUT!AT154<>\"\",DATA_INPUT!AT154,\"\")","v":""},{"$f":"IF(DATA_INPUT!AU154<>\"\",DATA_INPUT!AU154,\"\")","v":""},{"$f":"IF(DATA_INPUT!AV154<>\"\",DATA_INPUT!AV154,\"\")","v":""},{"$f":"IF(DATA_INPUT!AW154<>\"\",DATA_INPUT!AW154,\"\")","v":"X"},{"$f":"IF(DATA_INPUT!AX154<>\"\",DATA_INPUT!AX154+Directions!$D$24-1,\"\")","v":""},{"$f":"IF(DATA_INPUT!AY154<>\"\",DATA_INPUT!AY154,\"\")","v":""},{"$f":"IF(DATA_INPUT!G154<>\"\",2,IF(DATA_INPUT!N154>2,2,IF(DATA_INPUT!N154=2,3,4)))","v":3},{"$f":"IF(OR(DATA_INPUT!S154<>\"\",DATA_INPUT!T154<>\"\"),H152,\"\")","v":1},{"$f":"IF(DATA_INPUT!T154<>\"\",\"X\",\"\")","v":""}]
[{"$f":"IF(DATA_INPUT!F155<>\"\",DATA_INPUT!F155,\"\")","v":""},{"$f":"IF(DATA_INPUT!G155<>\"\",DATA_INPUT!G155,\"\")","v":""},{"$f":"IF(DATA_INPUT!H155<>\"\",DATA_INPUT!H155,\"\")","v":""},{"$f":"IF(DATA_INPUT!I155<>\"\",DATA_INPUT!I155,\"\")","v":""},{"$f":"IF(DATA_INPUT!J155<>\"\",DATA_INPUT!J155,\"\")","v":"R2-4a"},{"$f":"IF(DATA_INPUT!L155<>\"\",DATA_INPUT!L155,IF(DATA_INPUT!K155<>\"\",DATA_INPUT!K155,\"\"))","v":{"$error":"#VALUE!"}},{"$f":"IF(DATA_INPUT!O155<>\"\",DATA_INPUT!O155,\"\")","v":""},{"$f":"IF(DATA_INPUT!P155<>\"\",DATA_INPUT!P155,\"\")","v":1},{"$f":"IF(DATA_INPUT!Q155<>\"\",DATA_INPUT!Q155,\"\")","v":36},{"$f":"IF(DATA_INPUT!R155<>\"\",DATA_INPUT!R155,\"\")","v":72},{"$f":"IF(DATA_INPUT!S155<>\"\",IF(DATA_INPUT!AZ155<>\"\",DATA_INPUT!AZ155,H153*I153*J153/144)*IF(G153<>\"\",3/2,1),\"\")","v":""},{"$f":"IF(DATA_INPUT!T155<>\"\",IF(DATA_INPUT!AZ155<>\"\",DATA_INPUT!AZ155,H153*I153*J153/144)*IF(G153<>\"\",3/2,1),\"\")","v":""},{"$f":"IF(DATA_INPUT!U155<>\"\",$H153,\"\")","v":""},{"$f":"IF(DATA_INPUT!V155<>\"\",$H153,\"\")","v":""},{"$f":"IF(DATA_INPUT!W155<>\"\",$H153,\"\")","v":""},{"$f":"IF(DATA_INPUT!X155<>\"\",$H153,\"\")","v":""},{"$f":"IF(DATA_INPUT!Y155<>\"\",$H153,\"\")","v":""},{"$f":"IF(DATA_INPUT!Z155<>\"\",DATA_INPUT!Z155,\"\")","v":""},{"$f":"IF(DATA_INPUT!AA155<>\"\",DATA_INPUT!AA155,\"\")","v":""},{"$f":"IF(DATA_INPUT!AB155<>\"\",DATA_INPUT!AB155,\"\")","v":""},{"$f":"IF(DATA_INPUT!AC155<>\"\",DATA_INPUT!AC155,\"\")","v":""},{"$f":"IF(DATA_INPUT!AD155<>\"\",DATA_INPUT!AD155,\"\")","v":""},{"$f":"IF(DATA_INPUT!AE155<>\"\",$V153,\"\")","v":""},{"$f":"IF(DATA_INPUT!AF155<>\"\",$V153*8,\"\")","v":""},{"$f":"IF(DATA_INPUT!AG155<>\"\",$V153*15,\"\")","v":""},{"$f":"IF(DATA_INPUT!AH155<>\"\",$V153*15,\"\")","v":""},{"$f":"IF(DATA_INPUT!AI155<>\"\",$V153,\"\")","v":""},{"$f":"IF(DATA_INPUT!AJ155<>\"\",$V153,\"\")","v":""},{"$f":"IF(DATA_INPUT!AK155<>\"\",$V153,\"\")","v":""},{"$f":"IF(DATA_INPUT!AL155<>\"\",$V153*7.6*DATA_INPUT!AL155,\"\")","v":""},{"$f":"IF(DATA_INPUT!AM155<>\"\",$V153*9*DATA_INPUT!AM155,\"\")","v":""},{"$f":"IF(DATA_INPUT!AN155<>\"\",$V153*10.8*DATA_INPUT!AN155,\"\")","v":""},{"$f":"IF(DATA_INPUT!AO155<>\"\",$V153*14.6*DATA_INPUT!AO155,\"\")","v":""},{"$f":"IF(DATA_INPUT!AP155<>\"\",$V153,\"\")","v":""},{"$f":"IF(DATA_INPUT!AQ155<>\"\",$V153,\"\")","v":""},{"$f":"IF(DATA_INPUT!AR155<>\"\",DATA_INPUT!AR155,\"\")","v":""},{"$f":"IF(DATA_INPUT!AS155<>\"\",DATA_INPUT!AS155,\"\")","v":""},{"$f":"IF(DATA_INPUT!AT155<>\"\",DATA_INPUT!AT155,\"\")","v":""},{"$f":"IF(DATA_INPUT!AU155<>\"\",DATA_INPUT!AU155,\"\")","v":""},{"$f":"IF(DATA_INPUT!AV155<>\"\",DATA_INPUT!AV155,\"\")","v":""},{"$f":"IF(DATA_INPUT!AW155<>\"\",DATA_INPUT!AW155,\"\")","v":"X"},{"$f":"IF(DATA_INPUT!AX155<>\"\",DATA_INPUT!AX155+Directions!$D$24-1,\"\")","v":""},{"$f":"IF(DATA_INPUT!AY155<>\"\",DATA_INPUT!AY155,\"\")","v":""},{"$f":"IF(DATA_INPUT!G155<>\"\",2,IF(DATA_INPUT!N155>2,2,IF(DATA_INPUT!N155=2,3,4)))","v":4},{"$f":"IF(OR(DATA_INPUT!S155<>\"\",DATA_INPUT!T155<>\"\"),H153,\"\")","v":""},{"$f":"IF(DATA_INPUT!T155<>\"\",\"X\",\"\")","v":""}]
[{"$f":"IF(DATA_INPUT!F156<>\"\",DATA_INPUT!F156,\"\")","v":""},{"$f":"IF(DATA_INPUT!G156<>\"\",DATA_INPUT!G156,\"\")","v":""},{"$f":"IF(DATA_INPUT!H156<>\"\",DATA_INPUT!H156,\"\")","v":""},{"$f":"IF(DATA_INPUT!I156<>\"\",DATA_INPUT!I156,\"\")","v":""},{"$f":"IF(DATA_INPUT!J156<>\"\",DATA_INPUT!J156,\"\")","v":"R2-1"},{"$f":"IF(DATA_INPUT!L156<>\"\",DATA_INPUT!L156,IF(DATA_INPUT!K156<>\"\",DATA_INPUT!K156,\"\"))","v":{"$error":"#VALUE!"}},{"$f":"IF(DATA_INPUT!O156<>\"\",DATA_INPUT!O156,\"\")","v":""},{"$f":"IF(DATA_INPUT!P156<>\"\",DATA_INPUT!P156,\"\")","v":1},{"$f":"IF(DATA_INPUT!Q156<>\"\",DATA_INPUT!Q156,\"\")","v":24},{"$f":"IF(DATA_INPUT!R156<>\"\",DATA_INPUT!R156,\"\")","v":30},{"$f":"IF(DATA_INPUT!S156<>\"\",IF(DATA_INPUT!AZ156<>\"\",DATA_INPUT!AZ156,H154*I154*J154/144)*IF(G154<>\"\",3/2,1),\"\")","v":""},{"$f":"IF(DATA_INPUT!T156<>\"\",IF(DATA_INPUT!AZ156<>\"\",DATA_INPUT!AZ156,H154*I154*J154/144)*IF(G154<>\"\",3/2,1),\"\")","v":""},{"$f":"IF(DATA_INPUT!U156<>\"\",$H154,\"\")","v":""},{"$f":"IF(DATA_INPUT!V156<>\"\",$H154,\"\")","v":""},{"$f":"IF(DATA_INPUT!W156<>\"\",$H154,\"\")","v":""},{"$f":"IF(DATA_INPUT!X156<>\"\",$H154,\"\")","v":""},{"$f":"IF(DATA_INPUT!Y156<>\"\",$H154,\"\")","v":""},{"$f":"IF(DATA_INPUT!Z156<>\"\",DATA_INPUT!Z156,\"\")","v":""},{"$f":"IF(DATA_INPUT!AA156<>\"\",DATA_INPUT!AA156,\"\")","v":""},{"$f":"IF(DATA_INPUT!AB156<>\"\",DATA_INPUT!AB156,\"\")","v":""},{"$f":"IF(DATA_INPUT!AC156<>\"\",DATA_INPUT!AC156,\"\")","v":""},{"$f":"IF(DATA_INPUT!AD156<>\"\",DATA_INPUT!AD156,\"\")","v":""},{"$f":"IF(DATA_INPUT!AE156<>\"\",$V154,\"\")","v":""},{"$f":"IF(DATA_INPUT!AF156<>\"\",$V154*8,\"\")","v":""},{"$f":"IF(DATA_INPUT!AG156<>\"\",$V154*15,\"\")","v":""},{"$f":"IF(DATA_INPUT!AH156<>\"\",$V154*15,\"\")","v":""},{"$f":"IF(DATA_INPUT!AI156<>\"\",$V154,\"\")","v":""},{"$f":"IF(DATA_INPUT!AJ156<>\"\",$V154,\"\")","v":""},{"$f":"IF(DATA_INPUT!AK156<>\"\",$V154,\"\")","v":""},{"$f":"IF(DATA_INPUT!AL156<>\"\",$V154*7.6*DATA_INPUT!AL156,\"\")","v":""},{"$f":"IF(DATA_INPUT!AM156<>\"\",$V154*9*DATA_INPUT!AM156,\"\")","v":""},{"$f":"IF(DATA_INPUT!AN156<>\"\",$V154*10.8*DATA_INPUT!AN156,\"\")","v":""},{"$f":"IF(DATA_INPUT!AO156<>\"\",$V154*14.6*DATA_INPUT!AO156,\"\")","v":""},{"$f":"IF(DATA_INPUT!AP156<>\"\",$V154,\"\")","v":""},{"$f":"IF(DATA_INPUT!AQ156<>\"\",$V154,\"\")","v":""},{"$f":"IF(DATA_INPUT!AR156<>\"\",DATA_INPUT!AR156,\"\")","v":""},{"$f":"IF(DATA_INPUT!AS156<>\"\",DATA_INPUT!AS156,\"\")","v":""},{"$f":"IF(DATA_INPUT!AT156<>\"\",DATA_INPUT!AT156,\"\")","v":""},{"$f":"IF(DATA_INPUT!AU156<>\"\",DATA_INPUT!AU156,\"\")","v":""},{"$f":"IF(DATA_INPUT!AV156<>\"\",DATA_INPUT!AV156,\"\")","v":""},{"$f":"IF(DATA_INPUT!AW156<>\"\",DATA_INPUT!AW156,\"\")","v":"X"},{"$f":"IF(DATA_INPUT!AX156<>\"\",DATA_INPUT!AX156+Directions!$D$24-1,\"\")","v":""},{"$f":"IF(DATA_INPUT!AY156<>\"\",DATA_INPUT!AY156,\"\")","v":""},{"$f":"IF(DATA_INPUT!G156<>\"\",2,IF(DATA_INPUT!N156>2,2,IF(DATA_INPUT!N156=2,3,4)))","v":4},{"$f":"IF(OR(DATA_INPUT!S156<>\"\",DATA_INPUT!T156<>\"\"),H154,\"\")","v":""},{"$f":"IF(DATA_INPUT!T156<>\"\",\"X\",\"\")","v":""}]
[{"$f":"IF(DATA_INPUT!F157<>\"\",DATA_INPUT!F157,\"\")","v":""},{"$f":"IF(DATA_INPUT!G157<>\"\",DATA_INPUT!G157,\"\")","v":""},{"$f":"IF(DATA_INPUT!H157<>\"\",DATA_INPUT!H157,\"\")","v":""},{"$f":"IF(DATA_INPUT!I157<>\"\",DATA_INPUT!I157,\"\")","v":""},{"$f":"IF(DATA_INPUT!J157<>\"\",DATA_INPUT!J157,\"\")","v":"VD-700"},{"$f":"IF(DATA_INPUT!L157<>\"\",DATA_INPUT!L157,IF(DATA_INPUT!K157<>\"\",DATA_INPUT!K157,\"\"))","v":{"$error":"#VALUE!"}},{"$f":"IF(DATA_INPUT!O157<>\"\",DATA_INPUT!O157,\"\")","v":""},{"$f":"IF(DATA_INPUT!P157<>\"\",DATA_INPUT!P157,\"\")","v":1},{"$f":"IF(DATA_INPUT!Q157<>\"\",DATA_INPUT!Q157,\"\")","v":6},{"$f":"IF(DATA_INPUT!R157<>\"\",DATA_INPUT!R157,\"\")","v":10},{"$f":"IF(DATA_INPUT!S157<>\"\",IF(DATA_INPUT!AZ157<>\"\",DATA_INPUT!AZ157,H155*I155*J155/144)*IF(G155<>\"\",3/2,1),\"\")","v":""},{"$f":"IF(DATA_INPUT!T157<>\"\",IF(DATA_INPUT!AZ157<>\"\",DATA_INPUT!AZ157,H155*I155*J155/144)*IF(G155<>\"\",3/2,1),\"\")","v":""},{"$f":"IF(DATA_INPUT!U157<>\"\",$H155,\"\")","v":""},{"$f":"IF(DATA_INPUT!V157<>\"\",$H155,\"\")","v":""},{"$f":"IF(DATA_INPUT!W157<>\"\",$H155,\"\")","v":""},{"$f":"IF(DATA_INPUT!X157<>\"\",$H155,\"\")","v":""},{"$f":"IF(DATA_INPUT!Y157<>\"\",$H155,\"\")","v":""},{"$f":"IF(DATA_INPUT!Z157<>\"\",DATA_INPUT!Z157,\"\")","v":""},{"$f":"IF(DATA_INPUT!AA157<>\"\",DATA_INPUT!AA157,\"\")","v":""},{"$f":"IF(DATA_INPUT!AB157<>\"\",DATA_INPUT!AB157,\"\")","v":""},{"$f":"IF(DATA_INPUT!AC157<>\"\",DATA_INPUT!AC157,\"\")","v":""},{"$f":"IF(DATA_INPUT!AD157<>\"\",DATA_INPUT!AD157,\"\")","v":""},{"$f":"IF(DATA_INPUT!AE157<>\"\",$V155,\"\")","v":""},{"$f":"IF(DATA_INPUT!AF157<>\"\",$V155*8,\"\")","v":""},{"$f":"IF(DATA_INPUT!AG157<>\"\",$V155*15,\"\")","v":""},{"$f":"IF(DATA_INPUT!AH157<>\"\",$V155*15,\"\")","v":""},{"$f":"IF(DATA_INPUT!AI157<>\"\",$V155,\"\")","v":""},{"$f":"IF(DATA_INPUT!AJ157<>\"\",$V155,\"\")","v":""},{"$f":"IF(DATA_INPUT!AK157<>\"\",$V155,\"\")","v":""},{"$f":"IF(DATA_INPUT!AL157<>\"\",$V155*7.6*DATA_INPUT!AL157,\"\")","v":""},{"$f":"IF(DATA_INPUT!AM157<>\"\",$V155*9*DATA_INPUT!AM157,\"\")","v":""},{"$f":"IF(DATA_INPUT!AN157<>\"\",$V155*10.8*DATA_INPUT!AN157,\"\")","v":""},{"$f":"IF(DATA_INPUT!AO157<>\"\",$V155*14.6*DATA_INPUT!AO157,\"\")","v":""},{"$f":"IF(DATA_INPUT!AP157<>\"\",$V155,\"\")","v":""},{"$f":"IF(DATA_INPUT!AQ157<>\"\",$V155,\"\")","v":""},{"$f":"IF(DATA_INPUT!AR157<>\"\",DATA_INPUT!AR157,\"\")","v":""},{"$f":"IF(DATA_INPUT!AS157<>\"\",DATA_INPUT!AS157,\"\")","v":""},{"$f":"IF(DATA_INPUT!AT157<>\"\",DATA_INPUT!AT157,\"\")","v":""},{"$f":"IF(DATA_INPUT!AU157<>\"\",DATA_INPUT!AU157,\"\")","v":""},{"$f":"IF(DATA_INPUT!AV157<>\"\",DATA_INPUT!AV157,\"\")","v":""},{"$f":"IF(DATA_INPUT!AW157<>\"\",DATA_INPUT!AW157,\"\")","v":""},{"$f":"IF(DATA_INPUT!AX157<>\"\",DATA_INPUT!AX157+Directions!$D$24-1,\"\")","v":""},{"$f":"IF(DATA_INPUT!AY157<>\"\",DATA_INPUT!AY157,\"\")","v":"T-44"},{"$f":"IF(DATA_INPUT!G157<>\"\",2,IF(DATA_INPUT!N157>2,2,IF(DATA_INPUT!N157=2,3,4)))","v":4},{"$f":"IF(OR(DATA_INPUT!S157<>\"\",DATA_INPUT!T157<>\"\"),H155,\"\")","v":""},{"$f":"IF(DATA_INPUT!T157<>\"\",\"X\",\"\")","v":""}]
[{"$f":"IF(DATA_INPUT!F158<>\"\",DATA_INPUT!F158,\"\")","v":""},{"$f":"IF(DATA_INPUT!G158<>\"\",DATA_INPUT!G158,\"\")","v":""},{"$f":"IF(DATA_INPUT!H158<>\"\",DATA_INPUT!H158,\"\")","v":""},{"$f":"IF(DATA_INPUT!I158<>\"\",DATA_INPUT!I158,\"\")","v":""},{"$f":"IF(DATA_INPUT!J158<>\"\",DATA_INPUT!J158,\"\")","v":"R2-1"},{"$f":"IF(DATA_INPUT!L158<>\"\",DATA_INPUT!L158,IF(DATA_INPUT!K158<>\"\",DATA_INPUT!K158,\"\"))","v":{"$error":"#VALUE!"}},{"$f":"IF(DATA_INPUT!O158<>\"\",DATA_INPUT!O158,\"\")","v":""},{"$f":"IF(DATA_INPUT!P158<>\"\",DATA_INPUT!P158,\"\")","v":1},{"$f":"IF(DATA_INPUT!Q158<>\"\",DATA_INPUT!Q158,\"\")","v":30},{"$f":"IF(DATA_INPUT!R158<>\"\",DATA_INPUT!R158,\"\")","v":36},{"$f":"IF(DATA_INPUT!S158<>\"\",IF(DATA_INPUT!AZ158<>\"\",DATA_INPUT!AZ158,H156*I156*J156/144)*IF(G156<>\"\",3/2,1),\"\")","v":""},{"$f":"IF(DATA_INPUT!T158<>\"\",IF(DATA_INPUT!AZ158<>\"\",DATA_INPUT!AZ158,H156*I156*J156/144)*IF(G156<>\"\",3/2,1),\"\")","v":""},{"$f":"IF(DATA_INPUT!U158<>\"\",$H156,\"\")","v":""},{"$f":"IF(DATA_INPUT!V158<>\"\",$H156,\"\")","v":""},{"$f":"IF(DATA_INPUT!W158<>\"\",$H156,\"\")","v":""},{"$f":"IF(DATA_INPUT!X158<>\"\",$H156,\"\")","v":""},{"$f":"IF(DATA_INPUT!Y158<>\"\",$H156,\"\")","v":""},{"$f":"IF(DATA_INPUT!Z158<>\"\",DATA_INPUT!Z158,\"\")","v":""},{"$f":"IF(DATA_INPUT!AA158<>\"\",DATA_INPUT!AA158,\"\")","v":""},{"$f":"IF(DATA_INPUT!AB158<>\"\",DATA_INPUT!AB158,\"\")","v":""},{"$f":"IF(DATA_INPUT!AC158<>\"\",DATA_INPUT!AC158,\"\")","v":""},{"$f":"IF(DATA_INPUT!AD158<>\"\",DATA_INPUT!AD158,\"\")","v":""},{"$f":"IF(DATA_INPUT!AE158<>\"\",$V156,\"\")","v":""},{"$f":"IF(DATA_INPUT!AF158<>\"\",$V156*8,\"\")","v":""},{"$f":"IF(DATA_INPUT!AG158<>\"\",$V156*15,\"\")","v":""},{"$f":"IF(DATA_INPUT!AH158<>\"\",$V156*15,\"\")","v":""},{"$f":"IF(DATA_INPUT!AI158<>\"\",$V156,\"\")","v":""},{"$f":"IF(DATA_INPUT!AJ158<>\"\",$V156,\"\")","v":""},{"$f":"IF(DATA_INPUT!AK158<>\"\",$V156,\"\")","v":""},{"$f":"IF(DATA_INPUT!AL158<>\"\",$V156*7.6*DATA_INPUT!AL158,\"\")","v":""},{"$f":"IF(DATA_INPUT!AM158<>\"\",$V156*9*DATA_INPUT!AM158,\"\")","v":""},{"$f":"IF(DATA_INPUT!AN158<>\"\",$V156*10.8*DATA_INPUT!AN158,\"\")","v":""},{"$f":"IF(DATA_INPUT!AO158<>\"\",$V156*14.6*DATA_INPUT!AO158,\"\")","v":""},{"$f":"IF(DATA_INPUT!AP158<>\"\",$V156,\"\")","v":""},{"$f":"IF(DATA_INPUT!AQ158<>\"\",$V156,\"\")","v":""},{"$f":"IF(DATA_INPUT!AR158<>\"\",DATA_INPUT!AR158,\"\")","v":""},{"$f":"IF(DATA_INPUT!AS158<>\"\",DATA_INPUT!AS158,\"\")","v":""},{"$f":"IF(DATA_INPUT!AT158<>\"\",DATA_INPUT!AT158,\"\")","v":""},{"$f":"IF(DATA_INPUT!AU158<>\"\",DATA_INPUT!AU158,\"\")","v":""},{"$f":"IF(DATA_INPUT!AV158<>\"\",DATA_INPUT!AV158,\"\")","v":""},{"$f":"IF(DATA_INPUT!AW158<>\"\",DATA_INPUT!AW158,\"\")","v":"X"},{"$f":"IF(DATA_INPUT!AX158<>\"\",DATA_INPUT!AX158+Directions!$D$24-1,\"\")","v":""},{"$f":"IF(DATA_INPUT!AY158<>\"\",DATA_INPUT!AY158,\"\")","v":""},{"$f":"IF(DATA_INPUT!G158<>\"\",2,IF(DATA_INPUT!N158>2,2,IF(DATA_INPUT!N158=2,3,4)))","v":4},{"$f":"IF(OR(DATA_INPUT!S158<>\"\",DATA_INPUT!T158<>\"\"),H156,\"\")","v":""},{"$f":"IF(DATA_INPUT!T158<>\"\",\"X\",\"\")","v":""}]
[{"$f":"IF(DATA_INPUT!F159<>\"\",DATA_INPUT!F159,\"\")","v":""},{"$f":"IF(DATA_INPUT!G159<>\"\",DATA_INPUT!G159,\"\")","v":""},{"$f":"IF(DATA_INPUT!H159<>\"\",DATA_INPUT!H159,\"\")","v":""},{"$f":"IF(DATA_INPUT!I159<>\"\",DATA_INPUT!I159,\"\")","v":""},{"$f":"IF(DATA_INPUT!J159<>\"\",DATA_INPUT!J159,\"\")","v":"M1-1"},{"$f":"IF(DATA_INPUT!L159<>\"\",DATA_INPUT!L159,IF(DATA_INPUT!K159<>\"\",DATA_INPUT!K159,\"\"))","v":{"$error":"#VALUE!"}},{"$f":"IF(DATA_INPUT!O159<>\"\",DATA_INPUT!O159,\"\")","v":""},{"$f":"IF(DATA_INPUT!P159<>\"\",DATA_INPUT!P159,\"\")","v":2},{"$f":"IF(DATA_INPUT!Q159<>\"\",DATA_INPUT!Q159,\"\")","v":24},{"$f":"IF(DATA_INPUT!R159<>\"\",DATA_INPUT!R159,\"\")","v":24},{"$f":"IF(DATA_INPUT!S159<>\"\",IF(DATA_INPUT!AZ159<>\"\",DATA_INPUT!AZ159,H157*I157*J157/144)*IF(G157<>\"\",3/2,1),\"\")","v":""},{"$f":"IF(DATA_INPUT!T159<>\"\",IF(DATA_INPUT!AZ159<>\"\",DATA_INPUT!AZ159,H157*I157*J157/144)*IF(G157<>\"\",3/2,1),\"\")","v":6.48},{"$f":"IF(DATA_INPUT!U159<>\"\",$H157,\"\")","v":""},{"$f":"IF(DATA_INPUT!V159<>\"\",$H157,\"\")","v":""},{"$f":"IF(DATA_INPUT!W159<>\"\",$H157,\"\")","v":""},{"$f":"IF(DATA_INPUT!X159<>\"\",$H157,\"\")","v":""},{"$f":"IF(DATA_INPUT!Y159<>\"\",$H157,\"\")","v":""},{"$f":"IF(DATA_INPUT!Z159<>\"\",DATA_INPUT!Z159,\"\")","v":""},{"$f":"IF(DATA_INPUT!AA159<>\"\",DATA_INPUT!AA159,\"\")","v":""},{"$f":"IF(DATA_INPUT!AB159<>\"\",DATA_INPUT!AB159,\"\")","v":""},{"$f":"IF(DATA_INPUT!AC159<>\"\",DATA_INPUT!AC159,\"\")","v":""},{"$f":"IF(DATA_INPUT!AD159<>\"\",DATA_INPUT!AD159,\"\")","v":""},{"$f":"IF(DATA_INPUT!AE159<>\"\",$V157,\"\")","v":""},{"$f":"IF(DATA_INPUT!AF159<>\"\",$V157*8,\"\")","v":""},{"$f":"IF(DATA_INPUT!AG159<>\"\",$V157*15,\"\")","v":""},{"$f":"IF(DATA_INPUT!AH159<>\"\",$V157*15,\"\")","v":""},{"$f":"IF(DATA_INPUT!AI159<>\"\",$V157,\"\")","v":""},{"$f":"IF(DATA_INPUT!AJ159<>\"\",$V157,\"\")","v":""},{"$f":"IF(DATA_INPUT!AK159<>\"\",$V157,\"\")","v":""},{"$f":"IF(DATA_INPUT!AL159<>\"\",$V157*7.6*DATA_INPUT!AL159,\"\")","v":""},{"$f":"IF(DATA_INPUT!AM159<>\"\",$V157*9*DATA_INPUT!AM159,\"\")","v":""},{"$f":"IF(DATA_INPUT!AN159<>\"\",$V157*10.8*DATA_INPUT!AN159,\"\")","v":""},{"$f":"IF(DATA_INPUT!AO159<>\"\",$V157*14.6*DATA_INPUT!AO159,\"\")","v":""},{"$f":"IF(DATA_INPUT!AP159<>\"\",$V157,\"\")","v":""},{"$f":"IF(DATA_INPUT!AQ159<>\"\",$V157,\"\")","v":""},{"$f":"IF(DATA_INPUT!AR159<>\"\",DATA_INPUT!AR159,\"\")","v":""},{"$f":"IF(DATA_INPUT!AS159<>\"\",DATA_INPUT!AS159,\"\")","v":""},{"$f":"IF(DATA_INPUT!AT159<>\"\",DATA_INPUT!AT159,\"\")","v":""},{"$f":"IF(DATA_INPUT!AU159<>\"\",DATA_INPUT!AU159,\"\")","v":""},{"$f":"IF(DATA_INPUT!AV159<>\"\",DATA_INPUT!AV159,\"\")","v":""},{"$f":"IF(DATA_INPUT!AW159<>\"\",DATA_INPUT!AW159,\"\")","v":"X"},{"$f":"IF(DATA_INPUT!AX159<>\"\",DATA_INPUT!AX159+Directions!$D$24-1,\"\")","v":""},{"$f":"IF(DATA_INPUT!AY159<>\"\",DATA_INPUT!AY159,\"\")","v":""},{"$f":"IF(DATA_INPUT!G159<>\"\",2,IF(DATA_INPUT!N159>2,2,IF(DATA_INPUT!N159=2,3,4)))","v":2},{"$f":"IF(OR(DATA_INPUT!S159<>\"\",DATA_INPUT!T159<>\"\"),H157,\"\")","v":2},{"$f":"IF(DATA_INPUT!T159<>\"\",\"X\",\"\")","v":"X"}]
[{"$f":"IF(DATA_INPUT!F160<>\"\",DATA_INPUT!F160,\"\")","v":""},{"$f":"IF(DATA_INPUT!G160<>\"\",DATA_INPUT!G160,\"\")","v":""},{"$f":"IF(DATA_INPUT!H160<>\"\",DATA_INPUT!H160,\"\")","v":""},{"$f":"IF(DATA_INPUT!I160<>\"\",DATA_INPUT!I160,\"\")","v":""},{"$f":"IF(DATA_INPUT!J160<>\"\",DATA_INPUT!J160,\"\")","v":"M1-5"},{"$f":"IF(DATA_INPUT!L160<>\"\",DATA_INPUT!L160,IF(DATA_INPUT!K160<>\"\",DATA_INPUT!K160,\"\"))","v":"(multisign image continues)"},{"$f":"IF(DATA_INPUT!O160<>\"\",DATA_INPUT!O160,\"\")","v":""},{"$f":"IF(DATA_INPUT!P160<>\"\",DATA_INPUT!P160,\"\")","v":1},{"$f":"IF(DATA_INPUT!Q160<>\"\",DATA_INPUT!Q160,\"\")","v":30},{"$f":"IF(DATA_INPUT!R160<>\"\",DATA_INPUT!R160,\"\")","v":24},{"$f":"IF(DATA_INPUT!S160<>\"\",IF(DATA_INPUT!AZ160<>\"\",DATA_INPUT!AZ160,H158*I158*J158/144)*IF(G158<>\"\",3/2,1),\"\")","v":""},{"$f":"IF(DATA_INPUT!T160<>\"\",IF(DATA_INPUT!AZ160<>\"\",DATA_INPUT!AZ160,H158*I158*J158/144)*IF(G158<>\"\",3/2,1),\"\")","v":""},{"$f":"IF(DATA_INPUT!U160<>\"\",$H158,\"\")","v":""},{"$f":"IF(DATA_INPUT!V160<>\"\",$H158,\"\")","v":""},{"$f":"IF(DATA_INPUT!W160<>\"\",$H158,\"\")","v":""},{"$f":"IF(DATA_INPUT!X160<>\"\",$H158,\"\")","v":""},{"$f":"IF(DATA_INPUT!Y160<>\"\",$H158,\"\")","v":""},{"$f":"IF(DATA_INPUT!Z160<>\"\",DATA_INPUT!Z160,\"\")","v":""},{"$f":"IF(DATA_INPUT!AA160<>\"\",DATA_INPUT!AA160,\"\")","v":""},{"$f":"IF(DATA_INPUT!AB160<>\"\",DATA_INPUT!AB160,\"\")","v":""},{"$f":"IF(DATA_INPUT!AC160<>\"\",DATA_INPUT!AC160,\"\")","v":""},{"$f":"IF(DATA_INPUT!AD160<>\"\",DATA_INPUT!AD160,\"\")","v":""},{"$f":"IF(DATA_INPUT!AE160<>\"\",$V158,\"\")","v":""},{"$f":"IF(DATA_INPUT!AF160<>\"\",$V158*8,\"\")","v":""},{"$f":"IF(DATA_INPUT!AG160<>\"\",$V158*15,\"\")","v":""},{"$f":"IF(DATA_INPUT!AH160<>\"\",$V158*15,\"\")","v":""},{"$f":"IF(DATA_INPUT!AI160<>\"\",$V158,\"\")","v":""},{"$f":"IF(DATA_INPUT!AJ160<>\"\",$V158,\"\")","v":""},{"$f":"IF(DATA_INPUT!AK160<>\"\",$V158,\"\")","v":""},{"$f":"IF(DATA_INPUT!AL160<>\"\",$V158*7.6*DATA_INPUT!AL160,\"\")","v":""},{"$f":"IF(DATA_INPUT!AM160<>\"\",$V158*9*DATA_INPUT!AM160,\"\")","v":""},{"$f":"IF(DATA_INPUT!AN160<>\"\",$V158*10.8*DATA_INPUT!AN160,\"\")","v":""},{"$f":"IF(DATA_INPUT!AO160<>\"\",$V158*14.6*DATA_INPUT!AO160,\"\")","v":""},{"$f":"IF(DATA_INPUT!AP160<>\"\",$V158,\"\")","v":""},{"$f":"IF(DATA_INPUT!AQ160<>\"\",$V158,\"\")","v":""},{"$f":"IF(DATA_INPUT!AR160<>\"\",DATA_INPUT!AR160,\"\")","v":""},{"$f":"IF(DATA_INPUT!AS160<>\"\",DATA_INPUT!AS160,\"\")","v":""},{"$f":"IF(DATA_INPUT!AT160<>\"\",DATA_INPUT!AT160,\"\")","v":""},{"$f":"IF(DATA_INPUT!AU160<>\"\",DATA_INPUT!AU160,\"\")","v":""},{"$f":"IF(DATA_INPUT!AV160<>\"\",DATA_INPUT!AV160,\"\")","v":""},{"$f":"IF(DATA_INPUT!AW160<>\"\",DATA_INPUT!AW160,\"\")","v":"X"},{"$f":"IF(DATA_INPUT!AX160<>\"\",DATA_INPUT!AX160+Directions!$D$24-1,\"\")","v":""},{"$f":"IF(DATA_INPUT!AY160<>\"\",DATA_INPUT!AY160,\"\")","v":""},{"$f":"IF(DATA_INPUT!G160<>\"\",2,IF(DATA_INPUT!N160>2,2,IF(DATA_INPUT!N160=2,3,4)))","v":2},{"$f":"IF(OR(DATA_INPUT!S160<>\"\",DATA_INPUT!T160<>\"\"),H158,\"\")","v":""},{"$f":"IF(DATA_INPUT!T160<>\"\",\"X\",\"\")","v":""}]
[{"$f":"IF(DATA_INPUT!F161<>\"\",DATA_INPUT!F161,\"\")","v":""},{"$f":"IF(DATA_INPUT!G161<>\"\",DATA_INPUT!G161,\"\")","v":""},{"$f":"IF(DATA_INPUT!H161<>\"\",DATA_INPUT!H161,\"\")","v":""},{"$f":"IF(DATA_INPUT!I161<>\"\",DATA_INPUT!I161,\"\")","v":""},{"$f":"IF(DATA_INPUT!J161<>\"\",DATA_INPUT!J161,\"\")","v":"M1-1"},{"$f":"IF(DATA_INPUT!L161<>\"\",DATA_INPUT!L161,IF(DATA_INPUT!K161<>\"\",DATA_INPUT!K161,\"\"))","v":"(multisign image continues)"},{"$f":"IF(DATA_INPUT!O161<>\"\",DATA_INPUT!O161,\"\")","v":""},{"$f":"IF(DATA_INPUT!P161<>\"\",DATA_INPUT!P161,\"\")","v":1},{"$f":"IF(DATA_INPUT!Q161<>\"\",DATA_INPUT!Q161,\"\")","v":30},{"$f":"IF(DATA_INPUT!R161<>\"\",DATA_INPUT!R161,\"\")","v":24},{"$f":"IF(DATA_INPUT!S161<>\"\",IF(DATA_INPUT!AZ161<>\"\",DATA_INPUT!AZ161,H159*I159*J159/144)*IF(G159<>\"\",3/2,1),\"\")","v":""},{"$f":"IF(DATA_INPUT!T161<>\"\",IF(DATA_INPUT!AZ161<>\"\",DATA_INPUT!AZ161,H159*I159*J159/144)*IF(G159<>\"\",3/2,1),\"\")","v":""},{"$f":"IF(DATA_INPUT!U161<>\"\",$H159,\"\")","v":""},{"$f":"IF(DATA_INPUT!V161<>\"\",$H159,\"\")","v":""},{"$f":"IF(DATA_INPUT!W161<>\"\",$H159,\"\")","v":""},{"$f":"IF(DATA_INPUT!X161<>\"\",$H159,\"\")","v":""},{"$f":"IF(DATA_INPUT!Y161<>\"\",$H159,\"\")","v":""},{"$f":"IF(DATA_INPUT!Z161<>\"\",DATA_INPUT!Z161,\"\")","v":""},{"$f":"IF(DATA_INPUT!AA161<>\"\",DATA_INPUT!AA161,\"\")","v":""},{"$f":"IF(DATA_INPUT!AB161<>\"\",DATA_INPUT!AB161,\"\")","v":""},{"$f":"IF(DATA_INPUT!AC161<>\"\",DATA_INPUT!AC161,\"\")","v":""},{"$f":"IF(DATA_INPUT!AD161<>\"\",DATA_INPUT!AD161,\"\")","v":""},{"$f":"IF(DATA_INPUT!AE161<>\"\",$V159,\"\")","v":""},{"$f":"IF(DATA_INPUT!AF161<>\"\",$V159*8,\"\")","v":""},{"$f":"IF(DATA_INPUT!AG161<>\"\",$V159*15,\"\")","v":""},{"$f":"IF(DATA_INPUT!AH161<>\"\",$V159*15,\"\")","v":""},{"$f":"IF(DATA_INPUT!AI161<>\"\",$V159,\"\")","v":""},{"$f":"IF(DATA_INPUT!AJ161<>\"\",$V159,\"\")","v":""},{"$f":"IF(DATA_INPUT!AK161<>\"\",$V159,\"\")","v":""},{"$f":"IF(DATA_INPUT!AL161<>\"\",$V159*7.6*DATA_INPUT!AL161,\"\")","v":""},{"$f":"IF(DATA_INPUT!AM161<>\"\",$V159*9*DATA_INPUT!AM161,\"\")","v":""},{"$f":"IF(DATA_INPUT!AN161<>\"\",$V159*10.8*DATA_INPUT!AN161,\"\")","v":""},{"$f":"IF(DATA_INPUT!AO161<>\"\",$V159*14.6*DATA_INPUT!AO161,\"\")","v":""},{"$f":"IF(DATA_INPUT!AP161<>\"\",$V159,\"\")","v":""},{"$f":"IF(DATA_INPUT!AQ161<>\"\",$V159,\"\")","v":""},{"$f":"IF(DATA_INPUT!AR161<>\"\",DATA_INPUT!AR161,\"\")","v":""},{"$f":"IF(DATA_INPUT!AS161<>\"\",DATA_INPUT!AS161,\"\")","v":""},{"$f":"IF(DATA_INPUT!AT161<>\"\",DATA_INPUT!AT161,\"\")","v":""},{"$f":"IF(DATA_INPUT!AU161<>\"\",DATA_INPUT!AU161,\"\")","v":""},{"$f":"IF(DATA_INPUT!AV161<>\"\",DATA_INPUT!AV161,\"\")","v":""},{"$f":"IF(DATA_INPUT!AW161<>\"\",DATA_INPUT!AW161,\"\")","v":"X"},{"$f":"IF(DATA_INPUT!AX161<>\"\",DATA_INPUT!AX161+Directions!$D$24-1,\"\")","v":""},{"$f":"IF(DATA_INPUT!AY161<>\"\",DATA_INPUT!AY161,\"\")","v":""},{"$f":"IF(DATA_INPUT!G161<>\"\",2,IF(DATA_INPUT!N161>2,2,IF(DATA_INPUT!N161=2,3,4)))","v":2},{"$f":"IF(OR(DATA_INPUT!S161<>\"\",DATA_INPUT!T161<>\"\"),H159,\"\")","v":""},{"$f":"IF(DATA_INPUT!T161<>\"\",\"X\",\"\")","v":""}]
[{"$f":"IF(DATA_INPUT!F162<>\"\",DATA_INPUT!F162,\"\")","v":""},{"$f":"IF(DATA_INPUT!G162<>\"\",DATA_INPUT!G162,\"\")","v":""},{"$f":"IF(DATA_INPUT!H162<>\"\",DATA_INPUT!H162,\"\")","v":""},{"$f":"IF(DATA_INPUT!I162<>\"\",DATA_INPUT!I162,\"\")","v":""},{"$f":"IF(DATA_INPUT!J162<>\"\",DATA_INPUT!J162,\"\")","v":""},{"$f":"IF(DATA_INPUT!L162<>\"\",DATA_INPUT!L162,IF(DATA_INPUT!K162<>\"\",DATA_INPUT!K162,\"\"))","v":""},{"$f":"IF(DATA_INPUT!O162<>\"\",DATA_INPUT!O162,\"\")","v":""},{"$f":"IF(DATA_INPUT!P162<>\"\",DATA_INPUT!P162,\"\")","v":""},{"$f":"IF(DATA_INPUT!Q162<>\"\",DATA_INPUT!Q162,\"\")","v":""},{"$f":"IF(DATA_INPUT!R162<>\"\",DATA_INPUT!R162,\"\")","v":""},{"$f":"IF(DATA_INPUT!S162<>\"\",IF(DATA_INPUT!AZ162<>\"\",DATA_INPUT!AZ162,H160*I160*J160/144)*IF(G160<>\"\",3/2,1),\"\")","v":""},{"$f":"IF(DATA_INPUT!T162<>\"\",IF(DATA_INPUT!AZ162<>\"\",DATA_INPUT!AZ162,H160*I160*J160/144)*IF(G160<>\"\",3/2,1),\"\")","v":""},{"$f":"IF(DATA_INPUT!U162<>\"\",$H160,\"\")","v":""},{"$f":"IF(DATA_INPUT!V162<>\"\",$H160,\"\")","v":""},{"$f":"IF(DATA_INPUT!W162<>\"\",$H160,\"\")","v":""},{"$f":"IF(DATA_INPUT!X162<>\"\",$H160,\"\")","v":""},{"$f":"IF(DATA_INPUT!Y162<>\"\",$H160,\"\")","v":""},{"$f":"IF(DATA_INPUT!Z162<>\"\",DATA_INPUT!Z162,\"\")","v":""},{"$f":"IF(DATA_INPUT!AA162<>\"\",DATA_INPUT!AA162,\"\")","v":""},{"$f":"IF(DATA_INPUT!AB162<>\"\",DATA_INPUT!AB162,\"\")","v":""},{"$f":"IF(DATA_INPUT!AC162<>\"\",DATA_INPUT!AC162,\"\")","v":""},{"$f":"IF(DATA_INPUT!AD162<>\"\",DATA_INPUT!AD162,\"\")","v":""},{"$f":"IF(DATA_INPUT!AE162<>\"\",$V160,\"\")","v":""},{"$f":"IF(DATA_INPUT!AF162<>\"\",$V160*8,\"\")","v":""},{"$f":"IF(DATA_INPUT!AG162<>\"\",$V160*15,\"\")","v":""},{"$f":"IF(DATA_INPUT!AH162<>\"\",$V160*15,\"\")","v":""},{"$f":"IF(DATA_INPUT!AI162<>\"\",$V160,\"\")","v":""},{"$f":"IF(DATA_INPUT!AJ162<>\"\",$V160,\"\")","v":""},{"$f":"IF(DATA_INPUT!AK162<>\"\",$V160,\"\")","v":""},{"$f":"IF(DATA_INPUT!AL162<>\"\",$V160*7.6*DATA_INPUT!AL162,\"\")","v":""},{"$f":"IF(DATA_INPUT!AM162<>\"\",$V160*9*DATA_INPUT!AM162,\"\")","v":""},{"$f":"IF(DATA_INPUT!AN162<>\"\",$V160*10.8*DATA_INPUT!AN162,\"\")","v":""},{"$f":"IF(DATA_INPUT!AO162<>\"\",$V160*14.6*DATA_INPUT!AO162,\"\")","v":""},{"$f":"IF(DATA_INPUT!AP162<>\"\",$V160,\"\")","v":""},{"$f":"IF(DATA_INPUT!AQ162<>\"\",$V160,\"\")","v":""},{"$f":"IF(DATA_INPUT!AR162<>\"\",DATA_INPUT!AR162,\"\")","v":""},{"$f":"IF(DATA_INPUT!AS162<>\"\",DATA_INPUT!AS162,\"\")","v":""},{"$f":"IF(DATA_INPUT!AT162<>\"\",DATA_INPUT!AT162,\"\")","v":""},{"$f":"IF(DATA_INPUT!AU162<>\"\",DATA_INPUT!AU162,\"\")","v":""},{"$f":"IF(DATA_INPUT!AV162<>\"\",DATA_INPUT!AV162,\"\")","v":""},{"$f":"IF(DATA_INPUT!AW162<>\"\",DATA_INPUT!AW162,\"\")","v":""},{"$f":"IF(DATA_INPUT!AX162<>\"\",DATA_INPUT!AX162+Directions!$D$24-1,\"\")","v":""},{"$f":"IF(DATA_INPUT!AY162<>\"\",DATA_INPUT!AY162,\"\")","v":""},{"$f":"IF(DATA_INPUT!G162<>\"\",2,IF(DATA_INPUT!N162>2,2,IF(DATA_INPUT!N162=2,3,4)))","v":4},{"$f":"IF(OR(DATA_INPUT!S162<>\"\",DATA_INPUT!T162<>\"\"),H160,\"\")","v":""},{"$f":"IF(DATA_INPUT!T162<>\"\",\"X\",\"\")","v":""}]
[{"$f":"IF(DATA_INPUT!F163<>\"\",DATA_INPUT!F163,\"\")","v":""},{"$f":"IF(DATA_INPUT!G163<>\"\",DATA_INPUT!G163,\"\")","v":""},{"$f":"IF(DATA_INPUT!H163<>\"\",DATA_INPUT!H163,\"\")","v":""},{"$f":"IF(DATA_INPUT!I163<>\"\",DATA_INPUT!I163,\"\")","v":""},{"$f":"IF(DATA_INPUT!J163<>\"\",DATA_INPUT!J163,\"\")","v":""},{"$f":"IF(DATA_INPUT!L163<>\"\",DATA_INPUT!L163,IF(DATA_INPUT!K163<>\"\",DATA_INPUT!K163,\"\"))","v":""},{"$f":"IF(DATA_INPUT!O163<>\"\",DATA_INPUT!O163,\"\")","v":""},{"$f":"IF(DATA_INPUT!P163<>\"\",DATA_INPUT!P163,\"\")","v":""},{"$f":"IF(DATA_INPUT!Q163<>\"\",DATA_INPUT!Q163,\"\")","v":""},{"$f":"IF(DATA_INPUT!R163<>\"\",DATA_INPUT!R163,\"\")","v":""},{"$f":"IF(DATA_INPUT!S163<>\"\",IF(DATA_INPUT!AZ163<>\"\",DATA_INPUT!AZ163,H161*I161*J161/144)*IF(G161<>\"\",3/2,1),\"\")","v":""},{"$f":"IF(DATA_INPUT!T163<>\"\",IF(DATA_INPUT!AZ163<>\"\",DATA_INPUT!AZ163,H161*I161*J161/144)*IF(G161<>\"\",3/2,1),\"\")","v":""},{"$f":"IF(DATA_INPUT!U163<>\"\",$H161,\"\")","v":""},{"$f":"IF(DATA_INPUT!V163<>\"\",$H161,\"\")","v":""},{"$f":"IF(DATA_INPUT!W163<>\"\",$H161,\"\")","v":""},{"$f":"IF(DATA_INPUT!X163<>\"\",$H161,\"\")","v":""},{"$f":"IF(DATA_INPUT!Y163<>\"\",$H161,\"\")","v":""},{"$f":"IF(DATA_INPUT!Z163<>\"\",DATA_INPUT!Z163,\"\")","v":""},{"$f":"IF(DATA_INPUT!AA163<>\"\",DATA_INPUT!AA163,\"\")","v":""},{"$f":"IF(DATA_INPUT!AB163<>\"\",DATA_INPUT!AB163,\"\")","v":""},{"$f":"IF(DATA_INPUT!AC163<>\"\",DATA_INPUT!AC163,\"\")","v":""},{"$f":"IF(DATA_INPUT!AD163<>\"\",DATA_INPUT!AD163,\"\")","v":""},{"$f":"IF(DATA_INPUT!AE163<>\"\",$V161,\"\")","v":""},{"$f":"IF(DATA_INPUT!AF163<>\"\",$V161*8,\"\")","v":""},{"$f":"IF(DATA_INPUT!AG163<>\"\",$V161*15,\"\")","v":""},{"$f":"IF(DATA_INPUT!AH163<>\"\",$V161*15,\"\")","v":""},{"$f":"IF(DATA_INPUT!AI163<>\"\",$V161,\"\")","v":""},{"$f":"IF(DATA_INPUT!AJ163<>\"\",$V161,\"\")","v":""},{"$f":"IF(DATA_INPUT!AK163<>\"\",$V161,\"\")","v":""},{"$f":"IF(DATA_INPUT!AL163<>\"\",$V161*7.6*DATA_INPUT!AL163,\"\")","v":""},{"$f":"IF(DATA_INPUT!AM163<>\"\",$V161*9*DATA_INPUT!AM163,\"\")","v":""},{"$f":"IF(DATA_INPUT!AN163<>\"\",$V161*10.8*DATA_INPUT!AN163,\"\")","v":""},{"$f":"IF(DATA_INPUT!AO163<>\"\",$V161*14.6*DATA_INPUT!AO163,\"\")","v":""},{"$f":"IF(DATA_INPUT!AP163<>\"\",$V161,\"\")","v":""},{"$f":"IF(DATA_INPUT!AQ163<>\"\",$V161,\"\")","v":""},{"$f":"IF(DATA_INPUT!AR163<>\"\",DATA_INPUT!AR163,\"\")","v":""},{"$f":"IF(DATA_INPUT!AS163<>\"\",DATA_INPUT!AS163,\"\")","v":""},{"$f":"IF(DATA_INPUT!AT163<>\"\",DATA_INPUT!AT163,\"\")","v":""},{"$f":"IF(DATA_INPUT!AU163<>\"\",DATA_INPUT!AU163,\"\")","v":""},{"$f":"IF(DATA_INPUT!AV163<>\"\",DATA_INPUT!AV163,\"\")","v":""},{"$f":"IF(DATA_INPUT!AW163<>\"\",DATA_INPUT!AW163,\"\")","v":""},{"$f":"IF(DATA_INPUT!AX163<>\"\",DATA_INPUT!AX163+Directions!$D$24-1,\"\")","v":""},{"$f":"IF(DATA_INPUT!AY163<>\"\",DATA_INPUT!AY163,\"\")","v":""},{"$f":"IF(DATA_INPUT!G163<>\"\",2,IF(DATA_INPUT!N163>2,2,IF(DATA_INPUT!N163=2,3,4)))","v":4},{"$f":"IF(OR(DATA_INPUT!S163<>\"\",DATA_INPUT!T163<>\"\"),H161,\"\")","v":""},{"$f":"IF(DATA_INPUT!T163<>\"\",\"X\",\"\")","v":""}]
[{"$f":"IF(DATA_INPUT!F164<>\"\",DATA_INPUT!F164,\"\")","v":""},{"$f":"IF(DATA_INPUT!G164<>\"\",DATA_INPUT!G164,\"\")","v":""},{"$f":"IF(DATA_INPUT!H164<>\"\",DATA_INPUT!H164,\"\")","v":""},{"$f":"IF(DATA_INPUT!I164<>\"\",DATA_INPUT!I164,\"\")","v":""},{"$f":"IF(DATA_INPUT!J164<>\"\",DATA_INPUT!J164,\"\")","v":""},{"$f":"IF(DATA_INPUT!L164<>\"\",DATA_INPUT!L164,IF(DATA_INPUT!K164<>\"\",DATA_INPUT!K164,\"\"))","v":""},{"$f":"IF(DATA_INPUT!O164<>\"\",DATA_INPUT!O164,\"\")","v":""},{"$f":"IF(DATA_INPUT!P164<>\"\",DATA_INPUT!P164,\"\")","v":""},{"$f":"IF(DATA_INPUT!Q164<>\"\",DATA_INPUT!Q164,\"\")","v":""},{"$f":"IF(DATA_INPUT!R164<>\"\",DATA_INPUT!R164,\"\")","v":""},{"$f":"IF(DATA_INPUT!S164<>\"\",IF(DATA_INPUT!AZ164<>\"\",DATA_INPUT!AZ164,H162*I162*J162/144)*IF(G162<>\"\",3/2,1),\"\")","v":""},{"$f":"IF(DATA_INPUT!T164<>\"\",IF(DATA_INPUT!AZ164<>\"\",DATA_INPUT!AZ164,H162*I162*J162/144)*IF(G162<>\"\",3/2,1),\"\")","v":""},{"$f":"IF(DATA_INPUT!U164<>\"\",$H162,\"\")","v":""},{"$f":"IF(DATA_INPUT!V164<>\"\",$H162,\"\")","v":""},{"$f":"IF(DATA_INPUT!W164<>\"\",$H162,\"\")","v":""},{"$f":"IF(DATA_INPUT!X164<>\"\",$H162,\"\")","v":""},{"$f":"IF(DATA_INPUT!Y164<>\"\",$H162,\"\")","v":""},{"$f":"IF(DATA_INPUT!Z164<>\"\",DATA_INPUT!Z164,\"\")","v":""},{"$f":"IF(DATA_INPUT!AA164<>\"\",DATA_INPUT!AA164,\"\")","v":""},{"$f":"IF(DATA_INPUT!AB164<>\"\",DATA_INPUT!AB164,\"\")","v":""},{"$f":"IF(DATA_INPUT!AC164<>\"\",DATA_INPUT!AC164,\"\")","v":""},{"$f":"IF(DATA_INPUT!AD164<>\"\",DATA_INPUT!AD164,\"\")","v":""},{"$f":"IF(DATA_INPUT!AE164<>\"\",$V162,\"\")","v":""},{"$f":"IF(DATA_INPUT!AF164<>\"\",$V162*8,\"\")","v":""},{"$f":"IF(DATA_INPUT!AG164<>\"\",$V162*15,\"\")","v":""},{"$f":"IF(DATA_INPUT!AH164<>\"\",$V162*15,\"\")","v":""},{"$f":"IF(DATA_INPUT!AI164<>\"\",$V162,\"\")","v":""},{"$f":"IF(DATA_INPUT!AJ164<>\"\",$V162,\"\")","v":""},{"$f":"IF(DATA_INPUT!AK164<>\"\",$V162,\"\")","v":""},{"$f":"IF(DATA_INPUT!AL164<>\"\",$V162*7.6*DATA_INPUT!AL164,\"\")","v":""},{"$f":"IF(DATA_INPUT!AM164<>\"\",$V162*9*DATA_INPUT!AM164,\"\")","v":""},{"$f":"IF(DATA_INPUT!AN164<>\"\",$V162*10.8*DATA_INPUT!AN164,\"\")","v":""},{"$f":"IF(DATA_INPUT!AO164<>\"\",$V162*14.6*DATA_INPUT!AO164,\"\")","v":""},{"$f":"IF(DATA_INPUT!AP164<>\"\",$V162,\"\")","v":""},{"$f":"IF(DATA_INPUT!AQ164<>\"\",$V162,\"\")","v":""},{"$f":"IF(DATA_INPUT!AR164<>\"\",DATA_INPUT!AR164,\"\")","v":""},{"$f":"IF(DATA_INPUT!AS164<>\"\",DATA_INPUT!AS164,\"\")","v":""},{"$f":"IF(DATA_INPUT!AT164<>\"\",DATA_INPUT!AT164,\"\")","v":""},{"$f":"IF(DATA_INPUT!AU164<>\"\",DATA_INPUT!AU164,\"\")","v":""},{"$f":"IF(DATA_INPUT!AV164<>\"\",DATA_INPUT!AV164,\"\")","v":""},{"$f":"IF(DATA_INPUT!AW164<>\"\",DATA_INPUT!AW164,\"\")","v":""},{"$f":"IF(DATA_INPUT!AX164<>\"\",DATA_INPUT!AX164+Directions!$D$24-1,\"\")","v":""},{"$f":"IF(DATA_INPUT!AY164<>\"\",DATA_INPUT!AY164,\"\")","v":""},{"$f":"IF(DATA_INPUT!G164<>\"\",2,IF(DATA_INPUT!N164>2,2,IF(DATA_INPUT!N164=2,3,4)))","v":4},{"$f":"IF(OR(DATA_INPUT!S164<>\"\",DATA_INPUT!T164<>\"\"),H162,\"\")","v":""},{"$f":"IF(DATA_INPUT!T164<>\"\",\"X\",\"\")","v":""}]
[{"$f":"IF(DATA_INPUT!F165<>\"\",DATA_INPUT!F165,\"\")","v":""},{"$f":"IF(DATA_INPUT!G165<>\"\",DATA_INPUT!G165,\"\")","v":""},{"$f":"IF(DATA_INPUT!H165<>\"\",DATA_INPUT!H165,\"\")","v":""},{"$f":"IF(DATA_INPUT!I165<>\"\",DATA_INPUT!I165,\"\")","v":""},{"$f":"IF(DATA_INPUT!J165<>\"\",DATA_INPUT!J165,\"\")","v":""},{"$f":"IF(DATA_INPUT!L165<>\"\",DATA_INPUT!L165,IF(DATA_INPUT!K165<>\"\",DATA_INPUT!K165,\"\"))","v":""},{"$f":"IF(DATA_INPUT!O165<>\"\",DATA_INPUT!O165,\"\")","v":""},{"$f":"IF(DATA_INPUT!P165<>\"\",DATA_INPUT!P165,\"\")","v":""},{"$f":"IF(DATA_INPUT!Q165<>\"\",DATA_INPUT!Q165,\"\")","v":""},{"$f":"IF(DATA_INPUT!R165<>\"\",DATA_INPUT!R165,\"\")","v":""},{"$f":"IF(DATA_INPUT!S165<>\"\",IF(DATA_INPUT!AZ165<>\"\",DATA_INPUT!AZ165,H163*I163*J163/144)*IF(G163<>\"\",3/2,1),\"\")","v":""},{"$f":"IF(DATA_INPUT!T165<>\"\",IF(DATA_INPUT!AZ165<>\"\",DATA_INPUT!AZ165,H163*I163*J163/144)*IF(G163<>\"\",3/2,1),\"\")","v":""},{"$f":"IF(DATA_INPUT!U165<>\"\",$H163,\"\")","v":""},{"$f":"IF(DATA_INPUT!V165<>\"\",$H163,\"\")","v":""},{"$f":"IF(DATA_INPUT!W165<>\"\",$H163,\"\")","v":""},{"$f":"IF(DATA_INPUT!X165<>\"\",$H163,\"\")","v":""},{"$f":"IF(DATA_INPUT!Y165<>\"\",$H163,\"\")","v":""},{"$f":"IF(DATA_INPUT!Z165<>\"\",DATA_INPUT!Z165,\"\")","v":""},{"$f":"IF(DATA_INPUT!AA165<>\"\",DATA_INPUT!AA165,\"\")","v":""},{"$f":"IF(DATA_INPUT!AB165<>\"\",DATA_INPUT!AB165,\"\")","v":""},{"$f":"IF(DATA_INPUT!AC165<>\"\",DATA_INPUT!AC165,\"\")","v":""},{"$f":"IF(DATA_INPUT!AD165<>\"\",DATA_INPUT!AD165,\"\")","v":""},{"$f":"IF(DATA_INPUT!AE165<>\"\",$V163,\"\")","v":""},{"$f":"IF(DATA_INPUT!AF165<>\"\",$V163*8,\"\")","v":""},{"$f":"IF(DATA_INPUT!AG165<>\"\",$V163*15,\"\")","v":""},{"$f":"IF(DATA_INPUT!AH165<>\"\",$V163*15,\"\")","v":""},{"$f":"IF(DATA_INPUT!AI165<>\"\",$V163,\"\")","v":""},{"$f":"IF(DATA_INPUT!AJ165<>\"\",$V163,\"\")","v":""},{"$f":"IF(DATA_INPUT!AK165<>\"\",$V163,\"\")","v":""},{"$f":"IF(DATA_INPUT!AL165<>\"\",$V163*7.6*DATA_INPUT!AL165,\"\")","v":""},{"$f":"IF(DATA_INPUT!AM165<>\"\",$V163*9*DATA_INPUT!AM165,\"\")","v":""},{"$f":"IF(DATA_INPUT!AN165<>\"\",$V163*10.8*DATA_INPUT!AN165,\"\")","v":""},{"$f":"IF(DATA_INPUT!AO165<>\"\",$V163*14.6*DATA_INPUT!AO165,\"\")","v":""},{"$f":"IF(DATA_INPUT!AP165<>\"\",$V163,\"\")","v":""},{"$f":"IF(DATA_INPUT!AQ165<>\"\",$V163,\"\")","v":""},{"$f":"IF(DATA_INPUT!AR165<>\"\",DATA_INPUT!AR165,\"\")","v":""},{"$f":"IF(DATA_INPUT!AS165<>\"\",DATA_INPUT!AS165,\"\")","v":""},{"$f":"IF(DATA_INPUT!AT165<>\"\",DATA_INPUT!AT165,\"\")","v":""},{"$f":"IF(DATA_INPUT!AU165<>\"\",DATA_INPUT!AU165,\"\")","v":""},{"$f":"IF(DATA_INPUT!AV165<>\"\",DATA_INPUT!AV165,\"\")","v":""},{"$f":"IF(DATA_INPUT!AW165<>\"\",DATA_INPUT!AW165,\"\")","v":""},{"$f":"IF(DATA_INPUT!AX165<>\"\",DATA_INPUT!AX165+Directions!$D$24-1,\"\")","v":""},{"$f":"IF(DATA_INPUT!AY165<>\"\",DATA_INPUT!AY165,\"\")","v":""},{"$f":"IF(DATA_INPUT!G165<>\"\",2,IF(DATA_INPUT!N165>2,2,IF(DATA_INPUT!N165=2,3,4)))","v":4},{"$f":"IF(OR(DATA_INPUT!S165<>\"\",DATA_INPUT!T165<>\"\"),H163,\"\")","v":""},{"$f":"IF(DATA_INPUT!T165<>\"\",\"X\",\"\")","v":""}]
[{"$f":"IF(DATA_INPUT!F166<>\"\",DATA_INPUT!F166,\"\")","v":""},{"$f":"IF(DATA_INPUT!G166<>\"\",DATA_INPUT!G166,\"\")","v":""},{"$f":"IF(DATA_INPUT!H166<>\"\",DATA_INPUT!H166,\"\")","v":""},{"$f":"IF(DATA_INPUT!I166<>\"\",DATA_INPUT!I166,\"\")","v":""},{"$f":"IF(DATA_INPUT!J166<>\"\",DATA_INPUT!J166,\"\")","v":""},{"$f":"IF(DATA_INPUT!L166<>\"\",DATA_INPUT!L166,IF(DATA_INPUT!K166<>\"\",DATA_INPUT!K166,\"\"))","v":""},{"$f":"IF(DATA_INPUT!O166<>\"\",DATA_INPUT!O166,\"\")","v":""},{"$f":"IF(DATA_INPUT!P166<>\"\",DATA_INPUT!P166,\"\")","v":""},{"$f":"IF(DATA_INPUT!Q166<>\"\",DATA_INPUT!Q166,\"\")","v":""},{"$f":"IF(DATA_INPUT!R166<>\"\",DATA_INPUT!R166,\"\")","v":""},{"$f":"IF(DATA_INPUT!S166<>\"\",IF(DATA_INPUT!AZ166<>\"\",DATA_INPUT!AZ166,H164*I164*J164/144)*IF(G164<>\"\",3/2,1),\"\")","v":""},{"$f":"IF(DATA_INPUT!T166<>\"\",IF(DATA_INPUT!AZ166<>\"\",DATA_INPUT!AZ166,H164*I164*J164/144)*IF(G164<>\"\",3/2,1),\"\")","v":""},{"$f":"IF(DATA_INPUT!U166<>\"\",$H164,\"\")","v":""},{"$f":"IF(DATA_INPUT!V166<>\"\",$H164,\"\")","v":""},{"$f":"IF(DATA_INPUT!W166<>\"\",$H164,\"\")","v":""},{"$f":"IF(DATA_INPUT!X166<>\"\",$H164,\"\")","v":""},{"$f":"IF(DATA_INPUT!Y166<>\"\",$H164,\"\")","v":""},{"$f":"IF(DATA_INPUT!Z166<>\"\",DATA_INPUT!Z166,\"\")","v":""},{"$f":"IF(DATA_INPUT!AA166<>\"\",DATA_INPUT!AA166,\"\")","v":""},{"$f":"IF(DATA_INPUT!AB166<>\"\",DATA_INPUT!AB166,\"\")","v":""},{"$f":"IF(DATA_INPUT!AC166<>\"\",DATA_INPUT!AC166,\"\")","v":""},{"$f":"IF(DATA_INPUT!AD166<>\"\",DATA_INPUT!AD166,\"\")","v":""},{"$f":"IF(DATA_INPUT!AE166<>\"\",$V164,\"\")","v":""},{"$f":"IF(DATA_INPUT!AF166<>\"\",$V164*8,\"\")","v":""},{"$f":"IF(DATA_INPUT!AG166<>\"\",$V164*15,\"\")","v":""},{"$f":"IF(DATA_INPUT!AH166<>\"\",$V164*15,\"\")","v":""},{"$f":"IF(DATA_INPUT!AI166<>\"\",$V164,\"\")","v":""},{"$f":"IF(DATA_INPUT!AJ166<>\"\",$V164,\"\")","v":""},{"$f":"IF(DATA_INPUT!AK166<>\"\",$V164,\"\")","v":""},{"$f":"IF(DATA_INPUT!AL166<>\"\",$V164*7.6*DATA_INPUT!AL166,\"\")","v":""},{"$f":"IF(DATA_INPUT!AM166<>\"\",$V164*9*DATA_INPUT!AM166,\"\")","v":""},{"$f":"IF(DATA_INPUT!AN166<>\"\",$V164*10.8*DATA_INPUT!AN166,\"\")","v":""},{"$f":"IF(DATA_INPUT!AO166<>\"\",$V164*14.6*DATA_INPUT!AO166,\"\")","v":""},{"$f":"IF(DATA_INPUT!AP166<>\"\",$V164,\"\")","v":""},{"$f":"IF(DATA_INPUT!AQ166<>\"\",$V164,\"\")","v":""},{"$f":"IF(DATA_INPUT!AR166<>\"\",DATA_INPUT!AR166,\"\")","v":""},{"$f":"IF(DATA_INPUT!AS166<>\"\",DATA_INPUT!AS166,\"\")","v":""},{"$f":"IF(DATA_INPUT!AT166<>\"\",DATA_INPUT!AT166,\"\")","v":""},{"$f":"IF(DATA_INPUT!AU166<>\"\",DATA_INPUT!AU166,\"\")","v":""},{"$f":"IF(DATA_INPUT!AV166<>\"\",DATA_INPUT!AV166,\"\")","v":""},{"$f":"IF(DATA_INPUT!AW166<>\"\",DATA_INPUT!AW166,\"\")","v":""},{"$f":"IF(DATA_INPUT!AX166<>\"\",DATA_INPUT!AX166+Directions!$D$24-1,\"\")","v":""},{"$f":"IF(DATA_INPUT!AY166<>\"\",DATA_INPUT!AY166,\"\")","v":""},{"$f":"IF(DATA_INPUT!G166<>\"\",2,IF(DATA_INPUT!N166>2,2,IF(DATA_INPUT!N166=2,3,4)))","v":4},{"$f":"IF(OR(DATA_INPUT!S166<>\"\",DATA_INPUT!T166<>\"\"),H164,\"\")","v":""},{"$f":"IF(DATA_INPUT!T166<>\"\",\"X\",\"\")","v":""}]
[{"$f":"IF(DATA_INPUT!F167<>\"\",DATA_INPUT!F167,\"\")","v":""},{"$f":"IF(DATA_INPUT!G167<>\"\",DATA_INPUT!G167,\"\")","v":""},{"$f":"IF(DATA_INPUT!H167<>\"\",DATA_INPUT!H167,\"\")","v":""},{"$f":"IF(DATA_INPUT!I167<>\"\",DATA_INPUT!I167,\"\")","v":""},{"$f":"IF(DATA_INPUT!J167<>\"\",DATA_INPUT!J167,\"\")","v":""},{"$f":"IF(DATA_INPUT!L167<>\"\",DATA_INPUT!L167,IF(DATA_INPUT!K167<>\"\",DATA_INPUT!K167,\"\"))","v":""},{"$f":"IF(DATA_INPUT!O167<>\"\",DATA_INPUT!O167,\"\")","v":""},{"$f":"IF(DATA_INPUT!P167<>\"\",DATA_INPUT!P167,\"\")","v":""},{"$f":"IF(DATA_INPUT!Q167<>\"\",DATA_INPUT!Q167,\"\")","v":""},{"$f":"IF(DATA_INPUT!R167<>\"\",DATA_INPUT!R167,\"\")","v":""},{"$f":"IF(DATA_INPUT!S167<>\"\",IF(DATA_INPUT!AZ167<>\"\",DATA_INPUT!AZ167,H165*I165*J165/144)*IF(G165<>\"\",3/2,1),\"\")","v":""},{"$f":"IF(DATA_INPUT!T167<>\"\",IF(DATA_INPUT!AZ167<>\"\",DATA_INPUT!AZ167,H165*I165*J165/144)*IF(G165<>\"\",3/2,1),\"\")","v":""},{"$f":"IF(DATA_INPUT!U167<>\"\",$H165,\"\")","v":""},{"$f":"IF(DATA_INPUT!V167<>\"\",$H165,\"\")","v":""},{"$f":"IF(DATA_INPUT!W167<>\"\",$H165,\"\")","v":""},{"$f":"IF(DATA_INPUT!X167<>\"\",$H165,\"\")","v":""},{"$f":"IF(DATA_INPUT!Y167<>\"\",$H165,\"\")","v":""},{"$f":"IF(DATA_INPUT!Z167<>\"\",DATA_INPUT!Z167,\"\")","v":""},{"$f":"IF(DATA_INPUT!AA167<>\"\",DATA_INPUT!AA167,\"\")","v":""},{"$f":"IF(DATA_INPUT!AB167<>\"\",DATA_INPUT!AB167,\"\")","v":""},{"$f":"IF(DATA_INPUT!AC167<>\"\",DATA_INPUT!AC167,\"\")","v":""},{"$f":"IF(DATA_INPUT!AD167<>\"\",DATA_INPUT!AD167,\"\")","v":""},{"$f":"IF(DATA_INPUT!AE167<>\"\",$V165,\"\")","v":""},{"$f":"IF(DATA_INPUT!AF167<>\"\",$V165*8,\"\")","v":""},{"$f":"IF(DATA_INPUT!AG167<>\"\",$V165*15,\"\")","v":""},{"$f":"IF(DATA_INPUT!AH167<>\"\",$V165*15,\"\")","v":""},{"$f":"IF(DATA_INPUT!AI167<>\"\",$V165,\"\")","v":""},{"$f":"IF(DATA_INPUT!AJ167<>\"\",$V165,\"\")","v":""},{"$f":"IF(DATA_INPUT!AK167<>\"\",$V165,\"\")","v":""},{"$f":"IF(DATA_INPUT!AL167<>\"\",$V165*7.6*DATA_INPUT!AL167,\"\")","v":""},{"$f":"IF(DATA_INPUT!AM167<>\"\",$V165*9*DATA_INPUT!AM167,\"\")","v":""},{"$f":"IF(DATA_INPUT!AN167<>\"\",$V165*10.8*DATA_INPUT!AN167,\"\")","v":""},{"$f":"IF(DATA_INPUT!AO167<>\"\",$V165*14.6*DATA_INPUT!AO167,\"\")","v":""},{"$f":"IF(DATA_INPUT!AP167<>\"\",$V165,\"\")","v":""},{"$f":"IF(DATA_INPUT!AQ167<>\"\",$V165,\"\")","v":""},{"$f":"IF(DATA_INPUT!AR167<>\"\",DATA_INPUT!AR167,\"\")","v":""},{"$f":"IF(DATA_INPUT!AS167<>\"\",DATA_INPUT!AS167,\"\")","v":""},{"$f":"IF(DATA_INPUT!AT167<>\"\",DATA_INPUT!AT167,\"\")","v":""},{"$f":"IF(DATA_INPUT!AU167<>\"\",DATA_INPUT!AU167,\"\")","v":""},{"$f":"IF(DATA_INPUT!AV167<>\"\",DATA_INPUT!AV167,\"\")","v":""},{"$f":"IF(DATA_INPUT!AW167<>\"\",DATA_INPUT!AW167,\"\")","v":""},{"$f":"IF(DATA_INPUT!AX167<>\"\",DATA_INPUT!AX167+Directions!$D$24-1,\"\")","v":""},{"$f":"IF(DATA_INPUT!AY167<>\"\",DATA_INPUT!AY167,\"\")","v":""},{"$f":"IF(DATA_INPUT!G167<>\"\",2,IF(DATA_INPUT!N167>2,2,IF(DATA_INPUT!N167=2,3,4)))","v":4},{"$f":"IF(OR(DATA_INPUT!S167<>\"\",DATA_INPUT!T167<>\"\"),H165,\"\")","v":""},{"$f":"IF(DATA_INPUT!T167<>\"\",\"X\",\"\")","v":""}]
[{"$f":"IF(DATA_INPUT!F168<>\"\",DATA_INPUT!F168,\"\")","v":""},{"$f":"IF(DATA_INPUT!G168<>\"\",DATA_INPUT!G168,\"\")","v":""},{"$f":"IF(DATA_INPUT!H168<>\"\",DATA_INPUT!H168,\"\")","v":""},{"$f":"IF(DATA_INPUT!I168<>\"\",DATA_INPUT!I168,\"\")","v":""},{"$f":"IF(DATA_INPUT!J168<>\"\",DATA_INPUT!J168,\"\")","v":""},{"$f":"IF(DATA_INPUT!L168<>\"\",DATA_INPUT!L168,IF(DATA_INPUT!K168<>\"\",DATA_INPUT!K168,\"\"))","v":""},{"$f":"IF(DATA_INPUT!O168<>\"\",DATA_INPUT!O168,\"\")","v":""},{"$f":"IF(DATA_INPUT!P168<>\"\",DATA_INPUT!P168,\"\")","v":""},{"$f":"IF(DATA_INPUT!Q168<>\"\",DATA_INPUT!Q168,\"\")","v":""},{"$f":"IF(DATA_INPUT!R168<>\"\",DATA_INPUT!R168,\"\")","v":""},{"$f":"IF(DATA_INPUT!S168<>\"\",IF(DATA_INPUT!AZ168<>\"\",DATA_INPUT!AZ168,H166*I166*J166/144)*IF(G166<>\"\",3/2,1),\"\")","v":""},{"$f":"IF(DATA_INPUT!T168<>\"\",IF(DATA_INPUT!AZ168<>\"\",DATA_INPUT!AZ168,H166*I166*J166/144)*IF(G166<>\"\",3/2,1),\"\")","v":""},{"$f":"IF(DATA_INPUT!U168<>\"\",$H166,\"\")","v":""},{"$f":"IF(DATA_INPUT!V168<>\"\",$H166,\"\")","v":""},{"$f":"IF(DATA_INPUT!W168<>\"\",$H166,\"\")","v":""},{"$f":"IF(DATA_INPUT!X168<>\"\",$H166,\"\")","v":""},{"$f":"IF(DATA_INPUT!Y168<>\"\",$H166,\"\")","v":""},{"$f":"IF(DATA_INPUT!Z168<>\"\",DATA_INPUT!Z168,\"\")","v":""},{"$f":"IF(DATA_INPUT!AA168<>\"\",DATA_INPUT!AA168,\"\")","v":""},{"$f":"IF(DATA_INPUT!AB168<>\"\",DATA_INPUT!AB168,\"\")","v":""},{"$f":"IF(DATA_INPUT!AC168<>\"\",DATA_INPUT!AC168,\"\")","v":""},{"$f":"IF(DATA_INPUT!AD168<>\"\",DATA_INPUT!AD168,\"\")","v":""},{"$f":"IF(DATA_INPUT!AE168<>\"\",$V166,\"\")","v":""},{"$f":"IF(DATA_INPUT!AF168<>\"\",$V166*8,\"\")","v":""},{"$f":"IF(DATA_INPUT!AG168<>\"\",$V166*15,\"\")","v":""},{"$f":"IF(DATA_INPUT!AH168<>\"\",$V166*15,\"\")","v":""},{"$f":"IF(DATA_INPUT!AI168<>\"\",$V166,\"\")","v":""},{"$f":"IF(DATA_INPUT!AJ168<>\"\",$V166,\"\")","v":""},{"$f":"IF(DATA_INPUT!AK168<>\"\",$V166,\"\")","v":""},{"$f":"IF(DATA_INPUT!AL168<>\"\",$V166*7.6*DATA_INPUT!AL168,\"\")","v":""},{"$f":"IF(DATA_INPUT!AM168<>\"\",$V166*9*DATA_INPUT!AM168,\"\")","v":""},{"$f":"IF(DATA_INPUT!AN168<>\"\",$V166*10.8*DATA_INPUT!AN168,\"\")","v":""},{"$f":"IF(DATA_INPUT!AO168<>\"\",$V166*14.6*DATA_INPUT!AO168,\"\")","v":""},{"$f":"IF(DATA_INPUT!AP168<>\"\",$V166,\"\")","v":""},{"$f":"IF(DATA_INPUT!AQ168<>\"\",$V166,\"\")","v":""},{"$f":"IF(DATA_INPUT!AR168<>\"\",DATA_INPUT!AR168,\"\")","v":""},{"$f":"IF(DATA_INPUT!AS168<>\"\",DATA_INPUT!AS168,\"\")","v":""},{"$f":"IF(DATA_INPUT!AT168<>\"\",DATA_INPUT!AT168,\"\")","v":""},{"$f":"IF(DATA_INPUT!AU168<>\"\",DATA_INPUT!AU168,\"\")","v":""},{"$f":"IF(DATA_INPUT!AV168<>\"\",DATA_INPUT!AV168,\"\")","v":""},{"$f":"IF(DATA_INPUT!AW168<>\"\",DATA_INPUT!AW168,\"\")","v":""},{"$f":"IF(DATA_INPUT!AX168<>\"\",DATA_INPUT!AX168+Directions!$D$24-1,\"\")","v":""},{"$f":"IF(DATA_INPUT!AY168<>\"\",DATA_INPUT!AY168,\"\")","v":""},{"$f":"IF(DATA_INPUT!G168<>\"\",2,IF(DATA_INPUT!N168>2,2,IF(DATA_INPUT!N168=2,3,4)))","v":4},{"$f":"IF(OR(DATA_INPUT!S168<>\"\",DATA_INPUT!T168<>\"\"),H166,\"\")","v":""},{"$f":"IF(DATA_INPUT!T168<>\"\",\"X\",\"\")","v":""}]
[{"$f":"IF(DATA_INPUT!F169<>\"\",DATA_INPUT!F169,\"\")","v":""},{"$f":"IF(DATA_INPUT!G169<>\"\",DATA_INPUT!G169,\"\")","v":""},{"$f":"IF(DATA_INPUT!H169<>\"\",DATA_INPUT!H169,\"\")","v":""},{"$f":"IF(DATA_INPUT!I169<>\"\",DATA_INPUT!I169,\"\")","v":""},{"$f":"IF(DATA_INPUT!J169<>\"\",DATA_INPUT!J169,\"\")","v":""},{"$f":"IF(DATA_INPUT!L169<>\"\",DATA_INPUT!L169,IF(DATA_INPUT!K169<>\"\",DATA_INPUT!K169,\"\"))","v":""},{"$f":"IF(DATA_INPUT!O169<>\"\",DATA_INPUT!O169,\"\")","v":""},{"$f":"IF(DATA_INPUT!P169<>\"\",DATA_INPUT!P169,\"\")","v":""},{"$f":"IF(DATA_INPUT!Q169<>\"\",DATA_INPUT!Q169,\"\")","v":""},{"$f":"IF(DATA_INPUT!R169<>\"\",DATA_INPUT!R169,\"\")","v":""},{"$f":"IF(DATA_INPUT!S169<>\"\",IF(DATA_INPUT!AZ169<>\"\",DATA_INPUT!AZ169,H167*I167*J167/144)*IF(G167<>\"\",3/2,1),\"\")","v":""},{"$f":"IF(DATA_INPUT!T169<>\"\",IF(DATA_INPUT!AZ169<>\"\",DATA_INPUT!AZ169,H167*I167*J167/144)*IF(G167<>\"\",3/2,1),\"\")","v":""},{"$f":"IF(DATA_INPUT!U169<>\"\",$H167,\"\")","v":""},{"$f":"IF(DATA_INPUT!V169<>\"\",$H167,\"\")","v":""},{"$f":"IF(DATA_INPUT!W169<>\"\",$H167,\"\")","v":""},{"$f":"IF(DATA_INPUT!X169<>\"\",$H167,\"\")","v":""},{"$f":"IF(DATA_INPUT!Y169<>\"\",$H167,\"\")","v":""},{"$f":"IF(DATA_INPUT!Z169<>\"\",DATA_INPUT!Z169,\"\")","v":""},{"$f":"IF(DATA_INPUT!AA169<>\"\",DATA_INPUT!AA169,\"\")","v":""},{"$f":"IF(DATA_INPUT!AB169<>\"\",DATA_INPUT!AB169,\"\")","v":""},{"$f":"IF(DATA_INPUT!AC169<>\"\",DATA_INPUT!AC169,\"\")","v":""},{"$f":"IF(DATA_INPUT!AD169<>\"\",DATA_INPUT!AD169,\"\")","v":""},{"$f":"IF(DATA_INPUT!AE169<>\"\",$V167,\"\")","v":""},{"$f":"IF(DATA_INPUT!AF169<>\"\",$V167*8,\"\")","v":""},{"$f":"IF(DATA_INPUT!AG169<>\"\",$V167*15,\"\")","v":""},{"$f":"IF(DATA_INPUT!AH169<>\"\",$V167*15,\"\")","v":""},{"$f":"IF(DATA_INPUT!AI169<>\"\",$V167,\"\")","v":""},{"$f":"IF(DATA_INPUT!AJ169<>\"\",$V167,\"\")","v":""},{"$f":"IF(DATA_INPUT!AK169<>\"\",$V167,\"\")","v":""},{"$f":"IF(DATA_INPUT!AL169<>\"\",$V167*7.6*DATA_INPUT!AL169,\"\")","v":""},{"$f":"IF(DATA_INPUT!AM169<>\"\",$V167*9*DATA_INPUT!AM169,\"\")","v":""},{"$f":"IF(DATA_INPUT!AN169<>\"\",$V167*10.8*DATA_INPUT!AN169,\"\")","v":""},{"$f":"IF(DATA_INPUT!AO169<>\"\",$V167*14.6*DATA_INPUT!AO169,\"\")","v":""},{"$f":"IF(DATA_INPUT!AP169<>\"\",$V167,\"\")","v":""},{"$f":"IF(DATA_INPUT!AQ169<>\"\",$V167,\"\")","v":""},{"$f":"IF(DATA_INPUT!AR169<>\"\",DATA_INPUT!AR169,\"\")","v":""},{"$f":"IF(DATA_INPUT!AS169<>\"\",DATA_INPUT!AS169,\"\")","v":""},{"$f":"IF(DATA_INPUT!AT169<>\"\",DATA_INPUT!AT169,\"\")","v":""},{"$f":"IF(DATA_INPUT!AU169<>\"\",DATA_INPUT!AU169,\"\")","v":""},{"$f":"IF(DATA_INPUT!AV169<>\"\",DATA_INPUT!AV169,\"\")","v":""},{"$f":"IF(DATA_INPUT!AW169<>\"\",DATA_INPUT!AW169,\"\")","v":""},{"$f":"IF(DATA_INPUT!AX169<>\"\",DATA_INPUT!AX169+Directions!$D$24-1,\"\")","v":""},{"$f":"IF(DATA_INPUT!AY169<>\"\",DATA_INPUT!AY169,\"\")","v":""},{"$f":"IF(DATA_INPUT!G169<>\"\",2,IF(DATA_INPUT!N169>2,2,IF(DATA_INPUT!N169=2,3,4)))","v":4},{"$f":"IF(OR(DATA_INPUT!S169<>\"\",DATA_INPUT!T169<>\"\"),H167,\"\")","v":""},{"$f":"IF(DATA_INPUT!T169<>\"\",\"X\",\"\")","v":""}]
[{"$f":"IF(DATA_INPUT!F170<>\"\",DATA_INPUT!F170,\"\")","v":""},{"$f":"IF(DATA_INPUT!G170<>\"\",DATA_INPUT!G170,\"\")","v":""},{"$f":"IF(DATA_INPUT!H170<>\"\",DATA_INPUT!H170,\"\")","v":""},{"$f":"IF(DATA_INPUT!I170<>\"\",DATA_INPUT!I170,\"\")","v":""},{"$f":"IF(DATA_INPUT!J170<>\"\",DATA_INPUT!J170,\"\")","v":""},{"$f":"IF(DATA_INPUT!L170<>\"\",DATA_INPUT!L170,IF(DATA_INPUT!K170<>\"\",DATA_INPUT!K170,\"\"))","v":""},{"$f":"IF(DATA_INPUT!O170<>\"\",DATA_INPUT!O170,\"\")","v":""},{"$f":"IF(DATA_INPUT!P170<>\"\",DATA_INPUT!P170,\"\")","v":""},{"$f":"IF(DATA_INPUT!Q170<>\"\",DATA_INPUT!Q170,\"\")","v":""},{"$f":"IF(DATA_INPUT!R170<>\"\",DATA_INPUT!R170,\"\")","v":""},{"$f":"IF(DATA_INPUT!S170<>\"\",IF(DATA_INPUT!AZ170<>\"\",DATA_INPUT!AZ170,H168*I168*J168/144)*IF(G168<>\"\",3/2,1),\"\")","v":""},{"$f":"IF(DATA_INPUT!T170<>\"\",IF(DATA_INPUT!AZ170<>\"\",DATA_INPUT!AZ170,H168*I168*J168/144)*IF(G168<>\"\",3/2,1),\"\")","v":""},{"$f":"IF(DATA_INPUT!U170<>\"\",$H168,\"\")","v":""},{"$f":"IF(DATA_INPUT!V170<>\"\",$H168,\"\")","v":""},{"$f":"IF(DATA_INPUT!W170<>\"\",$H168,\"\")","v":""},{"$f":"IF(DATA_INPUT!X170<>\"\",$H168,\"\")","v":""},{"$f":"IF(DATA_INPUT!Y170<>\"\",$H168,\"\")","v":""},{"$f":"IF(DATA_INPUT!Z170<>\"\",DATA_INPUT!Z170,\"\")","v":""},{"$f":"IF(DATA_INPUT!AA170<>\"\",DATA_INPUT!AA170,\"\")","v":""},{"$f":"IF(DATA_INPUT!AB170<>\"\",DATA_INPUT!AB170,\"\")","v":""},{"$f":"IF(DATA_INPUT!AC170<>\"\",DATA_INPUT!AC170,\"\")","v":""},{"$f":"IF(DATA_INPUT!AD170<>\"\",DATA_INPUT!AD170,\"\")","v":""},{"$f":"IF(DATA_INPUT!AE170<>\"\",$V168,\"\")","v":""},{"$f":"IF(DATA_INPUT!AF170<>\"\",$V168*8,\"\")","v":""},{"$f":"IF(DATA_INPUT!AG170<>\"\",$V168*15,\"\")","v":""},{"$f":"IF(DATA_INPUT!AH170<>\"\",$V168*15,\"\")","v":""},{"$f":"IF(DATA_INPUT!AI170<>\"\",$V168,\"\")","v":""},{"$f":"IF(DATA_INPUT!AJ170<>\"\",$V168,\"\")","v":""},{"$f":"IF(DATA_INPUT!AK170<>\"\",$V168,\"\")","v":""},{"$f":"IF(DATA_INPUT!AL170<>\"\",$V168*7.6*DATA_INPUT!AL170,\"\")","v":""},{"$f":"IF(DATA_INPUT!AM170<>\"\",$V168*9*DATA_INPUT!AM170,\"\")","v":""},{"$f":"IF(DATA_INPUT!AN170<>\"\",$V168*10.8*DATA_INPUT!AN170,\"\")","v":""},{"$f":"IF(DATA_INPUT!AO170<>\"\",$V168*14.6*DATA_INPUT!AO170,\"\")","v":""},{"$f":"IF(DATA_INPUT!AP170<>\"\",$V168,\"\")","v":""},{"$f":"IF(DATA_INPUT!AQ170<>\"\",$V168,\"\")","v":""},{"$f":"IF(DATA_INPUT!AR170<>\"\",DATA_INPUT!AR170,\"\")","v":""},{"$f":"IF(DATA_INPUT!AS170<>\"\",DATA_INPUT!AS170,\"\")","v":""},{"$f":"IF(DATA_INPUT!AT170<>\"\",DATA_INPUT!AT170,\"\")","v":""},{"$f":"IF(DATA_INPUT!AU170<>\"\",DATA_INPUT!AU170,\"\")","v":""},{"$f":"IF(DATA_INPUT!AV170<>\"\",DATA_INPUT!AV170,\"\")","v":""},{"$f":"IF(DATA_INPUT!AW170<>\"\",DATA_INPUT!AW170,\"\")","v":""},{"$f":"IF(DATA_INPUT!AX170<>\"\",DATA_INPUT!AX170+Directions!$D$24-1,\"\")","v":""},{"$f":"IF(DATA_INPUT!AY170<>\"\",DATA_INPUT!AY170,\"\")","v":""},{"$f":"IF(DATA_INPUT!G170<>\"\",2,IF(DATA_INPUT!N170>2,2,IF(DATA_INPUT!N170=2,3,4)))","v":4},{"$f":"IF(OR(DATA_INPUT!S170<>\"\",DATA_INPUT!T170<>\"\"),H168,\"\")","v":""},{"$f":"IF(DATA_INPUT!T170<>\"\",\"X\",\"\")","v":""}]
[{"$f":"IF(DATA_INPUT!F171<>\"\",DATA_INPUT!F171,\"\")","v":""},{"$f":"IF(DATA_INPUT!G171<>\"\",DATA_INPUT!G171,\"\")","v":""},{"$f":"IF(DATA_INPUT!H171<>\"\",DATA_INPUT!H171,\"\")","v":""},{"$f":"IF(DATA_INPUT!I171<>\"\",DATA_INPUT!I171,\"\")","v":""},{"$f":"IF(DATA_INPUT!J171<>\"\",DATA_INPUT!J171,\"\")","v":""},{"$f":"IF(DATA_INPUT!L171<>\"\",DATA_INPUT!L171,IF(DATA_INPUT!K171<>\"\",DATA_INPUT!K171,\"\"))","v":""},{"$f":"IF(DATA_INPUT!O171<>\"\",DATA_INPUT!O171,\"\")","v":""},{"$f":"IF(DATA_INPUT!P171<>\"\",DATA_INPUT!P171,\"\")","v":""},{"$f":"IF(DATA_INPUT!Q171<>\"\",DATA_INPUT!Q171,\"\")","v":""},{"$f":"IF(DATA_INPUT!R171<>\"\",DATA_INPUT!R171,\"\")","v":""},{"$f":"IF(DATA_INPUT!S171<>\"\",IF(DATA_INPUT!AZ171<>\"\",DATA_INPUT!AZ171,H169*I169*J169/144)*IF(G169<>\"\",3/2,1),\"\")","v":""},{"$f":"IF(DATA_INPUT!T171<>\"\",IF(DATA_INPUT!AZ171<>\"\",DATA_INPUT!AZ171,H169*I169*J169/144)*IF(G169<>\"\",3/2,1),\"\")","v":""},{"$f":"IF(DATA_INPUT!U171<>\"\",$H169,\"\")","v":""},{"$f":"IF(DATA_INPUT!V171<>\"\",$H169,\"\")","v":""},{"$f":"IF(DATA_INPUT!W171<>\"\",$H169,\"\")","v":""},{"$f":"IF(DATA_INPUT!X171<>\"\",$H169,\"\")","v":""},{"$f":"IF(DATA_INPUT!Y171<>\"\",$H169,\"\")","v":""},{"$f":"IF(DATA_INPUT!Z171<>\"\",DATA_INPUT!Z171,\"\")","v":""},{"$f":"IF(DATA_INPUT!AA171<>\"\",DATA_INPUT!AA171,\"\")","v":""},{"$f":"IF(DATA_INPUT!AB171<>\"\",DATA_INPUT!AB171,\"\")","v":""},{"$f":"IF(DATA_INPUT!AC171<>\"\",DATA_INPUT!AC171,\"\")","v":""},{"$f":"IF(DATA_INPUT!AD171<>\"\",DATA_INPUT!AD171,\"\")","v":""},{"$f":"IF(DATA_INPUT!AE171<>\"\",$V169,\"\")","v":""},{"$f":"IF(DATA_INPUT!AF171<>\"\",$V169*8,\"\")","v":""},{"$f":"IF(DATA_INPUT!AG171<>\"\",$V169*15,\"\")","v":""},{"$f":"IF(DATA_INPUT!AH171<>\"\",$V169*15,\"\")","v":""},{"$f":"IF(DATA_INPUT!AI171<>\"\",$V169,\"\")","v":""},{"$f":"IF(DATA_INPUT!AJ171<>\"\",$V169,\"\")","v":""},{"$f":"IF(DATA_INPUT!AK171<>\"\",$V169,\"\")","v":""},{"$f":"IF(DATA_INPUT!AL171<>\"\",$V169*7.6*DATA_INPUT!AL171,\"\")","v":""},{"$f":"IF(DATA_INPUT!AM171<>\"\",$V169*9*DATA_INPUT!AM171,\"\")","v":""},{"$f":"IF(DATA_INPUT!AN171<>\"\",$V169*10.8*DATA_INPUT!AN171,\"\")","v":""},{"$f":"IF(DATA_INPUT!AO171<>\"\",$V169*14.6*DATA_INPUT!AO171,\"\")","v":""},{"$f":"IF(DATA_INPUT!AP171<>\"\",$V169,\"\")","v":""},{"$f":"IF(DATA_INPUT!AQ171<>\"\",$V169,\"\")","v":""},{"$f":"IF(DATA_INPUT!AR171<>\"\",DATA_INPUT!AR171,\"\")","v":""},{"$f":"IF(DATA_INPUT!AS171<>\"\",DATA_INPUT!AS171,\"\")","v":""},{"$f":"IF(DATA_INPUT!AT171<>\"\",DATA_INPUT!AT171,\"\")","v":""},{"$f":"IF(DATA_INPUT!AU171<>\"\",DATA_INPUT!AU171,\"\")","v":""},{"$f":"IF(DATA_INPUT!AV171<>\"\",DATA_INPUT!AV171,\"\")","v":""},{"$f":"IF(DATA_INPUT!AW171<>\"\",DATA_INPUT!AW171,\"\")","v":""},{"$f":"IF(DATA_INPUT!AX171<>\"\",DATA_INPUT!AX171+Directions!$D$24-1,\"\")","v":""},{"$f":"IF(DATA_INPUT!AY171<>\"\",DATA_INPUT!AY171,\"\")","v":""},{"$f":"IF(DATA_INPUT!G171<>\"\",2,IF(DATA_INPUT!N171>2,2,IF(DATA_INPUT!N171=2,3,4)))","v":4},{"$f":"IF(OR(DATA_INPUT!S171<>\"\",DATA_INPUT!T171<>\"\"),H169,\"\")","v":""},{"$f":"IF(DATA_INPUT!T171<>\"\",\"X\",\"\")","v":""}]
[{"$f":"IF(DATA_INPUT!F172<>\"\",DATA_INPUT!F172,\"\")","v":""},{"$f":"IF(DATA_INPUT!G172<>\"\",DATA_INPUT!G172,\"\")","v":""},{"$f":"IF(DATA_INPUT!H172<>\"\",DATA_INPUT!H172,\"\")","v":""},{"$f":"IF(DATA_INPUT!I172<>\"\",DATA_INPUT!I172,\"\")","v":""},{"$f":"IF(DATA_INPUT!J172<>\"\",DATA_INPUT!J172,\"\")","v":""},{"$f":"IF(DATA_INPUT!L172<>\"\",DATA_INPUT!L172,IF(DATA_INPUT!K172<>\"\",DATA_INPUT!K172,\"\"))","v":""},{"$f":"IF(DATA_INPUT!O172<>\"\",DATA_INPUT!O172,\"\")","v":""},{"$f":"IF(DATA_INPUT!P172<>\"\",DATA_INPUT!P172,\"\")","v":""},{"$f":"IF(DATA_INPUT!Q172<>\"\",DATA_INPUT!Q172,\"\")","v":""},{"$f":"IF(DATA_INPUT!R172<>\"\",DATA_INPUT!R172,\"\")","v":""},{"$f":"IF(DATA_INPUT!S172<>\"\",IF(DATA_INPUT!AZ172<>\"\",DATA_INPUT!AZ172,H170*I170*J170/144)*IF(G170<>\"\",3/2,1),\"\")","v":""},{"$f":"IF(DATA_INPUT!T172<>\"\",IF(DATA_INPUT!AZ172<>\"\",DATA_INPUT!AZ172,H170*I170*J170/144)*IF(G170<>\"\",3/2,1),\"\")","v":""},{"$f":"IF(DATA_INPUT!U172<>\"\",$H170,\"\")","v":""},{"$f":"IF(DATA_INPUT!V172<>\"\",$H170,\"\")","v":""},{"$f":"IF(DATA_INPUT!W172<>\"\",$H170,\"\")","v":""},{"$f":"IF(DATA_INPUT!X172<>\"\",$H170,\"\")","v":""},{"$f":"IF(DATA_INPUT!Y172<>\"\",$H170,\"\")","v":""},{"$f":"IF(DATA_INPUT!Z172<>\"\",DATA_INPUT!Z172,\"\")","v":""},{"$f":"IF(DATA_INPUT!AA172<>\"\",DATA_INPUT!AA172,\"\")","v":""},{"$f":"IF(DATA_INPUT!AB172<>\"\",DATA_INPUT!AB172,\"\")","v":""},{"$f":"IF(DATA_INPUT!AC172<>\"\",DATA_INPUT!AC172,\"\")","v":""},{"$f":"IF(DATA_INPUT!AD172<>\"\",DATA_INPUT!AD172,\"\")","v":""},{"$f":"IF(DATA_INPUT!AE172<>\"\",$V170,\"\")","v":""},{"$f":"IF(DATA_INPUT!AF172<>\"\",$V170*8,\"\")","v":""},{"$f":"IF(DATA_INPUT!AG172<>\"\",$V170*15,\"\")","v":""},{"$f":"IF(DATA_INPUT!AH172<>\"\",$V170*15,\"\")","v":""},{"$f":"IF(DATA_INPUT!AI172<>\"\",$V170,\"\")","v":""},{"$f":"IF(DATA_INPUT!AJ172<>\"\",$V170,\"\")","v":""},{"$f":"IF(DATA_INPUT!AK172<>\"\",$V170,\"\")","v":""},{"$f":"IF(DATA_INPUT!AL172<>\"\",$V170*7.6*DATA_INPUT!AL172,\"\")","v":""},{"$f":"IF(DATA_INPUT!AM172<>\"\",$V170*9*DATA_INPUT!AM172,\"\")","v":""},{"$f":"IF(DATA_INPUT!AN172<>\"\",$V170*10.8*DATA_INPUT!AN172,\"\")","v":""},{"$f":"IF(DATA_INPUT!AO172<>\"\",$V170*14.6*DATA_INPUT!AO172,\"\")","v":""},{"$f":"IF(DATA_INPUT!AP172<>\"\",$V170,\"\")","v":""},{"$f":"IF(DATA_INPUT!AQ172<>\"\",$V170,\"\")","v":""},{"$f":"IF(DATA_INPUT!AR172<>\"\",DATA_INPUT!AR172,\"\")","v":""},{"$f":"IF(DATA_INPUT!AS172<>\"\",DATA_INPUT!AS172,\"\")","v":""},{"$f":"IF(DATA_INPUT!AT172<>\"\",DATA_INPUT!AT172,\"\")","v":""},{"$f":"IF(DATA_INPUT!AU172<>\"\",DATA_INPUT!AU172,\"\")","v":""},{"$f":"IF(DATA_INPUT!AV172<>\"\",DATA_INPUT!AV172,\"\")","v":""},{"$f":"IF(DATA_INPUT!AW172<>\"\",DATA_INPUT!AW172,\"\")","v":""},{"$f":"IF(DATA_INPUT!AX172<>\"\",DATA_INPUT!AX172+Directions!$D$24-1,\"\")","v":""},{"$f":"IF(DATA_INPUT!AY172<>\"\",DATA_INPUT!AY172,\"\")","v":""},{"$f":"IF(DATA_INPUT!G172<>\"\",2,IF(DATA_INPUT!N172>2,2,IF(DATA_INPUT!N172=2,3,4)))","v":4},{"$f":"IF(OR(DATA_INPUT!S172<>\"\",DATA_INPUT!T172<>\"\"),H170,\"\")","v":""},{"$f":"IF(DATA_INPUT!T172<>\"\",\"X\",\"\")","v":""}]
[{"$f":"IF(DATA_INPUT!F173<>\"\",DATA_INPUT!F173,\"\")","v":""},{"$f":"IF(DATA_INPUT!G173<>\"\",DATA_INPUT!G173,\"\")","v":""},{"$f":"IF(DATA_INPUT!H173<>\"\",DATA_INPUT!H173,\"\")","v":""},{"$f":"IF(DATA_INPUT!I173<>\"\",DATA_INPUT!I173,\"\")","v":""},{"$f":"IF(DATA_INPUT!J173<>\"\",DATA_INPUT!J173,\"\")","v":""},{"$f":"IF(DATA_INPUT!L173<>\"\",DATA_INPUT!L173,IF(DATA_INPUT!K173<>\"\",DATA_INPUT!K173,\"\"))","v":""},{"$f":"IF(DATA_INPUT!O173<>\"\",DATA_INPUT!O173,\"\")","v":""},{"$f":"IF(DATA_INPUT!P173<>\"\",DATA_INPUT!P173,\"\")","v":""},{"$f":"IF(DATA_INPUT!Q173<>\"\",DATA_INPUT!Q173,\"\")","v":""},{"$f":"IF(DATA_INPUT!R173<>\"\",DATA_INPUT!R173,\"\")","v":""},{"$f":"IF(DATA_INPUT!S173<>\"\",IF(DATA_INPUT!AZ173<>\"\",DATA_INPUT!AZ173,H171*I171*J171/144)*IF(G171<>\"\",3/2,1),\"\")","v":""},{"$f":"IF(DATA_INPUT!T173<>\"\",IF(DATA_INPUT!AZ173<>\"\",DATA_INPUT!AZ173,H171*I171*J171/144)*IF(G171<>\"\",3/2,1),\"\")","v":""},{"$f":"IF(DATA_INPUT!U173<>\"\",$H171,\"\")","v":""},{"$f":"IF(DATA_INPUT!V173<>\"\",$H171,\"\")","v":""},{"$f":"IF(DATA_INPUT!W173<>\"\",$H171,\"\")","v":""},{"$f":"IF(DATA_INPUT!X173<>\"\",$H171,\"\")","v":""},{"$f":"IF(DATA_INPUT!Y173<>\"\",$H171,\"\")","v":""},{"$f":"IF(DATA_INPUT!Z173<>\"\",DATA_INPUT!Z173,\"\")","v":""},{"$f":"IF(DATA_INPUT!AA173<>\"\",DATA_INPUT!AA173,\"\")","v":""},{"$f":"IF(DATA_INPUT!AB173<>\"\",DATA_INPUT!AB173,\"\")","v":""},{"$f":"IF(DATA_INPUT!AC173<>\"\",DATA_INPUT!AC173,\"\")","v":""},{"$f":"IF(DATA_INPUT!AD173<>\"\",DATA_INPUT!AD173,\"\")","v":""},{"$f":"IF(DATA_INPUT!AE173<>\"\",$V171,\"\")","v":""},{"$f":"IF(DATA_INPUT!AF173<>\"\",$V171*8,\"\")","v":""},{"$f":"IF(DATA_INPUT!AG173<>\"\",$V171*15,\"\")","v":""},{"$f":"IF(DATA_INPUT!AH173<>\"\",$V171*15,\"\")","v":""},{"$f":"IF(DATA_INPUT!AI173<>\"\",$V171,\"\")","v":""},{"$f":"IF(DATA_INPUT!AJ173<>\"\",$V171,\"\")","v":""},{"$f":"IF(DATA_INPUT!AK173<>\"\",$V171,\"\")","v":""},{"$f":"IF(DATA_INPUT!AL173<>\"\",$V171*7.6*DATA_INPUT!AL173,\"\")","v":""},{"$f":"IF(DATA_INPUT!AM173<>\"\",$V171*9*DATA_INPUT!AM173,\"\")","v":""},{"$f":"IF(DATA_INPUT!AN173<>\"\",$V171*10.8*DATA_INPUT!AN173,\"\")","v":""},{"$f":"IF(DATA_INPUT!AO173<>\"\",$V171*14.6*DATA_INPUT!AO173,\"\")","v":""},{"$f":"IF(DATA_INPUT!AP173<>\"\",$V171,\"\")","v":""},{"$f":"IF(DATA_INPUT!AQ173<>\"\",$V171,\"\")","v":""},{"$f":"IF(DATA_INPUT!AR173<>\"\",DATA_INPUT!AR173,\"\")","v":""},{"$f":"IF(DATA_INPUT!AS173<>\"\",DATA_INPUT!AS173,\"\")","v":""},{"$f":"IF(DATA_INPUT!AT173<>\"\",DATA_INPUT!AT173,\"\")","v":""},{"$f":"IF(DATA_INPUT!AU173<>\"\",DATA_INPUT!AU173,\"\")","v":""},{"$f":"IF(DATA_INPUT!AV173<>\"\",DATA_INPUT!AV173,\"\")","v":""},{"$f":"IF(DATA_INPUT!AW173<>\"\",DATA_INPUT!AW173,\"\")","v":""},{"$f":"IF(DATA_INPUT!AX173<>\"\",DATA_INPUT!AX173+Directions!$D$24-1,\"\")","v":""},{"$f":"IF(DATA_INPUT!AY173<>\"\",DATA_INPUT!AY173,\"\")","v":""},{"$f":"IF(DATA_INPUT!G173<>\"\",2,IF(DATA_INPUT!N173>2,2,IF(DATA_INPUT!N173=2,3,4)))","v":4},{"$f":"IF(OR(DATA_INPUT!S173<>\"\",DATA_INPUT!T173<>\"\"),H171,\"\")","v":""},{"$f":"IF(DATA_INPUT!T173<>\"\",\"X\",\"\")","v":""}]
[{"$f":"IF(DATA_INPUT!F174<>\"\",DATA_INPUT!F174,\"\")","v":""},{"$f":"IF(DATA_INPUT!G174<>\"\",DATA_INPUT!G174,\"\")","v":""},{"$f":"IF(DATA_INPUT!H174<>\"\",DATA_INPUT!H174,\"\")","v":""},{"$f":"IF(DATA_INPUT!I174<>\"\",DATA_INPUT!I174,\"\")","v":""},{"$f":"IF(DATA_INPUT!J174<>\"\",DATA_INPUT!J174,\"\")","v":""},{"$f":"IF(DATA_INPUT!L174<>\"\",DATA_INPUT!L174,IF(DATA_INPUT!K174<>\"\",DATA_INPUT!K174,\"\"))","v":""},{"$f":"IF(DATA_INPUT!O174<>\"\",DATA_INPUT!O174,\"\")","v":""},{"$f":"IF(DATA_INPUT!P174<>\"\",DATA_INPUT!P174,\"\")","v":""},{"$f":"IF(DATA_INPUT!Q174<>\"\",DATA_INPUT!Q174,\"\")","v":""},{"$f":"IF(DATA_INPUT!R174<>\"\",DATA_INPUT!R174,\"\")","v":""},{"$f":"IF(DATA_INPUT!S174<>\"\",IF(DATA_INPUT!AZ174<>\"\",DATA_INPUT!AZ174,H172*I172*J172/144)*IF(G172<>\"\",3/2,1),\"\")","v":""},{"$f":"IF(DATA_INPUT!T174<>\"\",IF(DATA_INPUT!AZ174<>\"\",DATA_INPUT!AZ174,H172*I172*J172/144)*IF(G172<>\"\",3/2,1),\"\")","v":""},{"$f":"IF(DATA_INPUT!U174<>\"\",$H172,\"\")","v":""},{"$f":"IF(DATA_INPUT!V174<>\"\",$H172,\"\")","v":""},{"$f":"IF(DATA_INPUT!W174<>\"\",$H172,\"\")","v":""},{"$f":"IF(DATA_INPUT!X174<>\"\",$H172,\"\")","v":""},{"$f":"IF(DATA_INPUT!Y174<>\"\",$H172,\"\")","v":""},{"$f":"IF(DATA_INPUT!Z174<>\"\",DATA_INPUT!Z174,\"\")","v":""},{"$f":"IF(DATA_INPUT!AA174<>\"\",DATA_INPUT!AA174,\"\")","v":""},{"$f":"IF(DATA_INPUT!AB174<>\"\",DATA_INPUT!AB174,\"\")","v":""},{"$f":"IF(DATA_INPUT!AC174<>\"\",DATA_INPUT!AC174,\"\")","v":""},{"$f":"IF(DATA_INPUT!AD174<>\"\",DATA_INPUT!AD174,\"\")","v":""},{"$f":"IF(DATA_INPUT!AE174<>\"\",$V172,\"\")","v":""},{"$f":"IF(DATA_INPUT!AF174<>\"\",$V172*8,\"\")","v":""},{"$f":"IF(DATA_INPUT!AG174<>\"\",$V172*15,\"\")","v":""},{"$f":"IF(DATA_INPUT!AH174<>\"\",$V172*15,\"\")","v":""},{"$f":"IF(DATA_INPUT!AI174<>\"\",$V172,\"\")","v":""},{"$f":"IF(DATA_INPUT!AJ174<>\"\",$V172,\"\")","v":""},{"$f":"IF(DATA_INPUT!AK174<>\"\",$V172,\"\")","v":""},{"$f":"IF(DATA_INPUT!AL174<>\"\",$V172*7.6*DATA_INPUT!AL174,\"\")","v":""},{"$f":"IF(DATA_INPUT!AM174<>\"\",$V172*9*DATA_INPUT!AM174,\"\")","v":""},{"$f":"IF(DATA_INPUT!AN174<>\"\",$V172*10.8*DATA_INPUT!AN174,\"\")","v":""},{"$f":"IF(DATA_INPUT!AO174<>\"\",$V172*14.6*DATA_INPUT!AO174,\"\")","v":""},{"$f":"IF(DATA_INPUT!AP174<>\"\",$V172,\"\")","v":""},{"$f":"IF(DATA_INPUT!AQ174<>\"\",$V172,\"\")","v":""},{"$f":"IF(DATA_INPUT!AR174<>\"\",DATA_INPUT!AR174,\"\")","v":""},{"$f":"IF(DATA_INPUT!AS174<>\"\",DATA_INPUT!AS174,\"\")","v":""},{"$f":"IF(DATA_INPUT!AT174<>\"\",DATA_INPUT!AT174,\"\")","v":""},{"$f":"IF(DATA_INPUT!AU174<>\"\",DATA_INPUT!AU174,\"\")","v":""},{"$f":"IF(DATA_INPUT!AV174<>\"\",DATA_INPUT!AV174,\"\")","v":""},{"$f":"IF(DATA_INPUT!AW174<>\"\",DATA_INPUT!AW174,\"\")","v":""},{"$f":"IF(DATA_INPUT!AX174<>\"\",DATA_INPUT!AX174+Directions!$D$24-1,\"\")","v":""},{"$f":"IF(DATA_INPUT!AY174<>\"\",DATA_INPUT!AY174,\"\")","v":""},{"$f":"IF(DATA_INPUT!G174<>\"\",2,IF(DATA_INPUT!N174>2,2,IF(DATA_INPUT!N174=2,3,4)))","v":4},{"$f":"IF(OR(DATA_INPUT!S174<>\"\",DATA_INPUT!T174<>\"\"),H172,\"\")","v":""},{"$f":"IF(DATA_INPUT!T174<>\"\",\"X\",\"\")","v":""}]
[{"$f":"IF(DATA_INPUT!F175<>\"\",DATA_INPUT!F175,\"\")","v":""},{"$f":"IF(DATA_INPUT!G175<>\"\",DATA_INPUT!G175,\"\")","v":""},{"$f":"IF(DATA_INPUT!H175<>\"\",DATA_INPUT!H175,\"\")","v":""},{"$f":"IF(DATA_INPUT!I175<>\"\",DATA_INPUT!I175,\"\")","v":""},{"$f":"IF(DATA_INPUT!J175<>\"\",DATA_INPUT!J175,\"\")","v":""},{"$f":"IF(DATA_INPUT!L175<>\"\",DATA_INPUT!L175,IF(DATA_INPUT!K175<>\"\",DATA_INPUT!K175,\"\"))","v":""},{"$f":"IF(DATA_INPUT!O175<>\"\",DATA_INPUT!O175,\"\")","v":""},{"$f":"IF(DATA_INPUT!P175<>\"\",DATA_INPUT!P175,\"\")","v":""},{"$f":"IF(DATA_INPUT!Q175<>\"\",DATA_INPUT!Q175,\"\")","v":""},{"$f":"IF(DATA_INPUT!R175<>\"\",DATA_INPUT!R175,\"\")","v":""},{"$f":"IF(DATA_INPUT!S175<>\"\",IF(DATA_INPUT!AZ175<>\"\",DATA_INPUT!AZ175,H173*I173*J173/144)*IF(G173<>\"\",3/2,1),\"\")","v":""},{"$f":"IF(DATA_INPUT!T175<>\"\",IF(DATA_INPUT!AZ175<>\"\",DATA_INPUT!AZ175,H173*I173*J173/144)*IF(G173<>\"\",3/2,1),\"\")","v":""},{"$f":"IF(DATA_INPUT!U175<>\"\",$H173,\"\")","v":""},{"$f":"IF(DATA_INPUT!V175<>\"\",$H173,\"\")","v":""},{"$f":"IF(DATA_INPUT!W175<>\"\",$H173,\"\")","v":""},{"$f":"IF(DATA_INPUT!X175<>\"\",$H173,\"\")","v":""},{"$f":"IF(DATA_INPUT!Y175<>\"\",$H173,\"\")","v":""},{"$f":"IF(DATA_INPUT!Z175<>\"\",DATA_INPUT!Z175,\"\")","v":""},{"$f":"IF(DATA_INPUT!AA175<>\"\",DATA_INPUT!AA175,\"\")","v":""},{"$f":"IF(DATA_INPUT!AB175<>\"\",DATA_INPUT!AB175,\"\")","v":""},{"$f":"IF(DATA_INPUT!AC175<>\"\",DATA_INPUT!AC175,\"\")","v":""},{"$f":"IF(DATA_INPUT!AD175<>\"\",DATA_INPUT!AD175,\"\")","v":""},{"$f":"IF(DATA_INPUT!AE175<>\"\",$V173,\"\")","v":""},{"$f":"IF(DATA_INPUT!AF175<>\"\",$V173*8,\"\")","v":""},{"$f":"IF(DATA_INPUT!AG175<>\"\",$V173*15,\"\")","v":""},{"$f":"IF(DATA_INPUT!AH175<>\"\",$V173*15,\"\")","v":""},{"$f":"IF(DATA_INPUT!AI175<>\"\",$V173,\"\")","v":""},{"$f":"IF(DATA_INPUT!AJ175<>\"\",$V173,\"\")","v":""},{"$f":"IF(DATA_INPUT!AK175<>\"\",$V173,\"\")","v":""},{"$f":"IF(DATA_INPUT!AL175<>\"\",$V173*7.6*DATA_INPUT!AL175,\"\")","v":""},{"$f":"IF(DATA_INPUT!AM175<>\"\",$V173*9*DATA_INPUT!AM175,\"\")","v":""},{"$f":"IF(DATA_INPUT!AN175<>\"\",$V173*10.8*DATA_INPUT!AN175,\"\")","v":""},{"$f":"IF(DATA_INPUT!AO175<>\"\",$V173*14.6*DATA_INPUT!AO175,\"\")","v":""},{"$f":"IF(DATA_INPUT!AP175<>\"\",$V173,\"\")","v":""},{"$f":"IF(DATA_INPUT!AQ175<>\"\",$V173,\"\")","v":""},{"$f":"IF(DATA_INPUT!AR175<>\"\",DATA_INPUT!AR175,\"\")","v":""},{"$f":"IF(DATA_INPUT!AS175<>\"\",DATA_INPUT!AS175,\"\")","v":""},{"$f":"IF(DATA_INPUT!AT175<>\"\",DATA_INPUT!AT175,\"\")","v":""},{"$f":"IF(DATA_INPUT!AU175<>\"\",DATA_INPUT!AU175,\"\")","v":""},{"$f":"IF(DATA_INPUT!AV175<>\"\",DATA_INPUT!AV175,\"\")","v":""},{"$f":"IF(DATA_INPUT!AW175<>\"\",DATA_INPUT!AW175,\"\")","v":""},{"$f":"IF(DATA_INPUT!AX175<>\"\",DATA_INPUT!AX175+Directions!$D$24-1,\"\")","v":""},{"$f":"IF(DATA_INPUT!AY175<>\"\",DATA_INPUT!AY175,\"\")","v":""},{"$f":"IF(DATA_INPUT!G175<>\"\",2,IF(DATA_INPUT!N175>2,2,IF(DATA_INPUT!N175=2,3,4)))","v":4},{"$f":"IF(OR(DATA_INPUT!S175<>\"\",DATA_INPUT!T175<>\"\"),H173,\"\")","v":""},{"$f":"IF(DATA_INPUT!T175<>\"\",\"X\",\"\")","v":""}]
[{"$f":"IF(DATA_INPUT!F176<>\"\",DATA_INPUT!F176,\"\")","v":""},{"$f":"IF(DATA_INPUT!G176<>\"\",DATA_INPUT!G176,\"\")","v":""},{"$f":"IF(DATA_INPUT!H176<>\"\",DATA_INPUT!H176,\"\")","v":""},{"$f":"IF(DATA_INPUT!I176<>\"\",DATA_INPUT!I176,\"\")","v":""},{"$f":"IF(DATA_INPUT!J176<>\"\",DATA_INPUT!J176,\"\")","v":""},{"$f":"IF(DATA_INPUT!L176<>\"\",DATA_INPUT!L176,IF(DATA_INPUT!K176<>\"\",DATA_INPUT!K176,\"\"))","v":""},{"$f":"IF(DATA_INPUT!O176<>\"\",DATA_INPUT!O176,\"\")","v":""},{"$f":"IF(DATA_INPUT!P176<>\"\",DATA_INPUT!P176,\"\")","v":""},{"$f":"IF(DATA_INPUT!Q176<>\"\",DATA_INPUT!Q176,\"\")","v":""},{"$f":"IF(DATA_INPUT!R176<>\"\",DATA_INPUT!R176,\"\")","v":""},{"$f":"IF(DATA_INPUT!S176<>\"\",IF(DATA_INPUT!AZ176<>\"\",DATA_INPUT!AZ176,H174*I174*J174/144)*IF(G174<>\"\",3/2,1),\"\")","v":""},{"$f":"IF(DATA_INPUT!T176<>\"\",IF(DATA_INPUT!AZ176<>\"\",DATA_INPUT!AZ176,H174*I174*J174/144)*IF(G174<>\"\",3/2,1),\"\")","v":""},{"$f":"IF(DATA_INPUT!U176<>\"\",$H174,\"\")","v":""},{"$f":"IF(DATA_INPUT!V176<>\"\",$H174,\"\")","v":""},{"$f":"IF(DATA_INPUT!W176<>\"\",$H174,\"\")","v":""},{"$f":"IF(DATA_INPUT!X176<>\"\",$H174,\"\")","v":""},{"$f":"IF(DATA_INPUT!Y176<>\"\",$H174,\"\")","v":""},{"$f":"IF(DATA_INPUT!Z176<>\"\",DATA_INPUT!Z176,\"\")","v":""},{"$f":"IF(DATA_INPUT!AA176<>\"\",DATA_INPUT!AA176,\"\")","v":""},{"$f":"IF(DATA_INPUT!AB176<>\"\",DATA_INPUT!AB176,\"\")","v":""},{"$f":"IF(DATA_INPUT!AC176<>\"\",DATA_INPUT!AC176,\"\")","v":""},{"$f":"IF(DATA_INPUT!AD176<>\"\",DATA_INPUT!AD176,\"\")","v":""},{"$f":"IF(DATA_INPUT!AE176<>\"\",$V174,\"\")","v":""},{"$f":"IF(DATA_INPUT!AF176<>\"\",$V174*8,\"\")","v":""},{"$f":"IF(DATA_INPUT!AG176<>\"\",$V174*15,\"\")","v":""},{"$f":"IF(DATA_INPUT!AH176<>\"\",$V174*15,\"\")","v":""},{"$f":"IF(DATA_INPUT!AI176<>\"\",$V174,\"\")","v":""},{"$f":"IF(DATA_INPUT!AJ176<>\"\",$V174,\"\")","v":""},{"$f":"IF(DATA_INPUT!AK176<>\"\",$V174,\"\")","v":""},{"$f":"IF(DATA_INPUT!AL176<>\"\",$V174*7.6*DATA_INPUT!AL176,\"\")","v":""},{"$f":"IF(DATA_INPUT!AM176<>\"\",$V174*9*DATA_INPUT!AM176,\"\")","v":""},{"$f":"IF(DATA_INPUT!AN176<>\"\",$V174*10.8*DATA_INPUT!AN176,\"\")","v":""},{"$f":"IF(DATA_INPUT!AO176<>\"\",$V174*14.6*DATA_INPUT!AO176,\"\")","v":""},{"$f":"IF(DATA_INPUT!AP176<>\"\",$V174,\"\")","v":""},{"$f":"IF(DATA_INPUT!AQ176<>\"\",$V174,\"\")","v":""},{"$f":"IF(DATA_INPUT!AR176<>\"\",DATA_INPUT!AR176,\"\")","v":""},{"$f":"IF(DATA_INPUT!AS176<>\"\",DATA_INPUT!AS176,\"\")","v":""},{"$f":"IF(DATA_INPUT!AT176<>\"\",DATA_INPUT!AT176,\"\")","v":""},{"$f":"IF(DATA_INPUT!AU176<>\"\",DATA_INPUT!AU176,\"\")","v":""},{"$f":"IF(DATA_INPUT!AV176<>\"\",DATA_INPUT!AV176,\"\")","v":""},{"$f":"IF(DATA_INPUT!AW176<>\"\",DATA_INPUT!AW176,\"\")","v":""},{"$f":"IF(DATA_INPUT!AX176<>\"\",DATA_INPUT!AX176+Directions!$D$24-1,\"\")","v":""},{"$f":"IF(DATA_INPUT!AY176<>\"\",DATA_INPUT!AY176,\"\")","v":""},{"$f":"IF(DATA_INPUT!G176<>\"\",2,IF(DATA_INPUT!N176>2,2,IF(DATA_INPUT!N176=2,3,4)))","v":4},{"$f":"IF(OR(DATA_INPUT!S176<>\"\",DATA_INPUT!T176<>\"\"),H174,\"\")","v":""},{"$f":"IF(DATA_INPUT!T176<>\"\",\"X\",\"\")","v":""}]
[{"$f":"IF(DATA_INPUT!F177<>\"\",DATA_INPUT!F177,\"\")","v":""},{"$f":"IF(DATA_INPUT!G177<>\"\",DATA_INPUT!G177,\"\")","v":""},{"$f":"IF(DATA_INPUT!H177<>\"\",DATA_INPUT!H177,\"\")","v":""},{"$f":"IF(DATA_INPUT!I177<>\"\",DATA_INPUT!I177,\"\")","v":""},{"$f":"IF(DATA_INPUT!J177<>\"\",DATA_INPUT!J177,\"\")","v":""},{"$f":"IF(DATA_INPUT!L177<>\"\",DATA_INPUT!L177,IF(DATA_INPUT!K177<>\"\",DATA_INPUT!K177,\"\"))","v":""},{"$f":"IF(DATA_INPUT!O177<>\"\",DATA_INPUT!O177,\"\")","v":""},{"$f":"IF(DATA_INPUT!P177<>\"\",DATA_INPUT!P177,\"\")","v":""},{"$f":"IF(DATA_INPUT!Q177<>\"\",DATA_INPUT!Q177,\"\")","v":""},{"$f":"IF(DATA_INPUT!R177<>\"\",DATA_INPUT!R177,\"\")","v":""},{"$f":"IF(DATA_INPUT!S177<>\"\",IF(DATA_INPUT!AZ177<>\"\",DATA_INPUT!AZ177,H175*I175*J175/144)*IF(G175<>\"\",3/2,1),\"\")","v":""},{"$f":"IF(DATA_INPUT!T177<>\"\",IF(DATA_INPUT!AZ177<>\"\",DATA_INPUT!AZ177,H175*I175*J175/144)*IF(G175<>\"\",3/2,1),\"\")","v":""},{"$f":"IF(DATA_INPUT!U177<>\"\",$H175,\"\")","v":""},{"$f":"IF(DATA_INPUT!V177<>\"\",$H175,\"\")","v":""},{"$f":"IF(DATA_INPUT!W177<>\"\",$H175,\"\")","v":""},{"$f":"IF(DATA_INPUT!X177<>\"\",$H175,\"\")","v":""},{"$f":"IF(DATA_INPUT!Y177<>\"\",$H175,\"\")","v":""},{"$f":"IF(DATA_INPUT!Z177<>\"\",DATA_INPUT!Z177,\"\")","v":""},{"$f":"IF(DATA_INPUT!AA177<>\"\",DATA_INPUT!AA177,\"\")","v":""},{"$f":"IF(DATA_INPUT!AB177<>\"\",DATA_INPUT!AB177,\"\")","v":""},{"$f":"IF(DATA_INPUT!AC177<>\"\",DATA_INPUT!AC177,\"\")","v":""},{"$f":"IF(DATA_INPUT!AD177<>\"\",DATA_INPUT!AD177,\"\")","v":""},{"$f":"IF(DATA_INPUT!AE177<>\"\",$V175,\"\")","v":""},{"$f":"IF(DATA_INPUT!AF177<>\"\",$V175*8,\"\")","v":""},{"$f":"IF(DATA_INPUT!AG177<>\"\",$V175*15,\"\")","v":""},{"$f":"IF(DATA_INPUT!AH177<>\"\",$V175*15,\"\")","v":""},{"$f":"IF(DATA_INPUT!AI177<>\"\",$V175,\"\")","v":""},{"$f":"IF(DATA_INPUT!AJ177<>\"\",$V175,\"\")","v":""},{"$f":"IF(DATA_INPUT!AK177<>\"\",$V175,\"\")","v":""},{"$f":"IF(DATA_INPUT!AL177<>\"\",$V175*7.6*DATA_INPUT!AL177,\"\")","v":""},{"$f":"IF(DATA_INPUT!AM177<>\"\",$V175*9*DATA_INPUT!AM177,\"\")","v":""},{"$f":"IF(DATA_INPUT!AN177<>\"\",$V175*10.8*DATA_INPUT!AN177,\"\")","v":""},{"$f":"IF(DATA_INPUT!AO177<>\"\",$V175*14.6*DATA_INPUT!AO177,\"\")","v":""},{"$f":"IF(DATA_INPUT!AP177<>\"\",$V175,\"\")","v":""},{"$f":"IF(DATA_INPUT!AQ177<>\"\",$V175,\"\")","v":""},{"$f":"IF(DATA_INPUT!AR177<>\"\",DATA_INPUT!AR177,\"\")","v":""},{"$f":"IF(DATA_INPUT!AS177<>\"\",DATA_INPUT!AS177,\"\")","v":""},{"$f":"IF(DATA_INPUT!AT177<>\"\",DATA_INPUT!AT177,\"\")","v":""},{"$f":"IF(DATA_INPUT!AU177<>\"\",DATA_INPUT!AU177,\"\")","v":""},{"$f":"IF(DATA_INPUT!AV177<>\"\",DATA_INPUT!AV177,\"\")","v":""},{"$f":"IF(DATA_INPUT!AW177<>\"\",DATA_INPUT!AW177,\"\")","v":""},{"$f":"IF(DATA_INPUT!AX177<>\"\",DATA_INPUT!AX177+Directions!$D$24-1,\"\")","v":""},{"$f":"IF(DATA_INPUT!AY177<>\"\",DATA_INPUT!AY177,\"\")","v":""},{"$f":"IF(DATA_INPUT!G177<>\"\",2,IF(DATA_INPUT!N177>2,2,IF(DATA_INPUT!N177=2,3,4)))","v":4},{"$f":"IF(OR(DATA_INPUT!S177<>\"\",DATA_INPUT!T177<>\"\"),H175,\"\")","v":""},{"$f":"IF(DATA_INPUT!T177<>\"\",\"X\",\"\")","v":""}]
[{"$f":"IF(DATA_INPUT!F178<>\"\",DATA_INPUT!F178,\"\")","v":""},{"$f":"IF(DATA_INPUT!G178<>\"\",DATA_INPUT!G178,\"\")","v":""},{"$f":"IF(DATA_INPUT!H178<>\"\",DATA_INPUT!H178,\"\")","v":""},{"$f":"IF(DATA_INPUT!I178<>\"\",DATA_INPUT!I178,\"\")","v":""},{"$f":"IF(DATA_INPUT!J178<>\"\",DATA_INPUT!J178,\"\")","v":""},{"$f":"IF(DATA_INPUT!L178<>\"\",DATA_INPUT!L178,IF(DATA_INPUT!K178<>\"\",DATA_INPUT!K178,\"\"))","v":""},{"$f":"IF(DATA_INPUT!O178<>\"\",DATA_INPUT!O178,\"\")","v":""},{"$f":"IF(DATA_INPUT!P178<>\"\",DATA_INPUT!P178,\"\")","v":""},{"$f":"IF(DATA_INPUT!Q178<>\"\",DATA_INPUT!Q178,\"\")","v":""},{"$f":"IF(DATA_INPUT!R178<>\"\",DATA_INPUT!R178,\"\")","v":""},{"$f":"IF(DATA_INPUT!S178<>\"\",IF(DATA_INPUT!AZ178<>\"\",DATA_INPUT!AZ178,H176*I176*J176/144)*IF(G176<>\"\",3/2,1),\"\")","v":""},{"$f":"IF(DATA_INPUT!T178<>\"\",IF(DATA_INPUT!AZ178<>\"\",DATA_INPUT!AZ178,H176*I176*J176/144)*IF(G176<>\"\",3/2,1),\"\")","v":""},{"$f":"IF(DATA_INPUT!U178<>\"\",$H176,\"\")","v":""},{"$f":"IF(DATA_INPUT!V178<>\"\",$H176,\"\")","v":""},{"$f":"IF(DATA_INPUT!W178<>\"\",$H176,\"\")","v":""},{"$f":"IF(DATA_INPUT!X178<>\"\",$H176,\"\")","v":""},{"$f":"IF(DATA_INPUT!Y178<>\"\",$H176,\"\")","v":""},{"$f":"IF(DATA_INPUT!Z178<>\"\",DATA_INPUT!Z178,\"\")","v":""},{"$f":"IF(DATA_INPUT!AA178<>\"\",DATA_INPUT!AA178,\"\")","v":""},{"$f":"IF(DATA_INPUT!AB178<>\"\",DATA_INPUT!AB178,\"\")","v":""},{"$f":"IF(DATA_INPUT!AC178<>\"\",DATA_INPUT!AC178,\"\")","v":""},{"$f":"IF(DATA_INPUT!AD178<>\"\",DATA_INPUT!AD178,\"\")","v":""},{"$f":"IF(DATA_INPUT!AE178<>\"\",$V176,\"\")","v":""},{"$f":"IF(DATA_INPUT!AF178<>\"\",$V176*8,\"\")","v":""},{"$f":"IF(DATA_INPUT!AG178<>\"\",$V176*15,\"\")","v":""},{"$f":"IF(DATA_INPUT!AH178<>\"\",$V176*15,\"\")","v":""},{"$f":"IF(DATA_INPUT!AI178<>\"\",$V176,\"\")","v":""},{"$f":"IF(DATA_INPUT!AJ178<>\"\",$V176,\"\")","v":""},{"$f":"IF(DATA_INPUT!AK178<>\"\",$V176,\"\")","v":""},{"$f":"IF(DATA_INPUT!AL178<>\"\",$V176*7.6*DATA_INPUT!AL178,\"\")","v":""},{"$f":"IF(DATA_INPUT!AM178<>\"\",$V176*9*DATA_INPUT!AM178,\"\")","v":""},{"$f":"IF(DATA_INPUT!AN178<>\"\",$V176*10.8*DATA_INPUT!AN178,\"\")","v":""},{"$f":"IF(DATA_INPUT!AO178<>\"\",$V176*14.6*DATA_INPUT!AO178,\"\")","v":""},{"$f":"IF(DATA_INPUT!AP178<>\"\",$V176,\"\")","v":""},{"$f":"IF(DATA_INPUT!AQ178<>\"\",$V176,\"\")","v":""},{"$f":"IF(DATA_INPUT!AR178<>\"\",DATA_INPUT!AR178,\"\")","v":""},{"$f":"IF(DATA_INPUT!AS178<>\"\",DATA_INPUT!AS178,\"\")","v":""},{"$f":"IF(DATA_INPUT!AT178<>\"\",DATA_INPUT!AT178,\"\")","v":""},{"$f":"IF(DATA_INPUT!AU178<>\"\",DATA_INPUT!AU178,\"\")","v":""},{"$f":"IF(DATA_INPUT!AV178<>\"\",DATA_INPUT!AV178,\"\")","v":""},{"$f":"IF(DATA_INPUT!AW178<>\"\",DATA_INPUT!AW178,\"\")","v":""},{"$f":"IF(DATA_INPUT!AX178<>\"\",DATA_INPUT!AX178+Directions!$D$24-1,\"\")","v":""},{"$f":"IF(DATA_INPUT!AY178<>\"\",DATA_INPUT!AY178,\"\")","v":""},{"$f":"IF(DATA_INPUT!G178<>\"\",2,IF(DATA_INPUT!N178>2,2,IF(DATA_INPUT!N178=2,3,4)))","v":4},{"$f":"IF(OR(DATA_INPUT!S178<>\"\",DATA_INPUT!T178<>\"\"),H176,\"\")","v":""},{"$f":"IF(DATA_INPUT!T178<>\"\",\"X\",\"\")","v":""}]
[{"$f":"IF(DATA_INPUT!F179<>\"\",DATA_INPUT!F179,\"\")","v":""},{"$f":"IF(DATA_INPUT!G179<>\"\",DATA_INPUT!G179,\"\")","v":""},{"$f":"IF(DATA_INPUT!H179<>\"\",DATA_INPUT!H179,\"\")","v":""},{"$f":"IF(DATA_INPUT!I179<>\"\",DATA_INPUT!I179,\"\")","v":""},{"$f":"IF(DATA_INPUT!J179<>\"\",DATA_INPUT!J179,\"\")","v":""},{"$f":"IF(DATA_INPUT!L179<>\"\",DATA_INPUT!L179,IF(DATA_INPUT!K179<>\"\",DATA_INPUT!K179,\"\"))","v":""},{"$f":"IF(DATA_INPUT!O179<>\"\",DATA_INPUT!O179,\"\")","v":""},{"$f":"IF(DATA_INPUT!P179<>\"\",DATA_INPUT!P179,\"\")","v":""},{"$f":"IF(DATA_INPUT!Q179<>\"\",DATA_INPUT!Q179,\"\")","v":""},{"$f":"IF(DATA_INPUT!R179<>\"\",DATA_INPUT!R179,\"\")","v":""},{"$f":"IF(DATA_INPUT!S179<>\"\",IF(DATA_INPUT!AZ179<>\"\",DATA_INPUT!AZ179,H177*I177*J177/144)*IF(G177<>\"\",3/2,1),\"\")","v":""},{"$f":"IF(DATA_INPUT!T179<>\"\",IF(DATA_INPUT!AZ179<>\"\",DATA_INPUT!AZ179,H177*I177*J177/144)*IF(G177<>\"\",3/2,1),\"\")","v":""},{"$f":"IF(DATA_INPUT!U179<>\"\",$H177,\"\")","v":""},{"$f":"IF(DATA_INPUT!V179<>\"\",$H177,\"\")","v":""},{"$f":"IF(DATA_INPUT!W179<>\"\",$H177,\"\")","v":""},{"$f":"IF(DATA_INPUT!X179<>\"\",$H177,\"\")","v":""},{"$f":"IF(DATA_INPUT!Y179<>\"\",$H177,\"\")","v":""},{"$f":"IF(DATA_INPUT!Z179<>\"\",DATA_INPUT!Z179,\"\")","v":""},{"$f":"IF(DATA_INPUT!AA179<>\"\",DATA_INPUT!AA179,\"\")","v":""},{"$f":"IF(DATA_INPUT!AB179<>\"\",DATA_INPUT!AB179,\"\")","v":""},{"$f":"IF(DATA_INPUT!AC179<>\"\",DATA_INPUT!AC179,\"\")","v":""},{"$f":"IF(DATA_INPUT!AD179<>\"\",DATA_INPUT!AD179,\"\")","v":""},{"$f":"IF(DATA_INPUT!AE179<>\"\",$V177,\"\")","v":""},{"$f":"IF(DATA_INPUT!AF179<>\"\",$V177*8,\"\")","v":""},{"$f":"IF(DATA_INPUT!AG179<>\"\",$V177*15,\"\")","v":""},{"$f":"IF(DATA_INPUT!AH179<>\"\",$V177*15,\"\")","v":""},{"$f":"IF(DATA_INPUT!AI179<>\"\",$V177,\"\")","v":""},{"$f":"IF(DATA_INPUT!AJ179<>\"\",$V177,\"\")","v":""},{"$f":"IF(DATA_INPUT!AK179<>\"\",$V177,\"\")","v":""},{"$f":"IF(DATA_INPUT!AL179<>\"\",$V177*7.6*DATA_INPUT!AL179,\"\")","v":""},{"$f":"IF(DATA_INPUT!AM179<>\"\",$V177*9*DATA_INPUT!AM179,\"\")","v":""},{"$f":"IF(DATA_INPUT!AN179<>\"\",$V177*10.8*DATA_INPUT!AN179,\"\")","v":""},{"$f":"IF(DATA_INPUT!AO179<>\"\",$V177*14.6*DATA_INPUT!AO179,\"\")","v":""},{"$f":"IF(DATA_INPUT!AP179<>\"\",$V177,\"\")","v":""},{"$f":"IF(DATA_INPUT!AQ179<>\"\",$V177,\"\")","v":""},{"$f":"IF(DATA_INPUT!AR179<>\"\",DATA_INPUT!AR179,\"\")","v":""},{"$f":"IF(DATA_INPUT!AS179<>\"\",DATA_INPUT!AS179,\"\")","v":""},{"$f":"IF(DATA_INPUT!AT179<>\"\",DATA_INPUT!AT179,\"\")","v":""},{"$f":"IF(DATA_INPUT!AU179<>\"\",DATA_INPUT!AU179,\"\")","v":""},{"$f":"IF(DATA_INPUT!AV179<>\"\",DATA_INPUT!AV179,\"\")","v":""},{"$f":"IF(DATA_INPUT!AW179<>\"\",DATA_INPUT!AW179,\"\")","v":""},{"$f":"IF(DATA_INPUT!AX179<>\"\",DATA_INPUT!AX179+Directions!$D$24-1,\"\")","v":""},{"$f":"IF(DATA_INPUT!AY179<>\"\",DATA_INPUT!AY179,\"\")","v":""},{"$f":"IF(DATA_INPUT!G179<>\"\",2,IF(DATA_INPUT!N179>2,2,IF(DATA_INPUT!N179=2,3,4)))","v":4},{"$f":"IF(OR(DATA_INPUT!S179<>\"\",DATA_INPUT!T179<>\"\"),H177,\"\")","v":""},{"$f":"IF(DATA_INPUT!T179<>\"\",\"X\",\"\")","v":""}]
[{"$f":"IF(DATA_INPUT!F180<>\"\",DATA_INPUT!F180,\"\")","v":""},{"$f":"IF(DATA_INPUT!G180<>\"\",DATA_INPUT!G180,\"\")","v":""},{"$f":"IF(DATA_INPUT!H180<>\"\",DATA_INPUT!H180,\"\")","v":""},{"$f":"IF(DATA_INPUT!I180<>\"\",DATA_INPUT!I180,\"\")","v":""},{"$f":"IF(DATA_INPUT!J180<>\"\",DATA_INPUT!J180,\"\")","v":""},{"$f":"IF(DATA_INPUT!L180<>\"\",DATA_INPUT!L180,IF(DATA_INPUT!K180<>\"\",DATA_INPUT!K180,\"\"))","v":""},{"$f":"IF(DATA_INPUT!O180<>\"\",DATA_INPUT!O180,\"\")","v":""},{"$f":"IF(DATA_INPUT!P180<>\"\",DATA_INPUT!P180,\"\")","v":""},{"$f":"IF(DATA_INPUT!Q180<>\"\",DATA_INPUT!Q180,\"\")","v":""},{"$f":"IF(DATA_INPUT!R180<>\"\",DATA_INPUT!R180,\"\")","v":""},{"$f":"IF(DATA_INPUT!S180<>\"\",IF(DATA_INPUT!AZ180<>\"\",DATA_INPUT!AZ180,H178*I178*J178/144)*IF(G178<>\"\",3/2,1),\"\")","v":""},{"$f":"IF(DATA_INPUT!T180<>\"\",IF(DATA_INPUT!AZ180<>\"\",DATA_INPUT!AZ180,H178*I178*J178/144)*IF(G178<>\"\",3/2,1),\"\")","v":""},{"$f":"IF(DATA_INPUT!U180<>\"\",$H178,\"\")","v":""},{"$f":"IF(DATA_INPUT!V180<>\"\",$H178,\"\")","v":""},{"$f":"IF(DATA_INPUT!W180<>\"\",$H178,\"\")","v":""},{"$f":"IF(DATA_INPUT!X180<>\"\",$H178,\"\")","v":""},{"$f":"IF(DATA_INPUT!Y180<>\"\",$H178,\"\")","v":""},{"$f":"IF(DATA_INPUT!Z180<>\"\",DATA_INPUT!Z180,\"\")","v":""},{"$f":"IF(DATA_INPUT!AA180<>\"\",DATA_INPUT!AA180,\"\")","v":""},{"$f":"IF(DATA_INPUT!AB180<>\"\",DATA_INPUT!AB180,\"\")","v":""},{"$f":"IF(DATA_INPUT!AC180<>\"\",DATA_INPUT!AC180,\"\")","v":""},{"$f":"IF(DATA_INPUT!AD180<>\"\",DATA_INPUT!AD180,\"\")","v":""},{"$f":"IF(DATA_INPUT!AE180<>\"\",$V178,\"\")","v":""},{"$f":"IF(DATA_INPUT!AF180<>\"\",$V178*8,\"\")","v":""},{"$f":"IF(DATA_INPUT!AG180<>\"\",$V178*15,\"\")","v":""},{"$f":"IF(DATA_INPUT!AH180<>\"\",$V178*15,\"\")","v":""},{"$f":"IF(DATA_INPUT!AI180<>\"\",$V178,\"\")","v":""},{"$f":"IF(DATA_INPUT!AJ180<>\"\",$V178,\"\")","v":""},{"$f":"IF(DATA_INPUT!AK180<>\"\",$V178,\"\")","v":""},{"$f":"IF(DATA_INPUT!AL180<>\"\",$V178*7.6*DATA_INPUT!AL180,\"\")","v":""},{"$f":"IF(DATA_INPUT!AM180<>\"\",$V178*9*DATA_INPUT!AM180,\"\")","v":""},{"$f":"IF(DATA_INPUT!AN180<>\"\",$V178*10.8*DATA_INPUT!AN180,\"\")","v":""},{"$f":"IF(DATA_INPUT!AO180<>\"\",$V178*14.6*DATA_INPUT!AO180,\"\")","v":""},{"$f":"IF(DATA_INPUT!AP180<>\"\",$V178,\"\")","v":""},{"$f":"IF(DATA_INPUT!AQ180<>\"\",$V178,\"\")","v":""},{"$f":"IF(DATA_INPUT!AR180<>\"\",DATA_INPUT!AR180,\"\")","v":""},{"$f":"IF(DATA_INPUT!AS180<>\"\",DATA_INPUT!AS180,\"\")","v":""},{"$f":"IF(DATA_INPUT!AT180<>\"\",DATA_INPUT!AT180,\"\")","v":""},{"$f":"IF(DATA_INPUT!AU180<>\"\",DATA_INPUT!AU180,\"\")","v":""},{"$f":"IF(DATA_INPUT!AV180<>\"\",DATA_INPUT!AV180,\"\")","v":""},{"$f":"IF(DATA_INPUT!AW180<>\"\",DATA_INPUT!AW180,\"\")","v":""},{"$f":"IF(DATA_INPUT!AX180<>\"\",DATA_INPUT!AX180+Directions!$D$24-1,\"\")","v":""},{"$f":"IF(DATA_INPUT!AY180<>\"\",DATA_INPUT!AY180,\"\")","v":""},{"$f":"IF(DATA_INPUT!G180<>\"\",2,IF(DATA_INPUT!N180>2,2,IF(DATA_INPUT!N180=2,3,4)))","v":4},{"$f":"IF(OR(DATA_INPUT!S180<>\"\",DATA_INPUT!T180<>\"\"),H178,\"\")","v":""},{"$f":"IF(DATA_INPUT!T180<>\"\",\"X\",\"\")","v":""}]
[{"$f":"IF(DATA_INPUT!F181<>\"\",DATA_INPUT!F181,\"\")","v":""},{"$f":"IF(DATA_INPUT!G181<>\"\",DATA_INPUT!G181,\"\")","v":""},{"$f":"IF(DATA_INPUT!H181<>\"\",DATA_INPUT!H181,\"\")","v":""},{"$f":"IF(DATA_INPUT!I181<>\"\",DATA_INPUT!I181,\"\")","v":""},{"$f":"IF(DATA_INPUT!J181<>\"\",DATA_INPUT!J181,\"\")","v":""},{"$f":"IF(DATA_INPUT!L181<>\"\",DATA_INPUT!L181,IF(DATA_INPUT!K181<>\"\",DATA_INPUT!K181,\"\"))","v":""},{"$f":"IF(DATA_INPUT!O181<>\"\",DATA_INPUT!O181,\"\")","v":""},{"$f":"IF(DATA_INPUT!P181<>\"\",DATA_INPUT!P181,\"\")","v":""},{"$f":"IF(DATA_INPUT!Q181<>\"\",DATA_INPUT!Q181,\"\")","v":""},{"$f":"IF(DATA_INPUT!R181<>\"\",DATA_INPUT!R181,\"\")","v":""},{"$f":"IF(DATA_INPUT!S181<>\"\",IF(DATA_INPUT!AZ181<>\"\",DATA_INPUT!AZ181,H179*I179*J179/144)*IF(G179<>\"\",3/2,1),\"\")","v":""},{"$f":"IF(DATA_INPUT!T181<>\"\",IF(DATA_INPUT!AZ181<>\"\",DATA_INPUT!AZ181,H179*I179*J179/144)*IF(G179<>\"\",3/2,1),\"\")","v":""},{"$f":"IF(DATA_INPUT!U181<>\"\",$H179,\"\")","v":""},{"$f":"IF(DATA_INPUT!V181<>\"\",$H179,\"\")","v":""},{"$f":"IF(DATA_INPUT!W181<>\"\",$H179,\"\")","v":""},{"$f":"IF(DATA_INPUT!X181<>\"\",$H179,\"\")","v":""},{"$f":"IF(DATA_INPUT!Y181<>\"\",$H179,\"\")","v":""},{"$f":"IF(DATA_INPUT!Z181<>\"\",DATA_INPUT!Z181,\"\")","v":""},{"$f":"IF(DATA_INPUT!AA181<>\"\",DATA_INPUT!AA181,\"\")","v":""},{"$f":"IF(DATA_INPUT!AB181<>\"\",DATA_INPUT!AB181,\"\")","v":""},{"$f":"IF(DATA_INPUT!AC181<>\"\",DATA_INPUT!AC181,\"\")","v":""},{"$f":"IF(DATA_INPUT!AD181<>\"\",DATA_INPUT!AD181,\"\")","v":""},{"$f":"IF(DATA_INPUT!AE181<>\"\",$V179,\"\")","v":""},{"$f":"IF(DATA_INPUT!AF181<>\"\",$V179*8,\"\")","v":""},{"$f":"IF(DATA_INPUT!AG181<>\"\",$V179*15,\"\")","v":""},{"$f":"IF(DATA_INPUT!AH181<>\"\",$V179*15,\"\")","v":""},{"$f":"IF(DATA_INPUT!AI181<>\"\",$V179,\"\")","v":""},{"$f":"IF(DATA_INPUT!AJ181<>\"\",$V179,\"\")","v":""},{"$f":"IF(DATA_INPUT!AK181<>\"\",$V179,\"\")","v":""},{"$f":"IF(DATA_INPUT!AL181<>\"\",$V179*7.6*DATA_INPUT!AL181,\"\")","v":""},{"$f":"IF(DATA_INPUT!AM181<>\"\",$V179*9*DATA_INPUT!AM181,\"\")","v":""},{"$f":"IF(DATA_INPUT!AN181<>\"\",$V179*10.8*DATA_INPUT!AN181,\"\")","v":""},{"$f":"IF(DATA_INPUT!AO181<>\"\",$V179*14.6*DATA_INPUT!AO181,\"\")","v":""},{"$f":"IF(DATA_INPUT!AP181<>\"\",$V179,\"\")","v":""},{"$f":"IF(DATA_INPUT!AQ181<>\"\",$V179,\"\")","v":""},{"$f":"IF(DATA_INPUT!AR181<>\"\",DATA_INPUT!AR181,\"\")","v":""},{"$f":"IF(DATA_INPUT!AS181<>\"\",DATA_INPUT!AS181,\"\")","v":""},{"$f":"IF(DATA_INPUT!AT181<>\"\",DATA_INPUT!AT181,\"\")","v":""},{"$f":"IF(DATA_INPUT!AU181<>\"\",DATA_INPUT!AU181,\"\")","v":""},{"$f":"IF(DATA_INPUT!AV181<>\"\",DATA_INPUT!AV181,\"\")","v":""},{"$f":"IF(DATA_INPUT!AW181<>\"\",DATA_INPUT!AW181,\"\")","v":""},{"$f":"IF(DATA_INPUT!AX181<>\"\",DATA_INPUT!AX181+Directions!$D$24-1,\"\")","v":""},{"$f":"IF(DATA_INPUT!AY181<>\"\",DATA_INPUT!AY181,\"\")","v":""},{"$f":"IF(DATA_INPUT!G181<>\"\",2,IF(DATA_INPUT!N181>2,2,IF(DATA_INPUT!N181=2,3,4)))","v":4},{"$f":"IF(OR(DATA_INPUT!S181<>\"\",DATA_INPUT!T181<>\"\"),H179,\"\")","v":""},{"$f":"IF(DATA_INPUT!T181<>\"\",\"X\",\"\")","v":""}]
[{"$f":"IF(DATA_INPUT!F182<>\"\",DATA_INPUT!F182,\"\")","v":""},{"$f":"IF(DATA_INPUT!G182<>\"\",DATA_INPUT!G182,\"\")","v":""},{"$f":"IF(DATA_INPUT!H182<>\"\",DATA_INPUT!H182,\"\")","v":""},{"$f":"IF(DATA_INPUT!I182<>\"\",DATA_INPUT!I182,\"\")","v":""},{"$f":"IF(DATA_INPUT!J182<>\"\",DATA_INPUT!J182,\"\")","v":""},{"$f":"IF(DATA_INPUT!L182<>\"\",DATA_INPUT!L182,IF(DATA_INPUT!K182<>\"\",DATA_INPUT!K182,\"\"))","v":""},{"$f":"IF(DATA_INPUT!O182<>\"\",DATA_INPUT!O182,\"\")","v":""},{"$f":"IF(DATA_INPUT!P182<>\"\",DATA_INPUT!P182,\"\")","v":""},{"$f":"IF(DATA_INPUT!Q182<>\"\",DATA_INPUT!Q182,\"\")","v":""},{"$f":"IF(DATA_INPUT!R182<>\"\",DATA_INPUT!R182,\"\")","v":""},{"$f":"IF(DATA_INPUT!S182<>\"\",IF(DATA_INPUT!AZ182<>\"\",DATA_INPUT!AZ182,H180*I180*J180/144)*IF(G180<>\"\",3/2,1),\"\")","v":""},{"$f":"IF(DATA_INPUT!T182<>\"\",IF(DATA_INPUT!AZ182<>\"\",DATA_INPUT!AZ182,H180*I180*J180/144)*IF(G180<>\"\",3/2,1),\"\")","v":""},{"$f":"IF(DATA_INPUT!U182<>\"\",$H180,\"\")","v":""},{"$f":"IF(DATA_INPUT!V182<>\"\",$H180,\"\")","v":""},{"$f":"IF(DATA_INPUT!W182<>\"\",$H180,\"\")","v":""},{"$f":"IF(DATA_INPUT!X182<>\"\",$H180,\"\")","v":""},{"$f":"IF(DATA_INPUT!Y182<>\"\",$H180,\"\")","v":""},{"$f":"IF(DATA_INPUT!Z182<>\"\",DATA_INPUT!Z182,\"\")","v":""},{"$f":"IF(DATA_INPUT!AA182<>\"\",DATA_INPUT!AA182,\"\")","v":""},{"$f":"IF(DATA_INPUT!AB182<>\"\",DATA_INPUT!AB182,\"\")","v":""},{"$f":"IF(DATA_INPUT!AC182<>\"\",DATA_INPUT!AC182,\"\")","v":""},{"$f":"IF(DATA_INPUT!AD182<>\"\",DATA_INPUT!AD182,\"\")","v":""},{"$f":"IF(DATA_INPUT!AE182<>\"\",$V180,\"\")","v":""},{"$f":"IF(DATA_INPUT!AF182<>\"\",$V180*8,\"\")","v":""},{"$f":"IF(DATA_INPUT!AG182<>\"\",$V180*15,\"\")","v":""},{"$f":"IF(DATA_INPUT!AH182<>\"\",$V180*15,\"\")","v":""},{"$f":"IF(DATA_INPUT!AI182<>\"\",$V180,\"\")","v":""},{"$f":"IF(DATA_INPUT!AJ182<>\"\",$V180,\"\")","v":""},{"$f":"IF(DATA_INPUT!AK182<>\"\",$V180,\"\")","v":""},{"$f":"IF(DATA_INPUT!AL182<>\"\",$V180*7.6*DATA_INPUT!AL182,\"\")","v":""},{"$f":"IF(DATA_INPUT!AM182<>\"\",$V180*9*DATA_INPUT!AM182,\"\")","v":""},{"$f":"IF(DATA_INPUT!AN182<>\"\",$V180*10.8*DATA_INPUT!AN182,\"\")","v":""},{"$f":"IF(DATA_INPUT!AO182<>\"\",$V180*14.6*DATA_INPUT!AO182,\"\")","v":""},{"$f":"IF(DATA_INPUT!AP182<>\"\",$V180,\"\")","v":""},{"$f":"IF(DATA_INPUT!AQ182<>\"\",$V180,\"\")","v":""},{"$f":"IF(DATA_INPUT!AR182<>\"\",DATA_INPUT!AR182,\"\")","v":""},{"$f":"IF(DATA_INPUT!AS182<>\"\",DATA_INPUT!AS182,\"\")","v":""},{"$f":"IF(DATA_INPUT!AT182<>\"\",DATA_INPUT!AT182,\"\")","v":""},{"$f":"IF(DATA_INPUT!AU182<>\"\",DATA_INPUT!AU182,\"\")","v":""},{"$f":"IF(DATA_INPUT!AV182<>\"\",DATA_INPUT!AV182,\"\")","v":""},{"$f":"IF(DATA_INPUT!AW182<>\"\",DATA_INPUT!AW182,\"\")","v":""},{"$f":"IF(DATA_INPUT!AX182<>\"\",DATA_INPUT!AX182+Directions!$D$24-1,\"\")","v":""},{"$f":"IF(DATA_INPUT!AY182<>\"\",DATA_INPUT!AY182,\"\")","v":""},{"$f":"IF(DATA_INPUT!G182<>\"\",2,IF(DATA_INPUT!N182>2,2,IF(DATA_INPUT!N182=2,3,4)))","v":4},{"$f":"IF(OR(DATA_INPUT!S182<>\"\",DATA_INPUT!T182<>\"\"),H180,\"\")","v":""},{"$f":"IF(DATA_INPUT!T182<>\"\",\"X\",\"\")","v":""}]
[{"$f":"IF(DATA_INPUT!F183<>\"\",DATA_INPUT!F183,\"\")","v":""},{"$f":"IF(DATA_INPUT!G183<>\"\",DATA_INPUT!G183,\"\")","v":""},{"$f":"IF(DATA_INPUT!H183<>\"\",DATA_INPUT!H183,\"\")","v":""},{"$f":"IF(DATA_INPUT!I183<>\"\",DATA_INPUT!I183,\"\")","v":""},{"$f":"IF(DATA_INPUT!J183<>\"\",DATA_INPUT!J183,\"\")","v":""},{"$f":"IF(DATA_INPUT!L183<>\"\",DATA_INPUT!L183,IF(DATA_INPUT!K183<>\"\",DATA_INPUT!K183,\"\"))","v":""},{"$f":"IF(DATA_INPUT!O183<>\"\",DATA_INPUT!O183,\"\")","v":""},{"$f":"IF(DATA_INPUT!P183<>\"\",DATA_INPUT!P183,\"\")","v":""},{"$f":"IF(DATA_INPUT!Q183<>\"\",DATA_INPUT!Q183,\"\")","v":""},{"$f":"IF(DATA_INPUT!R183<>\"\",DATA_INPUT!R183,\"\")","v":""},{"$f":"IF(DATA_INPUT!S183<>\"\",IF(DATA_INPUT!AZ183<>\"\",DATA_INPUT!AZ183,H181*I181*J181/144)*IF(G181<>\"\",3/2,1),\"\")","v":""},{"$f":"IF(DATA_INPUT!T183<>\"\",IF(DATA_INPUT!AZ183<>\"\",DATA_INPUT!AZ183,H181*I181*J181/144)*IF(G181<>\"\",3/2,1),\"\")","v":""},{"$f":"IF(DATA_INPUT!U183<>\"\",$H181,\"\")","v":""},{"$f":"IF(DATA_INPUT!V183<>\"\",$H181,\"\")","v":""},{"$f":"IF(DATA_INPUT!W183<>\"\",$H181,\"\")","v":""},{"$f":"IF(DATA_INPUT!X183<>\"\",$H181,\"\")","v":""},{"$f":"IF(DATA_INPUT!Y183<>\"\",$H181,\"\")","v":""},{"$f":"IF(DATA_INPUT!Z183<>\"\",DATA_INPUT!Z183,\"\")","v":""},{"$f":"IF(DATA_INPUT!AA183<>\"\",DATA_INPUT!AA183,\"\")","v":""},{"$f":"IF(DATA_INPUT!AB183<>\"\",DATA_INPUT!AB183,\"\")","v":""},{"$f":"IF(DATA_INPUT!AC183<>\"\",DATA_INPUT!AC183,\"\")","v":""},{"$f":"IF(DATA_INPUT!AD183<>\"\",DATA_INPUT!AD183,\"\")","v":""},{"$f":"IF(DATA_INPUT!AE183<>\"\",$V181,\"\")","v":""},{"$f":"IF(DATA_INPUT!AF183<>\"\",$V181*8,\"\")","v":""},{"$f":"IF(DATA_INPUT!AG183<>\"\",$V181*15,\"\")","v":""},{"$f":"IF(DATA_INPUT!AH183<>\"\",$V181*15,\"\")","v":""},{"$f":"IF(DATA_INPUT!AI183<>\"\",$V181,\"\")","v":""},{"$f":"IF(DATA_INPUT!AJ183<>\"\",$V181,\"\")","v":""},{"$f":"IF(DATA_INPUT!AK183<>\"\",$V181,\"\")","v":""},{"$f":"IF(DATA_INPUT!AL183<>\"\",$V181*7.6*DATA_INPUT!AL183,\"\")","v":""},{"$f":"IF(DATA_INPUT!AM183<>\"\",$V181*9*DATA_INPUT!AM183,\"\")","v":""},{"$f":"IF(DATA_INPUT!AN183<>\"\",$V181*10.8*DATA_INPUT!AN183,\"\")","v":""},{"$f":"IF(DATA_INPUT!AO183<>\"\",$V181*14.6*DATA_INPUT!AO183,\"\")","v":""},{"$f":"IF(DATA_INPUT!AP183<>\"\",$V181,\"\")","v":""},{"$f":"IF(DATA_INPUT!AQ183<>\"\",$V181,\"\")","v":""},{"$f":"IF(DATA_INPUT!AR183<>\"\",DATA_INPUT!AR183,\"\")","v":""},{"$f":"IF(DATA_INPUT!AS183<>\"\",DATA_INPUT!AS183,\"\")","v":""},{"$f":"IF(DATA_INPUT!AT183<>\"\",DATA_INPUT!AT183,\"\")","v":""},{"$f":"IF(DATA_INPUT!AU183<>\"\",DATA_INPUT!AU183,\"\")","v":""},{"$f":"IF(DATA_INPUT!AV183<>\"\",DATA_INPUT!AV183,\"\")","v":""},{"$f":"IF(DATA_INPUT!AW183<>\"\",DATA_INPUT!AW183,\"\")","v":""},{"$f":"IF(DATA_INPUT!AX183<>\"\",DATA_INPUT!AX183+Directions!$D$24-1,\"\")","v":""},{"$f":"IF(DATA_INPUT!AY183<>\"\",DATA_INPUT!AY183,\"\")","v":""},{"$f":"IF(DATA_INPUT!G183<>\"\",2,IF(DATA_INPUT!N183>2,2,IF(DATA_INPUT!N183=2,3,4)))","v":4},{"$f":"IF(OR(DATA_INPUT!S183<>\"\",DATA_INPUT!T183<>\"\"),H181,\"\")","v":""},{"$f":"IF(DATA_INPUT!T183<>\"\",\"X\",\"\")","v":""}]
[{"$f":"IF(DATA_INPUT!F184<>\"\",DATA_INPUT!F184,\"\")","v":""},{"$f":"IF(DATA_INPUT!G184<>\"\",DATA_INPUT!G184,\"\")","v":""},{"$f":"IF(DATA_INPUT!H184<>\"\",DATA_INPUT!H184,\"\")","v":""},{"$f":"IF(DATA_INPUT!I184<>\"\",DATA_INPUT!I184,\"\")","v":""},{"$f":"IF(DATA_INPUT!J184<>\"\",DATA_INPUT!J184,\"\")","v":""},{"$f":"IF(DATA_INPUT!L184<>\"\",DATA_INPUT!L184,IF(DATA_INPUT!K184<>\"\",DATA_INPUT!K184,\"\"))","v":""},{"$f":"IF(DATA_INPUT!O184<>\"\",DATA_INPUT!O184,\"\")","v":""},{"$f":"IF(DATA_INPUT!P184<>\"\",DATA_INPUT!P184,\"\")","v":""},{"$f":"IF(DATA_INPUT!Q184<>\"\",DATA_INPUT!Q184,\"\")","v":""},{"$f":"IF(DATA_INPUT!R184<>\"\",DATA_INPUT!R184,\"\")","v":""},{"$f":"IF(DATA_INPUT!S184<>\"\",IF(DATA_INPUT!AZ184<>\"\",DATA_INPUT!AZ184,H182*I182*J182/144)*IF(G182<>\"\",3/2,1),\"\")","v":""},{"$f":"IF(DATA_INPUT!T184<>\"\",IF(DATA_INPUT!AZ184<>\"\",DATA_INPUT!AZ184,H182*I182*J182/144)*IF(G182<>\"\",3/2,1),\"\")","v":""},{"$f":"IF(DATA_INPUT!U184<>\"\",$H182,\"\")","v":""},{"$f":"IF(DATA_INPUT!V184<>\"\",$H182,\"\")","v":""},{"$f":"IF(DATA_INPUT!W184<>\"\",$H182,\"\")","v":""},{"$f":"IF(DATA_INPUT!X184<>\"\",$H182,\"\")","v":""},{"$f":"IF(DATA_INPUT!Y184<>\"\",$H182,\"\")","v":""},{"$f":"IF(DATA_INPUT!Z184<>\"\",DATA_INPUT!Z184,\"\")","v":""},{"$f":"IF(DATA_INPUT!AA184<>\"\",DATA_INPUT!AA184,\"\")","v":""},{"$f":"IF(DATA_INPUT!AB184<>\"\",DATA_INPUT!AB184,\"\")","v":""},{"$f":"IF(DATA_INPUT!AC184<>\"\",DATA_INPUT!AC184,\"\")","v":""},{"$f":"IF(DATA_INPUT!AD184<>\"\",DATA_INPUT!AD184,\"\")","v":""},{"$f":"IF(DATA_INPUT!AE184<>\"\",$V182,\"\")","v":""},{"$f":"IF(DATA_INPUT!AF184<>\"\",$V182*8,\"\")","v":""},{"$f":"IF(DATA_INPUT!AG184<>\"\",$V182*15,\"\")","v":""},{"$f":"IF(DATA_INPUT!AH184<>\"\",$V182*15,\"\")","v":""},{"$f":"IF(DATA_INPUT!AI184<>\"\",$V182,\"\")","v":""},{"$f":"IF(DATA_INPUT!AJ184<>\"\",$V182,\"\")","v":""},{"$f":"IF(DATA_INPUT!AK184<>\"\",$V182,\"\")","v":""},{"$f":"IF(DATA_INPUT!AL184<>\"\",$V182*7.6*DATA_INPUT!AL184,\"\")","v":""},{"$f":"IF(DATA_INPUT!AM184<>\"\",$V182*9*DATA_INPUT!AM184,\"\")","v":""},{"$f":"IF(DATA_INPUT!AN184<>\"\",$V182*10.8*DATA_INPUT!AN184,\"\")","v":""},{"$f":"IF(DATA_INPUT!AO184<>\"\",$V182*14.6*DATA_INPUT!AO184,\"\")","v":""},{"$f":"IF(DATA_INPUT!AP184<>\"\",$V182,\"\")","v":""},{"$f":"IF(DATA_INPUT!AQ184<>\"\",$V182,\"\")","v":""},{"$f":"IF(DATA_INPUT!AR184<>\"\",DATA_INPUT!AR184,\"\")","v":""},{"$f":"IF(DATA_INPUT!AS184<>\"\",DATA_INPUT!AS184,\"\")","v":""},{"$f":"IF(DATA_INPUT!AT184<>\"\",DATA_INPUT!AT184,\"\")","v":""},{"$f":"IF(DATA_INPUT!AU184<>\"\",DATA_INPUT!AU184,\"\")","v":""},{"$f":"IF(DATA_INPUT!AV184<>\"\",DATA_INPUT!AV184,\"\")","v":""},{"$f":"IF(DATA_INPUT!AW184<>\"\",DATA_INPUT!AW184,\"\")","v":""},{"$f":"IF(DATA_INPUT!AX184<>\"\",DATA_INPUT!AX184+Directions!$D$24-1,\"\")","v":""},{"$f":"IF(DATA_INPUT!AY184<>\"\",DATA_INPUT!AY184,\"\")","v":""},{"$f":"IF(DATA_INPUT!G184<>\"\",2,IF(DATA_INPUT!N184>2,2,IF(DATA_INPUT!N184=2,3,4)))","v":4},{"$f":"IF(OR(DATA_INPUT!S184<>\"\",DATA_INPUT!T184<>\"\"),H182,\"\")","v":""},{"$f":"IF(DATA_INPUT!T184<>\"\",\"X\",\"\")","v":""}]
[{"$f":"IF(DATA_INPUT!F185<>\"\",DATA_INPUT!F185,\"\")","v":""},{"$f":"IF(DATA_INPUT!G185<>\"\",DATA_INPUT!G185,\"\")","v":""},{"$f":"IF(DATA_INPUT!H185<>\"\",DATA_INPUT!H185,\"\")","v":""},{"$f":"IF(DATA_INPUT!I185<>\"\",DATA_INPUT!I185,\"\")","v":""},{"$f":"IF(DATA_INPUT!J185<>\"\",DATA_INPUT!J185,\"\")","v":""},{"$f":"IF(DATA_INPUT!L185<>\"\",DATA_INPUT!L185,IF(DATA_INPUT!K185<>\"\",DATA_INPUT!K185,\"\"))","v":""},{"$f":"IF(DATA_INPUT!O185<>\"\",DATA_INPUT!O185,\"\")","v":""},{"$f":"IF(DATA_INPUT!P185<>\"\",DATA_INPUT!P185,\"\")","v":""},{"$f":"IF(DATA_INPUT!Q185<>\"\",DATA_INPUT!Q185,\"\")","v":""},{"$f":"IF(DATA_INPUT!R185<>\"\",DATA_INPUT!R185,\"\")","v":""},{"$f":"IF(DATA_INPUT!S185<>\"\",IF(DATA_INPUT!AZ185<>\"\",DATA_INPUT!AZ185,H183*I183*J183/144)*IF(G183<>\"\",3/2,1),\"\")","v":""},{"$f":"IF(DATA_INPUT!T185<>\"\",IF(DATA_INPUT!AZ185<>\"\",DATA_INPUT!AZ185,H183*I183*J183/144)*IF(G183<>\"\",3/2,1),\"\")","v":""},{"$f":"IF(DATA_INPUT!U185<>\"\",$H183,\"\")","v":""},{"$f":"IF(DATA_INPUT!V185<>\"\",$H183,\"\")","v":""},{"$f":"IF(DATA_INPUT!W185<>\"\",$H183,\"\")","v":""},{"$f":"IF(DATA_INPUT!X185<>\"\",$H183,\"\")","v":""},{"$f":"IF(DATA_INPUT!Y185<>\"\",$H183,\"\")","v":""},{"$f":"IF(DATA_INPUT!Z185<>\"\",DATA_INPUT!Z185,\"\")","v":""},{"$f":"IF(DATA_INPUT!AA185<>\"\",DATA_INPUT!AA185,\"\")","v":""},{"$f":"IF(DATA_INPUT!AB185<>\"\",DATA_INPUT!AB185,\"\")","v":""},{"$f":"IF(DATA_INPUT!AC185<>\"\",DATA_INPUT!AC185,\"\")","v":""},{"$f":"IF(DATA_INPUT!AD185<>\"\",DATA_INPUT!AD185,\"\")","v":""},{"$f":"IF(DATA_INPUT!AE185<>\"\",$V183,\"\")","v":""},{"$f":"IF(DATA_INPUT!AF185<>\"\",$V183*8,\"\")","v":""},{"$f":"IF(DATA_INPUT!AG185<>\"\",$V183*15,\"\")","v":""},{"$f":"IF(DATA_INPUT!AH185<>\"\",$V183*15,\"\")","v":""},{"$f":"IF(DATA_INPUT!AI185<>\"\",$V183,\"\")","v":""},{"$f":"IF(DATA_INPUT!AJ185<>\"\",$V183,\"\")","v":""},{"$f":"IF(DATA_INPUT!AK185<>\"\",$V183,\"\")","v":""},{"$f":"IF(DATA_INPUT!AL185<>\"\",$V183*7.6*DATA_INPUT!AL185,\"\")","v":""},{"$f":"IF(DATA_INPUT!AM185<>\"\",$V183*9*DATA_INPUT!AM185,\"\")","v":""},{"$f":"IF(DATA_INPUT!AN185<>\"\",$V183*10.8*DATA_INPUT!AN185,\"\")","v":""},{"$f":"IF(DATA_INPUT!AO185<>\"\",$V183*14.6*DATA_INPUT!AO185,\"\")","v":""},{"$f":"IF(DATA_INPUT!AP185<>\"\",$V183,\"\")","v":""},{"$f":"IF(DATA_INPUT!AQ185<>\"\",$V183,\"\")","v":""},{"$f":"IF(DATA_INPUT!AR185<>\"\",DATA_INPUT!AR185,\"\")","v":""},{"$f":"IF(DATA_INPUT!AS185<>\"\",DATA_INPUT!AS185,\"\")","v":""},{"$f":"IF(DATA_INPUT!AT185<>\"\",DATA_INPUT!AT185,\"\")","v":""},{"$f":"IF(DATA_INPUT!AU185<>\"\",DATA_INPUT!AU185,\"\")","v":""},{"$f":"IF(DATA_INPUT!AV185<>\"\",DATA_INPUT!AV185,\"\")","v":""},{"$f":"IF(DATA_INPUT!AW185<>\"\",DATA_INPUT!AW185,\"\")","v":""},{"$f":"IF(DATA_INPUT!AX185<>\"\",DATA_INPUT!AX185+Directions!$D$24-1,\"\")","v":""},{"$f":"IF(DATA_INPUT!AY185<>\"\",DATA_INPUT!AY185,\"\")","v":""},{"$f":"IF(DATA_INPUT!G185<>\"\",2,IF(DATA_INPUT!N185>2,2,IF(DATA_INPUT!N185=2,3,4)))","v":4},{"$f":"IF(OR(DATA_INPUT!S185<>\"\",DATA_INPUT!T185<>\"\"),H183,\"\")","v":""},{"$f":"IF(DATA_INPUT!T185<>\"\",\"X\",\"\")","v":""}]
[{"$f":"IF(DATA_INPUT!F186<>\"\",DATA_INPUT!F186,\"\")","v":""},{"$f":"IF(DATA_INPUT!G186<>\"\",DATA_INPUT!G186,\"\")","v":""},{"$f":"IF(DATA_INPUT!H186<>\"\",DATA_INPUT!H186,\"\")","v":""},{"$f":"IF(DATA_INPUT!I186<>\"\",DATA_INPUT!I186,\"\")","v":""},{"$f":"IF(DATA_INPUT!J186<>\"\",DATA_INPUT!J186,\"\")","v":""},{"$f":"IF(DATA_INPUT!L186<>\"\",DATA_INPUT!L186,IF(DATA_INPUT!K186<>\"\",DATA_INPUT!K186,\"\"))","v":""},{"$f":"IF(DATA_INPUT!O186<>\"\",DATA_INPUT!O186,\"\")","v":""},{"$f":"IF(DATA_INPUT!P186<>\"\",DATA_INPUT!P186,\"\")","v":""},{"$f":"IF(DATA_INPUT!Q186<>\"\",DATA_INPUT!Q186,\"\")","v":""},{"$f":"IF(DATA_INPUT!R186<>\"\",DATA_INPUT!R186,\"\")","v":""},{"$f":"IF(DATA_INPUT!S186<>\"\",IF(DATA_INPUT!AZ186<>\"\",DATA_INPUT!AZ186,H184*I184*J184/144)*IF(G184<>\"\",3/2,1),\"\")","v":""},{"$f":"IF(DATA_INPUT!T186<>\"\",IF(DATA_INPUT!AZ186<>\"\",DATA_INPUT!AZ186,H184*I184*J184/144)*IF(G184<>\"\",3/2,1),\"\")","v":""},{"$f":"IF(DATA_INPUT!U186<>\"\",$H184,\"\")","v":""},{"$f":"IF(DATA_INPUT!V186<>\"\",$H184,\"\")","v":""},{"$f":"IF(DATA_INPUT!W186<>\"\",$H184,\"\")","v":""},{"$f":"IF(DATA_INPUT!X186<>\"\",$H184,\"\")","v":""},{"$f":"IF(DATA_INPUT!Y186<>\"\",$H184,\"\")","v":""},{"$f":"IF(DATA_INPUT!Z186<>\"\",DATA_INPUT!Z186,\"\")","v":""},{"$f":"IF(DATA_INPUT!AA186<>\"\",DATA_INPUT!AA186,\"\")","v":""},{"$f":"IF(DATA_INPUT!AB186<>\"\",DATA_INPUT!AB186,\"\")","v":""},{"$f":"IF(DATA_INPUT!AC186<>\"\",DATA_INPUT!AC186,\"\")","v":""},{"$f":"IF(DATA_INPUT!AD186<>\"\",DATA_INPUT!AD186,\"\")","v":""},{"$f":"IF(DATA_INPUT!AE186<>\"\",$V184,\"\")","v":""},{"$f":"IF(DATA_INPUT!AF186<>\"\",$V184*8,\"\")","v":""},{"$f":"IF(DATA_INPUT!AG186<>\"\",$V184*15,\"\")","v":""},{"$f":"IF(DATA_INPUT!AH186<>\"\",$V184*15,\"\")","v":""},{"$f":"IF(DATA_INPUT!AI186<>\"\",$V184,\"\")","v":""},{"$f":"IF(DATA_INPUT!AJ186<>\"\",$V184,\"\")","v":""},{"$f":"IF(DATA_INPUT!AK186<>\"\",$V184,\"\")","v":""},{"$f":"IF(DATA_INPUT!AL186<>\"\",$V184*7.6*DATA_INPUT!AL186,\"\")","v":""},{"$f":"IF(DATA_INPUT!AM186<>\"\",$V184*9*DATA_INPUT!AM186,\"\")","v":""},{"$f":"IF(DATA_INPUT!AN186<>\"\",$V184*10.8*DATA_INPUT!AN186,\"\")","v":""},{"$f":"IF(DATA_INPUT!AO186<>\"\",$V184*14.6*DATA_INPUT!AO186,\"\")","v":""},{"$f":"IF(DATA_INPUT!AP186<>\"\",$V184,\"\")","v":""},{"$f":"IF(DATA_INPUT!AQ186<>\"\",$V184,\"\")","v":""},{"$f":"IF(DATA_INPUT!AR186<>\"\",DATA_INPUT!AR186,\"\")","v":""},{"$f":"IF(DATA_INPUT!AS186<>\"\",DATA_INPUT!AS186,\"\")","v":""},{"$f":"IF(DATA_INPUT!AT186<>\"\",DATA_INPUT!AT186,\"\")","v":""},{"$f":"IF(DATA_INPUT!AU186<>\"\",DATA_INPUT!AU186,\"\")","v":""},{"$f":"IF(DATA_INPUT!AV186<>\"\",DATA_INPUT!AV186,\"\")","v":""},{"$f":"IF(DATA_INPUT!AW186<>\"\",DATA_INPUT!AW186,\"\")","v":""},{"$f":"IF(DATA_INPUT!AX186<>\"\",DATA_INPUT!AX186+Directions!$D$24-1,\"\")","v":""},{"$f":"IF(DATA_INPUT!AY186<>\"\",DATA_INPUT!AY186,\"\")","v":""},{"$f":"IF(DATA_INPUT!G186<>\"\",2,IF(DATA_INPUT!N186>2,2,IF(DATA_INPUT!N186=2,3,4)))","v":4},{"$f":"IF(OR(DATA_INPUT!S186<>\"\",DATA_INPUT!T186<>\"\"),H184,\"\")","v":""},{"$f":"IF(DATA_INPUT!T186<>\"\",\"X\",\"\")","v":""}]
[{"$f":"IF(DATA_INPUT!F187<>\"\",DATA_INPUT!F187,\"\")","v":""},{"$f":"IF(DATA_INPUT!G187<>\"\",DATA_INPUT!G187,\"\")","v":""},{"$f":"IF(DATA_INPUT!H187<>\"\",DATA_INPUT!H187,\"\")","v":""},{"$f":"IF(DATA_INPUT!I187<>\"\",DATA_INPUT!I187,\"\")","v":""},{"$f":"IF(DATA_INPUT!J187<>\"\",DATA_INPUT!J187,\"\")","v":""},{"$f":"IF(DATA_INPUT!L187<>\"\",DATA_INPUT!L187,IF(DATA_INPUT!K187<>\"\",DATA_INPUT!K187,\"\"))","v":""},{"$f":"IF(DATA_INPUT!O187<>\"\",DATA_INPUT!O187,\"\")","v":""},{"$f":"IF(DATA_INPUT!P187<>\"\",DATA_INPUT!P187,\"\")","v":""},{"$f":"IF(DATA_INPUT!Q187<>\"\",DATA_INPUT!Q187,\"\")","v":""},{"$f":"IF(DATA_INPUT!R187<>\"\",DATA_INPUT!R187,\"\")","v":""},{"$f":"IF(DATA_INPUT!S187<>\"\",IF(DATA_INPUT!AZ187<>\"\",DATA_INPUT!AZ187,H185*I185*J185/144)*IF(G185<>\"\",3/2,1),\"\")","v":""},{"$f":"IF(DATA_INPUT!T187<>\"\",IF(DATA_INPUT!AZ187<>\"\",DATA_INPUT!AZ187,H185*I185*J185/144)*IF(G185<>\"\",3/2,1),\"\")","v":""},{"$f":"IF(DATA_INPUT!U187<>\"\",$H185,\"\")","v":""},{"$f":"IF(DATA_INPUT!V187<>\"\",$H185,\"\")","v":""},{"$f":"IF(DATA_INPUT!W187<>\"\",$H185,\"\")","v":""},{"$f":"IF(DATA_INPUT!X187<>\"\",$H185,\"\")","v":""},{"$f":"IF(DATA_INPUT!Y187<>\"\",$H185,\"\")","v":""},{"$f":"IF(DATA_INPUT!Z187<>\"\",DATA_INPUT!Z187,\"\")","v":""},{"$f":"IF(DATA_INPUT!AA187<>\"\",DATA_INPUT!AA187,\"\")","v":""},{"$f":"IF(DATA_INPUT!AB187<>\"\",DATA_INPUT!AB187,\"\")","v":""},{"$f":"IF(DATA_INPUT!AC187<>\"\",DATA_INPUT!AC187,\"\")","v":""},{"$f":"IF(DATA_INPUT!AD187<>\"\",DATA_INPUT!AD187,\"\")","v":""},{"$f":"IF(DATA_INPUT!AE187<>\"\",$V185,\"\")","v":""},{"$f":"IF(DATA_INPUT!AF187<>\"\",$V185*8,\"\")","v":""},{"$f":"IF(DATA_INPUT!AG187<>\"\",$V185*15,\"\")","v":""},{"$f":"IF(DATA_INPUT!AH187<>\"\",$V185*15,\"\")","v":""},{"$f":"IF(DATA_INPUT!AI187<>\"\",$V185,\"\")","v":""},{"$f":"IF(DATA_INPUT!AJ187<>\"\",$V185,\"\")","v":""},{"$f":"IF(DATA_INPUT!AK187<>\"\",$V185,\"\")","v":""},{"$f":"IF(DATA_INPUT!AL187<>\"\",$V185*7.6*DATA_INPUT!AL187,\"\")","v":""},{"$f":"IF(DATA_INPUT!AM187<>\"\",$V185*9*DATA_INPUT!AM187,\"\")","v":""},{"$f":"IF(DATA_INPUT!AN187<>\"\",$V185*10.8*DATA_INPUT!AN187,\"\")","v":""},{"$f":"IF(DATA_INPUT!AO187<>\"\",$V185*14.6*DATA_INPUT!AO187,\"\")","v":""},{"$f":"IF(DATA_INPUT!AP187<>\"\",$V185,\"\")","v":""},{"$f":"IF(DATA_INPUT!AQ187<>\"\",$V185,\"\")","v":""},{"$f":"IF(DATA_INPUT!AR187<>\"\",DATA_INPUT!AR187,\"\")","v":""},{"$f":"IF(DATA_INPUT!AS187<>\"\",DATA_INPUT!AS187,\"\")","v":""},{"$f":"IF(DATA_INPUT!AT187<>\"\",DATA_INPUT!AT187,\"\")","v":""},{"$f":"IF(DATA_INPUT!AU187<>\"\",DATA_INPUT!AU187,\"\")","v":""},{"$f":"IF(DATA_INPUT!AV187<>\"\",DATA_INPUT!AV187,\"\")","v":""},{"$f":"IF(DATA_INPUT!AW187<>\"\",DATA_INPUT!AW187,\"\")","v":""},{"$f":"IF(DATA_INPUT!AX187<>\"\",DATA_INPUT!AX187+Directions!$D$24-1,\"\")","v":""},{"$f":"IF(DATA_INPUT!AY187<>\"\",DATA_INPUT!AY187,\"\")","v":""},{"$f":"IF(DATA_INPUT!G187<>\"\",2,IF(DATA_INPUT!N187>2,2,IF(DATA_INPUT!N187=2,3,4)))","v":4},{"$f":"IF(OR(DATA_INPUT!S187<>\"\",DATA_INPUT!T187<>\"\"),H185,\"\")","v":""},{"$f":"IF(DATA_INPUT!T187<>\"\",\"X\",\"\")","v":""}]
[{"$f":"IF(DATA_INPUT!F188<>\"\",DATA_INPUT!F188,\"\")","v":""},{"$f":"IF(DATA_INPUT!G188<>\"\",DATA_INPUT!G188,\"\")","v":""},{"$f":"IF(DATA_INPUT!H188<>\"\",DATA_INPUT!H188,\"\")","v":""},{"$f":"IF(DATA_INPUT!I188<>\"\",DATA_INPUT!I188,\"\")","v":""},{"$f":"IF(DATA_INPUT!J188<>\"\",DATA_INPUT!J188,\"\")","v":""},{"$f":"IF(DATA_INPUT!L188<>\"\",DATA_INPUT!L188,IF(DATA_INPUT!K188<>\"\",DATA_INPUT!K188,\"\"))","v":""},{"$f":"IF(DATA_INPUT!O188<>\"\",DATA_INPUT!O188,\"\")","v":""},{"$f":"IF(DATA_INPUT!P188<>\"\",DATA_INPUT!P188,\"\")","v":""},{"$f":"IF(DATA_INPUT!Q188<>\"\",DATA_INPUT!Q188,\"\")","v":""},{"$f":"IF(DATA_INPUT!R188<>\"\",DATA_INPUT!R188,\"\")","v":""},{"$f":"IF(DATA_INPUT!S188<>\"\",IF(DATA_INPUT!AZ188<>\"\",DATA_INPUT!AZ188,H186*I186*J186/144)*IF(G186<>\"\",3/2,1),\"\")","v":""},{"$f":"IF(DATA_INPUT!T188<>\"\",IF(DATA_INPUT!AZ188<>\"\",DATA_INPUT!AZ188,H186*I186*J186/144)*IF(G186<>\"\",3/2,1),\"\")","v":""},{"$f":"IF(DATA_INPUT!U188<>\"\",$H186,\"\")","v":""},{"$f":"IF(DATA_INPUT!V188<>\"\",$H186,\"\")","v":""},{"$f":"IF(DATA_INPUT!W188<>\"\",$H186,\"\")","v":""},{"$f":"IF(DATA_INPUT!X188<>\"\",$H186,\"\")","v":""},{"$f":"IF(DATA_INPUT!Y188<>\"\",$H186,\"\")","v":""},{"$f":"IF(DATA_INPUT!Z188<>\"\",DATA_INPUT!Z188,\"\")","v":""},{"$f":"IF(DATA_INPUT!AA188<>\"\",DATA_INPUT!AA188,\"\")","v":""},{"$f":"IF(DATA_INPUT!AB188<>\"\",DATA_INPUT!AB188,\"\")","v":""},{"$f":"IF(DATA_INPUT!AC188<>\"\",DATA_INPUT!AC188,\"\")","v":""},{"$f":"IF(DATA_INPUT!AD188<>\"\",DATA_INPUT!AD188,\"\")","v":""},{"$f":"IF(DATA_INPUT!AE188<>\"\",$V186,\"\")","v":""},{"$f":"IF(DATA_INPUT!AF188<>\"\",$V186*8,\"\")","v":""},{"$f":"IF(DATA_INPUT!AG188<>\"\",$V186*15,\"\")","v":""},{"$f":"IF(DATA_INPUT!AH188<>\"\",$V186*15,\"\")","v":""},{"$f":"IF(DATA_INPUT!AI188<>\"\",$V186,\"\")","v":""},{"$f":"IF(DATA_INPUT!AJ188<>\"\",$V186,\"\")","v":""},{"$f":"IF(DATA_INPUT!AK188<>\"\",$V186,\"\")","v":""},{"$f":"IF(DATA_INPUT!AL188<>\"\",$V186*7.6*DATA_INPUT!AL188,\"\")","v":""},{"$f":"IF(DATA_INPUT!AM188<>\"\",$V186*9*DATA_INPUT!AM188,\"\")","v":""},{"$f":"IF(DATA_INPUT!AN188<>\"\",$V186*10.8*DATA_INPUT!AN188,\"\")","v":""},{"$f":"IF(DATA_INPUT!AO188<>\"\",$V186*14.6*DATA_INPUT!AO188,\"\")","v":""},{"$f":"IF(DATA_INPUT!AP188<>\"\",$V186,\"\")","v":""},{"$f":"IF(DATA_INPUT!AQ188<>\"\",$V186,\"\")","v":""},{"$f":"IF(DATA_INPUT!AR188<>\"\",DATA_INPUT!AR188,\"\")","v":""},{"$f":"IF(DATA_INPUT!AS188<>\"\",DATA_INPUT!AS188,\"\")","v":""},{"$f":"IF(DATA_INPUT!AT188<>\"\",DATA_INPUT!AT188,\"\")","v":""},{"$f":"IF(DATA_INPUT!AU188<>\"\",DATA_INPUT!AU188,\"\")","v":""},{"$f":"IF(DATA_INPUT!AV188<>\"\",DATA_INPUT!AV188,\"\")","v":""},{"$f":"IF(DATA_INPUT!AW188<>\"\",DATA_INPUT!AW188,\"\")","v":""},{"$f":"IF(DATA_INPUT!AX188<>\"\",DATA_INPUT!AX188+Directions!$D$24-1,\"\")","v":""},{"$f":"IF(DATA_INPUT!AY188<>\"\",DATA_INPUT!AY188,\"\")","v":""},{"$f":"IF(DATA_INPUT!G188<>\"\",2,IF(DATA_INPUT!N188>2,2,IF(DATA_INPUT!N188=2,3,4)))","v":4},{"$f":"IF(OR(DATA_INPUT!S188<>\"\",DATA_INPUT!T188<>\"\"),H186,\"\")","v":""},{"$f":"IF(DATA_INPUT!T188<>\"\",\"X\",\"\")","v":""}]
[{"$f":"IF(DATA_INPUT!F189<>\"\",DATA_INPUT!F189,\"\")","v":""},{"$f":"IF(DATA_INPUT!G189<>\"\",DATA_INPUT!G189,\"\")","v":""},{"$f":"IF(DATA_INPUT!H189<>\"\",DATA_INPUT!H189,\"\")","v":""},{"$f":"IF(DATA_INPUT!I189<>\"\",DATA_INPUT!I189,\"\")","v":""},{"$f":"IF(DATA_INPUT!J189<>\"\",DATA_INPUT!J189,\"\")","v":""},{"$f":"IF(DATA_INPUT!L189<>\"\",DATA_INPUT!L189,IF(DATA_INPUT!K189<>\"\",DATA_INPUT!K189,\"\"))","v":""},{"$f":"IF(DATA_INPUT!O189<>\"\",DATA_INPUT!O189,\"\")","v":""},{"$f":"IF(DATA_INPUT!P189<>\"\",DATA_INPUT!P189,\"\")","v":""},{"$f":"IF(DATA_INPUT!Q189<>\"\",DATA_INPUT!Q189,\"\")","v":""},{"$f":"IF(DATA_INPUT!R189<>\"\",DATA_INPUT!R189,\"\")","v":""},{"$f":"IF(DATA_INPUT!S189<>\"\",IF(DATA_INPUT!AZ189<>\"\",DATA_INPUT!AZ189,H187*I187*J187/144)*IF(G187<>\"\",3/2,1),\"\")","v":""},{"$f":"IF(DATA_INPUT!T189<>\"\",IF(DATA_INPUT!AZ189<>\"\",DATA_INPUT!AZ189,H187*I187*J187/144)*IF(G187<>\"\",3/2,1),\"\")","v":""},{"$f":"IF(DATA_INPUT!U189<>\"\",$H187,\"\")","v":""},{"$f":"IF(DATA_INPUT!V189<>\"\",$H187,\"\")","v":""},{"$f":"IF(DATA_INPUT!W189<>\"\",$H187,\"\")","v":""},{"$f":"IF(DATA_INPUT!X189<>\"\",$H187,\"\")","v":""},{"$f":"IF(DATA_INPUT!Y189<>\"\",$H187,\"\")","v":""},{"$f":"IF(DATA_INPUT!Z189<>\"\",DATA_INPUT!Z189,\"\")","v":""},{"$f":"IF(DATA_INPUT!AA189<>\"\",DATA_INPUT!AA189,\"\")","v":""},{"$f":"IF(DATA_INPUT!AB189<>\"\",DATA_INPUT!AB189,\"\")","v":""},{"$f":"IF(DATA_INPUT!AC189<>\"\",DATA_INPUT!AC189,\"\")","v":""},{"$f":"IF(DATA_INPUT!AD189<>\"\",DATA_INPUT!AD189,\"\")","v":""},{"$f":"IF(DATA_INPUT!AE189<>\"\",$V187,\"\")","v":""},{"$f":"IF(DATA_INPUT!AF189<>\"\",$V187*8,\"\")","v":""},{"$f":"IF(DATA_INPUT!AG189<>\"\",$V187*15,\"\")","v":""},{"$f":"IF(DATA_INPUT!AH189<>\"\",$V187*15,\"\")","v":""},{"$f":"IF(DATA_INPUT!AI189<>\"\",$V187,\"\")","v":""},{"$f":"IF(DATA_INPUT!AJ189<>\"\",$V187,\"\")","v":""},{"$f":"IF(DATA_INPUT!AK189<>\"\",$V187,\"\")","v":""},{"$f":"IF(DATA_INPUT!AL189<>\"\",$V187*7.6*DATA_INPUT!AL189,\"\")","v":""},{"$f":"IF(DATA_INPUT!AM189<>\"\",$V187*9*DATA_INPUT!AM189,\"\")","v":""},{"$f":"IF(DATA_INPUT!AN189<>\"\",$V187*10.8*DATA_INPUT!AN189,\"\")","v":""},{"$f":"IF(DATA_INPUT!AO189<>\"\",$V187*14.6*DATA_INPUT!AO189,\"\")","v":""},{"$f":"IF(DATA_INPUT!AP189<>\"\",$V187,\"\")","v":""},{"$f":"IF(DATA_INPUT!AQ189<>\"\",$V187,\"\")","v":""},{"$f":"IF(DATA_INPUT!AR189<>\"\",DATA_INPUT!AR189,\"\")","v":""},{"$f":"IF(DATA_INPUT!AS189<>\"\",DATA_INPUT!AS189,\"\")","v":""},{"$f":"IF(DATA_INPUT!AT189<>\"\",DATA_INPUT!AT189,\"\")","v":""},{"$f":"IF(DATA_INPUT!AU189<>\"\",DATA_INPUT!AU189,\"\")","v":""},{"$f":"IF(DATA_INPUT!AV189<>\"\",DATA_INPUT!AV189,\"\")","v":""},{"$f":"IF(DATA_INPUT!AW189<>\"\",DATA_INPUT!AW189,\"\")","v":""},{"$f":"IF(DATA_INPUT!AX189<>\"\",DATA_INPUT!AX189+Directions!$D$24-1,\"\")","v":""},{"$f":"IF(DATA_INPUT!AY189<>\"\",DATA_INPUT!AY189,\"\")","v":""},{"$f":"IF(DATA_INPUT!G189<>\"\",2,IF(DATA_INPUT!N189>2,2,IF(DATA_INPUT!N189=2,3,4)))","v":4},{"$f":"IF(OR(DATA_INPUT!S189<>\"\",DATA_INPUT!T189<>\"\"),H187,\"\")","v":""},{"$f":"IF(DATA_INPUT!T189<>\"\",\"X\",\"\")","v":""}]
[{"$f":"IF(DATA_INPUT!F190<>\"\",DATA_INPUT!F190,\"\")","v":""},{"$f":"IF(DATA_INPUT!G190<>\"\",DATA_INPUT!G190,\"\")","v":""},{"$f":"IF(DATA_INPUT!H190<>\"\",DATA_INPUT!H190,\"\")","v":""},{"$f":"IF(DATA_INPUT!I190<>\"\",DATA_INPUT!I190,\"\")","v":""},{"$f":"IF(DATA_INPUT!J190<>\"\",DATA_INPUT!J190,\"\")","v":""},{"$f":"IF(DATA_INPUT!L190<>\"\",DATA_INPUT!L190,IF(DATA_INPUT!K190<>\"\",DATA_INPUT!K190,\"\"))","v":""},{"$f":"IF(DATA_INPUT!O190<>\"\",DATA_INPUT!O190,\"\")","v":""},{"$f":"IF(DATA_INPUT!P190<>\"\",DATA_INPUT!P190,\"\")","v":""},{"$f":"IF(DATA_INPUT!Q190<>\"\",DATA_INPUT!Q190,\"\")","v":""},{"$f":"IF(DATA_INPUT!R190<>\"\",DATA_INPUT!R190,\"\")","v":""},{"$f":"IF(DATA_INPUT!S190<>\"\",IF(DATA_INPUT!AZ190<>\"\",DATA_INPUT!AZ190,H188*I188*J188/144)*IF(G188<>\"\",3/2,1),\"\")","v":""},{"$f":"IF(DATA_INPUT!T190<>\"\",IF(DATA_INPUT!AZ190<>\"\",DATA_INPUT!AZ190,H188*I188*J188/144)*IF(G188<>\"\",3/2,1),\"\")","v":""},{"$f":"IF(DATA_INPUT!U190<>\"\",$H188,\"\")","v":""},{"$f":"IF(DATA_INPUT!V190<>\"\",$H188,\"\")","v":""},{"$f":"IF(DATA_INPUT!W190<>\"\",$H188,\"\")","v":""},{"$f":"IF(DATA_INPUT!X190<>\"\",$H188,\"\")","v":""},{"$f":"IF(DATA_INPUT!Y190<>\"\",$H188,\"\")","v":""},{"$f":"IF(DATA_INPUT!Z190<>\"\",DATA_INPUT!Z190,\"\")","v":""},{"$f":"IF(DATA_INPUT!AA190<>\"\",DATA_INPUT!AA190,\"\")","v":""},{"$f":"IF(DATA_INPUT!AB190<>\"\",DATA_INPUT!AB190,\"\")","v":""},{"$f":"IF(DATA_INPUT!AC190<>\"\",DATA_INPUT!AC190,\"\")","v":""},{"$f":"IF(DATA_INPUT!AD190<>\"\",DATA_INPUT!AD190,\"\")","v":""},{"$f":"IF(DATA_INPUT!AE190<>\"\",$V188,\"\")","v":""},{"$f":"IF(DATA_INPUT!AF190<>\"\",$V188*8,\"\")","v":""},{"$f":"IF(DATA_INPUT!AG190<>\"\",$V188*15,\"\")","v":""},{"$f":"IF(DATA_INPUT!AH190<>\"\",$V188*15,\"\")","v":""},{"$f":"IF(DATA_INPUT!AI190<>\"\",$V188,\"\")","v":""},{"$f":"IF(DATA_INPUT!AJ190<>\"\",$V188,\"\")","v":""},{"$f":"IF(DATA_INPUT!AK190<>\"\",$V188,\"\")","v":""},{"$f":"IF(DATA_INPUT!AL190<>\"\",$V188*7.6*DATA_INPUT!AL190,\"\")","v":""},{"$f":"IF(DATA_INPUT!AM190<>\"\",$V188*9*DATA_INPUT!AM190,\"\")","v":""},{"$f":"IF(DATA_INPUT!AN190<>\"\",$V188*10.8*DATA_INPUT!AN190,\"\")","v":""},{"$f":"IF(DATA_INPUT!AO190<>\"\",$V188*14.6*DATA_INPUT!AO190,\"\")","v":""},{"$f":"IF(DATA_INPUT!AP190<>\"\",$V188,\"\")","v":""},{"$f":"IF(DATA_INPUT!AQ190<>\"\",$V188,\"\")","v":""},{"$f":"IF(DATA_INPUT!AR190<>\"\",DATA_INPUT!AR190,\"\")","v":""},{"$f":"IF(DATA_INPUT!AS190<>\"\",DATA_INPUT!AS190,\"\")","v":""},{"$f":"IF(DATA_INPUT!AT190<>\"\",DATA_INPUT!AT190,\"\")","v":""},{"$f":"IF(DATA_INPUT!AU190<>\"\",DATA_INPUT!AU190,\"\")","v":""},{"$f":"IF(DATA_INPUT!AV190<>\"\",DATA_INPUT!AV190,\"\")","v":""},{"$f":"IF(DATA_INPUT!AW190<>\"\",DATA_INPUT!AW190,\"\")","v":""},{"$f":"IF(DATA_INPUT!AX190<>\"\",DATA_INPUT!AX190+Directions!$D$24-1,\"\")","v":""},{"$f":"IF(DATA_INPUT!AY190<>\"\",DATA_INPUT!AY190,\"\")","v":""},{"$f":"IF(DATA_INPUT!G190<>\"\",2,IF(DATA_INPUT!N190>2,2,IF(DATA_INPUT!N190=2,3,4)))","v":4},{"$f":"IF(OR(DATA_INPUT!S190<>\"\",DATA_INPUT!T190<>\"\"),H188,\"\")","v":""},{"$f":"IF(DATA_INPUT!T190<>\"\",\"X\",\"\")","v":""}]
[{"$f":"IF(DATA_INPUT!F191<>\"\",DATA_INPUT!F191,\"\")","v":""},{"$f":"IF(DATA_INPUT!G191<>\"\",DATA_INPUT!G191,\"\")","v":""},{"$f":"IF(DATA_INPUT!H191<>\"\",DATA_INPUT!H191,\"\")","v":""},{"$f":"IF(DATA_INPUT!I191<>\"\",DATA_INPUT!I191,\"\")","v":""},{"$f":"IF(DATA_INPUT!J191<>\"\",DATA_INPUT!J191,\"\")","v":""},{"$f":"IF(DATA_INPUT!L191<>\"\",DATA_INPUT!L191,IF(DATA_INPUT!K191<>\"\",DATA_INPUT!K191,\"\"))","v":""},{"$f":"IF(DATA_INPUT!O191<>\"\",DATA_INPUT!O191,\"\")","v":""},{"$f":"IF(DATA_INPUT!P191<>\"\",DATA_INPUT!P191,\"\")","v":""},{"$f":"IF(DATA_INPUT!Q191<>\"\",DATA_INPUT!Q191,\"\")","v":""},{"$f":"IF(DATA_INPUT!R191<>\"\",DATA_INPUT!R191,\"\")","v":""},{"$f":"IF(DATA_INPUT!S191<>\"\",IF(DATA_INPUT!AZ191<>\"\",DATA_INPUT!AZ191,H189*I189*J189/144)*IF(G189<>\"\",3/2,1),\"\")","v":""},{"$f":"IF(DATA_INPUT!T191<>\"\",IF(DATA_INPUT!AZ191<>\"\",DATA_INPUT!AZ191,H189*I189*J189/144)*IF(G189<>\"\",3/2,1),\"\")","v":""},{"$f":"IF(DATA_INPUT!U191<>\"\",$H189,\"\")","v":""},{"$f":"IF(DATA_INPUT!V191<>\"\",$H189,\"\")","v":""},{"$f":"IF(DATA_INPUT!W191<>\"\",$H189,\"\")","v":""},{"$f":"IF(DATA_INPUT!X191<>\"\",$H189,\"\")","v":""},{"$f":"IF(DATA_INPUT!Y191<>\"\",$H189,\"\")","v":""},{"$f":"IF(DATA_INPUT!Z191<>\"\",DATA_INPUT!Z191,\"\")","v":""},{"$f":"IF(DATA_INPUT!AA191<>\"\",DATA_INPUT!AA191,\"\")","v":""},{"$f":"IF(DATA_INPUT!AB191<>\"\",DATA_INPUT!AB191,\"\")","v":""},{"$f":"IF(DATA_INPUT!AC191<>\"\",DATA_INPUT!AC191,\"\")","v":""},{"$f":"IF(DATA_INPUT!AD191<>\"\",DATA_INPUT!AD191,\"\")","v":""},{"$f":"IF(DATA_INPUT!AE191<>\"\",$V189,\"\")","v":""},{"$f":"IF(DATA_INPUT!AF191<>\"\",$V189*8,\"\")","v":""},{"$f":"IF(DATA_INPUT!AG191<>\"\",$V189*15,\"\")","v":""},{"$f":"IF(DATA_INPUT!AH191<>\"\",$V189*15,\"\")","v":""},{"$f":"IF(DATA_INPUT!AI191<>\"\",$V189,\"\")","v":""},{"$f":"IF(DATA_INPUT!AJ191<>\"\",$V189,\"\")","v":""},{"$f":"IF(DATA_INPUT!AK191<>\"\",$V189,\"\")","v":""},{"$f":"IF(DATA_INPUT!AL191<>\"\",$V189*7.6*DATA_INPUT!AL191,\"\")","v":""},{"$f":"IF(DATA_INPUT!AM191<>\"\",$V189*9*DATA_INPUT!AM191,\"\")","v":""},{"$f":"IF(DATA_INPUT!AN191<>\"\",$V189*10.8*DATA_INPUT!AN191,\"\")","v":""},{"$f":"IF(DATA_INPUT!AO191<>\"\",$V189*14.6*DATA_INPUT!AO191,\"\")","v":""},{"$f":"IF(DATA_INPUT!AP191<>\"\",$V189,\"\")","v":""},{"$f":"IF(DATA_INPUT!AQ191<>\"\",$V189,\"\")","v":""},{"$f":"IF(DATA_INPUT!AR191<>\"\",DATA_INPUT!AR191,\"\")","v":""},{"$f":"IF(DATA_INPUT!AS191<>\"\",DATA_INPUT!AS191,\"\")","v":""},{"$f":"IF(DATA_INPUT!AT191<>\"\",DATA_INPUT!AT191,\"\")","v":""},{"$f":"IF(DATA_INPUT!AU191<>\"\",DATA_INPUT!AU191,\"\")","v":""},{"$f":"IF(DATA_INPUT!AV191<>\"\",DATA_INPUT!AV191,\"\")","v":""},{"$f":"IF(DATA_INPUT!AW191<>\"\",DATA_INPUT!AW191,\"\")","v":""},{"$f":"IF(DATA_INPUT!AX191<>\"\",DATA_INPUT!AX191+Directions!$D$24-1,\"\")","v":""},{"$f":"IF(DATA_INPUT!AY191<>\"\",DATA_INPUT!AY191,\"\")","v":""},{"$f":"IF(DATA_INPUT!G191<>\"\",2,IF(DATA_INPUT!N191>2,2,IF(DATA_INPUT!N191=2,3,4)))","v":4},{"$f":"IF(OR(DATA_INPUT!S191<>\"\",DATA_INPUT!T191<>\"\"),H189,\"\")","v":""},{"$f":"IF(DATA_INPUT!T191<>\"\",\"X\",\"\")","v":""}]
[{"$f":"IF(DATA_INPUT!F192<>\"\",DATA_INPUT!F192,\"\")","v":""},{"$f":"IF(DATA_INPUT!G192<>\"\",DATA_INPUT!G192,\"\")","v":""},{"$f":"IF(DATA_INPUT!H192<>\"\",DATA_INPUT!H192,\"\")","v":""},{"$f":"IF(DATA_INPUT!I192<>\"\",DATA_INPUT!I192,\"\")","v":""},{"$f":"IF(DATA_INPUT!J192<>\"\",DATA_INPUT!J192,\"\")","v":""},{"$f":"IF(DATA_INPUT!L192<>\"\",DATA_INPUT!L192,IF(DATA_INPUT!K192<>\"\",DATA_INPUT!K192,\"\"))","v":""},{"$f":"IF(DATA_INPUT!O192<>\"\",DATA_INPUT!O192,\"\")","v":""},{"$f":"IF(DATA_INPUT!P192<>\"\",DATA_INPUT!P192,\"\")","v":""},{"$f":"IF(DATA_INPUT!Q192<>\"\",DATA_INPUT!Q192,\"\")","v":""},{"$f":"IF(DATA_INPUT!R192<>\"\",DATA_INPUT!R192,\"\")","v":""},{"$f":"IF(DATA_INPUT!S192<>\"\",IF(DATA_INPUT!AZ192<>\"\",DATA_INPUT!AZ192,H190*I190*J190/144)*IF(G190<>\"\",3/2,1),\"\")","v":""},{"$f":"IF(DATA_INPUT!T192<>\"\",IF(DATA_INPUT!AZ192<>\"\",DATA_INPUT!AZ192,H190*I190*J190/144)*IF(G190<>\"\",3/2,1),\"\")","v":""},{"$f":"IF(DATA_INPUT!U192<>\"\",$H190,\"\")","v":""},{"$f":"IF(DATA_INPUT!V192<>\"\",$H190,\"\")","v":""},{"$f":"IF(DATA_INPUT!W192<>\"\",$H190,\"\")","v":""},{"$f":"IF(DATA_INPUT!X192<>\"\",$H190,\"\")","v":""},{"$f":"IF(DATA_INPUT!Y192<>\"\",$H190,\"\")","v":""},{"$f":"IF(DATA_INPUT!Z192<>\"\",DATA_INPUT!Z192,\"\")","v":""},{"$f":"IF(DATA_INPUT!AA192<>\"\",DATA_INPUT!AA192,\"\")","v":""},{"$f":"IF(DATA_INPUT!AB192<>\"\",DATA_INPUT!AB192,\"\")","v":""},{"$f":"IF(DATA_INPUT!AC192<>\"\",DATA_INPUT!AC192,\"\")","v":""},{"$f":"IF(DATA_INPUT!AD192<>\"\",DATA_INPUT!AD192,\"\")","v":""},{"$f":"IF(DATA_INPUT!AE192<>\"\",$V190,\"\")","v":""},{"$f":"IF(DATA_INPUT!AF192<>\"\",$V190*8,\"\")","v":""},{"$f":"IF(DATA_INPUT!AG192<>\"\",$V190*15,\"\")","v":""},{"$f":"IF(DATA_INPUT!AH192<>\"\",$V190*15,\"\")","v":""},{"$f":"IF(DATA_INPUT!AI192<>\"\",$V190,\"\")","v":""},{"$f":"IF(DATA_INPUT!AJ192<>\"\",$V190,\"\")","v":""},{"$f":"IF(DATA_INPUT!AK192<>\"\",$V190,\"\")","v":""},{"$f":"IF(DATA_INPUT!AL192<>\"\",$V190*7.6*DATA_INPUT!AL192,\"\")","v":""},{"$f":"IF(DATA_INPUT!AM192<>\"\",$V190*9*DATA_INPUT!AM192,\"\")","v":""},{"$f":"IF(DATA_INPUT!AN192<>\"\",$V190*10.8*DATA_INPUT!AN192,\"\")","v":""},{"$f":"IF(DATA_INPUT!AO192<>\"\",$V190*14.6*DATA_INPUT!AO192,\"\")","v":""},{"$f":"IF(DATA_INPUT!AP192<>\"\",$V190,\"\")","v":""},{"$f":"IF(DATA_INPUT!AQ192<>\"\",$V190,\"\")","v":""},{"$f":"IF(DATA_INPUT!AR192<>\"\",DATA_INPUT!AR192,\"\")","v":""},{"$f":"IF(DATA_INPUT!AS192<>\"\",DATA_INPUT!AS192,\"\")","v":""},{"$f":"IF(DATA_INPUT!AT192<>\"\",DATA_INPUT!AT192,\"\")","v":""},{"$f":"IF(DATA_INPUT!AU192<>\"\",DATA_INPUT!AU192,\"\")","v":""},{"$f":"IF(DATA_INPUT!AV192<>\"\",DATA_INPUT!AV192,\"\")","v":""},{"$f":"IF(DATA_INPUT!AW192<>\"\",DATA_INPUT!AW192,\"\")","v":""},{"$f":"IF(DATA_INPUT!AX192<>\"\",DATA_INPUT!AX192+Directions!$D$24-1,\"\")","v":""},{"$f":"IF(DATA_INPUT!AY192<>\"\",DATA_INPUT!AY192,\"\")","v":""},{"$f":"IF(DATA_INPUT!G192<>\"\",2,IF(DATA_INPUT!N192>2,2,IF(DATA_INPUT!N192=2,3,4)))","v":4},{"$f":"IF(OR(DATA_INPUT!S192<>\"\",DATA_INPUT!T192<>\"\"),H190,\"\")","v":""},{"$f":"IF(DATA_INPUT!T192<>\"\",\"X\",\"\")","v":""}]
[{"$f":"IF(DATA_INPUT!F193<>\"\",DATA_INPUT!F193,\"\")","v":""},{"$f":"IF(DATA_INPUT!G193<>\"\",DATA_INPUT!G193,\"\")","v":""},{"$f":"IF(DATA_INPUT!H193<>\"\",DATA_INPUT!H193,\"\")","v":""},{"$f":"IF(DATA_INPUT!I193<>\"\",DATA_INPUT!I193,\"\")","v":""},{"$f":"IF(DATA_INPUT!J193<>\"\",DATA_INPUT!J193,\"\")","v":""},{"$f":"IF(DATA_INPUT!L193<>\"\",DATA_INPUT!L193,IF(DATA_INPUT!K193<>\"\",DATA_INPUT!K193,\"\"))","v":""},{"$f":"IF(DATA_INPUT!O193<>\"\",DATA_INPUT!O193,\"\")","v":""},{"$f":"IF(DATA_INPUT!P193<>\"\",DATA_INPUT!P193,\"\")","v":""},{"$f":"IF(DATA_INPUT!Q193<>\"\",DATA_INPUT!Q193,\"\")","v":""},{"$f":"IF(DATA_INPUT!R193<>\"\",DATA_INPUT!R193,\"\")","v":""},{"$f":"IF(DATA_INPUT!S193<>\"\",IF(DATA_INPUT!AZ193<>\"\",DATA_INPUT!AZ193,H191*I191*J191/144)*IF(G191<>\"\",3/2,1),\"\")","v":""},{"$f":"IF(DATA_INPUT!T193<>\"\",IF(DATA_INPUT!AZ193<>\"\",DATA_INPUT!AZ193,H191*I191*J191/144)*IF(G191<>\"\",3/2,1),\"\")","v":""},{"$f":"IF(DATA_INPUT!U193<>\"\",$H191,\"\")","v":""},{"$f":"IF(DATA_INPUT!V193<>\"\",$H191,\"\")","v":""},{"$f":"IF(DATA_INPUT!W193<>\"\",$H191,\"\")","v":""},{"$f":"IF(DATA_INPUT!X193<>\"\",$H191,\"\")","v":""},{"$f":"IF(DATA_INPUT!Y193<>\"\",$H191,\"\")","v":""},{"$f":"IF(DATA_INPUT!Z193<>\"\",DATA_INPUT!Z193,\"\")","v":""},{"$f":"IF(DATA_INPUT!AA193<>\"\",DATA_INPUT!AA193,\"\")","v":""},{"$f":"IF(DATA_INPUT!AB193<>\"\",DATA_INPUT!AB193,\"\")","v":""},{"$f":"IF(DATA_INPUT!AC193<>\"\",DATA_INPUT!AC193,\"\")","v":""},{"$f":"IF(DATA_INPUT!AD193<>\"\",DATA_INPUT!AD193,\"\")","v":""},{"$f":"IF(DATA_INPUT!AE193<>\"\",$V191,\"\")","v":""},{"$f":"IF(DATA_INPUT!AF193<>\"\",$V191*8,\"\")","v":""},{"$f":"IF(DATA_INPUT!AG193<>\"\",$V191*15,\"\")","v":""},{"$f":"IF(DATA_INPUT!AH193<>\"\",$V191*15,\"\")","v":""},{"$f":"IF(DATA_INPUT!AI193<>\"\",$V191,\"\")","v":""},{"$f":"IF(DATA_INPUT!AJ193<>\"\",$V191,\"\")","v":""},{"$f":"IF(DATA_INPUT!AK193<>\"\",$V191,\"\")","v":""},{"$f":"IF(DATA_INPUT!AL193<>\"\",$V191*7.6*DATA_INPUT!AL193,\"\")","v":""},{"$f":"IF(DATA_INPUT!AM193<>\"\",$V191*9*DATA_INPUT!AM193,\"\")","v":""},{"$f":"IF(DATA_INPUT!AN193<>\"\",$V191*10.8*DATA_INPUT!AN193,\"\")","v":""},{"$f":"IF(DATA_INPUT!AO193<>\"\",$V191*14.6*DATA_INPUT!AO193,\"\")","v":""},{"$f":"IF(DATA_INPUT!AP193<>\"\",$V191,\"\")","v":""},{"$f":"IF(DATA_INPUT!AQ193<>\"\",$V191,\"\")","v":""},{"$f":"IF(DATA_INPUT!AR193<>\"\",DATA_INPUT!AR193,\"\")","v":""},{"$f":"IF(DATA_INPUT!AS193<>\"\",DATA_INPUT!AS193,\"\")","v":""},{"$f":"IF(DATA_INPUT!AT193<>\"\",DATA_INPUT!AT193,\"\")","v":""},{"$f":"IF(DATA_INPUT!AU193<>\"\",DATA_INPUT!AU193,\"\")","v":""},{"$f":"IF(DATA_INPUT!AV193<>\"\",DATA_INPUT!AV193,\"\")","v":""},{"$f":"IF(DATA_INPUT!AW193<>\"\",DATA_INPUT!AW193,\"\")","v":""},{"$f":"IF(DATA_INPUT!AX193<>\"\",DATA_INPUT!AX193+Directions!$D$24-1,\"\")","v":""},{"$f":"IF(DATA_INPUT!AY193<>\"\",DATA_INPUT!AY193,\"\")","v":""},{"$f":"IF(DATA_INPUT!G193<>\"\",2,IF(DATA_INPUT!N193>2,2,IF(DATA_INPUT!N193=2,3,4)))","v":4},{"$f":"IF(OR(DATA_INPUT!S193<>\"\",DATA_INPUT!T193<>\"\"),H191,\"\")","v":""},{"$f":"IF(DATA_INPUT!T193<>\"\",\"X\",\"\")","v":""}]

{"sheet":"SIGN_LOOKUP","index":3,"n_rows":740,"n_cols":44,"rows_kept":740,"cut":false,"hidden":true,"merged":[]}
["sign_code","source","dev_notes","image_1","desc_1","image_2","desc_2","image_3","desc_3","image_4","desc_4","image_5","desc_5","is_numeric1","num_desc1","num_digits1","is_numeric2","num_desc2","num_digits2","is_numeric3","num_desc3","num_digits3","is_numeric4","num_desc4","num_digits4","width_1","height_1","desc_hw1","width_2","height_2","desc_hw2","width_3","height_3","desc_hw3","width_4","height_4","desc_hw4","width_5","height_5","desc_hw5","width_6","height_6","desc_hw6","width_area_multiplier"]
["D11-1","MUTCD 11th Ed.",null,{"$error":"#VALUE!"},null,null,null,null,null,null,null,null,null,null,null,null,null,null,null,null,null,null,null,null,null,24,18,"Off Roadway; Roadway"]
["D11-11","MUTCD 11th Ed.",null,{"$error":"#VALUE!"},null,null,null,null,null,null,null,null,null,null,null,null,null,null,null,null,null,null,null,null,null,18,null,"Off Roadway"]
["D11-12","MUTCD 11th Ed.",null,{"$error":"#VALUE!"},null,null,null,null,null,null,null,null,null,null,null,null,null,null,null,null,null,null,null,null,null,18,null,"Off Roadway"]
["D11-13","MUTCD 11th Ed.",null,{"$error":"#VALUE!"},null,null,null,null,null,null,null,null,null,null,null,null,null,null,null,null,null,null,null,null,null,18,null,"Off Roadway"]
["D11-14","MUTCD 11th Ed.",null,{"$error":"#VALUE!"},null,null,null,null,null,null,null,null,null,null,null,null,null,null,null,null,null,null,null,null,null,18,null,"Off Roadway"]
["D11-20","MUTCD 11th Ed.",null,{"$error":"#VALUE!"},null,null,null,null,null,null,null,null,null,null,null,null,null,null,null,null,null,null,null,null,null,12,18,"Conventional"]
["D11-20a","MUTCD 11th Ed.",null,{"$error":"#VALUE!"},null,null,null,null,null,null,null,null,null,null,null,null,null,null,null,null,null,null,null,null,null,12,18,"Conventional"]
["D13-3","MUTCD 11th Ed.",null,{"$error":"#VALUE!"},null,null,null,null,null,null,null,null,null,null,null,null,null,null,null,null,null,null,null,null,null,48,30,"Conventional"]
["D4-1","MUTCD 11th Ed.",null,{"$error":"#VALUE!"},null,null,null,null,null,null,null,null,null,null,null,null,null,null,null,null,null,null,null,null,null,18,15,"Minimum",30,24,"Conventional"]
["D4-2","MUTCD 11th Ed.","Arrow",{"$error":"#VALUE!"},null,null,null,null,null,null,null,null,null,null,null,null,null,null,null,null,null,null,null,null,null,24,30,"Minimum",30,36,"Conventional",36,48,"Oversized"]
["D5","MUTCD 11th Ed.",null,{"$error":"#VALUE!"},null,null,null,null,null,null,null,null,null,null,null,null,null,null,null,null,null,null,null,null,null,78,36,"Conventional",114,48,"Expressway",132,60,"Freeway"]
["D5-2","MUTCD 11th Ed.",null,{"$error":"#VALUE!"},null,null,null,null,null,null,null,null,null,null,null,null,null,null,null,null,null,null,null,null,null,78,36,"Conventional",114,60,"Expressway",132,66,"Freeway"]
["D5-6","MUTCD 11th Ed.",null,{"$error":"#VALUE!"},null,null,null,null,null,null,null,null,null,1,"Miles",3,null,null,null,null,null,null,null,null,null,78,54,"Conventional",108,66,"Expressway",132,78,"Freeway"]
["D8-1","MUTCD 11th Ed.",null,{"$error":"#VALUE!"},null,null,null,null,null,null,null,null,null,null,null,null,null,null,null,null,null,null,null,null,null,60,48,"Minimum",78,60,"Conventional",96,72,"Oversized"]
["D9-1","MUTCD 11th Ed.",null,{"$error":"#VALUE!"},null,null,null,null,null,null,null,null,null,null,null,null,null,null,null,null,null,null,null,null,null,24,null,"Conventional",30,null,"Expressway; Freeway"]
["D9-10","MUTCD 11th Ed.",null,{"$error":"#VALUE!"},null,null,null,null,null,null,null,null,null,null,null,null,null,null,null,null,null,null,null,null,null,24,null,"Conventional",30,null,"Expressway; Freeway"]
["D9-11","MUTCD 11th Ed.",null,{"$error":"#VALUE!"},null,null,null,null,null,null,null,null,null,null,null,null,null,null,null,null,null,null,null,null,null,24,null,"Conventional",30,null,"Expressway; Freeway"]
["D9-11a","MUTCD 11th Ed.",null,{"$error":"#VALUE!"},null,null,null,null,null,null,null,null,null,null,null,null,null,null,null,null,null,null,null,null,null,24,null,"Conventional",30,null,"Expressway; Freeway"]
["D9-11b","MUTCD 11th Ed.",null,{"$error":"#VALUE!"},null,null,null,null,null,null,null,null,null,null,null,null,null,null,null,null,null,null,null,null,null,24,null,"Conventional",30,null,"Expressway; Freeway"]
["D9-13","MUTCD 11th Ed.",null,{"$error":"#VALUE!"},null,null,null,null,null,null,null,null,null,null,null,null,null,null,null,null,null,null,null,null,null,24,null,"Conventional",30,null,"Expressway; Freeway"]
["D9-15","MUTCD 11th Ed.",null,{"$error":"#VALUE!"},null,null,null,null,null,null,null,null,null,null,null,null,null,null,null,null,null,null,null,null,null,24,null,"Conventional",30,null,"Expressway; Freeway"]
["D9-17P","MUTCD 11th Ed.",null,{"$error":"#VALUE!"},null,null,null,null,null,null,null,null,null,1,"Miles",3,null,null,null,null,null,null,null,null,null,72,24,"Conventional",114,30,"Expressway; Freeway"]
["D9-2","MUTCD 11th Ed.",null,{"$error":"#VALUE!"},null,null,null,null,null,null,null,null,null,null,null,null,null,null,null,null,null,null,null,null,null,24,null,"Conventional",30,null,"Expressway; Freeway"]
["D9-21","MUTCD 11th Ed.",null,{"$error":"#VALUE!"},null,null,null,null,null,null,null,null,null,null,null,null,null,null,null,null,null,null,null,null,null,24,null,"Conventional",30,null,"Expressway; Freeway"]
["D9-22","MUTCD 11th Ed.",null,{"$error":"#VALUE!"},null,null,null,null,null,null,null,null,null,null,null,null,null,null,null,null,null,null,null,null,null,24,null,"Conventional",30,null,"Expressway; Freeway"]
["D9-3","MUTCD 11th Ed.",null,{"$error":"#VALUE!"},null,null,null,null,null,null,null,null,null,null,null,null,null,null,null,null,null,null,null,null,null,24,null,"Conventional",30,null,"Expressway; Freeway"]
["D9-3a","MUTCD 11th Ed.",null,{"$error":"#VALUE!"},null,null,null,null,null,null,null,null,null,null,null,null,null,null,null,null,null,null,null,null,null,24,null,"Conventional",30,null,"Expressway; Freeway"]
["D9-4","MUTCD 11th Ed.",null,{"$error":"#VALUE!"},null,null,null,null,null,null,null,null,null,null,null,null,null,null,null,null,null,null,null,null,null,24,30,"Conventional",36,48,"Expressway; Freeway"]
["D9-6","MUTCD 11th Ed.",null,{"$error":"#VALUE!"},null,null,null,null,null,null,null,null,null,null,null,null,null,null,null,null,null,null,null,null,null,24,null,"Conventional",30,null,"Expressway; Freeway"]
["D9-7","MUTCD 11th Ed.",null,{"$error":"#VALUE!"},null,null,null,null,null,null,null,null,null,null,null,null,null,null,null,null,null,null,null,null,null,24,null,"Conventional",30,null,"Expressway; Freeway"]
["D9-8","MUTCD 11th Ed.",null,{"$error":"#VALUE!"},null,null,null,null,null,null,null,null,null,null,null,null,null,null,null,null,null,null,null,null,null,24,null,"Conventional",30,null,"Expressway; Freeway"]
["D9-9","MUTCD 11th Ed.",null,{"$error":"#VALUE!"},null,null,null,null,null,null,null,null,null,null,null,null,null,null,null,null,null,null,null,null,null,24,null,"Conventional",30,null,"Expressway; Freeway"]
["E11-1a","MUTCD 11th Ed.",null,{"$error":"#VALUE!"},null,null,null,null,null,null,null,null,null,null,null,null,null,null,null,null,null,null,null,null,null,66,18,"Minimum"]
["E11-1b","MUTCD 11th Ed.",null,{"$error":"#VALUE!"},null,null,null,null,null,null,null,null,null,null,null,null,null,null,null,null,null,null,null,null,null,66,18,"Minimum"]
["E11-1c","MUTCD 11th Ed.",null,{"$error":"#VALUE!"},null,null,null,null,null,null,null,null,null,null,null,null,null,null,null,null,null,null,null,null,null,120,18,"Minimum"]
["E11-2","MUTCD 11th Ed.",null,{"$error":"#VALUE!"},null,null,null,null,null,null,null,null,null,null,null,null,null,null,null,null,null,null,null,null,null,60,18,"Minimum"]
["E5-1a","MUTCD 11th Ed.",null,{"$error":"#VALUE!"},"(1-2 DIGITS)",null,null,null,null,null,null,null,null,1,"Exit",2,null,null,null,null,null,null,null,null,null,78,60,"Minimum"]
["E5-2","MUTCD 11th Ed.",null,{"$error":"#VALUE!"},null,null,null,null,null,null,null,null,null,null,null,null,null,null,null,null,null,null,null,null,null,48,36,"Conventional; Freeway; Expressway"]
["E5-2a","MUTCD 11th Ed.",null,{"$error":"#VALUE!"},null,null,null,null,null,null,null,null,null,null,null,null,null,null,null,null,null,null,null,null,null,48,36,"Conventional; Freeway; Expressway"]
["E5-3","MUTCD 11th Ed.",null,{"$error":"#VALUE!"},null,null,null,null,null,null,null,null,null,null,null,null,null,null,null,null,null,null,null,null,null,48,36,"Conventional; Freeway; Expressway"]
["G20-1","MUTCD 11th Ed.",null,{"$error":"#VALUE!"},null,null,null,null,null,null,null,null,null,1,"Miles",2,null,null,null,null,null,null,null,null,null,36,18,"Conventional",48,24,"Expressway; Freeway"]
["G20-2","MUTCD 11th Ed.",null,{"$error":"#VALUE!"},null,null,null,null,null,null,null,null,null,null,null,null,null,null,null,null,null,null,null,null,null,36,18,"Conventional",48,24,"Expressway; Freeway"]
["G20-4","MUTCD 11th Ed.",null,{"$error":"#VALUE!"},null,null,null,null,null,null,null,null,null,null,null,null,null,null,null,null,null,null,null,null,null,36,18,"Conventional"]
["G20-5aP","MUTCD 11th Ed.",null,{"$error":"#VALUE!"},null,null,null,null,null,null,null,null,null,null,null,null,null,null,null,null,null,null,null,null,null,24,18,"Conventional",36,24,"Expressway; Freeway"]
["I3-5","MUTCD 11th Ed.",null,{"$error":"#VALUE!"},null,null,null,null,null,null,null,null,null,null,null,null,null,null,null,null,null,null,null,null,null,24,null,"Conventional",30,null,"Expressway; Freeway"]
["I3-6","MUTCD 11th Ed.",null,{"$error":"#VALUE!"},null,null,null,null,null,null,null,null,null,null,null,null,null,null,null,null,null,null,null,null,null,24,null,"Conventional",30,null,"Expressway; Freeway"]
["I3-7","MUTCD 11th Ed.",null,{"$error":"#VALUE!"},null,null,null,null,null,null,null,null,null,null,null,null,null,null,null,null,null,null,null,null,null,24,null,"Conventional",30,null,"Expressway; Freeway"]
["I3-8","MUTCD 11th Ed.",null,{"$error":"#VALUE!"},null,null,null,null,null,null,null,null,null,null,null,null,null,null,null,null,null,null,null,null,null,24,null,"Conventional",30,null,"Expressway; Freeway"]
["I3-9","MUTCD 11th Ed.",null,{"$error":"#VALUE!"},null,null,null,null,null,null,null,null,null,null,null,null,null,null,null,null,null,null,null,null,null,24,null,"Conventional",30,null,"Expressway; Freeway"]
["I4-1","MUTCD 11th Ed.",null,{"$error":"#VALUE!"},null,null,null,null,null,null,null,null,null,null,null,null,null,null,null,null,null,null,null,null,null,24,null,"Conventional",30,null,"Expressway; Freeway"]
["I4-2","MUTCD 11th Ed.",null,{"$error":"#VALUE!"},null,null,null,null,null,null,null,null,null,null,null,null,null,null,null,null,null,null,null,null,null,24,null,"Conventional",30,null,"Expressway; Freeway"]
["I13-1","MUTCD 11th Ed.",null,{"$error":"#VALUE!"},null,null,null,null,null,null,null,null,null,null,null,null,null,null,null,null,null,null,null,null,null,12,9,"Minimum"]
["M1-1","MUTCD 11th Ed.",null,{"$error":"#VALUE!"},"(1-2 DIGITS)",{"$error":"#VALUE!"},"(3 DIGITS)",null,null,null,null,null,null,1,"Route Number",3,null,null,null,null,null,null,null,null,null,24,null,"1-2 Digits Conventional",36,null,"1-2 Digits Expressway; Freeway; Oversized",30,24,"3 Digits Conventional",45,36,"3 Digits Expressway; Freeway; Oversized",null,null,null,null,null,null,0.81]
["M1-4","MUTCD 11th Ed.",null,{"$error":"#VALUE!"},"(1-2 DIGITS)",{"$error":"#VALUE!"},"(3 DIGITS)",null,null,null,null,null,null,1,"Route Number",3,null,null,null,null,null,null,null,null,null,24,null,"1-2 Digits Conventional",36,null,"1-2 Digits Expressway; Freeway; Oversized",30,24,"3 Digits Conventional",45,36,"3 Digits Expressway; Freeway; Oversized"]
["M1-5","MUTCD 11th Ed.",null,{"$error":"#VALUE!"},"(1-2 DIGITS)",{"$error":"#VALUE!"},"(3 DIGITS)",null,null,null,null,null,null,1,"Route Number",3,null,null,null,null,null,null,null,null,null,24,null,"1-2 Digits Conventional",36,null,"1-2 Digits Expressway; Freeway; Oversized",30,24,"3 Digits Conventional",45,36,"3 Digits Expressway; Freeway; Oversized"]
["M1-7","MUTCD 11th Ed.",null,{"$error":"#VALUE!"},null,null,null,null,null,null,null,null,null,1,"Route Number",4,null,null,null,null,null,null,null,null,null,24,null,"Conventional",36,null,"Expressway; Freeway; Oversized",null,null,null,null,null,null,null,null,null,null,null,null,0.86]
["M2-1P","MUTCD 11th Ed.",null,{"$error":"#VALUE!"},"BLACK ON WHITE",{"$error":"#VALUE!"},"GREEN ON WHITE(VT State Hwy)",{"$error":"#VALUE!"},"WHITE ON BLUE(interstate)",null,null,null,null,null,null,null,null,null,null,null,null,null,null,null,null,21,15,"Conventional",30,21,"Expressway; Freeway; Oversized"]
["M3-1P","MUTCD 11th Ed.",null,{"$error":"#VALUE!"},"BLACK ON WHITE",{"$error":"#VALUE!"},"GREEN ON WHITE(VT State Hwy)",{"$error":"#VALUE!"},"WHITE ON BLUE(interstate)",null,null,null,null,null,null,null,null,null,null,null,null,null,null,null,null,24,12,"Conventional",36,18,"Expressway; Freeway; Oversized"]
["M3-2P","MUTCD 11th Ed.",null,{"$error":"#VALUE!"},"BLACK ON WHITE",{"$error":"#VALUE!"},"GREEN ON WHITE(VT State Hwy)",{"$error":"#VALUE!"},"WHITE ON BLUE(interstate)",null,null,null,null,null,null,null,null,null,null,null,null,null,null,null,null,24,12,"Conventional",36,18,"Expressway; Freeway; Oversized"]
["M3-3P","MUTCD 11th Ed.",null,{"$error":"#VALUE!"},"BLACK ON WHITE",{"$error":"#VALUE!"},"GREEN ON WHITE(VT State Hwy)",{"$error":"#VALUE!"},"WHITE ON BLUE(interstate)",null,null,null,null,null,null,null,null,null,null,null,null,null,null,null,null,24,12,"Conventional",36,18,"Expressway; Freeway; Oversized"]
["M3-4P","MUTCD 11th Ed.",null,{"$error":"#VALUE!"},"BLACK ON WHITE",{"$error":"#VALUE!"},"GREEN ON WHITE(VT State Hwy)",{"$error":"#VALUE!"},"WHITE ON BLUE(interstate)",null,null,null,null,null,null,null,null,null,null,null,null,null,null,null,null,24,12,"Conventional",36,18,"Expressway; Freeway; Oversized"]
["M4-10L","MUTCD 11th Ed.",null,{"$error":"#VALUE!"},null,null,null,null,null,null,null,null,null,null,null,null,null,null,null,null,null,null,null,null,null,48,18,"Conventional"]
["M4-10R","MUTCD 11th Ed.",null,{"$error":"#VALUE!"},null,null,null,null,null,null,null,null,null,null,null,null,null,null,null,null,null,null,null,null,null,48,18,"Conventional"]
["M4-14P","MUTCD 11th Ed.",null,{"$error":"#VALUE!"},"BLACK ON WHITE",{"$error":"#VALUE!"},"GREEN ON WHITE(VT State Hwy)",null,null,null,null,null,null,null,null,null,null,null,null,null,null,null,null,null,null,24,12,"Conventional",36,18,"Expressway; Freeway; Oversized"]
["M4-1aP","MUTCD 11th Ed.",null,{"$error":"#VALUE!"},"BLACK ON WHITE",{"$error":"#VALUE!"},"GREEN ON WHITE(VT State Hwy)",null,null,null,null,null,null,null,null,null,null,null,null,null,null,null,null,null,null,24,12,"Conventional",30,15,"Expressway; Freeway; Oversized"]
["M4-1P","MUTCD 11th Ed.",null,{"$error":"#VALUE!"},"BLACK ON WHITE",{"$error":"#VALUE!"},"GREEN ON WHITE(VT State Hwy)",null,null,null,null,null,null,null,null,null,null,null,null,null,null,null,null,null,null,24,12,"Conventional",30,15,"Expressway; Freeway; Oversized"]
["M4-2P","MUTCD 11th Ed.",null,{"$error":"#VALUE!"},"BLACK ON WHITE",{"$error":"#VALUE!"},"GREEN ON WHITE(VT State Hwy)",null,null,null,null,null,null,null,null,null,null,null,null,null,null,null,null,null,null,24,12,"Conventional",30,15,"Expressway; Freeway; Oversized"]
["M4-3P","MUTCD 11th Ed.",null,{"$error":"#VALUE!"},"BLACK ON WHITE",{"$error":"#VALUE!"},"GREEN ON WHITE(VT State Hwy)",null,null,null,null,null,null,null,null,null,null,null,null,null,null,null,null,null,null,24,12,"Conventional",30,15,"Expressway; Freeway; Oversized"]
["M4-4P","MUTCD 11th Ed.",null,{"$error":"#VALUE!"},"BLACK ON WHITE",{"$error":"#VALUE!"},"GREEN ON WHITE(VT State Hwy)",null,null,null,null,null,null,null,null,null,null,null,null,null,null,null,null,null,null,24,12,"Conventional",30,15,"Expressway; Freeway; Oversized"]
["M4-5P","MUTCD 11th Ed.",null,{"$error":"#VALUE!"},"BLACK ON WHITE",{"$error":"#VALUE!"},"GREEN ON WHITE(VT State Hwy)",{"$error":"#VALUE!"},"WHITE ON BLUE(interstate)",null,null,null,null,null,null,null,null,null,null,null,null,null,null,null,null,24,12,"Conventional",30,15,"Expressway; Freeway; Oversized"]
["M4-6P","MUTCD 11th Ed.",null,{"$error":"#VALUE!"},"BLACK ON WHITE",{"$error":"#VALUE!"},"GREEN ON WHITE(VT State Hwy)",null,null,null,null,null,null,null,null,null,null,null,null,null,null,null,null,null,null,24,12,"Conventional",30,15,"Expressway; Freeway; Oversized"]
["M4-7aP","MUTCD 11th Ed.",null,{"$error":"#VALUE!"},"BLACK ON WHITE",{"$error":"#VALUE!"},"GREEN ON WHITE(VT State Hwy)",null,null,null,null,null,null,null,null,null,null,null,null,null,null,null,null,null,null,24,12,"Conventional",30,15,"Expressway; Freeway; Oversized"]
["M4-7P","MUTCD 11th Ed.",null,{"$error":"#VALUE!"},"BLACK ON WHITE",{"$error":"#VALUE!"},"GREEN ON WHITE(VT State Hwy)",null,null,null,null,null,null,null,null,null,null,null,null,null,null,null,null,null,null,24,12,"Conventional",30,15,"Expressway; Freeway; Oversized"]
["M4-8a","MUTCD 11th Ed.",null,{"$error":"#VALUE!"},null,null,null,null,null,null,null,null,null,null,null,null,null,null,null,null,null,null,null,null,null,24,18,"Conventional; Freeway; Expressway"]
["M4-8bP","MUTCD 11th Ed.",null,{"$error":"#VALUE!"},null,null,null,null,null,null,null,null,null,null,null,null,null,null,null,null,null,null,null,null,null,24,12,"Conventional; Freeway; Expressway"]
["M4-8P","MUTCD 11th Ed.",null,{"$error":"#VALUE!"},null,null,null,null,null,null,null,null,null,null,null,null,null,null,null,null,null,null,null,null,null,24,12,"Conventional",30,15,"Expressway; Freeway"]
["M4-9aL","MUTCD 11th Ed.",null,{"$error":"#VALUE!"},null,null,null,null,null,null,null,null,null,null,null,null,null,null,null,null,null,null,null,null,null,30,24,"Conventional"]
["M4-9aR","MUTCD 11th Ed.",null,{"$error":"#VALUE!"},null,null,null,null,null,null,null,null,null,null,null,null,null,null,null,null,null,null,null,null,null,30,24,"Conventional"]
["M4-9bL","MUTCD 11th Ed.",null,{"$error":"#VALUE!"},null,null,null,null,null,null,null,null,null,null,null,null,null,null,null,null,null,null,null,null,null,30,24,"Conventional"]
["M4-9bR","MUTCD 11th Ed.",null,{"$error":"#VALUE!"},null,null,null,null,null,null,null,null,null,null,null,null,null,null,null,null,null,null,null,null,null,30,24,"Conventional"]
["M4-9cL","MUTCD 11th Ed.",null,{"$error":"#VALUE!"},null,null,null,null,null,null,null,null,null,null,null,null,null,null,null,null,null,null,null,null,null,30,24,"Conventional"]
["M4-9cR","MUTCD 11th Ed.",null,{"$error":"#VALUE!"},null,null,null,null,null,null,null,null,null,null,null,null,null,null,null,null,null,null,null,null,null,30,24,"Conventional"]
["M4-9L","MUTCD 11th Ed.",null,{"$error":"#VALUE!"},null,null,null,null,null,null,null,null,null,null,null,null,null,null,null,null,null,null,null,null,null,30,24,"Conventional",48,36,"Expressway; Freeway"]
["M4-9R","MUTCD 11th Ed.",null,{"$error":"#VALUE!"},null,null,null,null,null,null,null,null,null,null,null,null,null,null,null,null,null,null,null,null,null,30,24,"Conventional",48,36,"Expressway; Freeway"]
["M5-1PL","MUTCD 11th Ed.",null,{"$error":"#VALUE!"},"BLACK ON WHITE",{"$error":"#VALUE!"},"GREEN ON WHITE(VT State Hwy)",{"$error":"#VALUE!"},"WHITE ON BLUE(interstate)",{"$error":"#VALUE!"},"WHITE ON GREEN(bike)",null,null,null,null,null,null,null,null,null,null,null,null,null,null,12,9,"Bike",21,15,"Conventional",30,21,"Expressway; Freeway; Oversized"]
["M5-1PR","MUTCD 11th Ed.",null,{"$error":"#VALUE!"},"BLACK ON WHITE",{"$error":"#VALUE!"},"GREEN ON WHITE(VT State Hwy)",{"$error":"#VALUE!"},"WHITE ON BLUE(interstate)",{"$error":"#VALUE!"},"WHITE ON GREEN(bike)",null,null,null,null,null,null,null,null,null,null,null,null,null,null,12,9,"Bike",21,15,"Conventional",30,21,"Expressway; Freeway; Oversized"]
["M5-2PL","MUTCD 11th Ed.",null,{"$error":"#VALUE!"},"BLACK ON WHITE",{"$error":"#VALUE!"},"GREEN ON WHITE(VT State Hwy)",{"$error":"#VALUE!"},"WHITE ON BLUE(interstate)",{"$error":"#VALUE!"},"WHITE ON GREEN(bike)",null,null,null,null,null,null,null,null,null,null,null,null,null,null,12,9,"Bike",21,15,"Conventional",30,21,"Expressway; Freeway; Oversized"]
["M5-2PR","MUTCD 11th Ed.",null,{"$error":"#VALUE!"},"BLACK ON WHITE",{"$error":"#VALUE!"},"GREEN ON WHITE(VT State Hwy)",{"$error":"#VALUE!"},"WHITE ON BLUE(interstate)",{"$error":"#VALUE!"},"WHITE ON GREEN(bike)",null,null,null,null,null,null,null,null,null,null,null,null,null,null,12,9,"Bike",21,15,"Conventional",30,21,"Expressway; Freeway; Oversized"]
["M5-3P","MUTCD 11th Ed.",null,{"$error":"#VALUE!"},"BLACK ON WHITE",{"$error":"#VALUE!"},"GREEN ON WHITE(VT State Hwy)",null,null,null,null,null,null,null,null,null,null,null,null,null,null,null,null,null,null,21,15,"Conventional",30,21,"Expressway; Freeway; Oversized"]
["M5-4P","MUTCD 11th Ed.",null,{"$error":"#VALUE!"},"BLACK ON WHITE",{"$error":"#VALUE!"},"GREEN ON WHITE(VT State Hwy)",null,null,null,null,null,null,null,null,null,null,null,null,null,null,null,null,null,null,24,18,"Conventional",36,24,"Expressway; Freeway; Oversized"]
["M5-5P","MUTCD 11th Ed.",null,{"$error":"#VALUE!"},"BLACK ON WHITE",{"$error":"#VALUE!"},"GREEN ON WHITE(VT State Hwy)",null,null,null,null,null,null,null,null,null,null,null,null,null,null,null,null,null,null,24,18,"Conventional",36,24,"Expressway; Freeway; Oversized"]
["M5-6P","MUTCD 11th Ed.",null,{"$error":"#VALUE!"},"BLACK ON WHITE",{"$error":"#VALUE!"},"GREEN ON WHITE(VT State Hwy)",null,null,null,null,null,null,null,null,null,null,null,null,null,null,null,null,null,null,24,18,"Conventional",36,24,"Expressway; Freeway; Oversized"]
["M6-1PL","MUTCD 11th Ed.",null,{"$error":"#VALUE!"},"BLACK ON WHITE",{"$error":"#VALUE!"},"GREEN ON WHITE(VT State Hwy)",{"$error":"#VALUE!"},"WHITE ON BLUE(interstate)",{"$error":"#VALUE!"},"WHITE ON GREEN(bike)",{"$error":"#VALUE!"},"BLACK ON ORANGE(temp traffic control)",null,null,null,null,null,null,null,null,null,null,null,null,12,9,"Bike",21,15,"Conventional",30,21,"Expressway; Freeway; Oversized"]
["M6-1PR","MUTCD 11th Ed.",null,{"$error":"#VALUE!"},"BLACK ON WHITE",{"$error":"#VALUE!"},"GREEN ON WHITE(VT State Hwy)",{"$error":"#VALUE!"},"WHITE ON BLUE(interstate)",{"$error":"#VALUE!"},"WHITE ON GREEN(bike)",{"$error":"#VALUE!"},"BLACK ON ORANGE(temp traffic control)",null,null,null,null,null,null,null,null,null,null,null,null,12,9,"Bike",21,15,"Conventional",30,21,"Expressway; Freeway; Oversized"]
["M6-2aPL","MUTCD 11th Ed.",null,{"$error":"#VALUE!"},"BLACK ON WHITE",{"$error":"#VALUE!"},"GREEN ON WHITE(VT State Hwy)",{"$error":"#VALUE!"},"WHITE ON BLUE(interstate)",{"$error":"#VALUE!"},"BLACK ON ORANGE(temp traffic control)",null,null,null,null,null,null,null,null,null,null,null,null,null,null,21,15,"Conventional",30,21,"Expressway; Freeway; Oversized"]
["M6-2aPR","MUTCD 11th Ed.",null,{"$error":"#VALUE!"},"BLACK ON WHITE",{"$error":"#VALUE!"},"GREEN ON WHITE(VT State Hwy)",{"$error":"#VALUE!"},"WHITE ON BLUE(interstate)",{"$error":"#VALUE!"},"BLACK ON ORANGE(temp traffic control)",null,null,null,null,null,null,null,null,null,null,null,null,null,null,21,15,"Conventional",30,21,"Expressway; Freeway; Oversized"]
["M6-2PL","MUTCD 11th Ed.",null,{"$error":"#VALUE!"},"BLACK ON WHITE",{"$error":"#VALUE!"},"GREEN ON WHITE(VT State Hwy)",{"$error":"#VALUE!"},"WHITE ON BLUE(interstate)",{"$error":"#VALUE!"},"WHITE ON GREEN(bike)",{"$error":"#VALUE!"},"BLACK ON ORANGE(temp traffic control)",null,null,null,null,null,null,null,null,null,null,null,null,12,9,"Bike",21,15,"Conventional",30,21,"Expressway; Freeway; Oversized"]
["M6-2PR","MUTCD 11th Ed.",null,{"$error":"#VALUE!"},"BLACK ON WHITE",{"$error":"#VALUE!"},"GREEN ON WHITE(VT State Hwy)",{"$error":"#VALUE!"},"WHITE ON BLUE(interstate)",{"$error":"#VALUE!"},"WHITE ON GREEN(bike)",{"$error":"#VALUE!"},"BLACK ON ORANGE(temp traffic control)",null,null,null,null,null,null,null,null,null,null,null,null,12,9,"Bike",21,15,"Conventional",30,21,"Expressway; Freeway; Oversized"]
["M6-3P","MUTCD 11th Ed.",null,{"$error":"#VALUE!"},"BLACK ON WHITE",{"$error":"#VALUE!"},"GREEN ON WHITE(VT State Hwy)",{"$error":"#VALUE!"},"WHITE ON BLUE(interstate)",{"$error":"#VALUE!"},"WHITE ON GREEN(bike)",{"$error":"#VALUE!"},"BLACK ON ORANGE(temp traffic control)",null,null,null,null,null,null,null,null,null,null,null,null,12,9,"Bike",21,15,"Conventional",30,21,"Expressway; Freeway; Oversized"]
["M6-4P","MUTCD 11th Ed.",null,{"$error":"#VALUE!"},"BLACK ON WHITE",{"$error":"#VALUE!"},"GREEN ON WHITE(VT State Hwy)",{"$error":"#VALUE!"},"WHITE ON BLUE(interstate)",{"$error":"#VALUE!"},"WHITE ON GREEN(bike)",{"$error":"#VALUE!"},"BLACK ON ORANGE(temp traffic control)",null,null,null,null,null,null,null,null,null,null,null,null,12,9,"Bike",21,15,"Conventional",30,21,"Expressway; Freeway; Oversized"]
["M6-5P","MUTCD 11th Ed.",null,{"$error":"#VALUE!"},"BLACK ON WHITE",{"$error":"#VALUE!"},"GREEN ON WHITE(VT State Hwy)",{"$error":"#VALUE!"},"WHITE ON BLUE(interstate)",{"$error":"#VALUE!"},"WHITE ON GREEN(bike)",{"$error":"#VALUE!"},"BLACK ON ORANGE(temp traffic control)",null,null,null,null,null,null,null,null,null,null,null,null,12,9,"Bike",21,15,"Conventional",30,21,"Expressway; Freeway; Oversized"]
["M6-6PL","MUTCD 11th Ed.",null,{"$error":"#VALUE!"},"BLACK ON WHITE",{"$error":"#VALUE!"},"GREEN ON WHITE(VT State Hwy)",{"$error":"#VALUE!"},"WHITE ON BLUE(interstate)",{"$error":"#VALUE!"},"WHITE ON GREEN(bike)",{"$error":"#VALUE!"},"BLACK ON ORANGE(temp traffic control)",null,null,null,null,null,null,null,null,null,null,null,null,12,9,"Bike",21,15,"Conventional",30,21,"Expressway; Freeway; Oversized"]
["M6-6PR","MUTCD 11th Ed.",null,{"$error":"#VALUE!"},"BLACK ON WHITE",{"$error":"#VALUE!"},"GREEN ON WHITE(VT State Hwy)",{"$error":"#VALUE!"},"WHITE ON BLUE(interstate)",{"$error":"#VALUE!"},"WHITE ON GREEN(bike)",{"$error":"#VALUE!"},"BLACK ON ORANGE(temp traffic control)",null,null,null,null,null,null,null,null,null,null,null,null,12,9,"Bike",21,15,"Conventional",30,21,"Expressway; Freeway; Oversized"]
["M6-7PL","MUTCD 11th Ed.",null,{"$error":"#VALUE!"},"BLACK ON WHITE",{"$error":"#VALUE!"},"GREEN ON WHITE(VT State Hwy)",{"$error":"#VALUE!"},"WHITE ON BLUE(interstate)",{"$error":"#VALUE!"},"WHITE ON GREEN(bike)",{"$error":"#VALUE!"},"BLACK ON ORANGE(temp traffic control)",null,null,null,null,null,null,null,null,null,null,null,null,12,9,"Bike",21,15,"Conventional",30,21,"Expressway; Freeway; Oversized"]
["M6-7PR","MUTCD 11th Ed.",null,{"$error":"#VALUE!"},"BLACK ON WHITE",{"$error":"#VALUE!"},"GREEN ON WHITE(VT State Hwy)",{"$error":"#VALUE!"},"WHITE ON BLUE(interstate)",{"$error":"#VALUE!"},"WHITE ON GREEN(bike)",{"$error":"#VALUE!"},"BLACK ON ORANGE(temp traffic control)",null,null,null,null,null,null,null,null,null,null,null,null,12,9,"Bike",21,15,"Conventional",30,21,"Expressway; Freeway; Oversized"]
["OM1-1","MUTCD 11th Ed.",null,{"$error":"#VALUE!"},null,null,null,null,null,null,null,null,null,null,null,null,null,null,null,null,null,null,null,null,null,18,null,"Roadway (minimum)"]
["OM1-2","MUTCD 11th Ed.",null,{"$error":"#VALUE!"},null,null,null,null,null,null,null,null,null,null,null,null,null,null,null,null,null,null,null,null,null,18,null,"Roadway (minimum)"]
["OM1-3","MUTCD 11th Ed.",null,{"$error":"#VALUE!"},"YELLOW",{"$error":"#VALUE!"},"ORANGE",null,null,null,null,null,null,null,null,null,null,null,null,null,null,null,null,null,null,18,null,"Roadway (minimum)"]
["OM2-1H","MUTCD 11th Ed.",null,{"$error":"#VALUE!"},null,null,null,null,null,null,null,null,null,null,null,null,null,null,null,null,null,null,null,null,null,12,6,"Roadway (minimum)"]
["OM2-1V","MUTCD 11th Ed.",null,{"$error":"#VALUE!"},null,null,null,null,null,null,null,null,null,null,null,null,null,null,null,null,null,null,null,null,null,6,12,"Roadway (minimum)"]
["OM2-2H","MUTCD 11th Ed.",null,{"$error":"#VALUE!"},null,null,null,null,null,null,null,null,null,null,null,null,null,null,null,null,null,null,null,null,null,12,6,"Roadway (minimum)"]
["OM2-2V","MUTCD 11th Ed.",null,{"$error":"#VALUE!"},null,null,null,null,null,null,null,null,null,null,null,null,null,null,null,null,null,null,null,null,null,6,12,"Roadway (minimum)"]
["OM-2L","MUTCD 11th Ed.",null,{"$error":"#VALUE!"},null,null,null,null,null,null,null,null,null,null,null,null,null,null,null,null,null,null,null,null,null,6,18,"Off Roadway",12,36,"Roadway (minimum)"]
["OM-3C","MUTCD 11th Ed.",null,{"$error":"#VALUE!"},null,null,null,null,null,null,null,null,null,null,null,null,null,null,null,null,null,null,null,null,null,6,18,"Off Roadway",12,36,"Roadway (minimum)"]
["OM-3R","MUTCD 11th Ed.",null,{"$error":"#VALUE!"},null,null,null,null,null,null,null,null,null,null,null,null,null,null,null,null,null,null,null,null,null,6,18,"Off Roadway",12,36,"Roadway (minimum)"]
["OM4-1","MUTCD 11th Ed.",null,{"$error":"#VALUE!"},null,null,null,null,null,null,null,null,null,null,null,null,null,null,null,null,null,null,null,null,null,18,null,"Roadway (minimum)"]
["OM4-2","MUTCD 11th Ed.",null,{"$error":"#VALUE!"},null,null,null,null,null,null,null,null,null,null,null,null,null,null,null,null,null,null,null,null,null,18,null,"Roadway (minimum)"]
["OM4-3","MUTCD 11th Ed.",null,{"$error":"#VALUE!"},null,null,null,null,null,null,null,null,null,null,null,null,null,null,null,null,null,null,null,null,null,18,null,"Roadway (minimum)"]
["R10-1","MUTCD 11th Ed.",null,{"$error":"#VALUE!"},null,null,null,null,null,null,null,null,null,null,null,null,null,null,null,null,null,null,null,null,null,12,18,"Conventional"]
["R10-101","Arizona MUTCD",null,{"$error":"#VALUE!"},null,null,null,null,null,null,null,null,null,null,null,null,null,null,null,null,null,null,null,null,null,30,36,"Not in MUTCD 11th Edition; must be detailed"]
["R10-10L","MUTCD 11th Ed.",null,{"$error":"#VALUE!"},null,null,null,null,null,null,null,null,null,null,null,null,null,null,null,null,null,null,null,null,null,24,30,"Conventional",30,36,"Oversized"]
["R10-10R","MUTCD 11th Ed.",null,{"$error":"#VALUE!"},null,null,null,null,null,null,null,null,null,null,null,null,null,null,null,null,null,null,null,null,null,24,30,"Conventional",30,36,"Oversized"]
["R10-11","MUTCD 11th Ed.",null,{"$error":"#VALUE!"},null,null,null,null,null,null,null,null,null,null,null,null,null,null,null,null,null,null,null,null,null,24,30,"Conventional",36,48,"Oversized"]
["R10-11a","MUTCD 11th Ed.",null,{"$error":"#VALUE!"},null,null,null,null,null,null,null,null,null,null,null,null,null,null,null,null,null,null,null,null,null,24,30,"Conventional",36,48,"Oversized"]
["R10-11b","MUTCD 11th Ed.",null,{"$error":"#VALUE!"},null,null,null,null,null,null,null,null,null,null,null,null,null,null,null,null,null,null,null,null,null,24,null,"Conventional",36,null,"Oversized"]
["R10-11c","MUTCD 11th Ed.",null,{"$error":"#VALUE!"},null,null,null,null,null,null,null,null,null,null,null,null,null,null,null,null,null,null,null,null,null,30,36,"Conventional"]
["R10-11d","MUTCD 11th Ed.",null,{"$error":"#VALUE!"},null,null,null,null,null,null,null,null,null,null,null,null,null,null,null,null,null,null,null,null,null,30,42,"Conventional"]
["R10-12","MUTCD 11th Ed.",null,{"$error":"#VALUE!"},null,null,null,null,null,null,null,null,null,null,null,null,null,null,null,null,null,null,null,null,null,30,36,"Conventional"]
["R10-13","MUTCD 11th Ed.",null,{"$error":"#VALUE!"},null,null,null,null,null,null,null,null,null,null,null,null,null,null,null,null,null,null,null,null,null,36,24,"Conventional",42,30,"Oversized"]
["R10-14","MUTCD 11th Ed.",null,{"$error":"#VALUE!"},null,null,null,null,null,null,null,null,null,null,null,null,null,null,null,null,null,null,null,null,null,36,42,"Conventional"]
["R10-15L","MUTCD 11th Ed.",null,{"$error":"#VALUE!"},null,null,null,null,null,null,null,null,null,null,null,null,null,null,null,null,null,null,null,null,null,30,null,"Conventional"]
["R10-15R","MUTCD 11th Ed.",null,{"$error":"#VALUE!"},null,null,null,null,null,null,null,null,null,null,null,null,null,null,null,null,null,null,null,null,null,30,null,"Conventional"]
["R10-2","MUTCD 11th Ed.",null,{"$error":"#VALUE!"},null,null,null,null,null,null,null,null,null,null,null,null,null,null,null,null,null,null,null,null,null,9,12,"Conventional"]
["R10-22","MUTCD 11th Ed.",null,{"$error":"#VALUE!"},null,null,null,null,null,null,null,null,null,null,null,null,null,null,null,null,null,null,null,null,null,12,18,"Off Roadway; Roadway"]
["R10-23","MUTCD 11th Ed.",null,{"$error":"#VALUE!"},null,null,null,null,null,null,null,null,null,null,null,null,null,null,null,null,null,null,null,null,null,24,30,"Conventional"]
["R10-25","MUTCD 11th Ed.",null,{"$error":"#VALUE!"},null,null,null,null,null,null,null,null,null,null,null,null,null,null,null,null,null,null,null,null,null,9,12,"Conventional"]
["R10-26","MUTCD 11th Ed.",null,{"$error":"#VALUE!"},null,null,null,null,null,null,null,null,null,null,null,null,null,null,null,null,null,null,null,null,null,9,15,"Off Roadway; Roadway"]
["R10-3","MUTCD 11th Ed.",null,{"$error":"#VALUE!"},null,null,null,null,null,null,null,null,null,null,null,null,null,null,null,null,null,null,null,null,null,9,12,"Conventional"]
["R10-30","MUTCD 11th Ed.",null,{"$error":"#VALUE!"},null,null,null,null,null,null,null,null,null,null,null,null,null,null,null,null,null,null,null,null,null,30,36,"Conventional"]
["R10-31P","MUTCD 11th Ed.",null,{"$error":"#VALUE!"},null,null,null,null,null,null,null,null,null,null,null,null,null,null,null,null,null,null,null,null,null,24,9,"Conventional"]
["R10-3a","MUTCD 11th Ed.",null,{"$error":"#VALUE!"},null,null,null,null,null,null,null,null,null,null,null,null,null,null,null,null,null,null,null,null,null,9,12,"Conventional"]
["R10-3b","MUTCD 11th Ed.",null,{"$error":"#VALUE!"},null,null,null,null,null,null,null,null,null,null,null,null,null,null,null,null,null,null,null,null,null,9,12,"Conventional"]
["R10-3e","MUTCD 11th Ed.",null,{"$error":"#VALUE!"},null,null,null,null,null,null,null,null,null,null,null,null,null,null,null,null,null,null,null,null,null,9,15,"Conventional"]
["R10-4","MUTCD 11th Ed.",null,{"$error":"#VALUE!"},null,null,null,null,null,null,null,null,null,null,null,null,null,null,null,null,null,null,null,null,null,9,12,"Conventional"]
["R10-4a","MUTCD 11th Ed.",null,{"$error":"#VALUE!"},null,null,null,null,null,null,null,null,null,null,null,null,null,null,null,null,null,null,null,null,null,9,15,"Conventional"]
["R10-5","MUTCD 11th Ed.",null,{"$error":"#VALUE!"},null,null,null,null,null,null,null,null,null,null,null,null,null,null,null,null,null,null,null,null,null,24,30,"Minimum",30,36,"Conventional; Expressway",48,60,"Oversized"]
["R10-6","MUTCD 11th Ed.",null,{"$error":"#VALUE!"},null,null,null,null,null,null,null,null,null,null,null,null,null,null,null,null,null,null,null,null,null,24,36,"Conventional",36,48,"Oversized"]
["R10-7","MUTCD 11th Ed.",null,{"$error":"#VALUE!"},null,null,null,null,null,null,null,null,null,null,null,null,null,null,null,null,null,null,null,null,null,24,30,"Conventional"]
["R10-8","MUTCD 11th Ed.",null,{"$error":"#VALUE!"},null,null,null,null,null,null,null,null,null,null,null,null,null,null,null,null,null,null,null,null,null,30,36,"Conventional",36,42,"Expressway",60,72,"Oversized"]
["R1-1","MUTCD 11th Ed.",null,{"$error":"#VALUE!"},null,null,null,null,null,null,null,null,null,null,null,null,null,null,null,null,null,null,null,null,null,18,null,"Off Roadway",24,null,"Off Roadway",30,null,"Single Lane Conventional",36,null,"Multi-Lane Conventional; Expressway",48,null,"Oversized",null,null,null,0.83]
["R1-10P","MUTCD 11th Ed.",null,{"$error":"#VALUE!"},null,null,null,null,null,null,null,null,null,null,null,null,null,null,null,null,null,null,null,null,null,24,18,"Conventional"]
["R11-1","MUTCD 11th Ed.",null,{"$error":"#VALUE!"},null,null,null,null,null,null,null,null,null,null,null,null,null,null,null,null,null,null,null,null,null,24,30,"Conventional"]
["R11-2","MUTCD 11th Ed.",null,{"$error":"#VALUE!"},"(ROAD CLOSED)",{"$error":"#VALUE!"},"(RAMP CLOSED)",{"$error":"#VALUE!"},"(BRIDGE CLOSED)",null,null,null,null,null,null,null,null,null,null,null,null,null,null,null,null,48,30,"Conventional"]
["R11-3a","MUTCD 11th Ed.",null,{"$error":"#VALUE!"},"(Road Closed)",{"$error":"#VALUE!"},"(Bridge Closed)",null,null,null,null,null,null,1,"Miles",2,null,null,null,null,null,null,null,null,null,60,30,"Conventional"]
["R11-4","MUTCD 11th Ed.",null,{"$error":"#VALUE!"},null,null,null,null,null,null,null,null,null,null,null,null,null,null,null,null,null,null,null,null,null,60,30,"Conventional"]
["R1-2","MUTCD 11th Ed.",null,{"$error":"#VALUE!"},null,null,null,null,null,null,null,null,null,null,null,null,null,null,null,null,null,null,null,null,null,18,null,"Off Roadway",24,null,"Off Roadway",30,null,"Minimum",36,null,"Single Lane Conventional",48,null,"Multi-Lane Conventional; Expressway",60,null,"Freeway",0.44]
["R12-1","MUTCD 11th Ed.",null,{"$error":"#VALUE!"},null,null,null,null,null,null,null,null,null,1,"Tons",2,null,null,null,null,null,null,null,null,null,24,30,"Conventional",36,48,"Expressway; Oversized"]
["R12-5","MUTCD 11th Ed.","???? Axles ???",{"$error":"#VALUE!"},null,null,null,null,null,null,null,null,null,1,"Tons 2 Axle",2,1,"Tons 3 Axle",2,1,"Tons 4 Axle",2,null,null,null,24,36,"Conventional",36,48,"Expressway",48,60,"Freeway"]
["R1-2aP","MUTCD 11th Ed.",null,{"$error":"#VALUE!"},null,null,null,null,null,null,null,null,null,null,null,null,null,null,null,null,null,null,null,null,null,24,18,"Conventional",36,30,"Expressway",48,36,"Freeway"]
["R1-3P","MUTCD 11th Ed.",null,{"$error":"#VALUE!"},null,null,null,null,null,null,null,null,null,null,null,null,null,null,null,null,null,null,null,null,null,18,6,"Conventional",30,12,"Oversized"]
["R14-1","MUTCD 11th Ed.",null,{"$error":"#VALUE!"},null,null,null,null,null,null,null,null,null,null,null,null,null,null,null,null,null,null,null,null,null,24,18,"Conventional"]
["R15-1","MUTCD 11th Ed.",null,{"$error":"#VALUE!"},null,null,null,null,null,null,null,null,null,null,null,null,null,null,null,null,null,null,null,null,null,24,4.5,"Off Roadway",48,9,"Conventional",null,null,null,null,null,null,null,null,null,null,null,null,1.82]
["R15-2P","MUTCD 11th Ed.",null,{"$error":"#VALUE!"},null,null,null,null,null,null,null,null,null,1,"Tracks",1,null,null,null,null,null,null,null,null,null,13.5,9,"For shared used path",27,18,"Conventional"]
["R15-6","MUTCD 11th Ed.",null,{"$error":"#VALUE!"},null,null,null,null,null,null,null,null,null,null,null,null,null,null,null,null,null,null,null,null,null,24,null,"Conventional"]
["R15-7","MUTCD 11th Ed.",null,{"$error":"#VALUE!"},null,null,null,null,null,null,null,null,null,null,null,null,null,null,null,null,null,null,null,null,null,24,null,"Conventional"]
["R15-7a","MUTCD 11th Ed.",null,{"$error":"#VALUE!"},null,null,null,null,null,null,null,null,null,null,null,null,null,null,null,null,null,null,null,null,null,24,null,"Conventional"]
["R15-8","MUTCD 11th Ed.",null,{"$error":"#VALUE!"},null,null,null,null,null,null,null,null,null,null,null,null,null,null,null,null,null,null,null,null,null,18,9,"Off Roadway",36,18,"Roadway"]
["R1-5L","MUTCD 11th Ed.",null,{"$error":"#VALUE!"},null,null,null,null,null,null,null,null,null,null,null,null,null,null,null,null,null,null,null,null,null,36,null,"Conventional; Oversized"]
["R1-5R","MUTCD 11th Ed.",null,{"$error":"#VALUE!"},null,null,null,null,null,null,null,null,null,null,null,null,null,null,null,null,null,null,null,null,null,36,null,"Conventional; Oversized"]
["R1-6","MUTCD 11th Ed.",null,{"$error":"#VALUE!"},null,null,null,null,null,null,null,null,null,null,null,null,null,null,null,null,null,null,null,null,null,12,36,"Conventional"]
["R16-10","MUTCD 11th Ed.",null,{"$error":"#VALUE!"},null,null,null,null,null,null,null,null,null,null,null,null,null,null,null,null,null,null,null,null,null,60,18,"Conventional",96,30,"Expressway; Oversized",120,36,"Freeway"]
["R16-11","MUTCD 11th Ed.",null,{"$error":"#VALUE!"},null,null,null,null,null,null,null,null,null,null,null,null,null,null,null,null,null,null,null,null,null,60,18,"Conventional",96,30,"Expressway; Oversized",120,36,"Freeway"]
["R16-5","MUTCD 11th Ed.",null,{"$error":"#VALUE!"},null,null,null,null,null,null,null,null,null,null,null,null,null,null,null,null,null,null,null,null,null,24,30,"Conventional",36,48,"Expressway; Oversized",48,60,"Freeway"]
["R16-6","MUTCD 11th Ed.",null,{"$error":"#VALUE!"},null,null,null,null,null,null,null,null,null,null,null,null,null,null,null,null,null,null,null,null,null,24,30,"Conventional",36,48,"Expressway; Oversized",48,60,"Freeway"]
["R16-7","MUTCD 11th Ed.",null,{"$error":"#VALUE!"},null,null,null,null,null,null,null,null,null,1,"Miles",3,null,null,null,null,null,null,null,null,null,60,18,"Conventional",96,30,"Expressway; Oversized",132,36,"Freeway"]
["R16-8","MUTCD 11th Ed.",null,{"$error":"#VALUE!"},null,null,null,null,null,null,null,null,null,null,null,null,null,null,null,null,null,null,null,null,null,42,18,"Conventional",60,30,"Expressway; Oversized",78,36,"Freeway"]
["R16-9","MUTCD 11th Ed.",null,{"$error":"#VALUE!"},null,null,null,null,null,null,null,null,null,null,null,null,null,null,null,null,null,null,null,null,null,42,18,"Conventional",60,30,"Expressway; Oversized",78,36,"Freeway"]
["R1-6b","MUTCD 11th Ed.",null,{"$error":"#VALUE!"},null,null,null,null,null,null,null,null,null,null,null,null,null,null,null,null,null,null,null,null,null,12,36,"Conventional"]
["R1-7","MUTCD 11th Ed.",null,{"$error":"#VALUE!"},null,null,null,null,null,null,null,null,null,null,null,null,null,null,null,null,null,null,null,null,null,24,30,"Conventional"]
["R1-8","MUTCD 11th Ed.",null,{"$error":"#VALUE!"},null,null,null,null,null,null,null,null,null,null,null,null,null,null,null,null,null,null,null,null,null,24,30,"Conventional"]
["R1-9","MUTCD 11th Ed.",null,{"$error":"#VALUE!"},null,null,null,null,null,null,null,null,null,null,null,null,null,null,null,null,null,null,null,null,null,90,24,"Conventional"]
["R2-1","MUTCD 11th Ed.",null,{"$error":"#VALUE!"},null,null,null,null,null,null,null,null,null,1,"Speed(mph)",2,null,null,null,null,null,null,null,null,null,18,24,"Minimum",24,30,"Single Lane Conventional",30,36,"Multi-Lane Conventional; Oversized",36,48,"Expressway",48,60,"Freeway"]
["R2-10","MUTCD 11th Ed.",null,{"$error":"#VALUE!"},null,null,null,null,null,null,null,null,null,null,null,null,null,null,null,null,null,null,null,null,null,24,30,"Conventional",36,48,"Expressway; Oversized",48,60,"Freeway"]
["R2-11","MUTCD 11th Ed.",null,{"$error":"#VALUE!"},null,null,null,null,null,null,null,null,null,null,null,null,null,null,null,null,null,null,null,null,null,24,30,"Conventional",36,48,"Expressway; Oversized",48,60,"Freeway"]
["R2-12","MUTCD 11th Ed.",null,{"$error":"#VALUE!"},null,null,null,null,null,null,null,null,null,null,null,null,null,null,null,null,null,null,null,null,null,24,36,"Conventional",36,54,"Expressway; Freeway"]
["R2-3","MUTCD 11th Ed.",null,{"$error":"#VALUE!"},null,null,null,null,null,null,null,null,null,1,"Speed (mph)",2,null,null,null,null,null,null,null,null,null,24,null,"Conventional",36,null,"Expressway; Oversized",48,null,"Freeway"]
["R2-4","MUTCD 11th Ed.",null,{"$error":"#VALUE!"},null,null,null,null,null,null,null,null,null,1,"Speed (mph)",2,null,null,null,null,null,null,null,null,null,24,null,"Conventional",36,null,"Expressway; Oversized",48,null,"Freeway"]
["R2-4a","MUTCD 11th Ed.",null,{"$error":"#VALUE!"},null,null,null,null,null,null,null,null,null,1,"Speed Limit (mph)",2,1,"Minimum Speed (mph)",2,null,null,null,null,null,null,24,48,"Conventional",36,72,"Expressway; Oversized",48,96,"Freeway"]
["R2-5P","MUTCD 11th Ed.",null,{"$error":"#VALUE!"},null,null,null,null,null,null,null,null,null,null,null,null,null,null,null,null,null,null,null,null,null,24,18,"Conventional",36,24,"Expressway; Freeway; Oversized"]
["R2-6aP","MUTCD 11th Ed.",null,{"$error":"#VALUE!"},null,null,null,null,null,null,null,null,null,null,null,null,null,null,null,null,null,null,null,null,null,24,18,"Conventional",36,24,"Expressway; Oversized",48,36,"Freeway"]
["R2-6bP","MUTCD 11th Ed.",null,{"$error":"#VALUE!"},null,null,null,null,null,null,null,null,null,1,"Fine (dollars)",4,null,null,null,null,null,null,null,null,null,24,18,"Conventional",36,24,"Expressway; Oversized",48,36,"Freeway"]
["R3-1","MUTCD 11th Ed.",null,{"$error":"#VALUE!"},null,null,null,null,null,null,null,null,null,null,null,null,null,null,null,null,null,null,null,null,null,24,null,"Single Lane Conventional",36,null,"Multi-Lane Conventional;  Expressway",48,null,"Oversized"]
["R3-12f","MUTCD 11th Ed.",null,{"$error":"#VALUE!"},null,null,null,null,null,null,null,null,null,null,null,null,null,null,null,null,null,null,null,null,null,30,36,"Conventional",36,48,"Expressway",48,60,"Freeway; Oversized"]
["R3-12g","MUTCD 11th Ed.",null,{"$error":"#VALUE!"},null,null,null,null,null,null,null,null,null,null,null,null,null,null,null,null,null,null,null,null,null,30,36,"Conventional",36,48,"Expressway",48,60,"Freeway; Oversized"]
["R3-12h","MUTCD 11th Ed.",null,{"$error":"#VALUE!"},null,null,null,null,null,null,null,null,null,null,null,null,null,null,null,null,null,null,null,null,null,36,48,"Conventional",48,66,"Expressway",60,84,"Freeway; Oversized"]
["R3-15d","MUTCD 11th Ed.",null,{"$error":"#VALUE!"},null,null,null,null,null,null,null,null,null,null,null,null,null,null,null,null,null,null,null,null,null,42,36,"Conventional",54,48,"Expressway",72,60,"Freeway; Oversized"]
["R3-15e","MUTCD 11th Ed.",null,{"$error":"#VALUE!"},null,null,null,null,null,null,null,null,null,null,null,null,null,null,null,null,null,null,null,null,null,42,36,"Conventional",54,48,"Expressway",72,60,"Freeway; Oversized"]
["R3-17","MUTCD 11th Ed.",null,{"$error":"#VALUE!"},null,null,null,null,null,null,null,null,null,null,null,null,null,null,null,null,null,null,null,null,null,24,18,"Roadway"]
["R3-17aP","MUTCD 11th Ed.",null,{"$error":"#VALUE!"},null,null,null,null,null,null,null,null,null,null,null,null,null,null,null,null,null,null,null,null,null,24,9,"Roadway"]
["R3-17bP","MUTCD 11th Ed.",null,{"$error":"#VALUE!"},null,null,null,null,null,null,null,null,null,null,null,null,null,null,null,null,null,null,null,null,null,24,9,"Roadway"]
["R3-18","MUTCD 11th Ed.",null,{"$error":"#VALUE!"},null,null,null,null,null,null,null,null,null,null,null,null,null,null,null,null,null,null,null,null,null,24,null,"Single Lane Conventional",36,null,"Multi-Lane Conventional;  Expressway",48,null,"Oversized"]
["R3-2","MUTCD 11th Ed.",null,{"$error":"#VALUE!"},null,null,null,null,null,null,null,null,null,null,null,null,null,null,null,null,null,null,null,null,null,24,null,"Single Lane Conventional",36,null,"Multi-Lane Conventional;  Expressway",48,null,"Oversized"]
["R3-20L","MUTCD 11th Ed.",null,{"$error":"#VALUE!"},null,null,null,null,null,null,null,null,null,null,null,null,null,null,null,null,null,null,null,null,null,24,36,"Conventional"]
["R3-20R","MUTCD 11th Ed.",null,{"$error":"#VALUE!"},null,null,null,null,null,null,null,null,null,null,null,null,null,null,null,null,null,null,null,null,null,24,36,"Conventional"]
["R3-27","MUTCD 11th Ed.",null,{"$error":"#VALUE!"},null,null,null,null,null,null,null,null,null,null,null,null,null,null,null,null,null,null,null,null,null,24,null,"Single Lane Conventional",36,null,"Multi-Lane Conventional;  Expressway",48,null,"Oversized"]
["R3-3","MUTCD 11th Ed.",null,{"$error":"#VALUE!"},null,null,null,null,null,null,null,null,null,null,null,null,null,null,null,null,null,null,null,null,null,24,null,"Single Lane Conventional",36,null,"Multi-Lane Conventional;  Expressway",48,null,"Oversized"]
["R3-33","MUTCD 11th Ed.",null,{"$error":"#VALUE!"},null,null,null,null,null,null,null,null,null,null,null,null,null,null,null,null,null,null,null,null,null,78,36,"Expressway; Freeway"]
["R3-4","MUTCD 11th Ed.",null,{"$error":"#VALUE!"},null,null,null,null,null,null,null,null,null,null,null,null,null,null,null,null,null,null,null,null,null,24,null,"Single Lane Conventional",36,null,"Multi-Lane Conventional;  Expressway",48,null,"Oversized"]
["R3-5a","MUTCD 11th Ed.",null,{"$error":"#VALUE!"},null,null,null,null,null,null,null,null,null,null,null,null,null,null,null,null,null,null,null,null,null,30,36,"Conventional"]
["R3-5bP","MUTCD 11th Ed.",null,{"$error":"#VALUE!"},null,null,null,null,null,null,null,null,null,null,null,null,null,null,null,null,null,null,null,null,null,30,12,"Conventional"]
["R3-5dP","MUTCD 11th Ed.",null,{"$error":"#VALUE!"},null,null,null,null,null,null,null,null,null,null,null,null,null,null,null,null,null,null,null,null,null,30,12,"Conventional"]
["R3-5eP","MUTCD 11th Ed.",null,{"$error":"#VALUE!"},null,null,null,null,null,null,null,null,null,null,null,null,null,null,null,null,null,null,null,null,null,30,12,"Conventional"]
["R3-5fP","MUTCD 11th Ed.",null,{"$error":"#VALUE!"},null,null,null,null,null,null,null,null,null,null,null,null,null,null,null,null,null,null,null,null,null,30,12,"Conventional"]
["R3-5gP","MUTCD 11th Ed.",null,{"$error":"#VALUE!"},null,null,null,null,null,null,null,null,null,null,null,null,null,null,null,null,null,null,null,null,null,30,12,"Conventional"]
["R3-5L","MUTCD 11th Ed.",null,{"$error":"#VALUE!"},null,null,null,null,null,null,null,null,null,null,null,null,null,null,null,null,null,null,null,null,null,30,36,"Conventional"]
["R3-5R","MUTCD 11th Ed.",null,{"$error":"#VALUE!"},null,null,null,null,null,null,null,null,null,null,null,null,null,null,null,null,null,null,null,null,null,30,36,"Conventional"]
["R3-6L","MUTCD 11th Ed.",null,{"$error":"#VALUE!"},null,null,null,null,null,null,null,null,null,null,null,null,null,null,null,null,null,null,null,null,null,30,36,"Conventional"]
["R3-6R","MUTCD 11th Ed.",null,{"$error":"#VALUE!"},null,null,null,null,null,null,null,null,null,null,null,null,null,null,null,null,null,null,null,null,null,30,36,"Conventional"]
["R3-7L","MUTCD 11th Ed.",null,{"$error":"#VALUE!"},null,null,null,null,null,null,null,null,null,null,null,null,null,null,null,null,null,null,null,null,null,30,null,"Single Lane Conventional",36,null,"Multi-Lane Conventional",48,null,"Expressway; Oversized"]
["R3-7R","MUTCD 11th Ed.",null,{"$error":"#VALUE!"},null,null,null,null,null,null,null,null,null,null,null,null,null,null,null,null,null,null,null,null,null,30,null,"Single Lane Conventional",36,null,"Multi-Lane Conventional",48,null,"Expressway; Oversized"]
["R3-8","MUTCD 11th Ed.",null,{"$error":"#VALUE!"},null,null,null,null,null,null,null,null,null,null,null,null,null,null,null,null,null,null,null,null,null,30,null,"Conventional",36,null,"Oversized"]
["R3-8a","MUTCD 11th Ed.",null,{"$error":"#VALUE!"},null,null,null,null,null,null,null,null,null,null,null,null,null,null,null,null,null,null,null,null,null,48,30,"Conventional",60,36,"Oversized"]
["R3-8b","MUTCD 11th Ed.",null,{"$error":"#VALUE!"},null,null,null,null,null,null,null,null,null,null,null,null,null,null,null,null,null,null,null,null,null,48,30,"Conventional",60,36,"Oversized"]
["R3-9a","MUTCD 11th Ed.",null,{"$error":"#VALUE!"},null,null,null,null,null,null,null,null,null,null,null,null,null,null,null,null,null,null,null,null,null,30,36,"Conventional"]
["R3-9b","MUTCD 11th Ed.",null,{"$error":"#VALUE!"},null,null,null,null,null,null,null,null,null,null,null,null,null,null,null,null,null,null,null,null,null,24,36,"Conventional",36,48,"Oversized"]
["R4-1","MUTCD 11th Ed.",null,{"$error":"#VALUE!"},null,null,null,null,null,null,null,null,null,null,null,null,null,null,null,null,null,null,null,null,null,12,18,"Off Roadway",18,24,"Minimum",24,30,"Conventional",36,48,"Expressway; Oversized",48,60,"Freeway"]
["R4-10","MUTCD 11th Ed.",null,{"$error":"#VALUE!"},null,null,null,null,null,null,null,null,null,null,null,null,null,null,null,null,null,null,null,null,null,48,null,"Conventional"]
["R4-11","MUTCD 11th Ed.",null,{"$error":"#VALUE!"},null,null,null,null,null,null,null,null,null,null,null,null,null,null,null,null,null,null,null,null,null,30,null,"Not in MUTCD 11th Edition"]
["R4-12","MUTCD 11th Ed.",null,{"$error":"#VALUE!"},null,null,null,null,null,null,null,null,null,1,"Vehicle Count",2,null,null,null,null,null,null,null,null,null,42,24,"Conventional",72,42,"Oversized"]
["R4-13","MUTCD 11th Ed.",null,{"$error":"#VALUE!"},null,null,null,null,null,null,null,null,null,null,null,null,null,null,null,null,null,null,null,null,null,42,24,"Conventional"]
["R4-14","MUTCD 11th Ed.",null,{"$error":"#VALUE!"},null,null,null,null,null,null,null,null,null,null,null,null,null,null,null,null,null,null,null,null,null,30,42,"Conventional"]
["R4-16","MUTCD 11th Ed.",null,{"$error":"#VALUE!"},null,null,null,null,null,null,null,null,null,null,null,null,null,null,null,null,null,null,null,null,null,18,24,"Minimum",24,30,"Conventional",36,48,"Expressway; Oversized",48,60,"Freeway"]
["R4-17","MUTCD 11th Ed.",null,{"$error":"#VALUE!"},null,null,null,null,null,null,null,null,null,null,null,null,null,null,null,null,null,null,null,null,null,18,24,"Minimum",24,30,"Conventional",36,48,"Expressway; Oversized",48,60,"Freeway"]
["R4-18","MUTCD 11th Ed.",null,{"$error":"#VALUE!"},null,null,null,null,null,null,null,null,null,null,null,null,null,null,null,null,null,null,null,null,null,18,24,"Minimum",24,30,"Conventional",36,48,"Expressway; Oversized",48,60,"Freeway"]
["R4-2","MUTCD 11th Ed.",null,{"$error":"#VALUE!"},null,null,null,null,null,null,null,null,null,null,null,null,null,null,null,null,null,null,null,null,null,12,18,"Off Roadway",18,24,"Minimum",24,30,"Conventional",36,48,"Expressway; Oversized",48,60,"Freeway"]
["R4-3","MUTCD 11th Ed.",null,{"$error":"#VALUE!"},null,null,null,null,null,null,null,null,null,null,null,null,null,null,null,null,null,null,null,null,null,12,18,"Off Roadway",18,24,"Minimum",24,30,"Conventional",36,48,"Expressway; Oversized",48,60,"Freeway"]
["R4-4","MUTCD 11th Ed.",null,{"$error":"#VALUE!"},null,null,null,null,null,null,null,null,null,null,null,null,null,null,null,null,null,null,null,null,null,36,30,"Roadway"]
["R4-5","MUTCD 11th Ed.",null,{"$error":"#VALUE!"},null,null,null,null,null,null,null,null,null,null,null,null,null,null,null,null,null,null,null,null,null,24,30,"Conventional",36,48,"Expressway; Oversized",48,60,"Freeway"]
["R4-6","MUTCD 11th Ed.",null,{"$error":"#VALUE!"},null,null,null,null,null,null,null,null,null,1,"Feet",4,null,null,null,null,null,null,null,null,null,24,30,"Not in MUTCD 11th Edition",36,48,"Not in MUTCD 11th Edition",48,60,"Not in MUTCD 11th Edition"]
["R4-7","MUTCD 11th Ed.",null,{"$error":"#VALUE!"},null,null,null,null,null,null,null,null,null,null,null,null,null,null,null,null,null,null,null,null,null,12,18,"Off Roadway",18,24,"Minimum",24,30,"Conventional",36,48,"Expressway; Oversized",48,60,"Freeway"]
["R4-7a","MUTCD 11th Ed.",null,{"$error":"#VALUE!"},null,null,null,null,null,null,null,null,null,null,null,null,null,null,null,null,null,null,null,null,null,12,18,"Off Roadway",18,24,"Minimum",24,30,"Conventional",36,48,"Expressway; Oversized",48,60,"Freeway"]
["R4-7b","MUTCD 11th Ed.",null,{"$error":"#VALUE!"},null,null,null,null,null,null,null,null,null,null,null,null,null,null,null,null,null,null,null,null,null,12,18,"Off Roadway",18,24,"Minimum",24,30,"Conventional",36,48,"Expressway; Oversized",48,60,"Freeway"]
["R4-7c","MUTCD 11th Ed.",null,{"$error":"#VALUE!"},null,null,null,null,null,null,null,null,null,null,null,null,null,null,null,null,null,null,null,null,null,18,30,"Conventional"]
["R4-8","MUTCD 11th Ed.",null,{"$error":"#VALUE!"},null,null,null,null,null,null,null,null,null,null,null,null,null,null,null,null,null,null,null,null,null,12,18,"Off Roadway",18,24,"Minimum",24,30,"Conventional",36,48,"Expressway; Oversized",48,60,"Freeway"]
["R4-8a","MUTCD 11th Ed.",null,{"$error":"#VALUE!"},null,null,null,null,null,null,null,null,null,null,null,null,null,null,null,null,null,null,null,null,null,12,18,"Off Roadway",18,24,"Minimum",24,30,"Conventional",36,48,"Expressway; Oversized",48,60,"Freeway"]
["R4-8b","MUTCD 11th Ed.",null,{"$error":"#VALUE!"},null,null,null,null,null,null,null,null,null,null,null,null,null,null,null,null,null,null,null,null,null,12,18,"Off Roadway",18,24,"Minimum",24,30,"Conventional",36,48,"Expressway; Oversized",48,60,"Freeway"]
["R4-8c","MUTCD 11th Ed.",null,{"$error":"#VALUE!"},null,null,null,null,null,null,null,null,null,null,null,null,null,null,null,null,null,null,null,null,null,18,30,"Conventional"]
["R4-9","MUTCD 11th Ed.",null,{"$error":"#VALUE!"},null,null,null,null,null,null,null,null,null,null,null,null,null,null,null,null,null,null,null,null,null,18,24,"Minimum",24,30,"Conventional",36,48,"Expressway; Oversized",48,60,"Freeway"]
["R5-1","MUTCD 11th Ed.",null,{"$error":"#VALUE!"},null,null,null,null,null,null,null,null,null,null,null,null,null,null,null,null,null,null,null,null,null,30,null,"Single Lane Conventional",36,null,"Multi-Lane Conventional;  Expressway; Oversized",48,null,"Freeway"]
["R5-10a","MUTCD 11th Ed.",null,{"$error":"#VALUE!"},null,null,null,null,null,null,null,null,null,null,null,null,null,null,null,null,null,null,null,null,null,30,36,"Conventional"]
["R5-10b","MUTCD 11th Ed.",null,{"$error":"#VALUE!"},null,null,null,null,null,null,null,null,null,null,null,null,null,null,null,null,null,null,null,null,null,30,18,"Conventional"]
["R5-10c","MUTCD 11th Ed.",null,{"$error":"#VALUE!"},null,null,null,null,null,null,null,null,null,null,null,null,null,null,null,null,null,null,null,null,null,24,12,"Conventional"]
["R5-11","MUTCD 11th Ed.",null,{"$error":"#VALUE!"},null,null,null,null,null,null,null,null,null,null,null,null,null,null,null,null,null,null,null,null,null,30,24,"Conventional"]
["R5-1a","MUTCD 11th Ed.",null,{"$error":"#VALUE!"},null,null,null,null,null,null,null,null,null,null,null,null,null,null,null,null,null,null,null,null,null,30,18,"Minimum",36,24,"Expressway",42,30,"Multi-Lane Conventional; Freeway; Oversized"]
["R5-1b","MUTCD 11th Ed.",null,{"$error":"#VALUE!"},null,null,null,null,null,null,null,null,null,null,null,null,null,null,null,null,null,null,null,null,null,12,18,"Off Roadway; Roadway"]
["R5-2","MUTCD 11th Ed.",null,{"$error":"#VALUE!"},null,null,null,null,null,null,null,null,null,null,null,null,null,null,null,null,null,null,null,null,null,24,null,"Conventional",30,null,"Expressway",36,null,"Freeway; Oversized"]
["R5-3","MUTCD 11th Ed.",null,{"$error":"#VALUE!"},null,null,null,null,null,null,null,null,null,null,null,null,null,null,null,null,null,null,null,null,null,24,null,"Conventional"]
["R5-4","MUTCD 11th Ed.",null,{"$error":"#VALUE!"},null,null,null,null,null,null,null,null,null,null,null,null,null,null,null,null,null,null,null,null,null,24,30,"Conventional",36,48,"Expressway; Freeway"]
["R5-6","MUTCD 11th Ed.",null,{"$error":"#VALUE!"},null,null,null,null,null,null,null,null,null,null,null,null,null,null,null,null,null,null,null,null,null,24,null,"Conventional",30,null,"Expressway",36,null,"Freeway",48,null,"Oversized"]
["R6-1L","MUTCD 11th Ed.",null,{"$error":"#VALUE!"},null,null,null,null,null,null,null,null,null,null,null,null,null,null,null,null,null,null,null,null,null,36,12,"Single Lane Conventional",48,18,"Multi-Lane Conventional; Expressway; Freeway",72,24,"Oversized"]
["R6-1R","MUTCD 11th Ed.",null,{"$error":"#VALUE!"},null,null,null,null,null,null,null,null,null,null,null,null,null,null,null,null,null,null,null,null,null,36,12,"Single Lane Conventional",48,18,"Multi-Lane Conventional; Expressway; Freeway",72,24,"Oversized"]
["R6-2","MUTCD 11th Ed.",null,{"$error":"#VALUE!"},null,null,null,null,null,null,null,null,null,null,null,null,null,null,null,null,null,null,null,null,null,18,24,"Minimum",24,30,"Single Lane Conventional",30,36,"Multi-Lane Conventional",36,48,"Expressway; Oversized",48,60,"Freeway"]
["R6-3","MUTCD 11th Ed.",null,{"$error":"#VALUE!"},null,null,null,null,null,null,null,null,null,null,null,null,null,null,null,null,null,null,null,null,null,30,24,"Conventional",36,30,"Expressway; Oversized"]
["R6-3a","MUTCD 11th Ed.",null,{"$error":"#VALUE!"},null,null,null,null,null,null,null,null,null,null,null,null,null,null,null,null,null,null,null,null,null,30,24,"Conventional",36,30,"Expressway; Oversized"]
["R6-4","MUTCD 10th Edition",null,{"$error":"#VALUE!"},null,null,null,null,null,null,null,null,null,null,null,null,null,null,null,null,null,null,null,null,null,30,24,"Not in MUTCD 11th Edition"]
["R6-4a","MUTCD 10th Edition",null,{"$error":"#VALUE!"},null,null,null,null,null,null,null,null,null,null,null,null,null,null,null,null,null,null,null,null,null,48,24,"Not in MUTCD 11th Edition"]
["R6-4b","MUTCD 10th Edition",null,{"$error":"#VALUE!"},null,null,null,null,null,null,null,null,null,null,null,null,null,null,null,null,null,null,null,null,null,60,24,"Not in MUTCD 11th Edition"]
["R6-5P","MUTCD 11th Ed.",null,{"$error":"#VALUE!"},null,null,null,null,null,null,null,null,null,null,null,null,null,null,null,null,null,null,null,null,null,30,null,"Conventional"]
["R6-6","MUTCD 11th Ed.",null,{"$error":"#VALUE!"},null,null,null,null,null,null,null,null,null,null,null,null,null,null,null,null,null,null,null,null,null,24,30,"Single Lane Conventional",30,36,"Multi-Lane Conventional"]
["R6-7","MUTCD 11th Ed.",null,{"$error":"#VALUE!"},null,null,null,null,null,null,null,null,null,null,null,null,null,null,null,null,null,null,null,null,null,24,30,"Single Lane Conventional",30,36,"Multi-Lane Conventional"]
["R7-1","MUTCD 11th Ed.",null,{"$error":"#VALUE!"},"(No Arrow)",{"$error":"#VALUE!"},"(Left Arrow)",{"$error":"#VALUE!"},"(Right Arrow)",null,null,null,null,null,null,null,null,null,null,null,null,null,null,null,null,12,18,"Conventional"]
["R7-20","MUTCD 11th Ed.",null,{"$error":"#VALUE!"},null,null,null,null,null,null,null,null,null,1,"Hours",1,null,null,null,null,null,null,null,null,null,24,18,"Conventional"]
["R7-203","MUTCD 11th Ed.",null,{"$error":"#VALUE!"},null,null,null,null,null,null,null,null,null,null,null,null,null,null,null,null,null,null,null,null,null,18,24,"Conventional",24,30,"Oversized"]
["R7-8","MUTCD 11th Ed.",null,{"$error":"#VALUE!"},null,null,null,null,null,null,null,null,null,null,null,null,null,null,null,null,null,null,null,null,null,12,18,"Conventional"]
["R7-8aP","MUTCD 11th Ed.",null,{"$error":"#VALUE!"},null,null,null,null,null,null,null,null,null,null,null,null,null,null,null,null,null,null,null,null,null,12,6,"Conventional"]
["R7-9","MUTCD 11th Ed.",null,{"$error":"#VALUE!"},null,null,null,null,null,null,null,null,null,null,null,null,null,null,null,null,null,null,null,null,null,12,18,"Conventional"]
["R8-10","MUTCD 11th Ed.",null,{"$error":"#VALUE!"},null,null,null,null,null,null,null,null,null,null,null,null,null,null,null,null,null,null,null,null,null,24,36,"Conventional",36,48,"Oversized"]
["R8-4","MUTCD 11th Ed.",null,{"$error":"#VALUE!"},null,null,null,null,null,null,null,null,null,null,null,null,null,null,null,null,null,null,null,null,null,30,24,"Conventional; Expressway",48,36,"Freeway; Oversized"]
["R8-7","MUTCD 11th Ed.",null,{"$error":"#VALUE!"},null,null,null,null,null,null,null,null,null,null,null,null,null,null,null,null,null,null,null,null,null,30,24,"Conventional; Expressway",48,36,"Freeway; Oversized"]
["R8-8","MUTCD 11th Ed.",null,{"$error":"#VALUE!"},null,null,null,null,null,null,null,null,null,null,null,null,null,null,null,null,null,null,null,null,null,24,30,"Conventional",36,48,"Expressway; Oversized"]
["R8-9","MUTCD 11th Ed.",null,{"$error":"#VALUE!"},null,null,null,null,null,null,null,null,null,null,null,null,null,null,null,null,null,null,null,null,null,24,null,"Conventional",36,null,"Expressway; Oversized"]
["R9-1","MUTCD 11th Ed.",null,{"$error":"#VALUE!"},null,null,null,null,null,null,null,null,null,null,null,null,null,null,null,null,null,null,null,null,null,18,24,"Conventional"]
["R9-13","MUTCD 11th Ed.",null,{"$error":"#VALUE!"},null,null,null,null,null,null,null,null,null,null,null,null,null,null,null,null,null,null,null,null,null,18,null,"Conventional",24,null,"Expressway",30,null,"Freeway; Oversized"]
["R9-14","MUTCD 11th Ed.",null,{"$error":"#VALUE!"},null,null,null,null,null,null,null,null,null,null,null,null,null,null,null,null,null,null,null,null,null,18,null,"Conventional",24,null,"Expressway",30,null,"Freeway; Oversized"]
["R9-15","MUTCD 11th Ed.",null,{"$error":"#VALUE!"},null,null,null,null,null,null,null,null,null,null,null,null,null,null,null,null,null,null,null,null,null,18,null,"Conventional",24,null,"Expressway",30,null,"Freeway; Oversized"]
["R9-16","MUTCD 11th Ed.",null,{"$error":"#VALUE!"},null,null,null,null,null,null,null,null,null,null,null,null,null,null,null,null,null,null,null,null,null,18,null,"Conventional",24,null,"Expressway",30,null,"Freeway; Oversized"]
["R9-2","MUTCD 11th Ed.",null,{"$error":"#VALUE!"},null,null,null,null,null,null,null,null,null,null,null,null,null,null,null,null,null,null,null,null,null,12,18,"Conventional"]
["R9-3","MUTCD 11th Ed.",null,{"$error":"#VALUE!"},null,null,null,null,null,null,null,null,null,null,null,null,null,null,null,null,null,null,null,null,null,12,18,"Conventional"]
["R9-3a","MUTCD 11th Ed.",null,{"$error":"#VALUE!"},null,null,null,null,null,null,null,null,null,null,null,null,null,null,null,null,null,null,null,null,null,18,null,"Conventional",24,null,"Expressway",30,null,"Freeway; Oversized"]
["R9-3bPL","MUTCD 11th Ed.",null,{"$error":"#VALUE!"},null,null,null,null,null,null,null,null,null,null,null,null,null,null,null,null,null,null,null,null,null,18,12,"Conventional"]
["R9-3bPR","MUTCD 11th Ed.",null,{"$error":"#VALUE!"},null,null,null,null,null,null,null,null,null,null,null,null,null,null,null,null,null,null,null,null,null,18,12,"Conventional"]
["R9-3cP","MUTCD 11th Ed.",null,{"$error":"#VALUE!"},null,null,null,null,null,null,null,null,null,null,null,null,null,null,null,null,null,null,null,null,null,12,null,"Off Roadway; Roadway"]
["R9-4a","MUTCD 11th Ed.",null,{"$error":"#VALUE!"},null,null,null,null,null,null,null,null,null,null,null,null,null,null,null,null,null,null,null,null,null,18,null,"Conventional",24,null,"Oversized"]
["R9-5","MUTCD 11th Ed.",null,{"$error":"#VALUE!"},null,null,null,null,null,null,null,null,null,null,null,null,null,null,null,null,null,null,null,null,null,12,18,"Off Roadway; Roadway"]
["R9-6","MUTCD 11th Ed.",null,{"$error":"#VALUE!"},null,null,null,null,null,null,null,null,null,null,null,null,null,null,null,null,null,null,null,null,null,12,18,"Off Roadway; Roadway"]
["R9-7","MUTCD 11th Ed.",null,{"$error":"#VALUE!"},null,null,null,null,null,null,null,null,null,null,null,null,null,null,null,null,null,null,null,null,null,12,18,"Off Roadway"]
["R9-8","MUTCD 11th Ed.",null,{"$error":"#VALUE!"},null,null,null,null,null,null,null,null,null,null,null,null,null,null,null,null,null,null,null,null,null,36,18,"Conventional"]
["R9-9","MUTCD 11th Ed.",null,{"$error":"#VALUE!"},null,null,null,null,null,null,null,null,null,null,null,null,null,null,null,null,null,null,null,null,null,24,12,"Conventional"]
["RS-001","MUTCD 11th Ed.",null,{"$error":"#VALUE!"},null,null,null,null,null,null,null,null,null,null,null,null,null,null,null,null,null,null,null,null,null,18,null,"Minimum",24,null,"Conventional",30,null,"Oversized"]
["RS-005","MUTCD 11th Ed.",null,{"$error":"#VALUE!"},null,null,null,null,null,null,null,null,null,null,null,null,null,null,null,null,null,null,null,null,null,18,null,"Minimum",24,null,"Conventional",30,null,"Oversized"]
["RS-006","MUTCD 11th Ed.",null,{"$error":"#VALUE!"},null,null,null,null,null,null,null,null,null,null,null,null,null,null,null,null,null,null,null,null,null,18,null,"Minimum",24,null,"Conventional",30,null,"Oversized"]
["RS-007","MUTCD 11th Ed.",null,{"$error":"#VALUE!"},null,null,null,null,null,null,null,null,null,null,null,null,null,null,null,null,null,null,null,null,null,18,null,"Minimum",24,null,"Conventional",30,null,"Oversized"]
["RS-008","MUTCD 11th Ed.",null,{"$error":"#VALUE!"},null,null,null,null,null,null,null,null,null,null,null,null,null,null,null,null,null,null,null,null,null,18,null,"Minimum",24,null,"Conventional",30,null,"Oversized"]
["RS-009","MUTCD 11th Ed.",null,{"$error":"#VALUE!"},null,null,null,null,null,null,null,null,null,null,null,null,null,null,null,null,null,null,null,null,null,18,null,"Minimum",24,null,"Conventional",30,null,"Oversized"]
["RS-010","MUTCD 11th Ed.",null,{"$error":"#VALUE!"},null,null,null,null,null,null,null,null,null,null,null,null,null,null,null,null,null,null,null,null,null,18,null,"Minimum",24,null,"Conventional",30,null,"Oversized"]
["RS-011","MUTCD 11th Ed.",null,{"$error":"#VALUE!"},null,null,null,null,null,null,null,null,null,null,null,null,null,null,null,null,null,null,null,null,null,18,null,"Minimum",24,null,"Conventional",30,null,"Oversized"]
["RS-012","MUTCD 11th Ed.",null,{"$error":"#VALUE!"},null,null,null,null,null,null,null,null,null,null,null,null,null,null,null,null,null,null,null,null,null,18,null,"Minimum",24,null,"Conventional",30,null,"Oversized"]
["RS-013","MUTCD 11th Ed.",null,{"$error":"#VALUE!"},null,null,null,null,null,null,null,null,null,null,null,null,null,null,null,null,null,null,null,null,null,18,null,"Minimum",24,null,"Conventional",30,null,"Oversized"]
["RS-015","MUTCD 11th Ed.",null,{"$error":"#VALUE!"},null,null,null,null,null,null,null,null,null,null,null,null,null,null,null,null,null,null,null,null,null,18,null,"Minimum",24,null,"Conventional",30,null,"Oversized"]
["RS-017","MUTCD 11th Ed.",null,{"$error":"#VALUE!"},null,null,null,null,null,null,null,null,null,null,null,null,null,null,null,null,null,null,null,null,null,18,null,"Minimum",24,null,"Conventional",30,null,"Oversized"]
["RS-020","MUTCD 11th Ed.",null,{"$error":"#VALUE!"},null,null,null,null,null,null,null,null,null,null,null,null,null,null,null,null,null,null,null,null,null,18,null,"Minimum",24,null,"Conventional",30,null,"Oversized"]
["RS-021","MUTCD 11th Ed.",null,{"$error":"#VALUE!"},null,null,null,null,null,null,null,null,null,null,null,null,null,null,null,null,null,null,null,null,null,18,null,"Minimum",24,null,"Conventional",30,null,"Oversized"]
["RS-022","MUTCD 11th Ed.",null,{"$error":"#VALUE!"},null,null,null,null,null,null,null,null,null,null,null,null,null,null,null,null,null,null,null,null,null,18,null,"Minimum",24,null,"Conventional",30,null,"Oversized"]
["RS-023","MUTCD 11th Ed.",null,{"$error":"#VALUE!"},null,null,null,null,null,null,null,null,null,null,null,null,null,null,null,null,null,null,null,null,null,18,null,"Minimum",24,null,"Conventional",30,null,"Oversized"]
["RS-024","MUTCD 11th Ed.",null,{"$error":"#VALUE!"},null,null,null,null,null,null,null,null,null,null,null,null,null,null,null,null,null,null,null,null,null,18,null,"Minimum",24,null,"Conventional",30,null,"Oversized"]
["RS-026","MUTCD 11th Ed.",null,{"$error":"#VALUE!"},null,null,null,null,null,null,null,null,null,null,null,null,null,null,null,null,null,null,null,null,null,18,null,"Minimum",24,null,"Conventional",30,null,"Oversized"]
["RS-027","MUTCD 11th Ed.",null,{"$error":"#VALUE!"},null,null,null,null,null,null,null,null,null,null,null,null,null,null,null,null,null,null,null,null,null,18,null,"Minimum",24,null,"Conventional",30,null,"Oversized"]
["RS-030","MUTCD 11th Ed.",null,{"$error":"#VALUE!"},null,null,null,null,null,null,null,null,null,null,null,null,null,null,null,null,null,null,null,null,null,18,null,"Minimum",24,null,"Conventional",30,null,"Oversized"]
["RS-031","MUTCD 11th Ed.",null,{"$error":"#VALUE!"},null,null,null,null,null,null,null,null,null,null,null,null,null,null,null,null,null,null,null,null,null,18,null,"Minimum",24,null,"Conventional",30,null,"Oversized"]
["RS-034","MUTCD 11th Ed.",null,{"$error":"#VALUE!"},null,null,null,null,null,null,null,null,null,null,null,null,null,null,null,null,null,null,null,null,null,18,null,"Minimum",24,null,"Conventional",30,null,"Oversized"]
["RS-035","MUTCD 11th Ed.",null,{"$error":"#VALUE!"},null,null,null,null,null,null,null,null,null,null,null,null,null,null,null,null,null,null,null,null,null,18,null,"Minimum",24,null,"Conventional",30,null,"Oversized"]
["RS-036","MUTCD 11th Ed.",null,{"$error":"#VALUE!"},null,null,null,null,null,null,null,null,null,null,null,null,null,null,null,null,null,null,null,null,null,18,null,"Minimum",24,null,"Conventional",30,null,"Oversized"]
["RS-037","MUTCD 11th Ed.",null,{"$error":"#VALUE!"},null,null,null,null,null,null,null,null,null,null,null,null,null,null,null,null,null,null,null,null,null,18,null,"Minimum",24,null,"Conventional",30,null,"Oversized"]
["RS-039","MUTCD 11th Ed.",null,{"$error":"#VALUE!"},null,null,null,null,null,null,null,null,null,null,null,null,null,null,null,null,null,null,null,null,null,18,null,"Minimum",24,null,"Conventional",30,null,"Oversized"]
["RS-040","MUTCD 11th Ed.",null,{"$error":"#VALUE!"},null,null,null,null,null,null,null,null,null,null,null,null,null,null,null,null,null,null,null,null,null,18,null,"Minimum",24,null,"Conventional",30,null,"Oversized"]
["RS-041","MUTCD 11th Ed.",null,{"$error":"#VALUE!"},null,null,null,null,null,null,null,null,null,null,null,null,null,null,null,null,null,null,null,null,null,18,null,"Minimum",24,null,"Conventional",30,null,"Oversized"]
["RS-042","MUTCD 11th Ed.",null,{"$error":"#VALUE!"},null,null,null,null,null,null,null,null,null,null,null,null,null,null,null,null,null,null,null,null,null,18,null,"Minimum",24,null,"Conventional",30,null,"Oversized"]
["RS-043","MUTCD 11th Ed.",null,{"$error":"#VALUE!"},null,null,null,null,null,null,null,null,null,null,null,null,null,null,null,null,null,null,null,null,null,18,null,"Minimum",24,null,"Conventional",30,null,"Oversized"]
["RS-044","MUTCD 11th Ed.",null,{"$error":"#VALUE!"},null,null,null,null,null,null,null,null,null,null,null,null,null,null,null,null,null,null,null,null,null,18,null,"Minimum",24,null,"Conventional",30,null,"Oversized"]
["RS-045","MUTCD 11th Ed.",null,{"$error":"#VALUE!"},null,null,null,null,null,null,null,null,null,null,null,null,null,null,null,null,null,null,null,null,null,18,null,"Minimum",24,null,"Conventional",30,null,"Oversized"]
["RS-046","MUTCD 11th Ed.",null,{"$error":"#VALUE!"},null,null,null,null,null,null,null,null,null,null,null,null,null,null,null,null,null,null,null,null,null,18,null,"Minimum",24,null,"Conventional",30,null,"Oversized"]
["RS-047","MUTCD 11th Ed.",null,{"$error":"#VALUE!"},null,null,null,null,null,null,null,null,null,null,null,null,null,null,null,null,null,null,null,null,null,18,null,"Minimum",24,null,"Conventional",30,null,"Oversized"]
["RS-048","MUTCD 11th Ed.",null,{"$error":"#VALUE!"},null,null,null,null,null,null,null,null,null,null,null,null,null,null,null,null,null,null,null,null,null,18,null,"Minimum",24,null,"Conventional",30,null,"Oversized"]
["RS-049","MUTCD 11th Ed.",null,{"$error":"#VALUE!"},null,null,null,null,null,null,null,null,null,null,null,null,null,null,null,null,null,null,null,null,null,18,null,"Minimum",24,null,"Conventional",30,null,"Oversized"]
["RS-050","MUTCD 11th Ed.",null,{"$error":"#VALUE!"},null,null,null,null,null,null,null,null,null,null,null,null,null,null,null,null,null,null,null,null,null,18,null,"Minimum",24,null,"Conventional",30,null,"Oversized"]
["RS-052","MUTCD 11th Ed.",null,{"$error":"#VALUE!"},null,null,null,null,null,null,null,null,null,null,null,null,null,null,null,null,null,null,null,null,null,18,null,"Minimum",24,null,"Conventional",30,null,"Oversized"]
["RS-053","MUTCD 11th Ed.",null,{"$error":"#VALUE!"},null,null,null,null,null,null,null,null,null,null,null,null,null,null,null,null,null,null,null,null,null,18,null,"Minimum",24,null,"Conventional",30,null,"Oversized"]
["RS-054","MUTCD 11th Ed.",null,{"$error":"#VALUE!"},null,null,null,null,null,null,null,null,null,null,null,null,null,null,null,null,null,null,null,null,null,18,null,"Minimum",24,null,"Conventional",30,null,"Oversized"]
["RS-055","MUTCD 11th Ed.",null,{"$error":"#VALUE!"},null,null,null,null,null,null,null,null,null,null,null,null,null,null,null,null,null,null,null,null,null,18,null,"Minimum",24,null,"Conventional",30,null,"Oversized"]
["RS-056","MUTCD 11th Ed.",null,{"$error":"#VALUE!"},null,null,null,null,null,null,null,null,null,null,null,null,null,null,null,null,null,null,null,null,null,18,null,"Minimum",24,null,"Conventional",30,null,"Oversized"]
["RS-057","MUTCD 11th Ed.",null,{"$error":"#VALUE!"},null,null,null,null,null,null,null,null,null,null,null,null,null,null,null,null,null,null,null,null,null,18,null,"Minimum",24,null,"Conventional",30,null,"Oversized"]
["RS-058","MUTCD 11th Ed.",null,{"$error":"#VALUE!"},null,null,null,null,null,null,null,null,null,null,null,null,null,null,null,null,null,null,null,null,null,18,null,"Minimum",24,null,"Conventional",30,null,"Oversized"]
["RS-059","MUTCD 11th Ed.",null,{"$error":"#VALUE!"},null,null,null,null,null,null,null,null,null,null,null,null,null,null,null,null,null,null,null,null,null,18,null,"Minimum",24,null,"Conventional",30,null,"Oversized"]
["RS-060","MUTCD 11th Ed.",null,{"$error":"#VALUE!"},null,null,null,null,null,null,null,null,null,null,null,null,null,null,null,null,null,null,null,null,null,18,null,"Minimum",24,null,"Conventional",30,null,"Oversized"]
["RS-061","MUTCD 11th Ed.",null,{"$error":"#VALUE!"},null,null,null,null,null,null,null,null,null,null,null,null,null,null,null,null,null,null,null,null,null,18,null,"Minimum",24,null,"Conventional",30,null,"Oversized"]
["RS-062","MUTCD 11th Ed.",null,{"$error":"#VALUE!"},null,null,null,null,null,null,null,null,null,null,null,null,null,null,null,null,null,null,null,null,null,18,null,"Minimum",24,null,"Conventional",30,null,"Oversized"]
["RS-063","MUTCD 11th Ed.",null,{"$error":"#VALUE!"},null,null,null,null,null,null,null,null,null,null,null,null,null,null,null,null,null,null,null,null,null,18,null,"Minimum",24,null,"Conventional",30,null,"Oversized"]
["RS-064","MUTCD 11th Ed.",null,{"$error":"#VALUE!"},null,null,null,null,null,null,null,null,null,null,null,null,null,null,null,null,null,null,null,null,null,18,null,"Minimum",24,null,"Conventional",30,null,"Oversized"]
["RS-067","MUTCD 11th Ed.",null,{"$error":"#VALUE!"},null,null,null,null,null,null,null,null,null,null,null,null,null,null,null,null,null,null,null,null,null,18,null,"Minimum",24,null,"Conventional",30,null,"Oversized"]
["RS-068","MUTCD 11th Ed.",null,{"$error":"#VALUE!"},null,null,null,null,null,null,null,null,null,null,null,null,null,null,null,null,null,null,null,null,null,18,null,"Minimum",24,null,"Conventional",30,null,"Oversized"]
["RS-070","MUTCD 11th Ed.",null,{"$error":"#VALUE!"},null,null,null,null,null,null,null,null,null,null,null,null,null,null,null,null,null,null,null,null,null,18,null,"Minimum",24,null,"Conventional",30,null,"Oversized"]
["RS-071","MUTCD 11th Ed.",null,{"$error":"#VALUE!"},null,null,null,null,null,null,null,null,null,null,null,null,null,null,null,null,null,null,null,null,null,18,null,"Minimum",24,null,"Conventional",30,null,"Oversized"]
["RS-076","MUTCD 11th Ed.",null,{"$error":"#VALUE!"},null,null,null,null,null,null,null,null,null,null,null,null,null,null,null,null,null,null,null,null,null,18,null,"Minimum",24,null,"Conventional",30,null,"Oversized"]
["RS-077","MUTCD 11th Ed.",null,{"$error":"#VALUE!"},null,null,null,null,null,null,null,null,null,null,null,null,null,null,null,null,null,null,null,null,null,18,null,"Minimum",24,null,"Conventional",30,null,"Oversized"]
["RS-078","MUTCD 11th Ed.",null,{"$error":"#VALUE!"},null,null,null,null,null,null,null,null,null,null,null,null,null,null,null,null,null,null,null,null,null,18,null,"Minimum",24,null,"Conventional",30,null,"Oversized"]
["RS-079","MUTCD 11th Ed.",null,{"$error":"#VALUE!"},null,null,null,null,null,null,null,null,null,null,null,null,null,null,null,null,null,null,null,null,null,18,null,"Minimum",24,null,"Conventional",30,null,"Oversized"]
["RS-080","MUTCD 11th Ed.",null,{"$error":"#VALUE!"},null,null,null,null,null,null,null,null,null,null,null,null,null,null,null,null,null,null,null,null,null,18,null,"Minimum",24,null,"Conventional",30,null,"Oversized"]
["RS-081","MUTCD 11th Ed.",null,{"$error":"#VALUE!"},null,null,null,null,null,null,null,null,null,null,null,null,null,null,null,null,null,null,null,null,null,18,null,"Minimum",24,null,"Conventional",30,null,"Oversized"]
["RS-082","MUTCD 11th Ed.",null,{"$error":"#VALUE!"},null,null,null,null,null,null,null,null,null,null,null,null,null,null,null,null,null,null,null,null,null,18,null,"Minimum",24,null,"Conventional",30,null,"Oversized"]
["RS-083","MUTCD 11th Ed.",null,{"$error":"#VALUE!"},null,null,null,null,null,null,null,null,null,null,null,null,null,null,null,null,null,null,null,null,null,18,null,"Minimum",24,null,"Conventional",30,null,"Oversized"]
["RS-084","MUTCD 11th Ed.",null,{"$error":"#VALUE!"},null,null,null,null,null,null,null,null,null,null,null,null,null,null,null,null,null,null,null,null,null,18,null,"Minimum",24,null,"Conventional",30,null,"Oversized"]
["RS-085","MUTCD 11th Ed.",null,{"$error":"#VALUE!"},null,null,null,null,null,null,null,null,null,null,null,null,null,null,null,null,null,null,null,null,null,18,null,"Minimum",24,null,"Conventional",30,null,"Oversized"]
["RS-086","MUTCD 11th Ed.",null,{"$error":"#VALUE!"},null,null,null,null,null,null,null,null,null,null,null,null,null,null,null,null,null,null,null,null,null,18,null,"Minimum",24,null,"Conventional",30,null,"Oversized"]
["RS-087","MUTCD 11th Ed.",null,{"$error":"#VALUE!"},null,null,null,null,null,null,null,null,null,null,null,null,null,null,null,null,null,null,null,null,null,18,null,"Minimum",24,null,"Conventional",30,null,"Oversized"]
["RS-088","MUTCD 11th Ed.",null,{"$error":"#VALUE!"},null,null,null,null,null,null,null,null,null,null,null,null,null,null,null,null,null,null,null,null,null,18,null,"Minimum",24,null,"Conventional",30,null,"Oversized"]
["RS-089","MUTCD 11th Ed.",null,{"$error":"#VALUE!"},null,null,null,null,null,null,null,null,null,null,null,null,null,null,null,null,null,null,null,null,null,18,null,"Minimum",24,null,"Conventional",30,null,"Oversized"]
["RS-090","MUTCD 11th Ed.",null,{"$error":"#VALUE!"},null,null,null,null,null,null,null,null,null,null,null,null,null,null,null,null,null,null,null,null,null,18,null,"Minimum",24,null,"Conventional",30,null,"Oversized"]
["RS-091","MUTCD 11th Ed.",null,{"$error":"#VALUE!"},null,null,null,null,null,null,null,null,null,null,null,null,null,null,null,null,null,null,null,null,null,18,null,"Minimum",24,null,"Conventional",30,null,"Oversized"]
["RS-092","MUTCD 11th Ed.",null,{"$error":"#VALUE!"},null,null,null,null,null,null,null,null,null,null,null,null,null,null,null,null,null,null,null,null,null,18,null,"Minimum",24,null,"Conventional",30,null,"Oversized"]
["RS-093","MUTCD 11th Ed.",null,{"$error":"#VALUE!"},null,null,null,null,null,null,null,null,null,null,null,null,null,null,null,null,null,null,null,null,null,18,null,"Minimum",24,null,"Conventional",30,null,"Oversized"]
["RS-094","MUTCD 11th Ed.",null,{"$error":"#VALUE!"},null,null,null,null,null,null,null,null,null,null,null,null,null,null,null,null,null,null,null,null,null,18,null,"Minimum",24,null,"Conventional",30,null,"Oversized"]
["RS-095","MUTCD 11th Ed.",null,{"$error":"#VALUE!"},null,null,null,null,null,null,null,null,null,null,null,null,null,null,null,null,null,null,null,null,null,18,null,"Minimum",24,null,"Conventional",30,null,"Oversized"]
["RS-096","MUTCD 11th Ed.",null,{"$error":"#VALUE!"},null,null,null,null,null,null,null,null,null,null,null,null,null,null,null,null,null,null,null,null,null,18,null,"Minimum",24,null,"Conventional",30,null,"Oversized"]
["RS-097","MUTCD 11th Ed.",null,{"$error":"#VALUE!"},null,null,null,null,null,null,null,null,null,null,null,null,null,null,null,null,null,null,null,null,null,18,null,"Minimum",24,null,"Conventional",30,null,"Oversized"]
["RS-098","MUTCD 11th Ed.",null,{"$error":"#VALUE!"},null,null,null,null,null,null,null,null,null,null,null,null,null,null,null,null,null,null,null,null,null,18,null,"Minimum",24,null,"Conventional",30,null,"Oversized"]
["RS-099","MUTCD 11th Ed.",null,{"$error":"#VALUE!"},null,null,null,null,null,null,null,null,null,null,null,null,null,null,null,null,null,null,null,null,null,18,null,"Minimum",24,null,"Conventional",30,null,"Oversized"]
["RS-101","MUTCD 11th Ed.",null,{"$error":"#VALUE!"},null,null,null,null,null,null,null,null,null,null,null,null,null,null,null,null,null,null,null,null,null,18,null,"Minimum",24,null,"Conventional",30,null,"Oversized"]
["RS-102","MUTCD 11th Ed.",null,{"$error":"#VALUE!"},null,null,null,null,null,null,null,null,null,null,null,null,null,null,null,null,null,null,null,null,null,18,null,"Minimum",24,null,"Conventional",30,null,"Oversized"]
["RS-103","MUTCD 11th Ed.",null,{"$error":"#VALUE!"},null,null,null,null,null,null,null,null,null,null,null,null,null,null,null,null,null,null,null,null,null,18,null,"Minimum",24,null,"Conventional",30,null,"Oversized"]
["RS-104","MUTCD 11th Ed.",null,{"$error":"#VALUE!"},null,null,null,null,null,null,null,null,null,null,null,null,null,null,null,null,null,null,null,null,null,18,null,"Minimum",24,null,"Conventional",30,null,"Oversized"]
["RS-105","MUTCD 11th Ed.",null,{"$error":"#VALUE!"},null,null,null,null,null,null,null,null,null,null,null,null,null,null,null,null,null,null,null,null,null,18,null,"Minimum",24,null,"Conventional",30,null,"Oversized"]
["RS-108","MUTCD 11th Ed.",null,{"$error":"#VALUE!"},null,null,null,null,null,null,null,null,null,null,null,null,null,null,null,null,null,null,null,null,null,18,null,"Minimum",24,null,"Conventional",30,null,"Oversized"]
["RS-109","MUTCD 11th Ed.",null,{"$error":"#VALUE!"},null,null,null,null,null,null,null,null,null,null,null,null,null,null,null,null,null,null,null,null,null,18,null,"Minimum",24,null,"Conventional",30,null,"Oversized"]
["RS-111","MUTCD 11th Ed.",null,{"$error":"#VALUE!"},null,null,null,null,null,null,null,null,null,null,null,null,null,null,null,null,null,null,null,null,null,18,null,"Minimum",24,null,"Conventional",30,null,"Oversized"]
["RS-112","MUTCD 11th Ed.",null,{"$error":"#VALUE!"},null,null,null,null,null,null,null,null,null,null,null,null,null,null,null,null,null,null,null,null,null,18,null,"Minimum",24,null,"Conventional",30,null,"Oversized"]
["RS-113","MUTCD 11th Ed.",null,{"$error":"#VALUE!"},null,null,null,null,null,null,null,null,null,null,null,null,null,null,null,null,null,null,null,null,null,18,null,"Minimum",24,null,"Conventional",30,null,"Oversized"]
["RS-114","MUTCD 11th Ed.",null,{"$error":"#VALUE!"},null,null,null,null,null,null,null,null,null,null,null,null,null,null,null,null,null,null,null,null,null,18,null,"Minimum",24,null,"Conventional",30,null,"Oversized"]
["RS-115","MUTCD 11th Ed.",null,{"$error":"#VALUE!"},null,null,null,null,null,null,null,null,null,null,null,null,null,null,null,null,null,null,null,null,null,18,null,"Minimum",24,null,"Conventional",30,null,"Oversized"]
["RS-116","MUTCD 11th Ed.",null,{"$error":"#VALUE!"},null,null,null,null,null,null,null,null,null,null,null,null,null,null,null,null,null,null,null,null,null,18,null,"Minimum",24,null,"Conventional",30,null,"Oversized"]
["RS-117","MUTCD 11th Ed.",null,{"$error":"#VALUE!"},null,null,null,null,null,null,null,null,null,null,null,null,null,null,null,null,null,null,null,null,null,18,null,"Minimum",24,null,"Conventional",30,null,"Oversized"]
["RS-118","MUTCD 11th Ed.",null,{"$error":"#VALUE!"},null,null,null,null,null,null,null,null,null,null,null,null,null,null,null,null,null,null,null,null,null,18,null,"Minimum",24,null,"Conventional",30,null,"Oversized"]
["RS-119","MUTCD 11th Ed.",null,{"$error":"#VALUE!"},null,null,null,null,null,null,null,null,null,null,null,null,null,null,null,null,null,null,null,null,null,18,null,"Minimum",24,null,"Conventional",30,null,"Oversized"]
["RS-120","MUTCD 11th Ed.",null,{"$error":"#VALUE!"},null,null,null,null,null,null,null,null,null,null,null,null,null,null,null,null,null,null,null,null,null,18,null,"Minimum",24,null,"Conventional",30,null,"Oversized"]
["RS-121","MUTCD 11th Ed.",null,{"$error":"#VALUE!"},null,null,null,null,null,null,null,null,null,null,null,null,null,null,null,null,null,null,null,null,null,18,null,"Minimum",24,null,"Conventional",30,null,"Oversized"]
["RS-122","MUTCD 11th Ed.",null,{"$error":"#VALUE!"},null,null,null,null,null,null,null,null,null,null,null,null,null,null,null,null,null,null,null,null,null,18,null,"Minimum",24,null,"Conventional",30,null,"Oversized"]
["RS-123","MUTCD 11th Ed.",null,{"$error":"#VALUE!"},null,null,null,null,null,null,null,null,null,null,null,null,null,null,null,null,null,null,null,null,null,18,null,"Minimum",24,null,"Conventional",30,null,"Oversized"]
["RS-124","MUTCD 11th Ed.",null,{"$error":"#VALUE!"},null,null,null,null,null,null,null,null,null,null,null,null,null,null,null,null,null,null,null,null,null,18,null,"Minimum",24,null,"Conventional",30,null,"Oversized"]
["RS-125","MUTCD 11th Ed.",null,{"$error":"#VALUE!"},null,null,null,null,null,null,null,null,null,null,null,null,null,null,null,null,null,null,null,null,null,18,null,"Minimum",24,null,"Conventional",30,null,"Oversized"]
["RS-126","MUTCD 11th Ed.",null,{"$error":"#VALUE!"},null,null,null,null,null,null,null,null,null,null,null,null,null,null,null,null,null,null,null,null,null,18,null,"Minimum",24,null,"Conventional",30,null,"Oversized"]
["RS-127","MUTCD 11th Ed.",null,{"$error":"#VALUE!"},null,null,null,null,null,null,null,null,null,null,null,null,null,null,null,null,null,null,null,null,null,18,null,"Minimum",24,null,"Conventional",30,null,"Oversized"]
["RS-128","MUTCD 11th Ed.",null,{"$error":"#VALUE!"},null,null,null,null,null,null,null,null,null,null,null,null,null,null,null,null,null,null,null,null,null,18,null,"Minimum",24,null,"Conventional",30,null,"Oversized"]
["RS-129","MUTCD 11th Ed.",null,{"$error":"#VALUE!"},null,null,null,null,null,null,null,null,null,null,null,null,null,null,null,null,null,null,null,null,null,18,null,"Minimum",24,null,"Conventional",30,null,"Oversized"]
["RS-137","MUTCD 11th Ed.",null,{"$error":"#VALUE!"},null,null,null,null,null,null,null,null,null,null,null,null,null,null,null,null,null,null,null,null,null,18,null,"Minimum",24,null,"Conventional",30,null,"Oversized"]
["RS-138","MUTCD 11th Ed.",null,{"$error":"#VALUE!"},null,null,null,null,null,null,null,null,null,null,null,null,null,null,null,null,null,null,null,null,null,18,null,"Minimum",24,null,"Conventional",30,null,"Oversized"]
["RS-140","MUTCD 11th Ed.",null,{"$error":"#VALUE!"},null,null,null,null,null,null,null,null,null,null,null,null,null,null,null,null,null,null,null,null,null,18,null,"Minimum",24,null,"Conventional",30,null,"Oversized"]
["RS-141","MUTCD 11th Ed.",null,{"$error":"#VALUE!"},null,null,null,null,null,null,null,null,null,null,null,null,null,null,null,null,null,null,null,null,null,18,null,"Minimum",24,null,"Conventional",30,null,"Oversized"]
["RS-142","MUTCD 11th Ed.",null,{"$error":"#VALUE!"},null,null,null,null,null,null,null,null,null,null,null,null,null,null,null,null,null,null,null,null,null,18,null,"Minimum",24,null,"Conventional",30,null,"Oversized"]
["RS-143","MUTCD 11th Ed.",null,{"$error":"#VALUE!"},null,null,null,null,null,null,null,null,null,null,null,null,null,null,null,null,null,null,null,null,null,18,null,"Minimum",24,null,"Conventional",30,null,"Oversized"]
["RS-144","MUTCD 11th Ed.",null,{"$error":"#VALUE!"},null,null,null,null,null,null,null,null,null,null,null,null,null,null,null,null,null,null,null,null,null,18,null,"Minimum",24,null,"Conventional",30,null,"Oversized"]
["RS-145","MUTCD 11th Ed.",null,{"$error":"#VALUE!"},null,null,null,null,null,null,null,null,null,null,null,null,null,null,null,null,null,null,null,null,null,18,null,"Minimum",24,null,"Conventional",30,null,"Oversized"]
["RS-146","MUTCD 11th Ed.",null,{"$error":"#VALUE!"},null,null,null,null,null,null,null,null,null,null,null,null,null,null,null,null,null,null,null,null,null,18,null,"Minimum",24,null,"Conventional",30,null,"Oversized"]
["RS-147","MUTCD 11th Ed.",null,{"$error":"#VALUE!"},null,null,null,null,null,null,null,null,null,null,null,null,null,null,null,null,null,null,null,null,null,18,null,"Minimum",24,null,"Conventional",30,null,"Oversized"]
["RS-148","MUTCD 11th Ed.",null,{"$error":"#VALUE!"},null,null,null,null,null,null,null,null,null,null,null,null,null,null,null,null,null,null,null,null,null,18,null,"Minimum",24,null,"Conventional",30,null,"Oversized"]
["RS-149","MUTCD 11th Ed.",null,{"$error":"#VALUE!"},null,null,null,null,null,null,null,null,null,null,null,null,null,null,null,null,null,null,null,null,null,18,null,"Minimum",24,null,"Conventional",30,null,"Oversized"]
["RS-150","MUTCD 11th Ed.",null,{"$error":"#VALUE!"},null,null,null,null,null,null,null,null,null,null,null,null,null,null,null,null,null,null,null,null,null,18,null,"Minimum",24,null,"Conventional",30,null,"Oversized"]
["RS-200","MUTCD 11th Ed.",null,{"$error":"#VALUE!"},null,null,null,null,null,null,null,null,null,null,null,null,null,null,null,null,null,null,null,null,null,18,null,"Minimum",24,null,"Conventional",30,null,"Oversized"]
["RS-73","MUTCD 11th Ed.",null,{"$error":"#VALUE!"},null,null,null,null,null,null,null,null,null,null,null,null,null,null,null,null,null,null,null,null,null,18,null,"Minimum",24,null,"Conventional",30,null,"Oversized"]
["S1-1","MUTCD 11th Ed.",null,{"$error":"#VALUE!"},null,null,null,null,null,null,null,null,null,null,null,null,null,null,null,null,null,null,null,null,null,30,null,"Minimum",36,null,"Conventional",48,null,"Oversized",null,null,null,null,null,null,null,null,null,0.75]
["S3-1","MUTCD 11th Ed.",null,{"$error":"#VALUE!"},null,null,null,null,null,null,null,null,null,null,null,null,null,null,null,null,null,null,null,null,null,30,null,"Minimum",36,null,"Conventional",48,null,"Oversized"]
["S3-2","MUTCD 11th Ed.",null,{"$error":"#VALUE!"},null,null,null,null,null,null,null,null,null,null,null,null,null,null,null,null,null,null,null,null,null,30,null,"Minimum",36,null,"Conventional",48,null,"Oversized"]
["S4-2P","MUTCD 11th Ed.",null,{"$error":"#VALUE!"},null,null,null,null,null,null,null,null,null,null,null,null,null,null,null,null,null,null,null,null,null,24,12,"Conventional",36,18,"Oversized"]
["S4-3P","MUTCD 11th Ed.",null,{"$error":"#VALUE!"},null,null,null,null,null,null,null,null,null,null,null,null,null,null,null,null,null,null,null,null,null,24,9,"Conventional",36,12,"Oversized"]
["S4-5","MUTCD 11th Ed.",null,{"$error":"#VALUE!"},null,null,null,null,null,null,null,null,null,1,"Speed (mph)",2,null,null,null,null,null,null,null,null,null,30,null,"Minimum",36,null,"Conventional",48,null,"Oversized"]
["S5-3","MUTCD 11th Ed.",null,{"$error":"#VALUE!"},null,null,null,null,null,null,null,null,null,null,null,null,null,null,null,null,null,null,null,null,null,24,30,"Conventional",36,48,"Oversized"]
["VD12-2M","Vtrans T-132",null,{"$error":"#VALUE!"},null,null,null,null,null,null,null,null,null,null,null,null,null,null,null,null,null,null,null,null,null,78,48]
["VD-503","Vtrans T-132",null,{"$error":"#VALUE!"},null,null,null,null,null,null,null,null,null,null,null,null,null,null,null,null,null,null,null,null,null,12,18]
["VD-700","Vtrans T-44",null,{"$error":"#VALUE!"},null,null,null,null,null,null,null,null,null,1,"State Route Number (4 digits)",4,1,"Town Code (4 digits)",4,1,"Milage in hundredths (4 digits)",4,null,null,null,6,10]
["VM-064","Vtrans T-136",null,{"$error":"#VALUE!"},null,null,null,null,null,null,null,null,null,null,null,null,null,null,null,null,null,null,null,null,null,24,12,"Minimum, Standard",30,15,"Special"]
["VM-078","Vtrans T-136",null,{"$error":"#VALUE!"},null,null,null,null,null,null,null,null,null,null,null,null,null,null,null,null,null,null,null,null,null,24,12,"Minimum, Standard",30,15,"Special"]
["VM1-5","Vtrans T-136",null,{"$error":"#VALUE!"},"(1 or 2 digits (including 2 digit alt))",{"$error":"#VALUE!"},"(3 digits (including 3 digit alt))",null,null,null,null,null,null,1,"Route Number",4,null,null,null,null,null,null,null,null,null,24,null,"1 or 2 digits (including 2 digit alt)",36,null,"1 or 2 digits (including 2 digit alt)",48,null,"1 or 2 digits (including 2 digit alt)",30,24,"3 digits (including 3 digit alt)",45,36,"3 digits (including 3 digit alt)",60,48,"3 digits (including 3 digit alt)"]
["VM2-1","Vtrans E-136B",null,{"$error":"#VALUE!"},"(Depreciated; use MUTCD version)",null,null,null,null,null,null,null,null,null,null,null,null,null,null,null,null,null,null,null,null,21,15,"Conventional",30,21,"Expressway; Freeway; Oversized"]
["VM3-1","Vtrans E-136B",null,{"$error":"#VALUE!"},"(Depreciated; use MUTCD version)",null,null,null,null,null,null,null,null,null,null,null,null,null,null,null,null,null,null,null,null,24,12,"Conventional",36,18,"Expressway; Freeway; Oversized"]
["VM3-2","Vtrans E-136B",null,{"$error":"#VALUE!"},"(Depreciated; use MUTCD version)",null,null,null,null,null,null,null,null,null,null,null,null,null,null,null,null,null,null,null,null,24,12,"Conventional",36,18,"Expressway; Freeway; Oversized"]
["VM3-3","Vtrans E-136B",null,{"$error":"#VALUE!"},"(Depreciated; use MUTCD version)",null,null,null,null,null,null,null,null,null,null,null,null,null,null,null,null,null,null,null,null,24,12,"Conventional",36,18,"Expressway; Freeway; Oversized"]
["VM3-4","Vtrans E-136B",null,{"$error":"#VALUE!"},"(Depreciated; use MUTCD version)",null,null,null,null,null,null,null,null,null,null,null,null,null,null,null,null,null,null,null,null,24,12,"Conventional",36,18,"Expressway; Freeway; Oversized"]
["VM4-1","Vtrans E-136B",null,{"$error":"#VALUE!"},"(Depreciated; use MUTCD version)",null,null,null,null,null,null,null,null,null,null,null,null,null,null,null,null,null,null,null,null,24,12,"Conventional",30,15,"Expressway; Freeway; Oversized"]
["VM4-14","Vtrans E-136B",null,{"$error":"#VALUE!"},"(Depreciated; use MUTCD version)",null,null,null,null,null,null,null,null,null,null,null,null,null,null,null,null,null,null,null,null,24,12,"Conventional",36,18,"Expressway; Freeway; Oversized"]
["VM4-1a","Vtrans E-136B",null,{"$error":"#VALUE!"},"(Depreciated; use MUTCD version)",null,null,null,null,null,null,null,null,null,null,null,null,null,null,null,null,null,null,null,null,24,12,"Conventional",30,15,"Expressway; Freeway; Oversized"]
["VM4-2","Vtrans E-136B",null,{"$error":"#VALUE!"},"(Depreciated; use MUTCD version)",null,null,null,null,null,null,null,null,null,null,null,null,null,null,null,null,null,null,null,null,24,12,"Conventional",30,15,"Expressway; Freeway; Oversized"]
["VM4-3","Vtrans E-136B",null,{"$error":"#VALUE!"},"(Depreciated; use MUTCD version)",null,null,null,null,null,null,null,null,null,null,null,null,null,null,null,null,null,null,null,null,24,12,"Conventional",30,15,"Expressway; Freeway; Oversized"]
["VM4-4","Vtrans E-136B",null,{"$error":"#VALUE!"},"(Depreciated; use MUTCD version)",null,null,null,null,null,null,null,null,null,null,null,null,null,null,null,null,null,null,null,null,24,12,"Conventional",30,15,"Expressway; Freeway; Oversized"]
["VM4-5","Vtrans E-136B",null,{"$error":"#VALUE!"},"(Depreciated; use MUTCD version)",null,null,null,null,null,null,null,null,null,null,null,null,null,null,null,null,null,null,null,null,24,12,"Conventional",30,15,"Expressway; Freeway; Oversized"]
["VM4-6","Vtrans E-136B",null,{"$error":"#VALUE!"},"(Depreciated; use MUTCD version)",null,null,null,null,null,null,null,null,null,null,null,null,null,null,null,null,null,null,null,null,24,12,"Conventional",30,15,"Expressway; Freeway; Oversized"]
["VM4-7","Vtrans E-136B",null,{"$error":"#VALUE!"},"(Depreciated; use MUTCD version)",null,null,null,null,null,null,null,null,null,null,null,null,null,null,null,null,null,null,null,null,24,12,"Conventional",30,15,"Expressway; Freeway; Oversized"]
["VM4-7a","Vtrans E-136B",null,{"$error":"#VALUE!"},"(Depreciated; use MUTCD version)",null,null,null,null,null,null,null,null,null,null,null,null,null,null,null,null,null,null,null,null,24,12,"Conventional",30,15,"Expressway; Freeway; Oversized"]
["VM5-1L","Vtrans E-136B",null,{"$error":"#VALUE!"},"(Depreciated; use MUTCD version)",null,null,null,null,null,null,null,null,null,null,null,null,null,null,null,null,null,null,null,null,21,15,"Conventional",30,21,"Expressway; Freeway; Oversized"]
["VM5-1R","Vtrans E-136B",null,{"$error":"#VALUE!"},"(Depreciated; use MUTCD version)",null,null,null,null,null,null,null,null,null,null,null,null,null,null,null,null,null,null,null,null,21,15,"Conventional",30,21,"Expressway; Freeway; Oversized"]
["VM5-2L","Vtrans E-136B",null,{"$error":"#VALUE!"},"(Depreciated; use MUTCD version)",null,null,null,null,null,null,null,null,null,null,null,null,null,null,null,null,null,null,null,null,21,15,"Conventional",30,21,"Expressway; Freeway; Oversized"]
["VM5-2R","Vtrans E-136B",null,{"$error":"#VALUE!"},"(Depreciated; use MUTCD version)",null,null,null,null,null,null,null,null,null,null,null,null,null,null,null,null,null,null,null,null,21,15,"Conventional",30,21,"Expressway; Freeway; Oversized"]
["VM5-3","Vtrans E-136B",null,{"$error":"#VALUE!"},"(Depreciated; use MUTCD version)",null,null,null,null,null,null,null,null,null,null,null,null,null,null,null,null,null,null,null,null,21,15,"Conventional",30,21,"Expressway; Freeway; Oversized"]
["VM5-4","Vtrans E-136B",null,{"$error":"#VALUE!"},"(Depreciated; use MUTCD version)",null,null,null,null,null,null,null,null,null,null,null,null,null,null,null,null,null,null,null,null,24,18,"Conventional",36,24,"Expressway; Freeway; Oversized"]
["VM5-5","Vtrans E-136B",null,{"$error":"#VALUE!"},"(Depreciated; use MUTCD version)",null,null,null,null,null,null,null,null,null,null,null,null,null,null,null,null,null,null,null,null,24,18,"Conventional",36,24,"Expressway; Freeway; Oversized"]
["VM5-6","Vtrans E-136B",null,{"$error":"#VALUE!"},"(Depreciated; use MUTCD version)",null,null,null,null,null,null,null,null,null,null,null,null,null,null,null,null,null,null,null,null,24,18,"Conventional",36,24,"Expressway; Freeway; Oversized"]
["VM6-1L","Vtrans E-136B",null,{"$error":"#VALUE!"},"(Depreciated; use MUTCD version)",null,null,null,null,null,null,null,null,null,null,null,null,null,null,null,null,null,null,null,null,21,15,"Conventional",30,21,"Expressway; Freeway; Oversized"]
["VM6-1R","Vtrans E-136B",null,{"$error":"#VALUE!"},"(Depreciated; use MUTCD version)",null,null,null,null,null,null,null,null,null,null,null,null,null,null,null,null,null,null,null,null,21,15,"Conventional",30,21,"Expressway; Freeway; Oversized"]
["VM6-2aL","Vtrans E-136B",null,{"$error":"#VALUE!"},"(Depreciated; use MUTCD version)",null,null,null,null,null,null,null,null,null,null,null,null,null,null,null,null,null,null,null,null,21,15,"Conventional",30,21,"Expressway; Freeway; Oversized"]
["VM6-2aR","Vtrans E-136B",null,{"$error":"#VALUE!"},"(Depreciated; use MUTCD version)",null,null,null,null,null,null,null,null,null,null,null,null,null,null,null,null,null,null,null,null,21,15,"Conventional",30,21,"Expressway; Freeway; Oversized"]
["VM6-2L","Vtrans E-136B",null,{"$error":"#VALUE!"},"(Depreciated; use MUTCD version)",null,null,null,null,null,null,null,null,null,null,null,null,null,null,null,null,null,null,null,null,21,15,"Conventional",30,21,"Expressway; Freeway; Oversized"]
["VM6-2R","Vtrans E-136B",null,{"$error":"#VALUE!"},"(Depreciated; use MUTCD version)",null,null,null,null,null,null,null,null,null,null,null,null,null,null,null,null,null,null,null,null,21,15,"Conventional",30,21,"Expressway; Freeway; Oversized"]
["VM6-3","Vtrans E-136B",null,{"$error":"#VALUE!"},"(Depreciated; use MUTCD version)",null,null,null,null,null,null,null,null,null,null,null,null,null,null,null,null,null,null,null,null,21,15,"Conventional",30,21,"Expressway; Freeway; Oversized"]
["VM6-4","Vtrans E-136B",null,{"$error":"#VALUE!"},"(Depreciated; use MUTCD version)",null,null,null,null,null,null,null,null,null,null,null,null,null,null,null,null,null,null,null,null,21,15,"Conventional",30,21,"Expressway; Freeway; Oversized"]
["VM6-5","Vtrans E-136B",null,{"$error":"#VALUE!"},"(Depreciated; use MUTCD version)",null,null,null,null,null,null,null,null,null,null,null,null,null,null,null,null,null,null,null,null,21,15,"Conventional",30,21,"Expressway; Freeway; Oversized"]
["VM6-6L","Vtrans E-136B",null,{"$error":"#VALUE!"},"(Depreciated; use MUTCD version)",null,null,null,null,null,null,null,null,null,null,null,null,null,null,null,null,null,null,null,null,21,15,"Conventional",30,21,"Expressway; Freeway; Oversized"]
["VM6-6R","Vtrans E-136B",null,{"$error":"#VALUE!"},"(Depreciated; use MUTCD version)",null,null,null,null,null,null,null,null,null,null,null,null,null,null,null,null,null,null,null,null,21,15,"Conventional",30,21,"Expressway; Freeway; Oversized"]
["VM6-7L","Vtrans E-136B",null,{"$error":"#VALUE!"},"(Depreciated; use MUTCD version)",null,null,null,null,null,null,null,null,null,null,null,null,null,null,null,null,null,null,null,null,21,15,"Conventional",30,21,"Expressway; Freeway; Oversized"]
["VM6-7R","Vtrans E-136B",null,{"$error":"#VALUE!"},"(Depreciated; use MUTCD version)",null,null,null,null,null,null,null,null,null,null,null,null,null,null,null,null,null,null,null,null,21,15,"Conventional",30,21,"Expressway; Freeway; Oversized"]
["VR-002","Vtrans T-70",null,{"$error":"#VALUE!"},null,null,null,null,null,null,null,null,null,null,null,null,null,null,null,null,null,null,null,null,null,36]
["VR-015","Vtrans T-146",null,{"$error":"#VALUE!"},null,null,null,null,null,null,null,null,null,1,"Weight Limit Tons 2 Axles",2,1,"Weight Limit Tons 3 Axles",2,1,"Weight Limit Tons 4 Axles",2,1,"Weight Limit Tons 5 Axles",2,24,36,"Minimum",30,42,"Standard",36,54,"Expressway",48,66,"Freeway"]
["VR-017","Vtrans T-70",null,{"$error":"#VALUE!"},null,null,null,null,null,null,null,null,null,null,null,null,null,null,null,null,null,null,null,null,null,24,30]
["VR-020","Vtrans T-146",null,{"$error":"#VALUE!"},null,null,null,null,null,null,null,null,null,null,null,null,null,null,null,null,null,null,null,null,null,24,30]
["VR-023b","Vtrans T-70",null,{"$error":"#VALUE!"},"($800 Fine (current))",{"$error":"#VALUE!"},"($500 Fine (outdated))",null,null,null,null,null,null,null,null,null,null,null,null,null,null,null,null,null,null,24,30]
["VR-032","Vtrans T-70",null,{"$error":"#VALUE!"},null,null,null,null,null,null,null,null,null,null,null,null,null,null,null,null,null,null,null,null,null,30,24]
["VR-038","Vtrans T-71",null,{"$error":"#VALUE!"},null,null,null,null,null,null,null,null,null,null,null,null,null,null,null,null,null,null,null,null,null,24,18]
["VR-039","Vtrans T-71",null,{"$error":"#VALUE!"},null,null,null,null,null,null,null,null,null,null,null,null,null,null,null,null,null,null,null,null,null,24,18]
["VR-040","Vtrans T-71",null,{"$error":"#VALUE!"},null,null,null,null,null,null,null,null,null,null,null,null,null,null,null,null,null,null,null,null,null,24]
["VR-041","Vtrans T-71",null,{"$error":"#VALUE!"},null,null,null,null,null,null,null,null,null,null,null,null,null,null,null,null,null,null,null,null,null,24]
["VR-046","Vtrans T-71",null,{"$error":"#VALUE!"},null,null,null,null,null,null,null,null,null,null,null,null,null,null,null,null,null,null,null,null,null,36]
["VR-079","Vtrans T-71",null,{"$error":"#VALUE!"},"(Deactivated; no longer in Vtrans Standards)",null,null,null,null,null,null,null,null,null,null,null,null,null,null,null,null,null,null,null,null,24,30]
["VR-417","Vtrans T-71",null,{"$error":"#VALUE!"},null,null,null,null,null,null,null,null,null,null,null,null,null,null,null,null,null,null,null,null,null,30]
["VR-430","Vtrans T-72",null,{"$error":"#VALUE!"},null,null,null,null,null,null,null,null,null,null,null,null,null,null,null,null,null,null,null,null,null,36,48]
["VR-430A","Vtrans T-72",null,{"$error":"#VALUE!"},null,null,null,null,null,null,null,null,null,null,null,null,null,null,null,null,null,null,null,null,null,60,18]
["VR-430B","Vtrans T-72",null,{"$error":"#VALUE!"},null,null,null,null,null,null,null,null,null,null,null,null,null,null,null,null,null,null,null,null,null,60,48]
["VR-541","Vtrans T-73",null,{"$error":"#VALUE!"},null,null,null,null,null,null,null,null,null,null,null,null,null,null,null,null,null,null,null,null,null,12,18]
["VR-648","Vtrans T-73",null,{"$error":"#VALUE!"},null,null,null,null,null,null,null,null,null,null,null,null,null,null,null,null,null,null,null,null,null,24]
["VR-654","Vtrans T-73",null,{"$error":"#VALUE!"},null,null,null,null,null,null,null,null,null,null,null,null,null,null,null,null,null,null,null,null,null,24]
["VR-656","Vtrans T-73",null,{"$error":"#VALUE!"},null,null,null,null,null,null,null,null,null,null,null,null,null,null,null,null,null,null,null,null,null,24,30]
["VR-656A","Vtrans T-73",null,{"$error":"#VALUE!"},null,null,null,null,null,null,null,null,null,null,null,null,null,null,null,null,null,null,null,null,null,24,30]
["VR-921","Vtrans T-145",null,{"$error":"#VALUE!"},"Thru,RT",{"$error":"#VALUE!"},"LT,Thru",null,null,null,null,null,null,null,null,null,null,null,null,null,null,null,null,null,null,30]
["VR-922","Vtrans T-145",null,{"$error":"#VALUE!"},"Thru/LT,RT",{"$error":"#VALUE!"},"LT,Thru/RT",null,null,null,null,null,null,null,null,null,null,null,null,null,null,null,null,null,null,30,36]
["VR-923","Vtrans T-145",null,{"$error":"#VALUE!"},"Thru,Thru/RT",{"$error":"#VALUE!"},"Thru/LT,Thru",null,null,null,null,null,null,null,null,null,null,null,null,null,null,null,null,null,null,30]
["VR-924","Vtrans T-145",null,{"$error":"#VALUE!"},null,null,null,null,null,null,null,null,null,null,null,null,null,null,null,null,null,null,null,null,null,30,36]
["VR-925","Vtrans T-145",null,{"$error":"#VALUE!"},null,null,null,null,null,null,null,null,null,null,null,null,null,null,null,null,null,null,null,null,null,30,36]
["VR-926","Vtrans T-145",null,{"$error":"#VALUE!"},"LT/RT,RT",{"$error":"#VALUE!"},"LT,LT/RT",null,null,null,null,null,null,null,null,null,null,null,null,null,null,null,null,null,null,30,48]
["VR-931","Vtrans T-145",null,{"$error":"#VALUE!"},"LT,LT,Thru/RT",{"$error":"#VALUE!"},"Thru/LT,RT,RT",null,null,null,null,null,null,null,null,null,null,null,null,null,null,null,null,null,null,30,54]
["VR-932","Vtrans T-145",null,{"$error":"#VALUE!"},null,null,null,null,null,null,null,null,null,null,null,null,null,null,null,null,null,null,null,null,null,30,48]
["VR-933","Vtrans T-145",null,{"$error":"#VALUE!"},"LT,LT,Thru",{"$error":"#VALUE!"},"Thru,RT,RT",null,null,null,null,null,null,null,null,null,null,null,null,null,null,null,null,null,null,30,48]
["VR-934","Vtrans T-145",null,{"$error":"#VALUE!"},"LT,Thru,Thru/RT",{"$error":"#VALUE!"},"Thru/LT,Thru,RT",null,null,null,null,null,null,null,null,null,null,null,null,null,null,null,null,null,null,30,48]
["VR-935","Vtrans T-145",null,{"$error":"#VALUE!"},"Thru,Thru,RT",{"$error":"#VALUE!"},"LT,Thru,Thru",null,null,null,null,null,null,null,null,null,null,null,null,null,null,null,null,null,null,30,48]
["VR-936","Vtrans T-145",null,{"$error":"#VALUE!"},"LT,LT,RT",{"$error":"#VALUE!"},"LT,RT,RT",null,null,null,null,null,null,null,null,null,null,null,null,null,null,null,null,null,null,30,54]
["VR-941","Vtrans T-145",null,{"$error":"#VALUE!"},null,null,null,null,null,null,null,null,null,null,null,null,null,null,null,null,null,null,null,null,null,30,60]
["VR-942","Vtrans T-145",null,{"$error":"#VALUE!"},"LT,LT,Thru,Thru/RT",{"$error":"#VALUE!"},"Thru/LT,Thru,RT,RT",null,null,null,null,null,null,null,null,null,null,null,null,null,null,null,null,null,null,30,60]
["VW-000","Vtrans T-80",null,{"$error":"#VALUE!"},"(Deactivated; no longer in Vtrans Standards)",null,null,null,null,null,null,null,null,null,null,null,null,null,null,null,null,null,null,null,null,30]
["VW-001","Vtrans T-80",null,{"$error":"#VALUE!"},"(Deactivated; no longer in Vtrans Standards)",null,null,null,null,null,null,null,null,null,null,null,null,null,null,null,null,null,null,null,null,30,null,null,48]
["VW-029","Vtrans T-80",null,{"$error":"#VALUE!"},"(Deactivated; no longer in Vtrans Standards)",null,null,null,null,null,null,null,null,null,null,null,null,null,null,null,null,null,null,null,null,30,null,"Single Lane Conventional (per MUTCD for warning signs)",36,null,"Multi-Lane Conventional; Expressway; Freeway  (per MUTCD for warning signs)"]
["VW-054L","Vtrans T-80",null,{"$error":"#VALUE!"},null,null,null,null,null,null,null,null,null,null,null,null,null,null,null,null,null,null,null,null,null,30,null,"Single Lane Conventional (per MUTCD for warning signs)",36,null,"Multi-Lane Conventional; Expressway; Freeway  (per MUTCD for warning signs)"]
["VW-054R","Vtrans T-80",null,{"$error":"#VALUE!"},null,null,null,null,null,null,null,null,null,null,null,null,null,null,null,null,null,null,null,null,null,30,null,"Single Lane Conventional (per MUTCD for warning signs)",36,null,"Multi-Lane Conventional; Expressway; Freeway  (per MUTCD for warning signs)"]
["VW-060","Vtrans T-80",null,{"$error":"#VALUE!"},null,null,null,null,null,null,null,null,null,null,null,null,null,null,null,null,null,null,null,null,null,30,null,"Single Lane Conventional (per MUTCD for warning signs)",36,null,"Multi-Lane Conventional; Expressway; Freeway  (per MUTCD for warning signs)"]
["VW-092","Vtrans T-80",null,{"$error":"#VALUE!"},null,null,null,null,null,null,null,null,null,null,null,null,null,null,null,null,null,null,null,null,null,30,null,"Single Lane Conventional (per MUTCD for warning signs)",36,null,"Multi-Lane Conventional; Expressway; Freeway  (per MUTCD for warning signs)"]
["VW-133L","Vtrans T-80",null,{"$error":"#VALUE!"},null,null,null,null,null,null,null,null,null,null,null,null,null,null,null,null,null,null,null,null,null,30,null,"Single Lane Conventional (per MUTCD for warning signs)",36,null,"Multi-Lane Conventional; Expressway; Freeway  (per MUTCD for warning signs)"]
["VW-133R","Vtrans T-80",null,{"$error":"#VALUE!"},null,null,null,null,null,null,null,null,null,null,null,null,null,null,null,null,null,null,null,null,null,30,null,"Single Lane Conventional (per MUTCD for warning signs)",36,null,"Multi-Lane Conventional; Expressway; Freeway  (per MUTCD for warning signs)"]
["VW-202","Vtrans T-80",null,{"$error":"#VALUE!"},null,null,null,null,null,null,null,null,null,null,null,null,null,null,null,null,null,null,null,null,null,30,null,"Single Lane Conventional (per MUTCD for warning signs)",36,null,"Multi-Lane Conventional; Expressway; Freeway  (per MUTCD for warning signs)"]
["VW-205","Vtrans T-81",null,{"$error":"#VALUE!"},null,null,null,null,null,null,null,null,null,null,null,null,null,null,null,null,null,null,null,null,null,30,null,"Single Lane Conventional (per MUTCD for warning signs)",36,null,"Multi-Lane Conventional; Expressway; Freeway  (per MUTCD for warning signs)"]
["VW-285","Vtrans T-81",null,{"$error":"#VALUE!"},null,null,null,null,null,null,null,null,null,null,null,null,null,null,null,null,null,null,null,null,null,30,null,"Single Lane Conventional (per MUTCD for warning signs)",48,null,"Oversized (per MUTCD for warning signs)"]
["VW-362P","Vtrans T-81",null,{"$error":"#VALUE!"},null,null,null,null,null,null,null,null,null,null,null,null,null,null,null,null,null,null,null,null,null,12,24,null,12,36,null,18,60]
["VW-529","Vtrans T-81",null,{"$error":"#VALUE!"},null,null,null,null,null,null,null,null,null,null,null,null,null,null,null,null,null,null,null,null,null,48]
["VW-544","Vtrans T-81",null,{"$error":"#VALUE!"},null,null,null,null,null,null,null,null,null,null,null,null,null,null,null,null,null,null,null,null,null,30,null,"Single Lane Conventional (per MUTCD for warning signs)",36,null,"Multi-Lane Conventional; Expressway; Freeway  (per MUTCD for warning signs)",48,null,"Oversized (per MUTCD for warning signs)"]
["VW-619","Vtrans T-81",null,{"$error":"#VALUE!"},null,null,null,null,null,null,null,null,null,null,null,null,null,null,null,null,null,null,null,null,null,30,null,"Single Lane Conventional (per MUTCD for warning signs)",36,null,"Multi-Lane Conventional; Expressway; Freeway  (per MUTCD for warning signs)",48,null,"Oversized (per MUTCD for warning signs)"]
["VW-622A","Vtrans T-82",null,{"$error":"#VALUE!"},null,null,null,null,null,null,null,null,null,null,null,null,null,null,null,null,null,null,null,null,null,30,null,"Single Lane Conventional (per MUTCD for warning signs)",36,null,"Multi-Lane Conventional; Expressway; Freeway  (per MUTCD for warning signs)"]
["W10-1","MUTCD 11th Ed.",null,{"$error":"#VALUE!"},null,null,null,null,null,null,null,null,null,null,null,null,null,null,null,null,null,null,null,null,null,24,null,"Off Roadway",36,null,"Conventional",48,null,"Expressway; Oversized",null,null,null,null,null,null,null,null,null,0.79]
["W10-11","MUTCD 11th Ed.",null,{"$error":"#VALUE!"},null,null,null,null,null,null,null,null,null,null,null,null,null,null,null,null,null,null,null,null,null,36,null,"Conventional",48,null,"Expressway; Oversized"]
["W10-11a","MUTCD 11th Ed.",null,{"$error":"#VALUE!"},null,null,null,null,null,null,null,null,null,1,"Feet",3,null,null,null,null,null,null,null,null,null,30,36,"Conventional"]
["W10-11b","MUTCD 11th Ed.",null,{"$error":"#VALUE!"},null,null,null,null,null,null,null,null,null,1,"Feet",3,null,null,null,null,null,null,null,null,null,30,36,"Conventional"]
["W10-12","MUTCD 11th Ed.",null,{"$error":"#VALUE!"},null,null,null,null,null,null,null,null,null,null,null,null,null,null,null,null,null,null,null,null,null,18,null,"Off Roadway",36,null,"Conventional",48,null,"Expressway; Oversized"]
["W10-13P","MUTCD 11th Ed.",null,{"$error":"#VALUE!"},null,null,null,null,null,null,null,null,null,null,null,null,null,null,null,null,null,null,null,null,null,30,24,"Conventional"]
["W10-14aP","MUTCD 11th Ed.",null,{"$error":"#VALUE!"},null,null,null,null,null,null,null,null,null,null,null,null,null,null,null,null,null,null,null,null,null,30,24,"Conventional",36,30,"Oversized"]
["W10-14P","MUTCD 11th Ed.",null,{"$error":"#VALUE!"},null,null,null,null,null,null,null,null,null,null,null,null,null,null,null,null,null,null,null,null,null,30,24,"Conventional"]
["W10-1AP","MUTCD 11th Ed.",null,{"$error":"#VALUE!"},null,null,null,null,null,null,null,null,null,null,null,null,null,null,null,null,null,null,null,null,null,24,12,"Conventional"]
["W10-2L","MUTCD 11th Ed.",null,{"$error":"#VALUE!"},null,null,null,null,null,null,null,null,null,null,null,null,null,null,null,null,null,null,null,null,null,36,null,"Conventional",48,null,"Expressway; Oversized"]
["W10-2R","MUTCD 11th Ed.",null,{"$error":"#VALUE!"},null,null,null,null,null,null,null,null,null,null,null,null,null,null,null,null,null,null,null,null,null,36,null,"Conventional",48,null,"Expressway; Oversized"]
["W10-3L","MUTCD 11th Ed.",null,{"$error":"#VALUE!"},null,null,null,null,null,null,null,null,null,null,null,null,null,null,null,null,null,null,null,null,null,36,null,"Conventional",48,null,"Expressway; Oversized"]
["W10-3R","MUTCD 11th Ed.",null,{"$error":"#VALUE!"},null,null,null,null,null,null,null,null,null,null,null,null,null,null,null,null,null,null,null,null,null,36,null,"Conventional",48,null,"Expressway; Oversized"]
["W10-4L","MUTCD 11th Ed.",null,{"$error":"#VALUE!"},null,null,null,null,null,null,null,null,null,null,null,null,null,null,null,null,null,null,null,null,null,36,null,"Conventional",48,null,"Expressway; Oversized"]
["W10-4R","MUTCD 11th Ed.",null,{"$error":"#VALUE!"},null,null,null,null,null,null,null,null,null,null,null,null,null,null,null,null,null,null,null,null,null,36,null,"Conventional",48,null,"Expressway; Oversized"]
["W10-5","MUTCD 11th Ed.",null,{"$error":"#VALUE!"},null,null,null,null,null,null,null,null,null,null,null,null,null,null,null,null,null,null,null,null,null,36,null,"Conventional",48,null,"Expressway; Oversized"]
["W10-5P","MUTCD 11th Ed.",null,{"$error":"#VALUE!"},null,null,null,null,null,null,null,null,null,null,null,null,null,null,null,null,null,null,null,null,null,30,24,"Conventional"]
["W10-9","MUTCD 11th Ed.",null,{"$error":"#VALUE!"},null,null,null,null,null,null,null,null,null,null,null,null,null,null,null,null,null,null,null,null,null,36,null,"Conventional",48,null,"Expressway; Oversized"]
["W10-9P","MUTCD 11th Ed.",null,{"$error":"#VALUE!"},null,null,null,null,null,null,null,null,null,null,null,null,null,null,null,null,null,null,null,null,null,18,12,"Off Roadway",30,24,"Conventional"]
["W1-10aL","MUTCD 11th Ed.",null,{"$error":"#VALUE!"},null,null,null,null,null,null,null,null,null,null,null,null,null,null,null,null,null,null,null,null,null,36,null,"Conventional; Expressway",48,null,"Freeway"]
["W1-10aR","MUTCD 11th Ed.",null,{"$error":"#VALUE!"},null,null,null,null,null,null,null,null,null,null,null,null,null,null,null,null,null,null,null,null,null,36,null,"Conventional; Expressway",48,null,"Freeway"]
["W1-10bL","MUTCD 11th Ed.",null,{"$error":"#VALUE!"},null,null,null,null,null,null,null,null,null,null,null,null,null,null,null,null,null,null,null,null,null,36,null,"Conventional; Expressway",48,null,"Freeway"]
["W1-10bR","MUTCD 11th Ed.",null,{"$error":"#VALUE!"},null,null,null,null,null,null,null,null,null,null,null,null,null,null,null,null,null,null,null,null,null,36,null,"Conventional; Expressway",48,null,"Freeway"]
["W1-10cL","MUTCD 11th Ed.",null,{"$error":"#VALUE!"},null,null,null,null,null,null,null,null,null,null,null,null,null,null,null,null,null,null,null,null,null,36,null,"Conventional; Expressway",48,null,"Freeway"]
["W1-10cR","MUTCD 11th Ed.",null,{"$error":"#VALUE!"},null,null,null,null,null,null,null,null,null,null,null,null,null,null,null,null,null,null,null,null,null,36,null,"Conventional; Expressway",48,null,"Freeway"]
["W1-10dL","MUTCD 11th Ed.",null,{"$error":"#VALUE!"},null,null,null,null,null,null,null,null,null,null,null,null,null,null,null,null,null,null,null,null,null,36,null,"Conventional; Expressway",48,null,"Freeway"]
["W1-10dR","MUTCD 11th Ed.",null,{"$error":"#VALUE!"},null,null,null,null,null,null,null,null,null,null,null,null,null,null,null,null,null,null,null,null,null,36,null,"Conventional; Expressway",48,null,"Freeway"]
["W1-10eL","MUTCD 11th Ed.",null,{"$error":"#VALUE!"},null,null,null,null,null,null,null,null,null,null,null,null,null,null,null,null,null,null,null,null,null,36,null,"Conventional; Expressway",48,null,"Freeway"]
["W1-10eR","MUTCD 11th Ed.",null,{"$error":"#VALUE!"},null,null,null,null,null,null,null,null,null,null,null,null,null,null,null,null,null,null,null,null,null,36,null,"Conventional; Expressway",48,null,"Freeway"]
["W1-10L","MUTCD 11th Ed.",null,{"$error":"#VALUE!"},null,null,null,null,null,null,null,null,null,null,null,null,null,null,null,null,null,null,null,null,null,36,null,"Conventional; Expressway",48,null,"Freeway"]
["W1-10R","MUTCD 11th Ed.",null,{"$error":"#VALUE!"},null,null,null,null,null,null,null,null,null,null,null,null,null,null,null,null,null,null,null,null,null,36,null,"Conventional; Expressway",48,null,"Freeway"]
["W11-1","MUTCD 11th Ed.",null,{"$error":"#VALUE!"},null,null,null,null,null,null,null,null,null,null,null,null,null,null,null,null,null,null,null,null,null,18,null,"Off Roadway",30,null,"Conventional",36,null,"Expressway",48,null,"Oversized"]
["W11-10","MUTCD 11th Ed.",null,{"$error":"#VALUE!"},null,null,null,null,null,null,null,null,null,null,null,null,null,null,null,null,null,null,null,null,null,24,null,"Minimum",30,null,"Single Lane Conventional",36,null,"Multi-Lane Conventional Expressway",48,null,"Oversized"]
["W11-11","MUTCD 11th Ed.",null,{"$error":"#VALUE!"},null,null,null,null,null,null,null,null,null,null,null,null,null,null,null,null,null,null,null,null,null,24,null,"Minimum",30,null,"Single Lane Conventional",36,null,"Multi-Lane Conventional Expressway",48,null,"Oversized"]
["W11-12P","MUTCD 11th Ed.",null,{"$error":"#VALUE!"},null,null,null,null,null,null,null,null,null,null,null,null,null,null,null,null,null,null,null,null,null,36,30,"Conventional; Expressway"]
["W11-15","MUTCD 11th Ed.",null,{"$error":"#VALUE!"},null,null,null,null,null,null,null,null,null,null,null,null,null,null,null,null,null,null,null,null,null,18,null,"Off Roadway",24,null,"Minimum",30,null,"Single Lane Conventional",36,null,"Multi-Lane Conventional Expressway",48,null,"Oversized"]
["W11-15a","MUTCD 11th Ed.",null,{"$error":"#VALUE!"},null,null,null,null,null,null,null,null,null,null,null,null,null,null,null,null,null,null,null,null,null,24,null,"Minimum",30,null,"Single Lane Conventional",36,null,"Multi-Lane Conventional Expressway",48,null,"Oversized"]
["W11-15P","MUTCD 11th Ed.",null,{"$error":"#VALUE!"},null,null,null,null,null,null,null,null,null,null,null,null,null,null,null,null,null,null,null,null,null,18,12,"Off Roadway",24,18,"Conventional",30,24,"Expressway",36,30,"Oversized"]
["W11-16","MUTCD 11th Ed.",null,{"$error":"#VALUE!"},null,null,null,null,null,null,null,null,null,null,null,null,null,null,null,null,null,null,null,null,null,24,null,"Minimum",30,null,"Single Lane Conventional",36,null,"Multi-Lane Conventional Expressway",48,null,"Oversized"]
["W11-17","MUTCD 11th Ed.",null,{"$error":"#VALUE!"},null,null,null,null,null,null,null,null,null,null,null,null,null,null,null,null,null,null,null,null,null,24,null,"Minimum",30,null,"Single Lane Conventional",36,null,"Multi-Lane Conventional Expressway",48,null,"Oversized"]
["W11-18","MUTCD 11th Ed.",null,{"$error":"#VALUE!"},null,null,null,null,null,null,null,null,null,null,null,null,null,null,null,null,null,null,null,null,null,24,null,"Minimum",30,null,"Single Lane Conventional",36,null,"Multi-Lane Conventional Expressway",48,null,"Oversized"]
["W11-19","MUTCD 11th Ed.",null,{"$error":"#VALUE!"},null,null,null,null,null,null,null,null,null,null,null,null,null,null,null,null,null,null,null,null,null,24,null,"Minimum",30,null,"Single Lane Conventional",36,null,"Multi-Lane Conventional Expressway",48,null,"Oversized"]
["W1-11L","MUTCD 11th Ed.",null,{"$error":"#VALUE!"},null,null,null,null,null,null,null,null,null,null,null,null,null,null,null,null,null,null,null,null,null,30,null,"Conventional",36,null,"Expressway",48,null,"Freeway; Oversized"]
["W1-11R","MUTCD 11th Ed.",null,{"$error":"#VALUE!"},null,null,null,null,null,null,null,null,null,null,null,null,null,null,null,null,null,null,null,null,null,30,null,"Conventional",36,null,"Expressway",48,null,"Freeway; Oversized"]
["W11-2","MUTCD 11th Ed.",null,{"$error":"#VALUE!"},"BLACK ON YELLOW(warning)",{"$error":"#VALUE!"},"BLACK ON FYG(school/bike/ped/school bus/playground warning)",null,null,null,null,null,null,null,null,null,null,null,null,null,null,null,null,null,null,18,null,"Off Roadway",30,null,"Conventional",36,null,"Expressway",48,null,"Oversized"]
["W11-20","MUTCD 11th Ed.",null,{"$error":"#VALUE!"},null,null,null,null,null,null,null,null,null,null,null,null,null,null,null,null,null,null,null,null,null,24,null,"Minimum",30,null,"Single Lane Conventional",36,null,"Multi-Lane Conventional Expressway",48,null,"Oversized"]
["W11-21","MUTCD 11th Ed.",null,{"$error":"#VALUE!"},null,null,null,null,null,null,null,null,null,null,null,null,null,null,null,null,null,null,null,null,null,24,null,"Minimum",30,null,"Single Lane Conventional",36,null,"Multi-Lane Conventional Expressway",48,null,"Oversized"]
["W11-22","MUTCD 11th Ed.",null,{"$error":"#VALUE!"},null,null,null,null,null,null,null,null,null,null,null,null,null,null,null,null,null,null,null,null,null,24,null,"Minimum",30,null,"Single Lane Conventional",36,null,"Multi-Lane Conventional Expressway",48,null,"Oversized"]
["W11-3","MUTCD 11th Ed.",null,{"$error":"#VALUE!"},null,null,null,null,null,null,null,null,null,null,null,null,null,null,null,null,null,null,null,null,null,24,null,"Minimum",30,null,"Single Lane Conventional",36,null,"Multi-Lane Conventional Expressway",48,null,"Oversized"]
["W1-13L","MUTCD 11th Ed.",null,{"$error":"#VALUE!"},null,null,null,null,null,null,null,null,null,null,null,null,null,null,null,null,null,null,null,null,null,36,null,"Conventional; Expressway",48,null,"Freeway; Oversized"]
["W1-13R","MUTCD 11th Ed.",null,{"$error":"#VALUE!"},null,null,null,null,null,null,null,null,null,null,null,null,null,null,null,null,null,null,null,null,null,36,null,"Conventional; Expressway",48,null,"Freeway; Oversized"]
["W11-4","MUTCD 11th Ed.",null,{"$error":"#VALUE!"},null,null,null,null,null,null,null,null,null,null,null,null,null,null,null,null,null,null,null,null,null,24,null,"Minimum",30,null,"Single Lane Conventional",36,null,"Multi-Lane Conventional Expressway",48,null,"Oversized"]
["W11-5","MUTCD 11th Ed.",null,{"$error":"#VALUE!"},null,null,null,null,null,null,null,null,null,null,null,null,null,null,null,null,null,null,null,null,null,24,null,"Minimum",30,null,"Single Lane Conventional",36,null,"Multi-Lane Conventional Expressway",48,null,"Oversized"]
["W1-15L","MUTCD 11th Ed.",null,{"$error":"#VALUE!"},null,null,null,null,null,null,null,null,null,null,null,null,null,null,null,null,null,null,null,null,null,30,null,"Conventional",36,null,"Expressway",48,null,"Freeway; Oversized"]
["W1-15R","MUTCD 11th Ed.",null,{"$error":"#VALUE!"},null,null,null,null,null,null,null,null,null,null,null,null,null,null,null,null,null,null,null,null,null,30,null,"Conventional",36,null,"Expressway",48,null,"Freeway; Oversized"]
["W11-6","MUTCD 11th Ed.",null,{"$error":"#VALUE!"},null,null,null,null,null,null,null,null,null,null,null,null,null,null,null,null,null,null,null,null,null,24,null,"Minimum",30,null,"Single Lane Conventional",36,null,"Multi-Lane Conventional Expressway",48,null,"Oversized"]
["W11-7","MUTCD 11th Ed.",null,{"$error":"#VALUE!"},null,null,null,null,null,null,null,null,null,null,null,null,null,null,null,null,null,null,null,null,null,24,null,"Minimum",30,null,"Single Lane Conventional",36,null,"Multi-Lane Conventional Expressway",48,null,"Oversized"]
["W11-8","MUTCD 11th Ed.",null,{"$error":"#VALUE!"},null,null,null,null,null,null,null,null,null,null,null,null,null,null,null,null,null,null,null,null,null,24,null,"Minimum",30,null,"Single Lane Conventional",36,null,"Multi-Lane Conventional Expressway",48,null,"Oversized"]
["W11-9","MUTCD 11th Ed.",null,{"$error":"#VALUE!"},null,null,null,null,null,null,null,null,null,null,null,null,null,null,null,null,null,null,null,null,null,30,null,"Single Lane Conventional",36,null,"Multi-Lane Conventional Expressway",48,null,"Oversized"]
["W1-1L","MUTCD 11th Ed.",null,{"$error":"#VALUE!"},"BLACK ON YELLOW(warning)",{"$error":"#VALUE!"},"BLACK ON ORANGE(temp traffic control)",null,null,null,null,null,null,null,null,null,null,null,null,null,null,null,null,null,null,18,null,"Off Roadway",30,null,"Single Lane Conventional",36,null,"Multi-Lane Conventional; Expressway; Freeway",48,null,"Oversized"]
["W1-1R","MUTCD 11th Ed.",null,{"$error":"#VALUE!"},"BLACK ON YELLOW(warning)",{"$error":"#VALUE!"},"BLACK ON ORANGE(temp traffic control)",null,null,null,null,null,null,null,null,null,null,null,null,null,null,null,null,null,null,18,null,"Off Roadway",30,null,"Single Lane Conventional",36,null,"Multi-Lane Conventional; Expressway; Freeway",48,null,"Oversized"]
["W12-1","MUTCD 11th Ed.",null,{"$error":"#VALUE!"},"BLACK ON YELLOW(warning)",{"$error":"#VALUE!"},"BLACK ON ORANGE(temp traffic control)",null,null,null,null,null,null,null,null,null,null,null,null,null,null,null,null,null,null,30,null,"Single Lane Conventional",36,null,"Multi-Lane Conventional Expressway"]
["W12-2","MUTCD 11th Ed.",null,{"$error":"#VALUE!"},"BLACK ON YELLOW(warning)",{"$error":"#VALUE!"},"BLACK ON ORANGE(temp traffic control)",null,null,null,null,null,null,1,"Feet",2,1,"Inches",2,null,null,null,null,null,null,18,null,"Off Roadway",30,null,"Minimum",36,null,"Conventional",48,null,"Expressway; Freeway"]
["W12-2a","MUTCD 11th Ed.",null,{"$error":"#VALUE!"},null,null,null,null,null,null,null,null,null,1,"Feet",2,1,"Inches",2,null,null,null,null,null,null,84,24,"Conventional; Expressway; Freeway"]
["W1-2L","MUTCD 11th Ed.",null,{"$error":"#VALUE!"},"BLACK ON YELLOW(warning)",{"$error":"#VALUE!"},"BLACK ON ORANGE(temp traffic control)",null,null,null,null,null,null,null,null,null,null,null,null,null,null,null,null,null,null,18,null,"Off Roadway",30,null,"Single Lane Conventional",36,null,"Multi-Lane Conventional; Expressway; Freeway",48,null,"Oversized"]
["W1-2R","MUTCD 11th Ed.",null,{"$error":"#VALUE!"},"BLACK ON YELLOW(warning)",{"$error":"#VALUE!"},"BLACK ON ORANGE(temp traffic control)",null,null,null,null,null,null,null,null,null,null,null,null,null,null,null,null,null,null,18,null,"Off Roadway",30,null,"Single Lane Conventional",36,null,"Multi-Lane Conventional; Expressway; Freeway",48,null,"Oversized"]
["W13-1P","MUTCD 11th Ed.",null,{"$error":"#VALUE!"},"BLACK ON YELLOW(warning)",{"$error":"#VALUE!"},"BLACK ON ORANGE(temp traffic control)",null,null,null,null,null,null,1,"Speed (mph)",2,null,null,null,null,null,null,null,null,null,18,null,"Conventional",24,null,"Expressway; Freeway",30,null,"Oversized"]
["W13-2","MUTCD 11th Ed.",null,{"$error":"#VALUE!"},null,null,null,null,null,null,null,null,null,1,"Speed (mph)",2,null,null,null,null,null,null,null,null,null,24,30,"Conventional",36,48,"Expressway; Freeway",48,60,"Oversized"]
["W13-3","MUTCD 11th Ed.",null,{"$error":"#VALUE!"},null,null,null,null,null,null,null,null,null,1,"Speed (mph)",2,null,null,null,null,null,null,null,null,null,24,30,"Conventional",36,48,"Expressway; Freeway",48,60,"Oversized"]
["W13-6","MUTCD 11th Ed.",null,{"$error":"#VALUE!"},null,null,null,null,null,null,null,null,null,1,"Speed (mph)",2,null,null,null,null,null,null,null,null,null,24,42,"Conventional",36,60,"Expressway; Freeway",48,84,"Oversized"]
["W13-7","MUTCD 11th Ed.",null,{"$error":"#VALUE!"},null,null,null,null,null,null,null,null,null,1,"Speed (mph)",2,null,null,null,null,null,null,null,null,null,24,42,"Conventional",36,60,"Expressway; Freeway",48,84,"Oversized"]
["W1-3L","MUTCD 11th Ed.",null,{"$error":"#VALUE!"},"BLACK ON YELLOW(warning)",{"$error":"#VALUE!"},"BLACK ON ORANGE(temp traffic control)",null,null,null,null,null,null,null,null,null,null,null,null,null,null,null,null,null,null,18,null,"Off Roadway",30,null,"Single Lane Conventional",36,null,"Multi-Lane Conventional; Expressway; Freeway",48,null,"Oversized"]
["W1-3R","MUTCD 11th Ed.",null,{"$error":"#VALUE!"},"BLACK ON YELLOW(warning)",{"$error":"#VALUE!"},"BLACK ON ORANGE(temp traffic control)",null,null,null,null,null,null,null,null,null,null,null,null,null,null,null,null,null,null,18,null,"Off Roadway",30,null,"Single Lane Conventional",36,null,"Multi-Lane Conventional; Expressway; Freeway",48,null,"Oversized"]
["W14-1","MUTCD 11th Ed.",null,{"$error":"#VALUE!"},null,null,null,null,null,null,null,null,null,null,null,null,null,null,null,null,null,null,null,null,null,24,null,"Minimum",30,null,"Single Lane Conventional",36,null,"Multi-Lane Conventional; Expressway",48,null,"Oversized"]
["W14-1aL","MUTCD 11th Ed.",null,{"$error":"#VALUE!"},null,null,null,null,null,null,null,null,null,null,null,null,null,null,null,null,null,null,null,null,null,36,9,"Conventional"]
["W14-1aR","MUTCD 11th Ed.",null,{"$error":"#VALUE!"},null,null,null,null,null,null,null,null,null,null,null,null,null,null,null,null,null,null,null,null,null,36,9,"Conventional"]
["W14-2","MUTCD 11th Ed.",null,{"$error":"#VALUE!"},null,null,null,null,null,null,null,null,null,null,null,null,null,null,null,null,null,null,null,null,null,24,null,"Minimum",30,null,"Single Lane Conventional",36,null,"Multi-Lane Conventional; Expressway",48,null,"Oversized"]
["W14-2a","MUTCD 11th Ed.",null,{"$error":"#VALUE!"},null,null,null,null,null,null,null,null,null,null,null,null,null,null,null,null,null,null,null,null,null,36,9,"Conventional"]
["W14-2aL","MUTCD 11th Ed.",null,{"$error":"#VALUE!"},null,null,null,null,null,null,null,null,null,null,null,null,null,null,null,null,null,null,null,null,null,36,9,"Conventional"]
["W14-3","MUTCD 11th Ed.",null,{"$error":"#VALUE!"},"BLACK ON YELLOW(warning)",{"$error":"#VALUE!"},"BLACK ON ORANGE(temp traffic control)",null,null,null,null,null,null,null,null,null,null,null,null,null,null,null,null,null,null,40,30,"Minimum",48,36,"Conventional",64,48,"Expressway; Freeway; Oversized",null,null,null,null,null,null,null,null,null,0.35]
["W1-4L","MUTCD 11th Ed.",null,{"$error":"#VALUE!"},"BLACK ON YELLOW(warning)",{"$error":"#VALUE!"},"BLACK ON ORANGE(temp traffic control)",null,null,null,null,null,null,null,null,null,null,null,null,null,null,null,null,null,null,18,null,"Off Roadway",30,null,"Single Lane Conventional",36,null,"Multi-Lane Conventional; Expressway; Freeway",48,null,"Oversized"]
["W1-4R","MUTCD 11th Ed.",null,{"$error":"#VALUE!"},"BLACK ON YELLOW(warning)",{"$error":"#VALUE!"},"BLACK ON ORANGE(temp traffic control)",null,null,null,null,null,null,null,null,null,null,null,null,null,null,null,null,null,null,18,null,"Off Roadway",30,null,"Single Lane Conventional",36,null,"Multi-Lane Conventional; Expressway; Freeway",48,null,"Oversized"]
["W15-1","MUTCD 11th Ed.",null,{"$error":"#VALUE!"},null,null,null,null,null,null,null,null,null,null,null,null,null,null,null,null,null,null,null,null,null,18,null,"Off Roadway",24,null,"Minimum",30,null,"Single Lane Conventional",36,null,"Multi-Lane Conventional; Expressway",48,null,"Oversized"]
["W1-5L","MUTCD 11th Ed.",null,{"$error":"#VALUE!"},null,null,null,null,null,null,null,null,null,null,null,null,null,null,null,null,null,null,null,null,null,18,null,"Off Roadway",30,null,"Single Lane Conventional",36,null,"Multi-Lane Conventional; Expressway; Freeway",48,null,"Oversized"]
["W1-5R","MUTCD 11th Ed.",null,{"$error":"#VALUE!"},null,null,null,null,null,null,null,null,null,null,null,null,null,null,null,null,null,null,null,null,null,18,null,"Off Roadway",30,null,"Single Lane Conventional",36,null,"Multi-Lane Conventional; Expressway; Freeway",48,null,"Oversized"]
["W16-12aP","MUTCD 11th Ed.",null,{"$error":"#VALUE!"},null,null,null,null,null,null,null,null,null,null,null,null,null,null,null,null,null,null,null,null,null,24,12,"Conventional"]
["W16-12P","MUTCD 11th Ed.",null,{"$error":"#VALUE!"},null,null,null,null,null,null,null,null,null,null,null,null,null,null,null,null,null,null,null,null,null,24,18,"Conventional"]
["W16-15P","MUTCD 11th Ed.",null,{"$error":"#VALUE!"},null,null,null,null,null,null,null,null,null,null,null,null,null,null,null,null,null,null,null,null,null,24,12,"Conventional"]
["W16-18P","MUTCD 11th Ed.",null,{"$error":"#VALUE!"},null,null,null,null,null,null,null,null,null,null,null,null,null,null,null,null,null,null,null,null,null,24,12,"Conventional"]
["W16-1P","MUTCD 11th Ed.",null,{"$error":"#VALUE!"},null,null,null,null,null,null,null,null,null,null,null,null,null,null,null,null,null,null,null,null,null,18,12,"Conventional"]
["W16-2aP","MUTCD 11th Ed.",null,{"$error":"#VALUE!"},null,null,null,null,null,null,null,null,null,1,"Feet",4,null,null,null,null,null,null,null,null,null,12,9,"Off Roadway",24,12,"Conventional",30,18,"Oversized"]
["W16-2P","MUTCD 11th Ed.",null,{"$error":"#VALUE!"},"BLACK ON YELLOW(warning)",{"$error":"#VALUE!"},"BLACK ON ORANGE(temp traffic control)",null,null,null,null,null,null,1,"Feet",4,null,null,null,null,null,null,null,null,null,18,12,"Off Roadway",24,18,"Conventional",30,24,"Expressway; Freeway; Oversized"]
["W16-3aP","MUTCD 11th Ed.",null,{"$error":"#VALUE!"},null,null,null,null,null,null,null,null,null,1,"Miles",2,null,null,null,null,null,null,null,null,null,30,12,"Conventional"]
["W16-4P","MUTCD 11th Ed.",null,{"$error":"#VALUE!"},null,null,null,null,null,null,null,null,null,1,"Feet",4,null,null,null,null,null,null,null,null,null,30,24,"Conventional"]
["W16-5PL","MUTCD 11th Ed.",null,{"$error":"#VALUE!"},null,null,null,null,null,null,null,null,null,null,null,null,null,null,null,null,null,null,null,null,null,21,15,"Conventional",30,21,"Oversized"]
["W16-5PR","MUTCD 11th Ed.",null,{"$error":"#VALUE!"},null,null,null,null,null,null,null,null,null,null,null,null,null,null,null,null,null,null,null,null,null,21,15,"Conventional",30,21,"Oversized"]
["W16-6PL","MUTCD 11th Ed.",null,{"$error":"#VALUE!"},null,null,null,null,null,null,null,null,null,null,null,null,null,null,null,null,null,null,null,null,null,21,15,"Conventional",30,21,"Oversized"]
["W16-6PR","MUTCD 11th Ed.",null,{"$error":"#VALUE!"},null,null,null,null,null,null,null,null,null,null,null,null,null,null,null,null,null,null,null,null,null,21,15,"Conventional",30,21,"Oversized"]
["W16-7aP","MUTCD 11th Ed.",null,{"$error":"#VALUE!"},null,null,null,null,null,null,null,null,null,null,null,null,null,null,null,null,null,null,null,null,null,21,15,"Conventional",30,21,"Oversized"]
["W16-7PL","MUTCD 11th Ed.",null,{"$error":"#VALUE!"},"BLACK ON YELLOW(warning)",{"$error":"#VALUE!"},"BLACK ON FYG(school/bike/ped/school bus/playground warning)",null,null,null,null,null,null,null,null,null,null,null,null,null,null,null,null,null,null,12,9,"Off Roadway",21,15,"Conventional",30,21,"Oversized"]
["W16-7PR","MUTCD 11th Ed.",null,{"$error":"#VALUE!"},"BLACK ON YELLOW(warning)",{"$error":"#VALUE!"},"BLACK ON FYG(school/bike/ped/school bus/playground warning)",null,null,null,null,null,null,null,null,null,null,null,null,null,null,null,null,null,null,12,9,"Off Roadway",21,15,"Conventional",30,21,"Oversized"]
["W16-9P","MUTCD 11th Ed.",null,{"$error":"#VALUE!"},"BLACK ON YELLOW(warning)",{"$error":"#VALUE!"},"BLACK ON FYG(school/bike/ped/school bus/playground warning)",null,null,null,null,null,null,null,null,null,null,null,null,null,null,null,null,null,null,24,12,"Conventional",30,18,"Expressway; Oversized"]
["W1-6L","MUTCD 11th Ed.",null,{"$error":"#VALUE!"},"BLACK ON YELLOW(warning)",{"$error":"#VALUE!"},"BLACK ON ORANGE(temp traffic control)",null,null,null,null,null,null,null,null,null,null,null,null,null,null,null,null,null,null,24,12,"Off Roadway",48,24,"Conventional",60,30,"Expressway; Freeway; Oversized"]
["W1-6R","MUTCD 11th Ed.",null,{"$error":"#VALUE!"},"BLACK ON YELLOW(warning)",{"$error":"#VALUE!"},"BLACK ON ORANGE(temp traffic control)",null,null,null,null,null,null,null,null,null,null,null,null,null,null,null,null,null,null,24,12,"Off Roadway",48,24,"Conventional",60,30,"Expressway; Freeway; Oversized"]
["W1-7","MUTCD 11th Ed.",null,{"$error":"#VALUE!"},null,null,null,null,null,null,null,null,null,null,null,null,null,null,null,null,null,null,null,null,null,24,12,"Off Roadway",48,24,"Conventional",60,30,"Expressway; Freeway; Oversized"]
["W17-1","MUTCD 11th Ed.",null,{"$error":"#VALUE!"},null,null,null,null,null,null,null,null,null,null,null,null,null,null,null,null,null,null,null,null,null,24,null,"Minimum",30,null,"Single Lane Conventional",36,null,"Multi-Lane Conventional",48,null,"Oversized"]
["W18-1","MUTCD 11th Ed.",null,{"$error":"#VALUE!"},null,null,null,null,null,null,null,null,null,null,null,null,null,null,null,null,null,null,null,null,null,24,null,"Minimum",30,null,"Single Lane Conventional",36,null,"Multi-Lane Conventional; Oversized"]
["W1-8L","MUTCD 11th Ed.",null,{"$error":"#VALUE!"},"BLACK ON YELLOW(warning)",{"$error":"#VALUE!"},"BLACK ON ORANGE(temp traffic control)",null,null,null,null,null,null,null,null,null,null,null,null,null,null,null,null,null,null,18,24,"Conventional",24,30,"Oversized",30,36,"Expressway",36,48,"Freeway"]
["W1-8R","MUTCD 11th Ed.",null,{"$error":"#VALUE!"},"BLACK ON YELLOW(warning)",{"$error":"#VALUE!"},"BLACK ON ORANGE(temp traffic control)",null,null,null,null,null,null,null,null,null,null,null,null,null,null,null,null,null,null,18,24,"Conventional",24,30,"Oversized",30,36,"Expressway",36,48,"Freeway"]
["W19-1","MUTCD 11th Ed.",null,{"$error":"#VALUE!"},null,null,null,null,null,null,null,null,null,null,null,null,null,null,null,null,null,null,null,null,null,144,48,"Freeway"]
["W19-2","MUTCD 11th Ed.",null,{"$error":"#VALUE!"},null,null,null,null,null,null,null,null,null,null,null,null,null,null,null,null,null,null,null,null,null,144,48,"Expressway"]
["W19-3","MUTCD 11th Ed.",null,{"$error":"#VALUE!"},null,null,null,null,null,null,null,null,null,null,null,null,null,null,null,null,null,null,null,null,null,48,48,"Freeway"]
["W19-4","MUTCD 11th Ed.",null,{"$error":"#VALUE!"},null,null,null,null,null,null,null,null,null,null,null,null,null,null,null,null,null,null,null,null,null,48,48,"Expressway"]
["W19-5","MUTCD 11th Ed.",null,{"$error":"#VALUE!"},null,null,null,null,null,null,null,null,null,null,null,null,null,null,null,null,null,null,null,null,null,90,48,"Expressway; Freeway"]
["W20-1","MUTCD 11th Ed.",null,{"$error":"#VALUE!"},"(ROAD WORK AHEAD)",{"$error":"#VALUE!"},"(RAMP WORK AHEAD)",null,null,null,null,null,null,null,null,null,null,null,null,null,null,null,null,null,null,30,null,"Minimum",36,null,"Conventional",48,null,"Expressway; Freeway"]
["W20-2","MUTCD 11th Ed.",null,{"$error":"#VALUE!"},null,null,null,null,null,null,null,null,null,null,null,null,null,null,null,null,null,null,null,null,null,30,null,"Minimum",36,null,"Conventional",48,null,"Expressway; Freeway"]
["W20-3","MUTCD 11th Ed.",null,{"$error":"#VALUE!"},"(ROAD CLOSED AHEAD)",{"$error":"#VALUE!"},"(RAMP CLOSED AHEAD)",null,null,null,null,null,null,null,null,null,null,null,null,null,null,null,null,null,null,30,null,"Minimum",36,null,"Conventional",48,null,"Expressway; Freeway"]
["W20-4","MUTCD 11th Ed.",null,{"$error":"#VALUE!"},null,null,null,null,null,null,null,null,null,null,null,null,null,null,null,null,null,null,null,null,null,30,null,"Minimum",36,null,"Conventional",48,null,"Expressway; Freeway"]
["W20-5a","MUTCD 11th Ed.","Add customization for ft and miles and R/L",{"$error":"#VALUE!"},null,null,null,null,null,null,null,null,null,null,null,null,null,null,null,null,null,null,null,null,null,30,null,"Minimum",36,null,"Conventional",48,null,"Expressway; Freeway"]
["W20-5L","MUTCD 11th Ed.","Add customization for ft and miles",{"$error":"#VALUE!"},null,null,null,null,null,null,null,null,null,null,null,null,null,null,null,null,null,null,null,null,null,30,null,"Minimum",36,null,"Conventional",48,null,"Expressway; Freeway"]
["W20-5R","MUTCD 11th Ed.","Add customization for ft and miles",{"$error":"#VALUE!"},null,null,null,null,null,null,null,null,null,null,null,null,null,null,null,null,null,null,null,null,null,30,null,"Minimum",36,null,"Conventional",48,null,"Expressway; Freeway"]
["W2-1","MUTCD 11th Ed.",null,{"$error":"#VALUE!"},null,null,null,null,null,null,null,null,null,null,null,null,null,null,null,null,null,null,null,null,null,18,null,"Off Roadway",24,null,"Minimum",30,null,"Conventional",36,null,"Expressway",48,null,"Oversized"]
["W21-1","MUTCD 11th Ed.",null,{"$error":"#VALUE!"},null,null,null,null,null,null,null,null,null,null,null,null,null,null,null,null,null,null,null,null,null,30,null,"Minimum",36,null,"Conventional",48,null,"Expressway; Freeway"]
["W21-1a","MUTCD 11th Ed.",null,{"$error":"#VALUE!"},null,null,null,null,null,null,null,null,null,null,null,null,null,null,null,null,null,null,null,null,null,30,null,"Minimum",36,null,"Conventional",48,null,"Expressway; Freeway"]
["W21-2","MUTCD 11th Ed.",null,{"$error":"#VALUE!"},null,null,null,null,null,null,null,null,null,null,null,null,null,null,null,null,null,null,null,null,null,30,null,"Minimum",36,null,"Conventional",48,null,"Expressway; Freeway"]
["W21-3","MUTCD 11th Ed.",null,{"$error":"#VALUE!"},null,null,null,null,null,null,null,null,null,null,null,null,null,null,null,null,null,null,null,null,null,30,null,"Minimum",36,null,"Conventional",48,null,"Expressway; Freeway"]
["W21-4","MUTCD 11th Ed.",null,{"$error":"#VALUE!"},null,null,null,null,null,null,null,null,null,null,null,null,null,null,null,null,null,null,null,null,null,36,18,"Conventional"]
["W21-5","MUTCD 11th Ed.",null,{"$error":"#VALUE!"},null,null,null,null,null,null,null,null,null,null,null,null,null,null,null,null,null,null,null,null,null,30,null,"Minimum",36,null,"Conventional",48,null,"Expressway; Freeway"]
["W21-5aL","MUTCD 11th Ed.",null,{"$error":"#VALUE!"},null,null,null,null,null,null,null,null,null,null,null,null,null,null,null,null,null,null,null,null,null,30,null,"Minimum",36,null,"Conventional",48,null,"Expressway; Freeway"]
["W21-5aR","MUTCD 11th Ed.",null,{"$error":"#VALUE!"},null,null,null,null,null,null,null,null,null,null,null,null,null,null,null,null,null,null,null,null,null,30,null,"Minimum",36,null,"Conventional",48,null,"Expressway; Freeway"]
["W21-5b","MUTCD 11th Ed.","Add customization for ahead ft and miles and R/L",{"$error":"#VALUE!"},null,null,null,null,null,null,null,null,null,null,null,null,null,null,null,null,null,null,null,null,null,30,null,"Minimum",36,null,"Conventional",48,null,"Expressway; Freeway"]
["W21-6","MUTCD 11th Ed.",null,{"$error":"#VALUE!"},null,null,null,null,null,null,null,null,null,null,null,null,null,null,null,null,null,null,null,null,null,30,null,"Minimum",36,null,"Conventional",48,null,"Expressway; Freeway"]
["W21-7","MUTCD 11th Ed.",null,{"$error":"#VALUE!"},null,null,null,null,null,null,null,null,null,null,null,null,null,null,null,null,null,null,null,null,null,30,null,"Minimum",36,null,"Conventional",48,null,"Expressway; Freeway"]
["W22-1","MUTCD 11th Ed.",null,{"$error":"#VALUE!"},null,null,null,null,null,null,null,null,null,null,null,null,null,null,null,null,null,null,null,null,null,30,null,"Minimum",36,null,"Conventional",48,null,"Expressway; Freeway"]
["W22-3","MUTCD 11th Ed.",null,{"$error":"#VALUE!"},null,null,null,null,null,null,null,null,null,null,null,null,null,null,null,null,null,null,null,null,null,36,30,"Minimum",42,36,"Conventional; Expressway; Freeway"]
["W2-2L","MUTCD 11th Ed.",null,{"$error":"#VALUE!"},null,null,null,null,null,null,null,null,null,null,null,null,null,null,null,null,null,null,null,null,null,18,null,"Off Roadway",24,null,"Minimum",30,null,"Conventional",36,null,"Expressway",48,null,"Oversized"]
["W2-2R","MUTCD 11th Ed.",null,{"$error":"#VALUE!"},null,null,null,null,null,null,null,null,null,null,null,null,null,null,null,null,null,null,null,null,null,18,null,"Off Roadway",24,null,"Minimum",30,null,"Conventional",36,null,"Expressway",48,null,"Oversized"]
["W23-1","MUTCD 11th Ed.",null,{"$error":"#VALUE!"},null,null,null,null,null,null,null,null,null,null,null,null,null,null,null,null,null,null,null,null,null,48,24,"Conventional; Expressway; Freeway"]
["W23-2","MUTCD 11th Ed.",null,{"$error":"#VALUE!"},null,null,null,null,null,null,null,null,null,null,null,null,null,null,null,null,null,null,null,null,null,36,36,"Conventional"]
["W2-3L","MUTCD 11th Ed.",null,{"$error":"#VALUE!"},null,null,null,null,null,null,null,null,null,null,null,null,null,null,null,null,null,null,null,null,null,18,null,"Off Roadway",24,null,"Minimum",30,null,"Conventional",36,null,"Expressway",48,null,"Oversized"]
["W2-3R","MUTCD 11th Ed.",null,{"$error":"#VALUE!"},null,null,null,null,null,null,null,null,null,null,null,null,null,null,null,null,null,null,null,null,null,18,null,"Off Roadway",24,null,"Minimum",30,null,"Conventional",36,null,"Expressway",48,null,"Oversized"]
["W2-4","MUTCD 11th Ed.",null,{"$error":"#VALUE!"},null,null,null,null,null,null,null,null,null,null,null,null,null,null,null,null,null,null,null,null,null,18,null,"Off Roadway",24,null,"Minimum",30,null,"Conventional",36,null,"Expressway",48,null,"Oversized"]
["W24-1cP","MUTCD 11th Ed.",null,{"$error":"#VALUE!"},null,null,null,null,null,null,null,null,null,null,null,null,null,null,null,null,null,null,null,null,null,24,18,"Conventional",30,24,"Expressway; Freeway"]
["W24-1R","MUTCD 11th Ed.",null,{"$error":"#VALUE!"},null,null,null,null,null,null,null,null,null,null,null,null,null,null,null,null,null,null,null,null,null,30,null,"Minimum",36,null,"Conventional",48,null,"Expressway; Freeway"]
["W24-1R","MUTCD 11th Ed.",null,{"$error":"#VALUE!"},null,null,null,null,null,null,null,null,null,null,null,null,null,null,null,null,null,null,null,null,null,30,null,"Minimum",36,null,"Conventional",48,null,"Expressway; Freeway"]
["W2-5","MUTCD 11th Ed.",null,{"$error":"#VALUE!"},null,null,null,null,null,null,null,null,null,null,null,null,null,null,null,null,null,null,null,null,null,18,null,"Off Roadway",24,null,"Minimum",30,null,"Conventional",36,null,"Expressway",48,null,"Oversized"]
["W2-6","MUTCD 11th Ed.",null,{"$error":"#VALUE!"},null,null,null,null,null,null,null,null,null,null,null,null,null,null,null,null,null,null,null,null,null,24,null,"Minimum",30,null,"Conventional",36,null,"Expressway",48,null,"Oversized"]
["W2-7L","MUTCD 11th Ed.",null,{"$error":"#VALUE!"},null,null,null,null,null,null,null,null,null,null,null,null,null,null,null,null,null,null,null,null,null,24,null,"Minimum",30,null,"Conventional",36,null,"Expressway",48,null,"Oversized"]
["W2-7R","MUTCD 11th Ed.",null,{"$error":"#VALUE!"},null,null,null,null,null,null,null,null,null,null,null,null,null,null,null,null,null,null,null,null,null,24,null,"Minimum",30,null,"Conventional",36,null,"Expressway",48,null,"Oversized"]
["W2-8L","MUTCD 11th Ed.",null,{"$error":"#VALUE!"},null,null,null,null,null,null,null,null,null,null,null,null,null,null,null,null,null,null,null,null,null,24,null,"Minimum",30,null,"Conventional",36,null,"Expressway",48,null,"Oversized"]
["W2-8R","MUTCD 11th Ed.",null,{"$error":"#VALUE!"},null,null,null,null,null,null,null,null,null,null,null,null,null,null,null,null,null,null,null,null,null,24,null,"Minimum",30,null,"Conventional",36,null,"Expressway",48,null,"Oversized"]
["W3-1","MUTCD 11th Ed.",null,{"$error":"#VALUE!"}," YELLOW(warning)",{"$error":"#VALUE!"},"ORANGE(temp traffic control)",null,null,null,null,null,null,null,null,null,null,null,null,null,null,null,null,null,null,18,null,"In SHSM 2024 but not MUTCD 11",30,null,"Conventional",36,null,"In SHSM 2024 but not MUTCD 11",48,null,"Expressway; Freeway"]
["W3-2","MUTCD 11th Ed.",null,{"$error":"#VALUE!"}," YELLOW(warning)",{"$error":"#VALUE!"},"ORANGE(temp traffic control)",null,null,null,null,null,null,null,null,null,null,null,null,null,null,null,null,null,null,18,null,"In SHSM 2024 but not MUTCD 11",30,null,"Conventional",36,null,"In SHSM 2024 but not MUTCD 11",48,null,"Expressway; Freeway"]
["W3-3","MUTCD 11th Ed.",null,{"$error":"#VALUE!"}," YELLOW(warning)",{"$error":"#VALUE!"},"ORANGE(temp traffic control)",null,null,null,null,null,null,null,null,null,null,null,null,null,null,null,null,null,null,18,null,"In SHSM 2024 but not MUTCD 11",30,null,"Conventional",36,null,"In SHSM 2024 but not MUTCD 11",48,null,"Expressway; Freeway"]
["W3-4","MUTCD 11th Ed.",null,{"$error":"#VALUE!"}," YELLOW(warning)",{"$error":"#VALUE!"},"ORANGE(temp traffic control)",null,null,null,null,null,null,null,null,null,null,null,null,null,null,null,null,null,null,30,null,"Minimum for conventional single lane road",36,null,"Conventional",48,null,"Expressway; Freeway"]
["W3-5","MUTCD 11th Ed.",null,{"$error":"#VALUE!"}," YELLOW(warning)",{"$error":"#VALUE!"},"ORANGE(temp traffic control)",null,null,null,null,null,null,1,"Speed (mph)",2,null,null,null,null,null,null,null,null,null,36,null,"Conventional",48,null,"Expressway; Freeway"]
["W3-6","MUTCD 11th Ed.",null,{"$error":"#VALUE!"},null,null,null,null,null,null,null,null,null,null,null,null,null,null,null,null,null,null,null,null,null,36,null,"Conventional",48,null,"Expressway",60,null,"Oversized"]
["W4-1L","MUTCD 11th Ed.",null,{"$error":"#VALUE!"},"BLACK ON YELLOW(warning)",{"$error":"#VALUE!"},"BLACK ON ORANGE(temp traffic control)",null,null,null,null,null,null,null,null,null,null,null,null,null,null,null,null,null,null,30,null,"Minimum",36,null,"Conventional",48,null,"Expressway; Freeway"]
["W4-1R","MUTCD 11th Ed.",null,{"$error":"#VALUE!"},"BLACK ON YELLOW(warning)",{"$error":"#VALUE!"},"BLACK ON ORANGE(temp traffic control)",null,null,null,null,null,null,null,null,null,null,null,null,null,null,null,null,null,null,30,null,"Minimum",36,null,"Conventional",48,null,"Expressway; Freeway"]
["W4-2L","MUTCD 11th Ed.",null,{"$error":"#VALUE!"},"BLACK ON YELLOW(warning)",{"$error":"#VALUE!"},"BLACK ON ORANGE(temp traffic control)",null,null,null,null,null,null,null,null,null,null,null,null,null,null,null,null,null,null,30,null,"Minimum",36,null,"Conventional",48,null,"Expressway; Freeway"]
["W4-2R","MUTCD 11th Ed.",null,{"$error":"#VALUE!"},"BLACK ON YELLOW(warning)",{"$error":"#VALUE!"},"BLACK ON ORANGE(temp traffic control)",null,null,null,null,null,null,null,null,null,null,null,null,null,null,null,null,null,null,30,null,"Minimum",36,null,"Conventional",48,null,"Expressway; Freeway"]
["W4-3L","MUTCD 11th Ed.",null,{"$error":"#VALUE!"},"BLACK ON YELLOW(warning)",{"$error":"#VALUE!"},"BLACK ON ORANGE(temp traffic control)",null,null,null,null,null,null,null,null,null,null,null,null,null,null,null,null,null,null,30,null,"Minimum",36,null,"Conventional",48,null,"Expressway; Freeway"]
["W4-3R","MUTCD 11th Ed.",null,{"$error":"#VALUE!"},"BLACK ON YELLOW(warning)",{"$error":"#VALUE!"},"BLACK ON ORANGE(temp traffic control)",null,null,null,null,null,null,null,null,null,null,null,null,null,null,null,null,null,null,30,null,"Minimum",36,null,"Conventional",48,null,"Expressway; Freeway"]
["W4-4aP","MUTCD 11th Ed.",null,{"$error":"#VALUE!"},null,null,null,null,null,null,null,null,null,null,null,null,null,null,null,null,null,null,null,null,null,24,12,"Conventional",36,18,"Expressway",48,24,"Oversized"]
["W4-4bP","MUTCD 11th Ed.",null,{"$error":"#VALUE!"},null,null,null,null,null,null,null,null,null,null,null,null,null,null,null,null,null,null,null,null,null,24,12,"Conventional",36,18,"Expressway",48,24,"Oversized"]
["W4-4P","MUTCD 11th Ed.",null,{"$error":"#VALUE!"},null,null,null,null,null,null,null,null,null,null,null,null,null,null,null,null,null,null,null,null,null,24,12,"Conventional",36,18,"Expressway",48,24,"Oversized"]
["W4-5","MUTCD 11th Ed.",null,{"$error":"#VALUE!"},"BLACK ON YELLOW(warning)",{"$error":"#VALUE!"},"BLACK ON ORANGE(temp traffic control)",null,null,null,null,null,null,null,null,null,null,null,null,null,null,null,null,null,null,36,null,"Conventional",48,null,"Expressway; Freeway"]
["W4-5aP","MUTCD 11th Ed.",null,{"$error":"#VALUE!"},"BLACK ON YELLOW(warning)",{"$error":"#VALUE!"},"BLACK ON ORANGE(temp traffic control)",null,null,null,null,null,null,null,null,null,null,null,null,null,null,null,null,null,null,18,24,"Conventional",24,30,"Expressway; Freeway"]
["W4-6","MUTCD 11th Ed.",null,{"$error":"#VALUE!"},"BLACK ON YELLOW(warning)",{"$error":"#VALUE!"},"BLACK ON ORANGE(temp traffic control)",null,null,null,null,null,null,null,null,null,null,null,null,null,null,null,null,null,null,36,null,"Conventional",48,null,"Expressway; Freeway"]
["W4-8","MUTCD 11th Ed.",null,{"$error":"#VALUE!"},null,null,null,null,null,null,null,null,null,null,null,null,null,null,null,null,null,null,null,null,null,36,null,"Conventional",48,null,"Expressway; Freeway"]
["W5-1","MUTCD 11th Ed.",null,{"$error":"#VALUE!"},"BLACK ON YELLOW(warning)",{"$error":"#VALUE!"},"BLACK ON ORANGE(temp traffic control)",null,null,null,null,null,null,null,null,null,null,null,null,null,null,null,null,null,null,30,null,"Minimum",36,null,"Conventional",48,null,"Expressway; Freeway"]
["W5-2","MUTCD 11th Ed.",null,{"$error":"#VALUE!"},"BLACK ON YELLOW(warning)",{"$error":"#VALUE!"},"BLACK ON ORANGE(temp traffic control)",null,null,null,null,null,null,null,null,null,null,null,null,null,null,null,null,null,null,18,null,"Off Roadway",30,null,"Minimum",36,null,"Conventional",48,null,"Expressway; Freeway"]
["W5-3","MUTCD 11th Ed.",null,{"$error":"#VALUE!"},"BLACK ON YELLOW(warning)",{"$error":"#VALUE!"},"BLACK ON ORANGE(temp traffic control)",null,null,null,null,null,null,null,null,null,null,null,null,null,null,null,null,null,null,30,null,"Minimum",36,null,"Conventional",48,null,"Expressway; Freeway"]
["W5-4a","MUTCD 11th Ed.",null,{"$error":"#VALUE!"},null,null,null,null,null,null,null,null,null,null,null,null,null,null,null,null,null,null,null,null,null,18,null,"Off Roadway"]
["W6-1","MUTCD 11th Ed.",null,{"$error":"#VALUE!"},null,null,null,null,null,null,null,null,null,null,null,null,null,null,null,null,null,null,null,null,null,30,null,"Conventional",48,null,"Expressway; Freeway"]
["W6-2","MUTCD 11th Ed.",null,{"$error":"#VALUE!"},null,null,null,null,null,null,null,null,null,null,null,null,null,null,null,null,null,null,null,null,null,30,null,"Conventional",48,null,"Expressway; Freeway"]
["W6-3","MUTCD 11th Ed.",null,{"$error":"#VALUE!"},"BLACK ON YELLOW(warning)",{"$error":"#VALUE!"},"BLACK ON ORANGE(temp traffic control)",null,null,null,null,null,null,null,null,null,null,null,null,null,null,null,null,null,null,30,null,"Conventional",48,null,"Expressway; Freeway"]
["W7-1","MUTCD 11th Ed.",null,{"$error":"#VALUE!"},null,null,null,null,null,null,null,null,null,null,null,null,null,null,null,null,null,null,null,null,null,24,null,"Minimum",30,null,"Single Lane Conventional",36,null,"Multi-Lane Conventional; Expressway; Freeway",48,null,"Oversized"]
["W7-1a","MUTCD 11th Ed.",null,{"$error":"#VALUE!"},null,null,null,null,null,null,null,null,null,1,"Gradient",2,null,null,null,null,null,null,null,null,null,24,null,"Minimum",30,null,"Single Lane Conventional",36,null,"Multi-Lane Conventional; Expressway; Freeway",48,null,"Oversized"]
["W7-2bP","MUTCD 11th Ed.",null,{"$error":"#VALUE!"},null,null,null,null,null,null,null,null,null,null,null,null,null,null,null,null,null,null,null,null,null,24,18,"Conventional"]
["W7-3aP","MUTCD 11th Ed.",null,{"$error":"#VALUE!"},"BLACK ON YELLOW(warning)",{"$error":"#VALUE!"},"BLACK ON FYG(school/bike/ped/school bus/playground warning)",null,null,null,null,null,null,1,"Miles",2,null,null,null,null,null,null,null,null,null,24,18,"Conventional"]
["W7-3bP","MUTCD 11th Ed.",null,{"$error":"#VALUE!"},null,null,null,null,null,null,null,null,null,1,"Gradient",2,1,"Miles",2,null,null,null,null,null,null,24,18,"Conventional"]
["W7-3P","MUTCD 11th Ed.",null,{"$error":"#VALUE!"},null,null,null,null,null,null,null,null,null,1,"Gradient",2,null,null,null,null,null,null,null,null,null,24,18,"Conventional"]
["W7-4","MUTCD 11th Ed.",null,{"$error":"#VALUE!"},null,null,null,null,null,null,null,null,null,1,"Miles",2,null,null,null,null,null,null,null,null,null,84,48,"Conventional",120,72,"Expressway; Freeway"]
["W7-4c","MUTCD 11th Ed.",null,{"$error":"#VALUE!"},null,null,null,null,null,null,null,null,null,null,null,null,null,null,null,null,null,null,null,null,null,78,60,"Conventional; Expressway; Freeway"]
["W7-5","MUTCD 11th Ed.",null,{"$error":"#VALUE!"},null,null,null,null,null,null,null,null,null,null,null,null,null,null,null,null,null,null,null,null,null,18,null,"Off Roadway",30,null,"Roadway"]
["W7-6","MUTCD 11th Ed.",null,{"$error":"#VALUE!"},null,null,null,null,null,null,null,null,null,null,null,null,null,null,null,null,null,null,null,null,null,30,null,"Single Lane Conventional",36,null,"Multi-Lane Conventional; Expressway",48,null,"Oversized"]
["W8-1","MUTCD 11th Ed.",null,{"$error":"#VALUE!"},"BLACK ON YELLOW(warning)",{"$error":"#VALUE!"},"BLACK ON ORANGE(temp traffic control)",null,null,null,null,null,null,null,null,null,null,null,null,null,null,null,null,null,null,18,null,"Off Roadway",24,null,"Minimum",30,null,"Single Lane Conventional",36,null,"Multi-Lane Conventional; Expressway",48,null,"Freeway; Oversized"]
["W8-10","MUTCD 11th Ed.",null,{"$error":"#VALUE!"},null,null,null,null,null,null,null,null,null,null,null,null,null,null,null,null,null,null,null,null,null,18,null,"Off Roadway",30,null,"Roadway"]
["W8-10P","MUTCD 11th Ed.",null,{"$error":"#VALUE!"},null,null,null,null,null,null,null,null,null,null,null,null,null,null,null,null,null,null,null,null,null,12,9,"Off Roadway; Roadway"]
["W8-11","MUTCD 11th Ed.","Add TTC",{"$error":"#VALUE!"},null,null,null,null,null,null,null,null,null,null,null,null,null,null,null,null,null,null,null,null,null,36,null,"Conventional; Expressway",48,null,"Freeway; Oversized"]
["W8-13","MUTCD 11th Ed.",null,{"$error":"#VALUE!"},null,null,null,null,null,null,null,null,null,null,null,null,null,null,null,null,null,null,null,null,null,24,null,"Minimum",36,null,"Conventional; Expressway",48,null,"Freeway; Oversized"]
["W8-15","MUTCD 11th Ed.",null,{"$error":"#VALUE!"},"BLACK ON YELLOW(warning)",{"$error":"#VALUE!"},"BLACK ON ORANGE(temp traffic control)",null,null,null,null,null,null,null,null,null,null,null,null,null,null,null,null,null,null,24,null,"Minimum",30,null,"Single Lane Conventional",36,null,"Multi-Lane Conventional; Expressway",48,null,"Freeway; Oversized"]
["W8-15P","MUTCD 11th Ed.",null,{"$error":"#VALUE!"},"BLACK ON YELLOW(warning)",{"$error":"#VALUE!"},"BLACK ON ORANGE(temp traffic control)",null,null,null,null,null,null,null,null,null,null,null,null,null,null,null,null,null,null,24,18,"Conventional",30,24,"Expressway",36,30,"Freeway; Oversized"]
["W8-16","MUTCD 11th Ed.",null,{"$error":"#VALUE!"},null,null,null,null,null,null,null,null,null,null,null,null,null,null,null,null,null,null,null,null,null,24,null,"Minimum",30,null,"Single Lane Conventional",36,null,"Multi-Lane Conventional; Expressway",48,null,"Freeway; Oversized"]
["W8-17L","MUTCD 11th Ed.",null,{"$error":"#VALUE!"},"BLACK ON YELLOW(warning)",{"$error":"#VALUE!"},"BLACK ON ORANGE(temp traffic control)",null,null,null,null,null,null,null,null,null,null,null,null,null,null,null,null,null,null,24,null,"Minimum",30,null,"Single Lane Conventional",36,null,"Multi-Lane Conventional; Expressway",48,null,"Freeway; Oversized"]
["W8-17P","MUTCD 11th Ed.",null,{"$error":"#VALUE!"},"BLACK ON YELLOW(warning)",{"$error":"#VALUE!"},"BLACK ON ORANGE(temp traffic control)",null,null,null,null,null,null,null,null,null,null,null,null,null,null,null,null,null,null,24,18,"Conventional",30,24,"Expressway",36,30,"Freeway; Oversized"]
["W8-17R","MUTCD 11th Ed.",null,{"$error":"#VALUE!"},"BLACK ON YELLOW(warning)",{"$error":"#VALUE!"},"BLACK ON ORANGE(temp traffic control)",null,null,null,null,null,null,null,null,null,null,null,null,null,null,null,null,null,null,24,null,"Minimum",30,null,"Single Lane Conventional",36,null,"Multi-Lane Conventional; Expressway",48,null,"Freeway; Oversized"]
["W8-18","MUTCD 11th Ed.",null,{"$error":"#VALUE!"},"BLACK ON YELLOW(warning)",{"$error":"#VALUE!"},"BLACK ON ORANGE(temp traffic control)",null,null,null,null,null,null,null,null,null,null,null,null,null,null,null,null,null,null,24,null,"Minimum",36,null,"Conventional; Expressway",48,null,"Freeway; Oversized"]
["W8-19","MUTCD 11th Ed.",null,{"$error":"#VALUE!"},null,null,null,null,null,null,null,null,null,null,null,null,null,null,null,null,null,null,null,null,null,12,72,"Conventional"]
["W8-2","MUTCD 11th Ed.",null,{"$error":"#VALUE!"},"BLACK ON YELLOW(warning)",{"$error":"#VALUE!"},"BLACK ON ORANGE(temp traffic control)",null,null,null,null,null,null,null,null,null,null,null,null,null,null,null,null,null,null,18,null,"Off Roadway",24,null,"Minimum",30,null,"Single Lane Conventional",36,null,"Multi-Lane Conventional; Expressway",48,null,"Freeway; Oversized"]
["W8-21","MUTCD 11th Ed.",null,{"$error":"#VALUE!"},null,null,null,null,null,null,null,null,null,null,null,null,null,null,null,null,null,null,null,null,null,24,null,"Minimum",36,null,"Conventional; Expressway",48,null,"Freeway; Oversized"]
["W8-22","MUTCD 11th Ed.",null,{"$error":"#VALUE!"},null,null,null,null,null,null,null,null,null,null,null,null,null,null,null,null,null,null,null,null,null,24,null,"Minimum",36,null,"Conventional; Expressway",48,null,"Freeway; Oversized"]
["W8-23","MUTCD 11th Ed.",null,{"$error":"#VALUE!"},"BLACK ON YELLOW(warning)",{"$error":"#VALUE!"},"BLACK ON ORANGE(temp traffic control)",null,null,null,null,null,null,null,null,null,null,null,null,null,null,null,null,null,null,24,null,"Minimum",36,null,"Conventional; Expressway",48,null,"Freeway; Oversized"]
["W8-25","MUTCD 11th Ed.",null,{"$error":"#VALUE!"},"BLACK ON YELLOW(warning)",{"$error":"#VALUE!"},"BLACK ON ORANGE(temp traffic control)",null,null,null,null,null,null,null,null,null,null,null,null,null,null,null,null,null,null,24,null,"Minimum",30,null,"Single Lane Conventional",36,null,"Multi-Lane Conventional; Expressway",48,null,"Freeway; Oversized"]
["W8-3","MUTCD 11th Ed.",null,{"$error":"#VALUE!"},"BLACK ON YELLOW(warning)",{"$error":"#VALUE!"},"BLACK ON ORANGE(temp traffic control)",null,null,null,null,null,null,null,null,null,null,null,null,null,null,null,null,null,null,18,null,"Off Roadway",30,null,"Minimum",36,null,"Conventional",48,null,"Expressway"]
["W8-4","MUTCD 11th Ed.",null,{"$error":"#VALUE!"},"BLACK ON YELLOW(warning)",{"$error":"#VALUE!"},"BLACK ON ORANGE(temp traffic control)",null,null,null,null,null,null,null,null,null,null,null,null,null,null,null,null,null,null,24,null,"Minimum",36,null,"Conventional",48,null,"Expressway; Freeway; Oversized"]
["W8-5","MUTCD 11th Ed.",null,{"$error":"#VALUE!"},null,null,null,null,null,null,null,null,null,null,null,null,null,null,null,null,null,null,null,null,null,24,null,"Minimum",30,null,"Single Lane Conventional",36,null,"Multi-Lane Conventional; Expressway",48,null,"Freeway; Oversized"]
["W8-5aP","MUTCD 11th Ed.",null,{"$error":"#VALUE!"},null,null,null,null,null,null,null,null,null,null,null,null,null,null,null,null,null,null,null,null,null,24,12,"Conventional",30,18,"Expressway; Freeway"]
["W8-5bP","MUTCD 11th Ed.",null,{"$error":"#VALUE!"},null,null,null,null,null,null,null,null,null,null,null,null,null,null,null,null,null,null,null,null,null,24,18,"Conventional",30,24,"Expressway",36,30,"Freeway; Oversized"]
["W8-5cP","MUTCD 11th Ed.",null,{"$error":"#VALUE!"},null,null,null,null,null,null,null,null,null,null,null,null,null,null,null,null,null,null,null,null,null,24,18,"Conventional",30,24,"Expressway",36,30,"Freeway; Oversized"]
["W8-5P","MUTCD 11th Ed.",null,{"$error":"#VALUE!"},null,null,null,null,null,null,null,null,null,null,null,null,null,null,null,null,null,null,null,null,null,24,18,"Conventional",30,24,"Expressway",36,30,"Freeway; Oversized"]
["W8-6","MUTCD 11th Ed.",null,{"$error":"#VALUE!"},"BLACK ON YELLOW(warning)",{"$error":"#VALUE!"},"BLACK ON ORANGE(temp traffic control)",null,null,null,null,null,null,null,null,null,null,null,null,null,null,null,null,null,null,24,null,"Minimum",36,null,"Conventional; Expressway",48,null,"Freeway; Oversized"]
["W8-7","MUTCD 11th Ed.",null,{"$error":"#VALUE!"},"BLACK ON YELLOW(warning)",{"$error":"#VALUE!"},"BLACK ON ORANGE(temp traffic control)",null,null,null,null,null,null,null,null,null,null,null,null,null,null,null,null,null,null,24,null,"Minimum",36,null,"Conventional; Expressway",48,null,"Oversized"]
["W8-8","MUTCD 11th Ed.",null,{"$error":"#VALUE!"},"BLACK ON YELLOW(warning)",{"$error":"#VALUE!"},"BLACK ON ORANGE(temp traffic control)",null,null,null,null,null,null,null,null,null,null,null,null,null,null,null,null,null,null,24,null,"Minimum",36,null,"Conventional; Expressway",48,null,"Freeway; Oversized"]
["W8-9","MUTCD 11th Ed.",null,{"$error":"#VALUE!"},"BLACK ON YELLOW(warning)",{"$error":"#VALUE!"},"BLACK ON ORANGE(temp traffic control)",null,null,null,null,null,null,null,null,null,null,null,null,null,null,null,null,null,null,24,null,"Minimum",36,null,"Conventional; Expressway",48,null,"Freeway; Oversized"]
["W9-1L","MUTCD 11th Ed.","Add TTC",{"$error":"#VALUE!"},null,null,null,null,null,null,null,null,null,null,null,null,null,null,null,null,null,null,null,null,null,30,null,"Minimum",36,null,"Conventional; Expressway",48,null,"Freeway; Oversized"]
["W9-1R","MUTCD 11th Ed.","Add TTC",{"$error":"#VALUE!"},null,null,null,null,null,null,null,null,null,null,null,null,null,null,null,null,null,null,null,null,null,30,null,"Minimum",36,null,"Conventional; Expressway",48,null,"Freeway; Oversized"]
["W9-4","MUTCD 11th Ed.",null,{"$error":"#VALUE!"},null,null,null,null,null,null,null,null,null,null,null,null,null,null,null,null,null,null,null,null,null,30,null,"Minimum",36,null,"Conventional; Expressway",48,null,"Freeway; Oversized"]
["W9-7L","MUTCD 11th Ed.",null,{"$error":"#VALUE!"},null,null,null,null,null,null,null,null,null,null,null,null,null,null,null,null,null,null,null,null,null,132,72,"Conventional; Expressway; Freeway"]
["W9-7R","MUTCD 11th Ed.",null,{"$error":"#VALUE!"},null,null,null,null,null,null,null,null,null,null,null,null,null,null,null,null,null,null,null,null,null,132,72,"Conventional; Expressway; Freeway"]

{"sheet":"Dev_Directions","index":4,"n_rows":48,"n_cols":2,"rows_kept":48,"cut":false,"hidden":true,"merged":[]}
["This worksheet is intended to provide an overview of how this workbook functions, as well as guideance in making changes to this workbook. There are three types of changes that can be made: "]
["1) Adding project specific sign data to the workbook to create TSSS sheets (requires making a copy of the workbook; changes will not be merged back into original workbook)."]
["2) Content changes to of the sign table lookup sheets such as adding new signs, or updating existing signs to new specifications (requires making a new version)"]
["3) Changes to the functionality of the workbook or how the print sheets function (requires making a new version)"]
[]
["VERSIONING"]
["When making changes of types 2 or 3, you will need to create a new version of the notebook using the following steps:"]
["Copy the original notebook to a hidden location so people don't accidentally use it while you are working on it."]
["Rename the copy to a new version. When making any type 2 changes, or minor type 3 changes such as bug fixes or reformatting, use a minor version increase (eg v4-1 to v4-2). For major type 3 changes such as adding new functionality, use a major version increase (eg v4-1 to v5-0)"]
["Change the version number near the bottom of the \"Directions\""]
["Unhide the CHANGELOG sheet, then add a new entry describing your changes"]
["Once you've finished making changes, hide any worksheets the end user doesn't need to see, and find someone to test whatever you changed. Once you're confident all is working correctly, move your new version (with the updated version in the file name) to the same location as the old version, then archive the old version with the other even older versions."]
[]
[]
["SIGN CONTENT CHANGES"]
["These types of changes are straightforward, and do not require any knowledge of vba/macros. When using the 'Lookup Sign' tool, a macro is searching through the SIGN_LOOKUP sheet based on the SID (short for sign ID, listed as \"Sign Designation\" in the DATA_INPUT sheet) then returning whatever it finds. Therefore, to make changes one must modify this sheet."]
["Right click on the bottom row of worksheet names, and select \"Unhide\" then \"SIGN_LOOKUP\" to see the lookup table. Next, right click on the \"SIGN_LOOKUP\" tab and select \"Unprotect\" in order to enable editing."]
["You can now edit existing rows, or add new rows to this worksheet. If adding new rows, try to insert them according to the existing sorting system for ease of finding signs."]
["At the top of each column in this sheet, there are a series of notes that when hovered over provide directions on what to fill out for each column; please read all of these."]
["When adding new sign images, keep them small (under 10kilobytes). Otherwise this file will get way too big as more keep getting added."]
["If you are modifying the SID of a sign which has a \"1\" entered in the \"is_numeric1\" column, you will also need to update the SIDs in the NUMERIC_SIGN worksheet; see below for details."]
["When you are done; ensure you have both hidden and protected the SIGN_LOOKUP sheet."]
[]
["NUMERIC SIGN CONTENT CHANGES"]
["For adding or editing signs with numerical customization (such as speed limit signs), additional steps are required. If the sign lookup table finds that \"is_numeric1\" column has a 1 in it, it will treat the sign as a numeric sign."]
[]
["In addition to their row in the SIGN_LOOKUP sheet, numeric signs must also have at least 1 group of images/objects in the NUMERIC_SIGNS sheet. For numeric signs that contain more than 1 image option in SIGN_LOOKUP, there needs to be 1 group of images for each image option."]
["The group of images must be labeled exactly according to the following convention, as otherwise the customization macro will not be able to find the images. As if 2025, can change the name of a group of objects by clicking on it, then clicking on the field to the top left of the window that says something like \"Group 3\", changing this text, then hitting enter."]
["Group name = <sign_id>_g<image number>"]
[]
["Each image group should consist of several components:"," "]
[" a) The background image of the of the sign. How this object is named does not matter."]
["b) The numeric text box(es) for the sign. This is the object that the macro will overwrite with whatever number the user entered. The text box must be labeled exactly according to the following convention, as otherwise the customization macro will not be able to find the text box:"]
["Text box name = <sign_id>_t<image number><numeric field number>"]
["The font and size of the text box should try to match the original font and size of the original as closely as possible. The \"hwy_c\", \"hwy_d\", and \"hwy_e\" fonts are generally the best; Vtrans computers should have these installed with excel by default."]
["c) Any additional fixed objects desired to modify the background image (optional). How these object are named does not matter. This can be a quick and dirty way to hide the original text of the background image without needing image edit software. Eg, say you want to create a customization group for a speed limit sign, but the only sign images you can find already have the speed limit filled in. Create a rectangle with an outline but no fill in exel over the text you want to customize, and extend it far to the right so it can be easily selected in a later step. Create the text box for this numeric field, then adjust the text box font size and position to match the orginal speed limit number as closely as possible. Group these objects into the same image group. Then select the empty rectangle, resize it to just barely cover the orginal text, then change its outline to none, and its fill to the exact color of the backgroup image (numerous online color picker tools exist that can find the exact color hex value of a given pixel)."]
["For example, the sign W12-2 has two image variants (black on yellow, and black on orange), as well as two different numeric text fields (feet, inches). It should have two image groups named \"W12-2_g1\" and \"W12-2_g2\". \"W12-2_g1\" should contain 2 text boxes named \"W12-2_t11\" and \"W12-2_t12\" as well as the black on yellow background image. \"W12-2_g2\" should contain 2 text boxes named \"W12-2_t21\" and \"W12-2_t22\" as well as the black on orange background image. This means that for this sign there will be a total of 4 text boxes."]
[]
["This is all needed because when handling a numeric sign, after the user enters their desired number, within NUMERIC_SIGNS the text boxes for the required numeric field(s) and image variants are modified, then the entire group is copied, inserted into a cell (which collapses the group of images and text boxes into a single image) then moved over to the DATA_INPUT sheet."]
[]
["When you are done; ensure you have both hidden and protected both the SIGN_LOOKUP and NUMERIC_SIGNS sheets."]
[]
["FUNCTIONALITY CHANGES"]
["Most of the core functionality (such as the sign lookup, multisign, update tss sheets, and adding row buttons) are implemented with visual basic for applications (VBA) macros. These core functions often reference specific cells whose locations are hard coded in, so even doing stuff like inserting or reordering columns on any of the sheets (or renaming sheets) will require careful examination of the underlying vba code to determine if changes are needed to prevent the notebook from breaking."]
["In order to change the vba code, select the \"Developer\" tab in the ribbon near the top of the excel window. This tab generally isn't visible by default, so as of 2025 right click the ribbon, select \"Customize Ribbon\" then check the \"Developer\" tab under main tabs."]
["Within the \"Developer\" tab, click the \"Visual Basic\" to launch the vba editor."]
["To see how most of the tools in the workbook function, go to the DATA_INPUT tab, unprotect it, then right click on each button and select \"assign macro\". You will be able to see which macro (ie subroutine (sub) or function) is currently assigned to the button, then look through (you can use ctrl+f) the various modules in the vba editor for the notebook to find the sub or function that button calls. One exception to this is the \"Lookup Sign\" and \"Upload Image\" cells for each row in DATA_INPUT; those are implemented using a mix of conditional formatting and a \"doubleclick\" sub that check if any cells have been doubled clicked within the DATA_INPUT sheet; this sub can be found by clicking on the DATA_INPUT sheet within the \"Microsoft Excel Ojects\" tab in the right hand menu of the vba editor."]
["One particularly important module in the vba editor is the \"Constants\" module. In general, try to define stuff like column letters, cell locations, worksheet names, and miscellaneous text strings within this module (with the public tag so other modules can find them). That way it's much easier to change any of these later if needed (especially important for column letters and cell locations, as if future features require inserting new columns or rows, many of these will likely need to be updated. This will also make it easier for others to understand your code (see: https://en.wikipedia.org/wiki/Magic_number_(programming) )"]

{"sheet":"CHANGELOG","index":5,"n_rows":69,"n_cols":5,"rows_kept":69,"cut":false,"hidden":true,"merged":[]}
["Version","Changed By","email","Date","Changes"]
["None","unknown",null,"2009-02-06","unknown"]
["None","Mike Longstreet",null,"2009-04-13","NEW SIGN POST SQUARE STEEL -- 12 Gauge (2.42 lb/ft) per TEI 08-201 - Sept. 18, 2008"]
["None","Mike Longstreet",null,"2016-09-06","Formulas added to the Tube Steel totals, "]
[null,null,null,null,"2 decimal places shown for New Sign Totals."]
["v1.0","Colin Laurence",null,"2025-04-04","Major overhaul including adding Sign Lookup and Multisign Tools; updated to 2024 spec book"]
[null,null,null,null,"added sign lookup"]
[null,null,null,null,"added multisign tool"]
[null,null,null,null,"updated to 2024 spec book"]
["v2.0","Colin Laurence","colin.laurence@vermont.gov","2025-06-27","functionality changes:"]
[null,null,null,null,"fixed bug where project totals weren't correctly updating when number of rows was changed"]
[null,null,null,null,"increase max number of sign image variants for a given ID from 3 to 4"]
[null,null,null,null,"removed \"sheeting remarks\" column; use \"remarks\" column instead"]
[null,null,null,null,"added \"double sided\" column to specify double sided signs and update pay item totals accordingly"]
[null,null,null,null,"improved instructions on directions sheet"]
[null,null,null,null,"sign lookup table changes:"]
[null,null,null,null,"added m5 and m6 bike and tss directional signs"]
[null,null,null,null,"added m6 tss directional signs"]
[null,null,null,null,"added additional sizes for w3 series"]
[null,null,null,null,"added p designation to all mutcd signs to reflect 11th edition update"]
[null,null,null,null,"added additional d11 bike guide signs"]
[null,null,null,null,"color corrections and additions to w16 arrows"]
[null,null,null,null,"added fluorescent yellow green option for certain ped signs"]
[null,null,null,null,"color corrections for vermont specific signs"]
["v2.1","Colin Laurence","colin.laurence@vermont.gov","2025-07-08","fixed bug where sometimes multisign images weren't copying correctly"]
[null,null,null,null,"added  $500 variant of littering sign"]
[null,null,null,null,"fixed directions for w1-6 sign codes"]
["v2.2","Colin Laurence","colin.laurence@vermont.gov","2025-07-15","added \"Dev_Directions\" sheet to improve documentation for future workbook maintainers"]
[null,null,null,null,"multisign bug fix from v2.1 didn't work for all machines, attempted another fix"]
[null,null,null,null,"fixed mismatched sids for placard signs in numeric signs sheet"]
["v2.3","Colin Laurence","colin.laurence@vermont.gov","2025-07-16","continued work on multisign bug"]
["v2.4","Colin Laurence","colin.laurence@vermont.gov","2025-09-15","functionality changes:"]
[null,null,null,null,"added grouping by billing group page and removed billing group column from print sheets"]
[null,null,null,null,"added color coding to data input sheet columns"]
[null,null,null,null,"improved instructions on directions sheet"]
[null,null,null,null,"added number of signs to sign lookup tool"]
[null,null,null,null,"improved resolution when printing multisigns"]
[null,null,null,null,"changed print sheet size to ansi d to improve resolution"]
[null,null,null,null,"reduced number of digits displayed in print sheets"]
[null,null,null,null,"increased max number of sign image variant and numeric fields"]
[null,null,null,null,"changed ratio of print sheets to fill sheet completely"]
[null,null,null,null,"fixed issue where title cards would always be displayed regardless of user input"]
[null,null,null,null,"sign lookup table changes:"]
[null,null,null,null,"updated VT signs to latest sheet numbers"]
[null,null,null,null,"removed outdated moose xing VT signs"]
[null,null,null,null,"added vt load limit numeric sign VR-015"]
[null,null,null,null,"From T-136 add VM-064, VM-078 (historic and scenic state route placards)"]
[null,null,null,null,"From T-132 add VD12-2M (carpool info)"]
[null,null,null,null,"From T-81 add VW-285 (falling rocks), VW-529 (emergency vehicles entrance"]
[null,null,null,null,"removed erroneous 's' from VW-133L image"]
[null,null,null,null,"moved VT colored route placards from their own entries to image options for the MUTCD standard"]
["v2.5","Colin Laurence","colin.laurence@vermont.gov","2025-09-16","fixed formatting bug in print sheets where road name headers were wider than sheet"]
["v2.6","Colin Laurence","colin.laurence@vermont.gov","2025-09-18","changed 1.75\" square steel posts to be counted as 8' long for quantities calculations (not 15' as for 2\" and 2.5\")"]
[null,null,null,null,"enabled remarks to be made on individual signs within multisigns"]
[null,null,null,null,"added sheeting remarks column back in"]
[null,null,null,null,"sign lookup tool now can place sheeting remarks for signs with multiple options"]
[null,null,null,null,"made image pasting from lookup table use xlPasteValues instead of xlPasteAllMergingConditionalFormats to prevent issue where images pasted when data_input sheet is unprotected are then protected"]
[null,null,null,null,"multisign tool now clears out area column as needed"]
[null,null,null,null,"removed activated blank out sign image variants, as these should be in the signal plan not the sign plan"]
["v2.7","Colin Laurence",null,"2025-12-18","added w10-1ap \"exempt\" RR xing sign"]
[null,null,null,null,"added i13-1 RR xing emergency notification sign"]
[null,null,null,null,"added w7-3ap FYG variant"]
[null,null,null,null,"alphabetized sign lookup table"]
["v2.8","Colin Laurence",null,"2026-01-26","no turn on red sign updates: added r10-11a, r10-11b, updated r10-11"]
[null,null,null,null,"corrected data_input sheet instructions regarding remove/resetting of signs"]
[null,null,null,null,"changed route signs to use arial narrow font to ensure that numbers aren't clipped if they don't have \"highway\" fonts installed"]
["v 2.9","Colin Laurence",null,"2026-01-28","fixed bug where using customizing numeric signs with multiple lines would sometimes cause subsequent numeric sign customization to fail"]
["v 2.10","Colin Laurence",null,"2026-03-03","changed how sign areas are calculated for non-rectangular signs"]
[null,null,null,null,"added w4-8 and w9-4 lane merge signs"]

{"sheet":"TOWN_CODES","index":6,"n_rows":255,"n_cols":2,"rows_kept":255,"cut":false,"hidden":true,"merged":[]}
["Addison","0101"]
["Albany","1001"]
["Alburgh","0701"]
["Andover","1401"]
["Arlington","0201"]
["Athens","1301"]
["Averill","0501"]
["Averys Gore","0502"]
["Bakersfield","0601"]
["Baltimore","1402"]
["Barnard","1403"]
["Barnet","0301"]
["Barre","1202"]
["Barre City","1201"]
["Barton","1002"]
["Belvidere","0801"]
["Bennington","0202"]
["Benson","1101"]
["Berkshire","0602"]
["Berlin","1203"]
["Bethel","1404"]
["Bloomfield","0503"]
["Bolton","0401"]
["Bradford","0901"]
["Braintree","0902"]
["Brandon","1102"]
["Brattleboro","1302"]
["Bridgewater","1405"]
["Bridport","0102"]
["Brighton","0504"]
["Bristol","0103"]
["Brookfield","0903"]
["Brookline","1303"]
["Brownington","1003"]
["Brunswick","0505"]
["Buels Gore","0402"]
["Burke","0302"]
["Burlington City","0403"]
["Cabot","1204"]
["Calais","1205"]
["Cambridge","0802"]
["Canaan","0506"]
["Castleton","1103"]
["Cavendish","1406"]
["Charleston","1004"]
["Charlotte","0404"]
["Chelsea","0904"]
["Chester","1407"]
["Chittenden","1104"]
["Clarendon","1105"]
["Colchester","0405"]
["Concord","0507"]
["Corinth","0905"]
["Cornwall","0104"]
["Coventry","1005"]
["Craftsbury","1006"]
["Danby","1106"]
["Danville","0303"]
["Derby","1007"]
["Dorset","0203"]
["Dover","1304"]
["Dummerston","1305"]
["Duxbury","1206"]
["East Haven","0508"]
["East Montpelier","1207"]
["Eden","0803"]
["Elmore","0804"]
["Enosburgh","0603"]
["Essex","0406"]
["Fair Haven","1107"]
["Fairfax","0604"]
["Fairfield","0605"]
["Fairlee","0906"]
["Fayston","1208"]
["Ferdinand","0509"]
["Ferrisburgh","0105"]
["Fletcher","0606"]
["Franklin","0607"]
["Georgia","0608"]
["Glastenbury","0204"]
["Glover","1008"]
["Goshen","0106"]
["Grafton","1306"]
["Granby","0510"]
["Grand Isle","0702"]
["Granville","0107"]
["Greensboro","1009"]
["Groton","0304"]
["Guildhall","0511"]
["Guilford","1307"]
["Halifax","1308"]
["Hancock","0108"]
["Hardwick","0305"]
["Hartford","1408"]
["Hartland","1409"]
["Highgate","0609"]
["Hinesburg","0407"]
["Holland","1010"]
["Hubbardton","1108"]
["Huntington","0408"]
["Hyde Park","0805"]
["Ira","1109"]
["Irasburg","1011"]
["Isle La Motte","0703"]
["Jamaica","1309"]
["Jay","1012"]
["Jericho","0409"]
["Johnson","0806"]
["Killington","1121"]
["Kirby","0306"]
["Landgrove","0205"]
["Leicester","0109"]
["Lemington","0512"]
["Lewis","0513"]
["Lincoln","0110"]
["Londonderry","1310"]
["Lowell","1013"]
["Ludlow","1410"]
["Lunenburg","0514"]
["Lyndon","0307"]
["Maidstone","0515"]
["Manchester","0206"]
["Marlboro","1311"]
["Marshfield","1209"]
["Mendon","1110"]
["Middlebury","0111"]
["Middlesex","1210"]
["Middletown Springs","1111"]
["Milton","0410"]
["Monkton","0112"]
["Montgomery","0610"]
["Montpelier City","1211"]
["Moretown","1212"]
["Morgan","1014"]
["Morristown","0807"]
["Mount Holly","1112"]
["Mount Tabor","1113"]
["New Haven","0113"]
["Newark","0308"]
["Newbury","0907"]
["Newfane","1312"]
["Newport","1016"]
["Newport City","1015"]
["North Hero","0704"]
["Northfield","1213"]
["Norton","0516"]
["Norwich","1411"]
["Orange","0908"]
["Orwell","0114"]
["Panton","0115"]
["Pawlet","1114"]
["Peacham","0309"]
["Peru","0207"]
["Pittsfield","1115"]
["Pittsford","1116"]
["Plainfield","1214"]
["Plymouth","1412"]
["Pomfret","1413"]
["Poultney","1117"]
["Pownal","0208"]
["Proctor","1118"]
["Putney","1313"]
["Randolph","0909"]
["Reading","1414"]
["Readsboro","0209"]
["Richford","0611"]
["Richmond","0411"]
["Ripton","0116"]
["Rochester","1415"]
["Rockingham","1314"]
["Roxbury","1215"]
["Royalton","1416"]
["Rupert","0210"]
["Rutland","1120"]
["Rutland City","1119"]
["Ryegate","0310"]
["Saint Albans","0613"]
["Saint Albans City","0612"]
["Saint George","0412"]
["Saint Johnsbury","0311"]
["Salisbury","0117"]
["Sandgate","0211"]
["Searsburg","0212"]
["Shaftsbury","0213"]
["Sharon","1417"]
["Sheffield","0312"]
["Shelburne","0413"]
["Sheldon","0614"]
["Shoreham","0118"]
["Shrewsbury","1122"]
["Somerset","1315"]
["South Burlington City","0414"]
["South Hero","0705"]
["Springfield","1418"]
["Stamford","0214"]
["Stannard","0313"]
["Starksboro","0119"]
["Stockbridge","1419"]
["Stowe","0808"]
["Strafford","0910"]
["Stratton","1316"]
["Sudbury","1123"]
["Sunderland","0215"]
["Sutton","0314"]
["Swanton","0615"]
["Thetford","0911"]
["Tinmouth","1124"]
["Topsham","0912"]
["Townshend","1317"]
["Troy","1017"]
["Tunbridge","0913"]
["Underhill","0415"]
["Vergennes City","0120"]
["Vernon","1318"]
["Vershire","0914"]
["Victory","0517"]
["Waitsfield","1216"]
["Walden","0315"]
["Wallingford","1125"]
["Waltham","0121"]
["Wardsboro","1319"]
["Warners Grant","0518"]
["Warren","1217"]
["Warren Gore","0519"]
["Washington","0915"]
["Waterbury","1218"]
["Waterford","0316"]
["Waterville","0809"]
["Weathersfield","1420"]
["Wells Town","1126"]
["West Fairlee","0916"]
["West Haven","1127"]
["West Rutland","1128"]
["West Windsor","1422"]
["Westfield","1018"]
["Westford","0416"]
["Westminster","1320"]
["Westmore","1019"]
["Weston","1421"]
["Weybridge","0122"]
["Wheelock","0317"]
["Whiting","0123"]
["Whitingham","1321"]
["Williamstown","0917"]
["Williston","0417"]
["Wilmington","1322"]
["Windham","1323"]
["Windsor","1423"]
["Winhall","0216"]
["Winooski City","0418"]
["Wolcott","0810"]
["Woodbury","1219"]
["Woodford","0217"]
["Woodstock","1424"]
["Worcester","1220"]

{"sheet":"NUMERIC_SIGNS","index":7,"n_rows":47,"n_cols":4,"rows_kept":47,"cut":false,"hidden":true,"merged":[]}
[{"$error":"#VALUE!"},"CELL A1 RESERVED FOR TEMP IMAGE STORAGE"]
[]
[null,null,null,"R1-2"]
[null,null,null,"R2-3"]
[null,null,null,"R2-4"]
[null,null,null,"R2-4a"]
[null,null,null,"R2-6bP"]
[null,null,null,"R4-6"]
[null,null,null,"R4-12"]
[null,null,null,"R7-20"]
[null,null,null,"R11-3a"]
[null,null,null,"R12-1"]
[null,null,null,"R12-5"]
[null,null,null,"R15-2P"]
[null,null,null,"R16-7"]
[null,null,"`","S4-5"]
[null,null,null,"W3-5"]
[null,null,null,"W7-1a"]
[null,null,null,"W7-3P"]
[null,null,null,"W7-3aP"]
[null,null,null,"W7-3bP"]
[null,null,null,"W7-4"]
[null,null,null,"W10-11a"]
[null,null,null,"W10-11b"]
[null,null,null,"W12-2"]
[null,null,null,"W12-2a"]
[null,null,null,"W13-1P"]
[null,null,null,"W13-2"]
[null,null,null,"W13-3"]
[null,null,null,"W13-6"]
[null,null,null,"W13-7"]
[null,null,null,"W16-2P"]
[null,null,null,"W16-2aP"]
[null,null,null,"W16-3aP"]
[null,null,null,"W16-4P"]
[null,null,null,"D5-6"]
[null,null,null,"D9-17P"]
[null,null,null,"E5-1a"]
[null,null,null,"E13-1P"]
[null,null,null,"M1-1"]
[null,null,null,"M1-4"]
[null,null,null,"M1-5"]
[null,null,null,"M1-7"]
[null,null,null,"G20-1"]
[null,null,null,"VM1-5"]
[null,null,null,"VD-700"]
[null,null,null,"VR-015"]

{"sheet":"MULTISIGN_DRAW","index":8,"n_rows":209,"n_cols":15,"rows_kept":209,"cut":false,"hidden":true,"merged":[[2,14,2,20],[3,14,3,20],[4,14,4,20],[5,14,5,20],[6,14,6,20]]}
[null,null,null,"(click and move images)",null,null,null,"sign image (temp)","sign quantity","sign width","sign height","sign areas"]
[null,null,null,null,null,null,null,null,null,null,null,null,"imgBegin:"]
[null,null,null,null,null,null,null,null,null,null,null,null,"imgEnd:",null,"Clicking \"Create Multisign Image From Selection\" on the \"DATA INPUT\" sheet will move all selected individual sign images into this worksheet."]
[null,null,null,null,null,null,null,null,null,null,null,null,"signAreaSF:",{"$f":"ROUND(SUM(L2:L101),1)","v":0},"Arrange these images as they will be installed, then click \"SAVE MULTISIGN IMAGE\" to copy this arrangement back to the \"DATA_INPUT\" sheet."]
[null,null,null,null,null,null,null,null,null,null,null,null,null,null,"The sign images here are automatically approximately sized according to their dimensions in the \"DATA_INPUT\" sheet. (Not exact due to the whitespace around many images)"]
[null,null,null,null,null,null,null,null,null,null,null,null,null,null,"Sign images are automatically duplicated according to the \"Number of Signs\" column in the input sheet; do not manually copy images here. Also ensure that this column is filled out."]
[null,null,null,null,null,null,null,null,null,null,null,null,null,null,"Note that for some signs with diagonal elements (such as R15-1) the 'width' listed is actually a diagonal measurement, so you may want to manually resize these images in this sheet."]
[]
[]
[]
[]
[]
[]
[]
[]
[]
[]
[]
[]
[]
[]
[]
[]
[]
[]
[]
[]
[]
[]
[]
[]
[]
[]
[]
[]
[]
[]
[]
[]
[]
[]
[]
[]
[]
[]
[]
[]
[]
[]
[]
[]
[]
[]
[]
[]
[]
[]
[]
[]
[]
[]
[]
[]
[]
[]
[]
[]
[]
[]
[]
[]
[]
[]
[]
[]
[]
[]
[]
[]
[]
[]
[]
[]
[]
[]
[]
[]
[]
[]
[]
[]
[]
[]
[]
[]
[]
[]
[]
[]
[]
[]
[]
[]
[]
[]
[]
[]
[]
[]
[]
[]
[]
[]
[]
[]
[]
[]
[]
[]
[]
[]
[]
[]
[]
[]
[]
[]
[]
[]
[]
[]
[]
[]
[]
[]
[]
[]
[]
[]
[]
[]
[]
[]
[]
[]
[]
[]
[]
[]
[]
[]
[]
[]
[]
[]
[]
[]
[]
[]
[]
[]
[]
[]
[]
[]
[]
[]
[]
[]
[]
[]
[]
[]
[]
[]
[]
[]
[]
[]
[]
[]
[]
[]
[]
[]
[]
[]
[]
[]
[]
[]
[]
[]
[]
[]
[]
[]
[]
[]
[]
[]
[]
[]
[]
[]
[]
[]
[null,null,null,null,null,null,null,{"$error":"#VALUE!"},1,48,9]
[null,null,null,null,null,null,null,{"$error":"#VALUE!"},1,27,18]

{"sheet":"SID_TOTALS","index":9,"n_rows":38,"n_cols":13,"rows_kept":38,"cut":false,"hidden":true,"merged":[]}
[null,null,null,null,null,"SIGN DESIGNATION","SIZE","EXTRUDED","COUNT",null,"NumRows"]
[{"$f":"_xlfn.GROUPBY(_xlfn.HSTACK(CALC_VALS!E10:E99999,CALC_VALS!I10:J99999,CALC_VALS!AT10:AT99999),CALC_VALS!AS10:AS99999,_xleta.SUM,0,0,1,CALC_VALS!AS10:AS99999<>\"\")","v":"CUSTOM"},60,30,"",2,{"$f":"IF(AND(A1<>A2,A2<>\"\"),A2,\"\")","v":"CUSTOM"},{"$f":"B2&\"\"\"Wx\"&C2&\"\"\"H\"","v":"60\"Wx30\"H"},{"$f":"D2","v":""},{"$f":"E2","v":2},null,{"$f":"COUNTA(A:A)","v":37}]
["D3-1",96,24,"",2,{"$f":"IF(AND(A2<>A3,A3<>\"\"),A3,\"\")","v":"D3-1"},{"$f":"B3&\"\"\"Wx\"&C3&\"\"\"H\"","v":"96\"Wx24\"H"},{"$f":"D3","v":""},{"$f":"E3","v":2}]
["D3-1",114,24,"",2,"","114\"Wx24\"H","",2,null,null,null,"make sure top of each column always displays SID (should be easy since fixed number of signs per column)"]
["D3-1A",126,24,"",2,"D3-1A","126\"Wx24\"H","",2]
["M1-1",24,24,"X",2,"M1-1","24\"Wx24\"H","X",2]
["M1-4",24,24,"",10,"M1-4","24\"Wx24\"H","",10]
["M1-4",30,24,"",2,"","30\"Wx24\"H","",2]
["M1-5",24,24,"",1,"M1-5","24\"Wx24\"H","",1]
["M1-5",30,24,"",3,"","30\"Wx24\"H","",3]
["M2-1P",21,15,"",1,"M2-1P","21\"Wx15\"H","",1]
["M3-1P",24,12,"",3,"M3-1P","24\"Wx12\"H","",3]
["M3-2P",24,12,"",3,"M3-2P","24\"Wx12\"H","",3]
["M3-3P",24,12,"",6,"M3-3P","24\"Wx12\"H","",6]
["M3-4P",24,12,"",3,"M3-4P","24\"Wx12\"H","",3]
["M6-1PL",21,15,"",2,"M6-1PL","21\"Wx15\"H","",2]
["M6-1PR",21,15,"",2,"M6-1PR","21\"Wx15\"H","",2]
["M6-3P",21,15,"",4,"M6-3P","21\"Wx15\"H","",4]
["R10-101",30,36,"",2,"R10-101","30\"Wx36\"H","",2]
["R10-10R",24,30,"",3,"R10-10R","24\"Wx30\"H","",3]
["R10-26",9,15,"",8,"R10-26","9\"Wx15\"H","",8]
["R10-3E",9,15,"",8,"R10-3E","9\"Wx15\"H","",8]
["R2-1",24,30,"",3,"R2-1","24\"Wx30\"H","",3]
["R3-17",24,18,"",2,"R3-17","24\"Wx18\"H","",2]
["R3-17BP",24,9,"",2,"R3-17BP","24\"Wx9\"H","",2]
["R3-7L",36,36,"",2,"R3-7L","36\"Wx36\"H","",2]
["VD-700",6,10,"",1,"VD-700","6\"Wx10\"H","",1]
["VR-017",24,30,"",1,"VR-017","24\"Wx30\"H","",1]
["VR-922",30,36,"",1,"VR-922","30\"Wx36\"H","",1]
["VR-932",30,48,"",1,"VR-932","30\"Wx48\"H","",1]
["VR-934",30,48,"",1,"VR-934","30\"Wx48\"H","",1]
["W11-3",30,30,"",1,"W11-3","30\"Wx30\"H","",1]
["W16-2P",24,18,"",1,"W16-2P","24\"Wx18\"H","",1]
["W16-8AP",54,15,"",1,"W16-8AP","54\"Wx15\"H","",1]
["W2-1",36,36,"",1,"W2-1","36\"Wx36\"H","",1]
["W3-3",30,30,"",4,"W3-3","30\"Wx30\"H","",4]
["W4-2R",36,36,"",2,"W4-2R","36\"Wx36\"H","",2]
["W7-3AP",24,18,"",1,"W7-3AP","24\"Wx18\"H","",1]

{"sheet":"ST_NAMES","index":10,"n_rows":5,"n_cols":13,"rows_kept":5,"cut":false,"hidden":true,"merged":[]}
[]
[null,"SIGN DESIGNATION","R3-1","HEIGHT",12,"TEXT",null,"John",null,"Fowler",null,"Rd"]
["(id)","COUNT",3,"WIDTH",{"$f":"SUM(G4:W4)","v":66},"FONT",null,"6D",null,"6D",null,"4D"]
[null,"MATERIAL",null,null,null,"WIDTH",4.5999999999999996,17.8,4.5,24.5,4.5,5.5,4.5999999999999996]
[null,"COLOR"]

{"sheet":"BILLING_GROUPS","index":11,"n_rows":13,"n_cols":28,"rows_kept":13,"cut":false,"hidden":false,"merged":[[6,25,7,25],[6,26,7,26],[3,13,3,27],[4,25,4,27],[5,21,7,21],[5,22,7,22],[5,23,7,23],[5,24,7,24],[5,25,5,26],[5,27,7,27],[5,15,7,15],[5,16,7,16],[5,17,7,17],[5,18,7,18],[5,19,7,19],[5,20,7,20],[4,14,7,14],[4,15,4,19],[4,20,4,24],[5,5,7,5],[5,6,7,6],[5,7,7,7],[5,8,7,8],[5,10,7,10],[4,5,4,6],[4,7,4,8],[4,9,7,9],[4,10,4,11],[4,12,7,12],[4,13,7,13],[5,11,7,11],[3,2,3,3],[3,4,3,8],[3,9,3,12],[4,2,7,2],[4,3,7,3],[4,4,7,4]]}
[]
["Signage pay items are grouped by their entry in the \"BILLING CODE\" column in the \"DATA_INPUT\" sheet. Useful for projects where different signs are being charged to different accounts. Do not include this sheet in contract plans."]
[]
[null,"BILLING CODE","NEW SIGNS",null,"EXISTING SIGNS",null,null,null,null,"EXIST POSTS",null,null,null,"NEW SIGN POSTS"]
[null,null,"FLAT SHEET ALUMINUM","EXTRUDED ALUMINUM SHEET","RETAIN","RESET",null,"REMOVE",null,"RETAIN","RESET",null,"REMOVE","NO. OF POSTS","SOIL BEARING SLIP BASE","SQUARE STEEL (in)",null,null,null,null,"TUBULAR STEEL φ (in)",null,null,null,null,"W-SHAPE STEEL"]
[null,null,null,null,null,"ORIGIN","DESTINATON","FLAT SHEET ALUMINUM","EXTRUDED ALUMINUM SHEET",null,"ORIGIN","DESTINATON",null,null,null,1.75,2,2.5,"ANCHOR","SLEEVE","FOUNDATION",3,3.5,4,5,"FTG. SIZE",null,"WEIGHT"]
[null,null,null,null,null,null,null,null,null,null,null,null,null,null,null,null,null,null,null,null,null,null,null,null,null,"24\"","30\""]
[]
["ASSOCIATED PAY ITEM (675.XXXX)",null,2000,2100,null,null,6000,5000,5100,null,null,6100,null,null,3500,3410,3410,3410,null,null,4300,3300,3300,3300,3300,4100,4200,3100]
["UNITS",null,"SF","SF","EA","EA","EA","EA","EA","EA","EA","EA","EA","EA","EA","LF","LF","LF","EA","EA","EA","LBS","LBS","LBS","LBS","EA","EA","LBS"]
[null,{"$f":"_xlfn.GROUPBY(CALC_VALS!A10:A99999,CALC_VALS!K10:AJ99999,_xleta.SUM,0)","v":""},445.47916666666669,6.48,4,0,0,67,0,5,0,0,40,41,0,0,525,90,41,0,0,0,0,0,0,0,0,0]
[null,0,0,0,0,0,0,0,0,0,0,0,0,0,0,0,0,0,0,0,0,0,0,0,0,0,0,0]
[null,"Total",445.47916666666669,6.48,4,0,0,67,0,5,0,0,40,41,0,0,525,90,41,0,0,0,0,0,0,0,0,0]

{"sheet":"QUANT (0)","index":12,"n_rows":144,"n_cols":43,"rows_kept":144,"cut":false,"hidden":true,"merged":[[43,1,43,5],[1,2,1,41],[0,2,0,41],[40,1,40,5],[41,1,41,5],[42,1,42,5]]}
[null,null,"SUMMARY OF NEW SIGN QUANTITIES GROUPED BY SIGN DESIGNATION, SIZE, AND SHEET MATERIAL"]
[null,null,"IF THE \"EXTRUDED\" COLUMN IS MARKED, THE SIGNS ARE TO BE MADE OF EXTRUDED ALUMINUM SHEET. OTHERWISE, THE SIGNS ARE TO BE MADE OF FLAT SHEET ALUMINUM. OTHER CHARACTERICS, INCLUDING BUT NOT LIMITED TO COLORING AND LETTERING, MAY VARY WITHIN EACH ENTRY LISTED HERE. SEE PRECEDING SIGN SUMMARY SHEETS FOR FULL DETAILS."]
["ROAD (hidden)",null,"SIGN DESIGNATION","SIZE","EXTRUDED","COUNT","SIGN DESIGNATION","SIZE","EXTRUDED","COUNT","SIGN DESIGNATION","SIZE","EXTRUDED","COUNT","SIGN DESIGNATION","SIZE","EXTRUDED","COUNT","SIGN DESIGNATION","SIZE","EXTRUDED","COUNT","SIGN DESIGNATION","SIZE","EXTRUDED","COUNT","SIGN DESIGNATION","SIZE","EXTRUDED","COUNT","SIGN DESIGNATION","SIZE","EXTRUDED","COUNT","SIGN DESIGNATION","SIZE","EXTRUDED","COUNT","SIGN DESIGNATION","SIZE","EXTRUDED","COUNT"]
[]
[]
[]
[]
[]
[]
[]
[]
[]
[]
[]
[]
[]
[]
[]
[]
[]
[]
[]
[]
[]
[]
[]
[]
[]
[]
[]
[]
[]
[]
[]
[]
[]
[]
[]
[]
[]
[null,"TRAFFIC SIGN"]
[null,{"$f":"\"SUMMARY SHEET \" & AQ46","v":"SUMMARY SHEET 0"},null,null,null,null,null,null,null,null,null,null,null,null,null,null,null,null,null,null,null,null,null,null,null,null,null,null,null,null,null,null,null,null,null,null,null,null,null,null,null,null,{"$f":"\"PROJECT NAME:       \"& Directions!$D$14&CHAR(13)&\"PROJECT NUMBER:  \"& Directions!$D$15&CHAR(13)","v":"PROJECT NAME:       COLCHESTER\rPROJECT NUMBER:  STPG 5600(17)\r"}]
[null,"STATE OF VERMONT",null,null,null,null,null,null,null,null,null,null,null,null,null,null,null,null,null,null,null,null,null,null,null,null,null,null,null,null,null,null,null,null,null,null,null,null,null,null,null,null,{"$f":"\"FILE NAME: \"&Directions!$D$16&CHAR(13)&\"PROJECT LEADER: \"&Directions!$D$17&CHAR(13)&\"DESIGNED BY: \"&Directions!$D$18&CHAR(13)&\"TRAFFIC SIGN SUMMARY SHEET \"&AQ46","v":"FILE NAME: 13d436tss.xls\rPROJECT LEADER: P. COBURN\rDESIGNED BY: C. LAURENCE\rTRAFFIC SIGN SUMMARY SHEET 0"}]
[null,"AGENCY OF TRANSPORTATION",null,null,null,null,null,null,null,null,null,null,null,null,null,null,null,null,null,null,null,null,null,null,null,null,null,null,null,null,null,null,null,null,null,null,null,null,null,null,null,null,{"$f":"\"PLOT DATE: \"&TEXT($AQ$45, \"mm-dd-yyyy\")&CHAR(13)&\"DRAWN BY: \"& Directions!$D$19&CHAR(13)&\"CHECKED BY: \"& Directions!$D$20&CHAR(13)&\"SHEET \"& Directions!$D$23 + AQ46 - 1&\" OF \"&Directions!$D$25","v":"PLOT DATE: (date)\rDRAWN BY: C. LAURENCE\rCHECKED BY: B. TIETZE\rSHEET 0 OF 998"}]
[null,null,null,null,null,null,null,null,null,null,null,null,null,null,null,null,null,null,null,null,null,null,null,null,null,null,null,null,null,null,null,null,null,null,null,null,null,null,null,null,null,null,"(date)"]
[null,null,null,null,null,null,null,null,null,null,null,null,null,null,null,null,null,null,null,null,null,null,null,null,null,null,null,null,null,null,null,null,null,null,null,null,null,null,null,null,null,null,0]
[]
[]
[]
[]
[]
[]
[]
[]
[]
[]
[]
[]
[]
[]
[]
[]
[]
[]
[]
[]
[]
[]
[]
[]
[]
[]
[]
[]
[]
[]
[]
[]
[]
[]
[]
[]
[]
[]
[]
[]
[]
[]
[]
[]
[]
[]
[]
[]
[]
[]
[]
[]
[]
[]
[]
[]
[]
[]
[]
[]
[]
[]
[]
[]
[]
[]
[]
[]
[]
[]
[]
[]
[]
[]
[]
[]
[]
[]
[]
[]
[]
[]
[]
[]
[]
[]
[]
[]
[]
[]
[]
[]
[]
[]
[]
[]
[]
[null,null,null,null,null,null,null,null,null,null,""]

{"sheet":"TSS (0)","index":13,"n_rows":144,"n_cols":43,"rows_kept":144,"cut":false,"hidden":true,"merged":[[2,41,4,41],[2,32,2,33],[44,4,44,8],[5,0,5,41],[0,1,0,2],[42,1,42,3],[43,1,43,3],[41,1,41,3],[40,1,40,3],[1,17,1,18],[2,17,4,17],[2,18,4,18],[41,4,41,8],[40,4,40,8],[43,4,43,8],[42,4,42,8],[0,38,4,38],[1,32,1,35],[1,36,4,36],[2,40,4,40],[2,24,4,24],[2,28,4,28],[2,29,4,29],[2,25,4,25],[2,34,4,34],[2,35,4,35],[2,39,4,39],[0,37,4,37],[0,39,1,41],[0,20,0,36],[3,32,4,32],[3,33,4,33],[0,6,0,8],[2,14,4,14],[1,0,4,0],[1,1,4,1],[1,2,4,2],[2,12,4,12],[1,8,4,8],[1,11,4,11],[0,4,4,4],[0,3,4,3],[0,5,4,5],[0,9,0,10],[0,11,0,15],[1,12,1,13],[1,14,1,15],[1,6,4,6],[1,7,4,7],[1,9,4,9],[1,16,4,16],[1,19,4,19],[2,13,4,13],[2,15,4,15],[1,10,4,10],[0,16,0,19],[2,30,4,30],[2,31,4,31],[1,27,1,31],[1,20,4,20],[1,21,4,21],[2,22,4,22],[2,23,4,23],[1,22,1,26],[2,27,4,27],[2,26,4,26]]}
[null,"LOCATION",null,"SIGN DESIGNATION","SIGN LEGEND","DOUBLE SIDED","  SIGN DIMENSIONS",null,null,"NEW SIGNS",null,"EXISTING SIGNS",null,null,null,null,"EXIST POSTS",null,null,null,"NEW SIGN POSTS",null,null,null,null,null,null,null,null,null,null,null,null,null,null,null,null,"REMARKS","SHEETING REMARKS","SIGN DETAIL"]
["ROAD (hidden)","MILEMARKER OR STATION","LOCATION CODE",null,null,null,"EA","WIDTH (in)","HEIGHT (in)","FLAT SHEET ALUMINUM","EXTRUDED ALUMINUM SHEET","RETAIN","RESET",null,"REMOVE",null,"RETAIN","RESET",null,"REMOVE","NO. OF POSTS","SOIL BEARING SLIP BASE","SQUARE STEEL (in)",null,null,null,null,"TUBULAR STEEL φ (in)",null,null,null,null,"W-SHAPE STEEL",null,null,null,"SIGN FRAME REQUIRED"]
[null,null,null,null,null,null,null,null,null,null,null,null,"ORIGIN","DESTINATON","FLAT SHEET ALUMINUM","EXTRUDED ALUMINUM SHEET",null,"ORIGIN","DESTINATON",null,null,null,1.75,2,2.5,"ANCHOR","SLEEVE","FOUNDATION",3,3.5,4,5,"FTG. SIZE",null,"WEIGHT","POST SIZE",null,null,null," SHSM","DETAIL ON SHEET NUMBER","STD. SHEET NUMBER"]
[null,null,null,null,null,null,null,null,null,null,null,null,null,null,null,null,null,null,null,null,null,null,null,null,null,null,null,null,null,null,null,null,"24\"","30\""]
[]
[]
[]
[]
[]
[]
[]
[]
[]
[]
[]
[]
[]
[]
[]
[]
[]
[]
[]
[]
[]
[]
[]
[]
[]
[]
[]
[]
[]
[]
[]
[]
[]
[]
[]
[]
[null,"TRAFFIC SIGN",null,null,"ASSOCIATED PAY ITEM (675.XXXX)",null,null,null,null,2000,2100,null,null,6000,5000,5100,null,null,6100,null,null,3500,3410,3410,3410,null,null,4300,3300,3300,3300,3300,4100,4200,3100]
[null,{"$f":"\"SUMMARY SHEET \" & AQ46","v":"SUMMARY SHEET 0"},null,null,"UNITS",null,null,null,null,"SF","SF","EA","EA","EA","EA","EA","EA","EA","EA","EA","EA","EA","LF","LF","LF","EA","EA","EA","LBS","LBS","LBS","LBS","EA","EA","LBS",null,null,null,null,null,null,null,{"$f":"\"PROJECT NAME:       \"& Directions!$D$14&CHAR(13)&\"PROJECT NUMBER:  \"& Directions!$D$15&CHAR(13)","v":"PROJECT NAME:       COLCHESTER\rPROJECT NUMBER:  STPG 5600(17)\r"}]
[null,"STATE OF VERMONT",null,null,"SHEET  TOTALS",null,null,null,null,{"$f":"SUM(J7:J40)","v":0},{"$f":"SUM(K7:K40)","v":0},0,0,0,0,0,0,0,0,0,0,0,0,0,0,0,0,0,0,0,0,0,0,0,0,null,null,null,null,null,null,null,{"$f":"\"FILE NAME: \"&Directions!$D$16&CHAR(13)&\"PROJECT LEADER: \"&Directions!$D$17&CHAR(13)&\"DESIGNED BY: \"&Directions!$D$18&CHAR(13)&\"TRAFFIC SIGN SUMMARY SHEET \"&AQ46","v":"FILE NAME: 13d436tss.xls\rPROJECT LEADER: P. COBURN\rDESIGNED BY: C. LAURENCE\rTRAFFIC SIGN SUMMARY SHEET 0"}]
[null,"AGENCY OF TRANSPORTATION",null,null,"PROJECT TOTALS",null,null,null,null,{"$f":"CALC_VALS!K7","v":445.47916666666669},{"$f":"CALC_VALS!L7","v":6.48},{"$f":"CALC_VALS!M7","v":4},{"$f":"CALC_VALS!N7","v":0},{"$f":"CALC_VALS!O7","v":0},{"$f":"CALC_VALS!P7","v":67},{"$f":"CALC_VALS!Q7","v":0},{"$f":"CALC_VALS!R7","v":5},{"$f":"CALC_VALS!S7","v":0},{"$f":"CALC_VALS!T7","v":0},{"$f":"CALC_VALS!U7","v":40},{"$f":"CALC_VALS!V7","v":41},{"$f":"CALC_VALS!W7","v":0},{"$f":"CALC_VALS!X7","v":0},{"$f":"CALC_VALS!Y7","v":525},{"$f":"CALC_VALS!Z7","v":90},{"$f":"CALC_VALS!AA7","v":41},{"$f":"CALC_VALS!AB7","v":0},{"$f":"CALC_VALS!AC7","v":0},{"$f":"CALC_VALS!AD7","v":0},{"$f":"CALC_VALS!AE7","v":0},{"$f":"CALC_VALS!AF7","v":0},{"$f":"CALC_VALS!AG7","v":0},{"$f":"CALC_VALS!AH7","v":0},{"$f":"CALC_VALS!AI7","v":0},{"$f":"CALC_VALS!AJ7","v":0},null,null,null,null,null,null,null,{"$f":"\"PLOT DATE: \"&TEXT($AQ$45, \"mm-dd-yyyy\")&CHAR(13)&\"DRAWN BY: \"& Directions!$D$19&CHAR(13)&\"CHECKED BY: \"& Directions!$D$20&CHAR(13)&\"SHEET \"& Directions!$D$23 + AQ46 - 1&\" OF \"&Directions!$D$25","v":"PLOT DATE: (date)\rDRAWN BY: C. LAURENCE\rCHECKED BY: B. TIETZE\rSHEET 0 OF 998"}]
[null,null,null,null,null,null,null,null,null,null,null,null,null,null,null,null,null,null,null,null,null,null,null,null,null,null,null,null,null,null,null,null,null,null,null,null,null,null,null,null,null,null,"(date)"]
[null,null,null,null,null,null,null,null,null,null,null,null,null,null,null,null,null,null,null,null,null,null,null,null,null,null,null,null,null,null,null,null,null,null,null,null,null,null,null,null,null,null,0]
[]
[]
[]
[]
[]
[]
[]
[]
[]
[]
[]
[]
[]
[]
[]
[]
[]
[]
[]
[]
[]
[]
[]
[]
[]
[]
[]
[]
[]
[]
[]
[]
[]
[]
[]
[]
[]
[]
[]
[]
[]
[]
[]
[]
[]
[]
[]
[]
[]
[]
[]
[]
[]
[]
[]
[]
[]
[]
[]
[]
[]
[]
[]
[]
[]
[]
[]
[]
[]
[]
[]
[]
[]
[]
[]
[]
[]
[]
[]
[]
[]
[]
[]
[]
[]
[]
[]
[]
[]
[]
[]
[]
[]
[]
[]
[]
[]
[null,null,null,null,null,null,null,null,null,""]